{"text_format":"1","workbook":"xlsx","n_sheets":11,"sheets":["申込書_兵庫県","申込書_コナミ","個人種目","リレー種目","リレー種目_WebSWMSYS","コード一覧","中間シート（個人）","中間シート（リレー）","エントリーシート（個人）","エントリーシート（リレー）","Sheet3"],"not_rendered":{"charts":0,"images":0,"macros":1,"external_links":0,"defined_names":16,"comments":0,"pivot_tables":0},"unopened":[],"bounds":{"document_bytes":16777216,"sheet_cells":100000,"rows_first":2000,"rows_last":500,"rows_between":2000,"halvings":0,"cell_chars":16384,"cell_head_chars":4096},"cells_cut":0,"cells_raw":0,"read":"whole","date_system":"1900"}

{"sheet":"申込書_兵庫県","index":0,"n_rows":43,"n_cols":15,"rows_kept":43,"cut":false,"hidden":false,"merged":[[31,2,31,3],[31,7,31,8],[32,7,32,8],[10,0,10,1],[8,12,8,14],[8,2,8,8],[25,5,25,7],[25,8,25,11],[17,0,17,2],[17,11,17,14],[15,0,15,4],[15,6,15,9],[17,3,17,6],[17,7,17,10],[29,2,29,3],[29,7,29,8],[2,0,2,1],[3,0,3,1],[3,3,3,13],[11,3,11,14],[14,3,14,7],[4,0,4,14],[13,4,13,8],[13,10,13,14],[6,2,6,9],[6,12,6,14],[14,12,14,14],[10,4,10,8],[8,10,8,11],[6,10,6,11],[6,0,6,1],[8,0,8,1],[30,2,30,3],[15,11,15,14],[25,2,25,4],[30,7,30,8],[42,2,42,5],[42,7,42,9],[33,0,33,2],[33,7,33,8],[37,0,37,9],[38,1,38,9],[39,2,39,5],[39,7,39,9],[40,2,40,5],[40,7,40,9],[41,2,41,5],[41,7,41,9]]}
["※資源節約のため送信票を省略いただき、このまま送信ください。(FAX　078-641-1305)"]
[]
["団体用",null,null," 兵庫県水泳連盟"]
["　競技会名：　",null,"〔","第12回兵庫県マスターズ水泳競技大会",null,null,null,null,null,null,null,null,null,null,"〕"]
["大会申込一覧表・協力競技役員申請書"]
[]
["　団 体 名",null,null,null,null,null,null,null,null,null,"略称団体名"]
[]
["　代表者名",null,null,null,null,null,null,null,null,"印"]
[]
["　住　　所",null,null,"〒"]
["（書類送付先）"]
[]
[null,null,null,"TEL",null,null,null,null,null,"FAX"]
["記載責任者名",null,null,"印",null,null,null,null,null,"データ入力者名"]
["申込内容問合せ先（携帯可）",null,null,null,null,"氏名：",null,null,null,null,"TEL："]
[]
["協力競技役員"]
[null,null,null,"※必ず記入のこと"]
[null,null,null,null,"（参加者5～9名は1名・10名以上は2名・20名以上は3名）"]
["【参加申込内訳】"]
[null,"WebSWMSYSでのエントリーの場合は、参加申込内訳に人数を記入してください。"]
[null,"EXCELでのエントリーの場合は、個人種目・リレー種目に入力をすると"]
[null,"参加申込内訳に人数が反映されます。"]
[]
[null,null,"参 加 者",null,null,"参加個人種目",null,null,"参加リレー種目",null,null,null,"予約"]
[null,null,"男子","女子","合計","男子","女子","合計","男子","女子","混合","合計","プロ"]
[null,null,{"$f":"COUNTIF('エントリーシート（個人）'!$C$4:$C$100,1)","v":0},{"$f":"COUNTIF('エントリーシート（個人）'!$C$4:$C$100,2)","v":0},{"$f":"C28+D28","v":0},{"$f":"COUNTIF(個人種目!F6:F202,\"男性\")","v":0},{"$f":"COUNTIF(個人種目!F6:F202,\"女性\")","v":0},{"$f":"F28+G28","v":0},{"$f":"COUNTIF(リレー種目!$P$7:$P$203,\"男性@メドレーリレー\")+COUNTIF(リレー種目!$P$7:$P$203,\"男性@フリーリレー\")","v":0},{"$f":"COUNTIF(リレー種目!$P$7:$P$203,\"女性@メドレーリレー\")+COUNTIF(リレー種目!$P$7:$P$203,\"女性@フリーリレー\")","v":0},{"$f":"COUNTIF(リレー種目!$P$7:$P$203,\"混合@メドレーリレー\")+COUNTIF(リレー種目!$P$7:$P$203,\"混合@フリーリレー\")","v":0},{"$f":"J28+K28","v":0}]
[]
["個人種目",null,1500,null,"　　円×",{"$f":"H28","v":0},"種目＝",{"$f":"C30*F30","v":0},null,"円"]
["リレー種目",null,2000,null,"　円×",{"$f":"L28","v":0},"種目＝",{"$f":"C31*F31","v":0},null,"円"]
["プログラム",null,800,null,"円×",{"$f":"M28","v":0},"　部＝",{"$f":"C32*F32","v":0},null,"円"]
["通信費",null,"（書類送付用）",null,null,null,null,100,null,"円"]
["申込金合計",null,null,null,null,null,null,{"$f":"SUM(H30:H33)","v":100},null,"円"]
["※申込書類締切日時までに振込みが完了していないチームの大会出場は認めない。"]
["ただし、エントリーをされて、当日棄権をした場合でも申込金は必要となりますのでご注意ください。"]
[]
["領収書内訳内容"]
["宛名"]
["１枚目",null,null,null,null,null,"金額"]
["２枚目",null,null,null,null,null,"金額"]
["３枚目",null,null,null,null,null,"金額"]
["４枚目",null,null,null,null,null,"金額"]

{"sheet":"申込書_コナミ","index":1,"n_rows":30,"n_cols":31,"rows_kept":30,"cut":false,"hidden":true,"merged":[[15,0,15,3],[15,4,15,13],[2,0,2,27],[15,14,15,17],[15,18,15,27],[1,0,1,3],[12,0,14,3],[7,0,7,3],[8,0,8,3],[8,14,8,17],[12,5,12,13],[13,4,14,27],[10,0,10,3],[4,0,4,3],[5,0,5,3],[11,0,11,3],[24,4,24,6],[25,4,25,6],[25,7,25,8],[25,9,25,10],[1,5,1,26],[22,4,22,5],[22,6,22,7],[23,8,23,9],[7,4,7,27],[8,4,8,13],[8,18,8,27],[10,4,10,13],[11,4,11,13],[11,14,11,17],[11,18,11,27],[18,17,18,21],[19,17,19,21],[17,0,17,3],[17,4,17,8],[17,9,17,12],[17,13,17,16],[17,17,17,21],[18,4,18,8],[18,9,18,12],[18,13,18,16],[19,4,19,8],[19,9,19,12],[19,13,19,16],[29,0,29,3],[29,4,29,7],[29,8,29,9],[29,10,29,12],[29,13,29,14],[29,15,29,19],[22,8,22,9],[23,14,23,15],[20,4,20,8],[20,9,20,12],[20,13,20,16],[22,12,22,13],[22,10,22,11],[22,16,22,17],[20,17,20,21],[22,14,22,15],[24,19,24,20],[24,21,24,22],[25,17,25,18],[25,19,25,20],[25,21,25,22],[23,16,23,17],[23,18,23,19],[22,20,22,21],[23,20,23,21],[24,7,24,8],[24,9,24,10],[24,13,24,14],[24,15,24,16],[24,17,24,18],[24,11,24,12],[25,23,25,24],[26,19,26,20],[26,21,26,22],[26,23,26,24],[22,0,22,3],[23,0,23,3],[24,0,24,3],[25,11,25,12],[25,13,25,14],[25,15,25,16],[24,23,24,24],[22,18,22,19],[23,4,23,5],[23,6,23,7],[23,10,23,11],[23,12,23,13]]}
[]
["　競技会名：　",null,null,null,"〔","第15回コナミスポーツクラブスイムフェスティバル九州大会　",null,null,null,null,null,null,null,null,null,null,null,null,null,null,null,null,null,null,null,null,null,"〕",null,null,"：文字入力してください"]
["大会申込一覧表・協力競技役員申請書",null,null,null,null,null,null,null,null,null,null,null,null,null,null,null,null,null,null,null,null,null,null,null,null,null,null,null,null,null,"：プルダウンから選んでください"]
[]
["支店ＣＤ"]
["チーム登録番号",null,null,null,null,null,"-",0]
[]
["団 体 名"]
["チーム略称",null,null,null,null,null,null,null,null,null,null,null,null,null,"略称フリガナ"]
[]
["代表者名",null,null,null,null,null,null,null,null,null,null,null,null,null,"印"]
["申込責任者",null,null,null,null,null,null,null,null,null,null,null,null,null,"フリガナ"]
["住所",null,null,null,"〒"]
[]
[]
["ＴＥＬ",null,null,null,null,null,null,null,null,null,null,null,null,null,"ＦＡＸ"]
[]
["競技役員",null,null,null,"氏名",null,null,null,null,"社員区分",null,null,null,"サイズ",null,null,null,"希望役職"]
[]
[]
[]
["【参加申込内訳】"]
["参加人数",null,null,null,"女性",null,{"$f":"COUNTIF('エントリーシート（個人）'!$C$4:$C$100,2)","v":0},null,"名",null,"男性",null,{"$f":"COUNTIF('エントリーシート（個人）'!$C$4:$C$100,1)","v":0},null,"名",null,"合計",null,{"$f":"SUM(G23,M23)","v":0},null,"名"]
["個人種目数",null,null,null,"女性",null,{"$f":"COUNTIF(個人種目!F6:F202,\"女性\")","v":0},null,"種目",null,"男性",null,{"$f":"COUNTIF(個人種目!F6:F202,\"男性\")","v":0},null,"種目",null,"合計",null,{"$f":"SUM(G24,M24)","v":0},null,"種目"]
["リレー種目数",null,null,null,"メドレー",null,null,"女性",null,{"$f":"COUNTIF(リレー種目!$P$7:$P$203,\"女性@メドレーリレー\")","v":0},null,"種目",null,"男性",null,{"$f":"COUNTIF(リレー種目!$P$7:$P$203,\"男性@メドレーリレー\")","v":0},null,"種目",null,"混合",null,{"$f":"COUNTIF(リレー種目!$P$7:$P$203,\"混合@メドレーリレー\")","v":0},null,"種目"]
[null,null,null,null,"フリー",null,null,"女性",null,{"$f":"COUNTIF(リレー種目!$P$7:$P$203,\"女性@フリーリレー\")","v":0},null,"種目",null,"男性",null,{"$f":"COUNTIF(リレー種目!$P$7:$P$203,\"男性@フリーリレー\")","v":0},null,"種目",null,"混合",null,{"$f":"COUNTIF(リレー種目!$P$7:$P$203,\"混合@フリーリレー\")","v":0},null,"種目"]
[null,null,null,null,null,null,null,null,null,null,null,null,null,null,null,null,null,null,null,"合計",null,{"$f":"SUM(J25,P25,V25,J26,P26,V26)","v":0},null,"種目"]
[]
["【申込金額】"]
["参加費",null,null,null,3800,null,null,null,"×",null,{"$f":"S23","v":0},null,null,"＝",null,{"$f":"3800*K30","v":0}]

{"sheet":"個人種目","index":2,"n_rows":202,"n_cols":20,"rows_kept":202,"cut":false,"hidden":true,"merged":[[0,1,0,3],[2,12,2,13],[2,0,3,0],[2,1,2,2],[2,3,2,4],[2,6,2,8],[2,11,3,11],[2,9,3,9],[2,10,3,10],[2,14,2,16],[2,5,3,5],[0,5,0,6],[0,7,0,9],[0,11,0,13]]}
[null,"エントリー用紙",null,null,null,"団体番号",null,{"$f":"IF(申込書_兵庫県!C7<>\"\",IF(申込書_兵庫県!M9=\"\",\"\",ASC(申込書_兵庫県!M9)),IF(申込書_コナミ!E8<>\"\",IF(申込書_コナミ!E6=\"\",\"\",ASC(申込書_コナミ!E6&申込書_コナミ!F6&申込書_コナミ!I6&申込書_コナミ!J6&申込書_コナミ!K6))))","v":false},null,null,"団体名",{"$f":"IF(申込書_兵庫県!C7<>\"\",IF(申込書_兵庫県!M7=\"\",申込書_兵庫県!C7,申込書_兵庫県!M7),IF(申込書_コナミ!E8<>\"\",IF(申込書_コナミ!E9=\"\",申込書_コナミ!E8,申込書_コナミ!E9)))","v":false}]
[]
[null,"氏名",null,"ﾌﾘｶﾞﾅ",null,"性別","生年月日",null,null,"学種","学年","年齢","エントリー",null,"エントリータイム",null,null,null,null,"：文字入力してください"]
[null,"姓","名","ｾｲ","ﾒｲ",null,"西暦","月","日",null,null,null,"種目","距離","分","秒",null,null,null,"：プルダウンから選んでください"]
["例","兵庫","太郎","ﾋｮｳｺﾞ","ﾀﾛｳ","男性",1975,1,14,"一般",null,{"$f":"IF(B5=\"\",\"\",ROUNDDOWN(YEARFRAC(DATE(個人種目!G5,個人種目!H5,個人種目!I5),'中間シート（個人）'!$B$1,3),0))","v":46},"自由形","100m",3,35,88]
[1,null,null,null,null,null,null,null,null,null,null,{"$f":"IF(B6=\"\",\"\",ROUNDDOWN(YEARFRAC(DATE(個人種目!G11,個人種目!H11,個人種目!I11),'中間シート（個人）'!$B$1,3),0))","v":""}]
[2,null,null,null,null,null,null,null,null,null,null,{"$f":"IF(B7=\"\",\"\",ROUNDDOWN(YEARFRAC(DATE(個人種目!G12,個人種目!H12,個人種目!I12),'中間シート（個人）'!$B$1,3),0))","v":""}]
[3,null,null,null,null,null,null,null,null,null,null,{"$f":"IF(B8=\"\",\"\",ROUNDDOWN(YEARFRAC(DATE(個人種目!G7,個人種目!H7,個人種目!I7),'中間シート（個人）'!$B$1,3),0))","v":""}]
[4,null,null,null,null,null,null,null,null,null,null,{"$f":"IF(B9=\"\",\"\",ROUNDDOWN(YEARFRAC(DATE(個人種目!G8,個人種目!H8,個人種目!I8),'中間シート（個人）'!$B$1,3),0))","v":""}]
[5,null,null,null,null,null,null,null,null,null,null,{"$f":"IF(B10=\"\",\"\",ROUNDDOWN(YEARFRAC(DATE(個人種目!G13,個人種目!H13,個人種目!I13),'中間シート（個人）'!$B$1,3),0))","v":""}]
[6,null,null,null,null,null,null,null,null,null,null,{"$f":"IF(B11=\"\",\"\",ROUNDDOWN(YEARFRAC(DATE(個人種目!G9,個人種目!H9,個人種目!I9),'中間シート（個人）'!$B$1,3),0))","v":""}]
[7,null,null,null,null,null,null,null,null,null,null,{"$f":"IF(B12=\"\",\"\",ROUNDDOWN(YEARFRAC(DATE(個人種目!G6,個人種目!H6,個人種目!I6),'中間シート（個人）'!$B$1,3),0))","v":""}]
[8,null,null,null,null,null,null,null,null,null,null,{"$f":"IF(B13=\"\",\"\",ROUNDDOWN(YEARFRAC(DATE(個人種目!G10,個人種目!H10,個人種目!I10),'中間シート（個人）'!$B$1,3),0))","v":""}]
[9,null,null,null,null,null,null,null,null,null,null,{"$f":"IF(B14=\"\",\"\",ROUNDDOWN(YEARFRAC(DATE(個人種目!G14,個人種目!H14,個人種目!I14),'中間シート（個人）'!$B$1,3),0))","v":""}]
[10,null,null,null,null,null,null,null,null,null,null,{"$f":"IF(B15=\"\",\"\",ROUNDDOWN(YEARFRAC(DATE(個人種目!G15,個人種目!H15,個人種目!I15),'中間シート（個人）'!$B$1,3),0))","v":""}]
[11,null,null,null,null,null,null,null,null,null,null,{"$f":"IF(B16=\"\",\"\",ROUNDDOWN(YEARFRAC(DATE(個人種目!G16,個人種目!H16,個人種目!I16),'中間シート（個人）'!$B$1,3),0))","v":""}]
[12,null,null,null,null,null,null,null,null,null,null,{"$f":"IF(B17=\"\",\"\",ROUNDDOWN(YEARFRAC(DATE(個人種目!G17,個人種目!H17,個人種目!I17),'中間シート（個人）'!$B$1,3),0))","v":""}]
[13,null,null,null,null,null,null,null,null,null,null,{"$f":"IF(B18=\"\",\"\",ROUNDDOWN(YEARFRAC(DATE(個人種目!G18,個人種目!H18,個人種目!I18),'中間シート（個人）'!$B$1,3),0))","v":""}]
[14,null,null,null,null,null,null,null,null,null,null,{"$f":"IF(B19=\"\",\"\",ROUNDDOWN(YEARFRAC(DATE(個人種目!G19,個人種目!H19,個人種目!I19),'中間シート（個人）'!$B$1,3),0))","v":""}]
[15,null,null,null,null,null,null,null,null,null,null,{"$f":"IF(B20=\"\",\"\",ROUNDDOWN(YEARFRAC(DATE(個人種目!G20,個人種目!H20,個人種目!I20),'中間シート（個人）'!$B$1,3),0))","v":""}]
[16,null,null,null,null,null,null,null,null,null,null,{"$f":"IF(B21=\"\",\"\",ROUNDDOWN(YEARFRAC(DATE(個人種目!G21,個人種目!H21,個人種目!I21),'中間シート（個人）'!$B$1,3),0))","v":""}]
[17,null,null,null,null,null,null,null,null,null,null,{"$f":"IF(B22=\"\",\"\",ROUNDDOWN(YEARFRAC(DATE(個人種目!G22,個人種目!H22,個人種目!I22),'中間シート（個人）'!$B$1,3),0))","v":""}]
[18,null,null,null,null,null,null,null,null,null,null,{"$f":"IF(B23=\"\",\"\",ROUNDDOWN(YEARFRAC(DATE(個人種目!G23,個人種目!H23,個人種目!I23),'中間シート（個人）'!$B$1,3),0))","v":""}]
[19,null,null,null,null,null,null,null,null,null,null,{"$f":"IF(B24=\"\",\"\",ROUNDDOWN(YEARFRAC(DATE(個人種目!G24,個人種目!H24,個人種目!I24),'中間シート（個人）'!$B$1,3),0))","v":""}]
[20,null,null,null,null,null,null,null,null,null,null,{"$f":"IF(B25=\"\",\"\",ROUNDDOWN(YEARFRAC(DATE(個人種目!G25,個人種目!H25,個人種目!I25),'中間シート（個人）'!$B$1,3),0))","v":""}]
[21,null,null,null,null,null,null,null,null,null,null,{"$f":"IF(B26=\"\",\"\",ROUNDDOWN(YEARFRAC(DATE(個人種目!G26,個人種目!H26,個人種目!I26),'中間シート（個人）'!$B$1,3),0))","v":""}]
[22,null,null,null,null,null,null,null,null,null,null,{"$f":"IF(B27=\"\",\"\",ROUNDDOWN(YEARFRAC(DATE(個人種目!G27,個人種目!H27,個人種目!I27),'中間シート（個人）'!$B$1,3),0))","v":""}]
[23,null,null,null,null,null,null,null,null,null,null,{"$f":"IF(B28=\"\",\"\",ROUNDDOWN(YEARFRAC(DATE(個人種目!G28,個人種目!H28,個人種目!I28),'中間シート（個人）'!$B$1,3),0))","v":""}]
[24,null,null,null,null,null,null,null,null,null,null,{"$f":"IF(B29=\"\",\"\",ROUNDDOWN(YEARFRAC(DATE(個人種目!G29,個人種目!H29,個人種目!I29),'中間シート（個人）'!$B$1,3),0))","v":""}]
[25,null,null,null,null,null,null,null,null,null,null,{"$f":"IF(B30=\"\",\"\",ROUNDDOWN(YEARFRAC(DATE(個人種目!G30,個人種目!H30,個人種目!I30),'中間シート（個人）'!$B$1,3),0))","v":""}]
[26,null,null,null,null,null,null,null,null,null,null,{"$f":"IF(B31=\"\",\"\",ROUNDDOWN(YEARFRAC(DATE(個人種目!G31,個人種目!H31,個人種目!I31),'中間シート（個人）'!$B$1,3),0))","v":""}]
[27,null,null,null,null,null,null,null,null,null,null,{"$f":"IF(B32=\"\",\"\",ROUNDDOWN(YEARFRAC(DATE(個人種目!G32,個人種目!H32,個人種目!I32),'中間シート（個人）'!$B$1,3),0))","v":""}]
[28,null,null,null,null,null,null,null,null,null,null,{"$f":"IF(B33=\"\",\"\",ROUNDDOWN(YEARFRAC(DATE(個人種目!G33,個人種目!H33,個人種目!I33),'中間シート（個人）'!$B$1,3),0))","v":""}]
[29,null,null,null,null,null,null,null,null,null,null,{"$f":"IF(B34=\"\",\"\",ROUNDDOWN(YEARFRAC(DATE(個人種目!G34,個人種目!H34,個人種目!I34),'中間シート（個人）'!$B$1,3),0))","v":""}]
[30,null,null,null,null,null,null,null,null,null,null,{"$f":"IF(B35=\"\",\"\",ROUNDDOWN(YEARFRAC(DATE(個人種目!G35,個人種目!H35,個人種目!I35),'中間シート（個人）'!$B$1,3),0))","v":""}]
[31,null,null,null,null,null,null,null,null,null,null,{"$f":"IF(B36=\"\",\"\",ROUNDDOWN(YEARFRAC(DATE(個人種目!G36,個人種目!H36,個人種目!I36),'中間シート（個人）'!$B$1,3),0))","v":""}]
[32,null,null,null,null,null,null,null,null,null,null,{"$f":"IF(B37=\"\",\"\",ROUNDDOWN(YEARFRAC(DATE(個人種目!G37,個人種目!H37,個人種目!I37),'中間シート（個人）'!$B$1,3),0))","v":""}]
[33,null,null,null,null,null,null,null,null,null,null,{"$f":"IF(B38=\"\",\"\",ROUNDDOWN(YEARFRAC(DATE(個人種目!G38,個人種目!H38,個人種目!I38),'中間シート（個人）'!$B$1,3),0))","v":""}]
[34,null,null,null,null,null,null,null,null,null,null,{"$f":"IF(B39=\"\",\"\",ROUNDDOWN(YEARFRAC(DATE(個人種目!G39,個人種目!H39,個人種目!I39),'中間シート（個人）'!$B$1,3),0))","v":""}]
[35,null,null,null,null,null,null,null,null,null,null,{"$f":"IF(B40=\"\",\"\",ROUNDDOWN(YEARFRAC(DATE(個人種目!G40,個人種目!H40,個人種目!I40),'中間シート（個人）'!$B$1,3),0))","v":""}]
[36,null,null,null,null,null,null,null,null,null,null,{"$f":"IF(B41=\"\",\"\",ROUNDDOWN(YEARFRAC(DATE(個人種目!G41,個人種目!H41,個人種目!I41),'中間シート（個人）'!$B$1,3),0))","v":""}]
[37,null,null,null,null,null,null,null,null,null,null,{"$f":"IF(B42=\"\",\"\",ROUNDDOWN(YEARFRAC(DATE(個人種目!G42,個人種目!H42,個人種目!I42),'中間シート（個人）'!$B$1,3),0))","v":""}]
[38,null,null,null,null,null,null,null,null,null,null,{"$f":"IF(B43=\"\",\"\",ROUNDDOWN(YEARFRAC(DATE(個人種目!G43,個人種目!H43,個人種目!I43),'中間シート（個人）'!$B$1,3),0))","v":""}]
[39,null,null,null,null,null,null,null,null,null,null,{"$f":"IF(B44=\"\",\"\",ROUNDDOWN(YEARFRAC(DATE(個人種目!G44,個人種目!H44,個人種目!I44),'中間シート（個人）'!$B$1,3),0))","v":""}]
[40,null,null,null,null,null,null,null,null,null,null,{"$f":"IF(B45=\"\",\"\",ROUNDDOWN(YEARFRAC(DATE(個人種目!G45,個人種目!H45,個人種目!I45),'中間シート（個人）'!$B$1,3),0))","v":""}]
[41,null,null,null,null,null,null,null,null,null,null,{"$f":"IF(B46=\"\",\"\",ROUNDDOWN(YEARFRAC(DATE(個人種目!G46,個人種目!H46,個人種目!I46),'中間シート（個人）'!$B$1,3),0))","v":""}]
[42,null,null,null,null,null,null,null,null,null,null,{"$f":"IF(B47=\"\",\"\",ROUNDDOWN(YEARFRAC(DATE(個人種目!G47,個人種目!H47,個人種目!I47),'中間シート（個人）'!$B$1,3),0))","v":""}]
[43,null,null,null,null,null,null,null,null,null,null,{"$f":"IF(B48=\"\",\"\",ROUNDDOWN(YEARFRAC(DATE(個人種目!G48,個人種目!H48,個人種目!I48),'中間シート（個人）'!$B$1,3),0))","v":""}]
[44,null,null,null,null,null,null,null,null,null,null,{"$f":"IF(B49=\"\",\"\",ROUNDDOWN(YEARFRAC(DATE(個人種目!G49,個人種目!H49,個人種目!I49),'中間シート（個人）'!$B$1,3),0))","v":""}]
[45,null,null,null,null,null,null,null,null,null,null,{"$f":"IF(B50=\"\",\"\",ROUNDDOWN(YEARFRAC(DATE(個人種目!G50,個人種目!H50,個人種目!I50),'中間シート（個人）'!$B$1,3),0))","v":""}]
[46,null,null,null,null,null,null,null,null,null,null,{"$f":"IF(B51=\"\",\"\",ROUNDDOWN(YEARFRAC(DATE(個人種目!G51,個人種目!H51,個人種目!I51),'中間シート（個人）'!$B$1,3),0))","v":""}]
[47,null,null,null,null,null,null,null,null,null,null,{"$f":"IF(B52=\"\",\"\",ROUNDDOWN(YEARFRAC(DATE(個人種目!G52,個人種目!H52,個人種目!I52),'中間シート（個人）'!$B$1,3),0))","v":""}]
[48,null,null,null,null,null,null,null,null,null,null,{"$f":"IF(B53=\"\",\"\",ROUNDDOWN(YEARFRAC(DATE(個人種目!G53,個人種目!H53,個人種目!I53),'中間シート（個人）'!$B$1,3),0))","v":""}]
[49,null,null,null,null,null,null,null,null,null,null,{"$f":"IF(B54=\"\",\"\",ROUNDDOWN(YEARFRAC(DATE(個人種目!G54,個人種目!H54,個人種目!I54),'中間シート（個人）'!$B$1,3),0))","v":""}]
[50,null,null,null,null,null,null,null,null,null,null,{"$f":"IF(B55=\"\",\"\",ROUNDDOWN(YEARFRAC(DATE(個人種目!G55,個人種目!H55,個人種目!I55),'中間シート（個人）'!$B$1,3),0))","v":""}]
[51,null,null,null,null,null,null,null,null,null,null,{"$f":"IF(B56=\"\",\"\",ROUNDDOWN(YEARFRAC(DATE(個人種目!G56,個人種目!H56,個人種目!I56),'中間シート（個人）'!$B$1,3),0))","v":""}]
[52,null,null,null,null,null,null,null,null,null,null,{"$f":"IF(B57=\"\",\"\",ROUNDDOWN(YEARFRAC(DATE(個人種目!G57,個人種目!H57,個人種目!I57),'中間シート（個人）'!$B$1,3),0))","v":""}]
[53,null,null,null,null,null,null,null,null,null,null,{"$f":"IF(B58=\"\",\"\",ROUNDDOWN(YEARFRAC(DATE(個人種目!G58,個人種目!H58,個人種目!I58),'中間シート（個人）'!$B$1,3),0))","v":""}]
[54,null,null,null,null,null,null,null,null,null,null,{"$f":"IF(B59=\"\",\"\",ROUNDDOWN(YEARFRAC(DATE(個人種目!G59,個人種目!H59,個人種目!I59),'中間シート（個人）'!$B$1,3),0))","v":""}]
[55,null,null,null,null,null,null,null,null,null,null,{"$f":"IF(B60=\"\",\"\",ROUNDDOWN(YEARFRAC(DATE(個人種目!G60,個人種目!H60,個人種目!I60),'中間シート（個人）'!$B$1,3),0))","v":""}]
[56,null,null,null,null,null,null,null,null,null,null,{"$f":"IF(B61=\"\",\"\",ROUNDDOWN(YEARFRAC(DATE(個人種目!G61,個人種目!H61,個人種目!I61),'中間シート（個人）'!$B$1,3),0))","v":""}]
[57,null,null,null,null,null,null,null,null,null,null,{"$f":"IF(B62=\"\",\"\",ROUNDDOWN(YEARFRAC(DATE(個人種目!G62,個人種目!H62,個人種目!I62),'中間シート（個人）'!$B$1,3),0))","v":""}]
[58,null,null,null,null,null,null,null,null,null,null,{"$f":"IF(B63=\"\",\"\",ROUNDDOWN(YEARFRAC(DATE(個人種目!G63,個人種目!H63,個人種目!I63),'中間シート（個人）'!$B$1,3),0))","v":""}]
[59,null,null,null,null,null,null,null,null,null,null,{"$f":"IF(B64=\"\",\"\",ROUNDDOWN(YEARFRAC(DATE(個人種目!G64,個人種目!H64,個人種目!I64),'中間シート（個人）'!$B$1,3),0))","v":""}]
[60,null,null,null,null,null,null,null,null,null,null,{"$f":"IF(B65=\"\",\"\",ROUNDDOWN(YEARFRAC(DATE(個人種目!G65,個人種目!H65,個人種目!I65),'中間シート（個人）'!$B$1,3),0))","v":""}]
[61,null,null,null,null,null,null,null,null,null,null,{"$f":"IF(B66=\"\",\"\",ROUNDDOWN(YEARFRAC(DATE(個人種目!G66,個人種目!H66,個人種目!I66),'中間シート（個人）'!$B$1,3),0))","v":""}]
[62,null,null,null,null,null,null,null,null,null,null,{"$f":"IF(B67=\"\",\"\",ROUNDDOWN(YEARFRAC(DATE(個人種目!G67,個人種目!H67,個人種目!I67),'中間シート（個人）'!$B$1,3),0))","v":""}]
[63,null,null,null,null,null,null,null,null,null,null,{"$f":"IF(B68=\"\",\"\",ROUNDDOWN(YEARFRAC(DATE(個人種目!G68,個人種目!H68,個人種目!I68),'中間シート（個人）'!$B$1,3),0))","v":""}]
[64,null,null,null,null,null,null,null,null,null,null,{"$f":"IF(B69=\"\",\"\",ROUNDDOWN(YEARFRAC(DATE(個人種目!G69,個人種目!H69,個人種目!I69),'中間シート（個人）'!$B$1,3),0))","v":""}]
[65,null,null,null,null,null,null,null,null,null,null,{"$f":"IF(B70=\"\",\"\",ROUNDDOWN(YEARFRAC(DATE(個人種目!G70,個人種目!H70,個人種目!I70),'中間シート（個人）'!$B$1,3),0))","v":""}]
[66,null,null,null,null,null,null,null,null,null,null,{"$f":"IF(B71=\"\",\"\",ROUNDDOWN(YEARFRAC(DATE(個人種目!G71,個人種目!H71,個人種目!I71),'中間シート（個人）'!$B$1,3),0))","v":""}]
[67,null,null,null,null,null,null,null,null,null,null,{"$f":"IF(B72=\"\",\"\",ROUNDDOWN(YEARFRAC(DATE(個人種目!G72,個人種目!H72,個人種目!I72),'中間シート（個人）'!$B$1,3),0))","v":""}]
[68,null,null,null,null,null,null,null,null,null,null,{"$f":"IF(B73=\"\",\"\",ROUNDDOWN(YEARFRAC(DATE(個人種目!G73,個人種目!H73,個人種目!I73),'中間シート（個人）'!$B$1,3),0))","v":""}]
[69,null,null,null,null,null,null,null,null,null,null,{"$f":"IF(B74=\"\",\"\",ROUNDDOWN(YEARFRAC(DATE(個人種目!G74,個人種目!H74,個人種目!I74),'中間シート（個人）'!$B$1,3),0))","v":""}]
[70,null,null,null,null,null,null,null,null,null,null,{"$f":"IF(B75=\"\",\"\",ROUNDDOWN(YEARFRAC(DATE(個人種目!G75,個人種目!H75,個人種目!I75),'中間シート（個人）'!$B$1,3),0))","v":""}]
[71,null,null,null,null,null,null,null,null,null,null,{"$f":"IF(B76=\"\",\"\",ROUNDDOWN(YEARFRAC(DATE(個人種目!G76,個人種目!H76,個人種目!I76),'中間シート（個人）'!$B$1,3),0))","v":""}]
[72,null,null,null,null,null,null,null,null,null,null,{"$f":"IF(B77=\"\",\"\",ROUNDDOWN(YEARFRAC(DATE(個人種目!G77,個人種目!H77,個人種目!I77),'中間シート（個人）'!$B$1,3),0))","v":""}]
[73,null,null,null,null,null,null,null,null,null,null,{"$f":"IF(B78=\"\",\"\",ROUNDDOWN(YEARFRAC(DATE(個人種目!G78,個人種目!H78,個人種目!I78),'中間シート（個人）'!$B$1,3),0))","v":""}]
[74,null,null,null,null,null,null,null,null,null,null,{"$f":"IF(B79=\"\",\"\",ROUNDDOWN(YEARFRAC(DATE(個人種目!G79,個人種目!H79,個人種目!I79),'中間シート（個人）'!$B$1,3),0))","v":""}]
[75,null,null,null,null,null,null,null,null,null,null,{"$f":"IF(B80=\"\",\"\",ROUNDDOWN(YEARFRAC(DATE(個人種目!G80,個人種目!H80,個人種目!I80),'中間シート（個人）'!$B$1,3),0))","v":""}]
[76,null,null,null,null,null,null,null,null,null,null,{"$f":"IF(B81=\"\",\"\",ROUNDDOWN(YEARFRAC(DATE(個人種目!G81,個人種目!H81,個人種目!I81),'中間シート（個人）'!$B$1,3),0))","v":""}]
[77,null,null,null,null,null,null,null,null,null,null,{"$f":"IF(B82=\"\",\"\",ROUNDDOWN(YEARFRAC(DATE(個人種目!G82,個人種目!H82,個人種目!I82),'中間シート（個人）'!$B$1,3),0))","v":""}]
[78,null,null,null,null,null,null,null,null,null,null,{"$f":"IF(B83=\"\",\"\",ROUNDDOWN(YEARFRAC(DATE(個人種目!G83,個人種目!H83,個人種目!I83),'中間シート（個人）'!$B$1,3),0))","v":""}]
[79,null,null,null,null,null,null,null,null,null,null,{"$f":"IF(B84=\"\",\"\",ROUNDDOWN(YEARFRAC(DATE(個人種目!G84,個人種目!H84,個人種目!I84),'中間シート（個人）'!$B$1,3),0))","v":""}]
[80,null,null,null,null,null,null,null,null,null,null,{"$f":"IF(B85=\"\",\"\",ROUNDDOWN(YEARFRAC(DATE(個人種目!G85,個人種目!H85,個人種目!I85),'中間シート（個人）'!$B$1,3),0))","v":""}]
[81,null,null,null,null,null,null,null,null,null,null,{"$f":"IF(B86=\"\",\"\",ROUNDDOWN(YEARFRAC(DATE(個人種目!G86,個人種目!H86,個人種目!I86),'中間シート（個人）'!$B$1,3),0))","v":""}]
[82,null,null,null,null,null,null,null,null,null,null,{"$f":"IF(B87=\"\",\"\",ROUNDDOWN(YEARFRAC(DATE(個人種目!G87,個人種目!H87,個人種目!I87),'中間シート（個人）'!$B$1,3),0))","v":""}]
[83,null,null,null,null,null,null,null,null,null,null,{"$f":"IF(B88=\"\",\"\",ROUNDDOWN(YEARFRAC(DATE(個人種目!G88,個人種目!H88,個人種目!I88),'中間シート（個人）'!$B$1,3),0))","v":""}]
[84,null,null,null,null,null,null,null,null,null,null,{"$f":"IF(B89=\"\",\"\",ROUNDDOWN(YEARFRAC(DATE(個人種目!G89,個人種目!H89,個人種目!I89),'中間シート（個人）'!$B$1,3),0))","v":""}]
[85,null,null,null,null,null,null,null,null,null,null,{"$f":"IF(B90=\"\",\"\",ROUNDDOWN(YEARFRAC(DATE(個人種目!G90,個人種目!H90,個人種目!I90),'中間シート（個人）'!$B$1,3),0))","v":""}]
[86,null,null,null,null,null,null,null,null,null,null,{"$f":"IF(B91=\"\",\"\",ROUNDDOWN(YEARFRAC(DATE(個人種目!G91,個人種目!H91,個人種目!I91),'中間シート（個人）'!$B$1,3),0))","v":""}]
[87,null,null,null,null,null,null,null,null,null,null,{"$f":"IF(B92=\"\",\"\",ROUNDDOWN(YEARFRAC(DATE(個人種目!G92,個人種目!H92,個人種目!I92),'中間シート（個人）'!$B$1,3),0))","v":""}]
[88,null,null,null,null,null,null,null,null,null,null,{"$f":"IF(B93=\"\",\"\",ROUNDDOWN(YEARFRAC(DATE(個人種目!G93,個人種目!H93,個人種目!I93),'中間シート（個人）'!$B$1,3),0))","v":""}]
[89,null,null,null,null,null,null,null,null,null,null,{"$f":"IF(B94=\"\",\"\",ROUNDDOWN(YEARFRAC(DATE(個人種目!G94,個人種目!H94,個人種目!I94),'中間シート（個人）'!$B$1,3),0))","v":""}]
[90,null,null,null,null,null,null,null,null,null,null,{"$f":"IF(B95=\"\",\"\",ROUNDDOWN(YEARFRAC(DATE(個人種目!G95,個人種目!H95,個人種目!I95),'中間シート（個人）'!$B$1,3),0))","v":""}]
[91,null,null,null,null,null,null,null,null,null,null,{"$f":"IF(B96=\"\",\"\",ROUNDDOWN(YEARFRAC(DATE(個人種目!G96,個人種目!H96,個人種目!I96),'中間シート（個人）'!$B$1,3),0))","v":""}]
[92,null,null,null,null,null,null,null,null,null,null,{"$f":"IF(B97=\"\",\"\",ROUNDDOWN(YEARFRAC(DATE(個人種目!G97,個人種目!H97,個人種目!I97),'中間シート（個人）'!$B$1,3),0))","v":""}]
[93,null,null,null,null,null,null,null,null,null,null,{"$f":"IF(B98=\"\",\"\",ROUNDDOWN(YEARFRAC(DATE(個人種目!G98,個人種目!H98,個人種目!I98),'中間シート（個人）'!$B$1,3),0))","v":""}]
[94,null,null,null,null,null,null,null,null,null,null,{"$f":"IF(B99=\"\",\"\",ROUNDDOWN(YEARFRAC(DATE(個人種目!G99,個人種目!H99,個人種目!I99),'中間シート（個人）'!$B$1,3),0))","v":""}]
[95,null,null,null,null,null,null,null,null,null,null,{"$f":"IF(B100=\"\",\"\",ROUNDDOWN(YEARFRAC(DATE(個人種目!G100,個人種目!H100,個人種目!I100),'中間シート（個人）'!$B$1,3),0))","v":""}]
[96,null,null,null,null,null,null,null,null,null,null,{"$f":"IF(B101=\"\",\"\",ROUNDDOWN(YEARFRAC(DATE(個人種目!G101,個人種目!H101,個人種目!I101),'中間シート（個人）'!$B$1,3),0))","v":""}]
[97,null,null,null,null,null,null,null,null,null,null,{"$f":"IF(B102=\"\",\"\",ROUNDDOWN(YEARFRAC(DATE(個人種目!G102,個人種目!H102,個人種目!I102),'中間シート（個人）'!$B$1,3),0))","v":""}]
[98,null,null,null,null,null,null,null,null,null,null,{"$f":"IF(B103=\"\",\"\",ROUNDDOWN(YEARFRAC(DATE(個人種目!G103,個人種目!H103,個人種目!I103),'中間シート（個人）'!$B$1,3),0))","v":""}]
[99,null,null,null,null,null,null,null,null,null,null,{"$f":"IF(B104=\"\",\"\",ROUNDDOWN(YEARFRAC(DATE(個人種目!G104,個人種目!H104,個人種目!I104),'中間シート（個人）'!$B$1,3),0))","v":""}]
[100,null,null,null,null,null,null,null,null,null,null,{"$f":"IF(B105=\"\",\"\",ROUNDDOWN(YEARFRAC(DATE(個人種目!G105,個人種目!H105,個人種目!I105),'中間シート（個人）'!$B$1,3),0))","v":""}]
[101,null,null,null,null,null,null,null,null,null,null,{"$f":"IF(B106=\"\",\"\",ROUNDDOWN(YEARFRAC(DATE(個人種目!G106,個人種目!H106,個人種目!I106),'中間シート（個人）'!$B$1,3),0))","v":""}]
[102,null,null,null,null,null,null,null,null,null,null,{"$f":"IF(B107=\"\",\"\",ROUNDDOWN(YEARFRAC(DATE(個人種目!G107,個人種目!H107,個人種目!I107),'中間シート（個人）'!$B$1,3),0))","v":""}]
[103,null,null,null,null,null,null,null,null,null,null,{"$f":"IF(B108=\"\",\"\",ROUNDDOWN(YEARFRAC(DATE(個人種目!G108,個人種目!H108,個人種目!I108),'中間シート（個人）'!$B$1,3),0))","v":""}]
[104,null,null,null,null,null,null,null,null,null,null,{"$f":"IF(B109=\"\",\"\",ROUNDDOWN(YEARFRAC(DATE(個人種目!G109,個人種目!H109,個人種目!I109),'中間シート（個人）'!$B$1,3),0))","v":""}]
[105,null,null,null,null,null,null,null,null,null,null,{"$f":"IF(B110=\"\",\"\",ROUNDDOWN(YEARFRAC(DATE(個人種目!G110,個人種目!H110,個人種目!I110),'中間シート（個人）'!$B$1,3),0))","v":""}]
[106,null,null,null,null,null,null,null,null,null,null,{"$f":"IF(B111=\"\",\"\",ROUNDDOWN(YEARFRAC(DATE(個人種目!G111,個人種目!H111,個人種目!I111),'中間シート（個人）'!$B$1,3),0))","v":""}]
[107,null,null,null,null,null,null,null,null,null,null,{"$f":"IF(B112=\"\",\"\",ROUNDDOWN(YEARFRAC(DATE(個人種目!G112,個人種目!H112,個人種目!I112),'中間シート（個人）'!$B$1,3),0))","v":""}]
[108,null,null,null,null,null,null,null,null,null,null,{"$f":"IF(B113=\"\",\"\",ROUNDDOWN(YEARFRAC(DATE(個人種目!G113,個人種目!H113,個人種目!I113),'中間シート（個人）'!$B$1,3),0))","v":""}]
[109,null,null,null,null,null,null,null,null,null,null,{"$f":"IF(B114=\"\",\"\",ROUNDDOWN(YEARFRAC(DATE(個人種目!G114,個人種目!H114,個人種目!I114),'中間シート（個人）'!$B$1,3),0))","v":""}]
[110,null,null,null,null,null,null,null,null,null,null,{"$f":"IF(B115=\"\",\"\",ROUNDDOWN(YEARFRAC(DATE(個人種目!G115,個人種目!H115,個人種目!I115),'中間シート（個人）'!$B$1,3),0))","v":""}]
[111,null,null,null,null,null,null,null,null,null,null,{"$f":"IF(B116=\"\",\"\",ROUNDDOWN(YEARFRAC(DATE(個人種目!G116,個人種目!H116,個人種目!I116),'中間シート（個人）'!$B$1,3),0))","v":""}]
[112,null,null,null,null,null,null,null,null,null,null,{"$f":"IF(B117=\"\",\"\",ROUNDDOWN(YEARFRAC(DATE(個人種目!G117,個人種目!H117,個人種目!I117),'中間シート（個人）'!$B$1,3),0))","v":""}]
[113,null,null,null,null,null,null,null,null,null,null,{"$f":"IF(B118=\"\",\"\",ROUNDDOWN(YEARFRAC(DATE(個人種目!G118,個人種目!H118,個人種目!I118),'中間シート（個人）'!$B$1,3),0))","v":""}]
[114,null,null,null,null,null,null,null,null,null,null,{"$f":"IF(B119=\"\",\"\",ROUNDDOWN(YEARFRAC(DATE(個人種目!G119,個人種目!H119,個人種目!I119),'中間シート（個人）'!$B$1,3),0))","v":""}]
[115,null,null,null,null,null,null,null,null,null,null,{"$f":"IF(B120=\"\",\"\",ROUNDDOWN(YEARFRAC(DATE(個人種目!G120,個人種目!H120,個人種目!I120),'中間シート（個人）'!$B$1,3),0))","v":""}]
[116,null,null,null,null,null,null,null,null,null,null,{"$f":"IF(B121=\"\",\"\",ROUNDDOWN(YEARFRAC(DATE(個人種目!G121,個人種目!H121,個人種目!I121),'中間シート（個人）'!$B$1,3),0))","v":""}]
[117,null,null,null,null,null,null,null,null,null,null,{"$f":"IF(B122=\"\",\"\",ROUNDDOWN(YEARFRAC(DATE(個人種目!G122,個人種目!H122,個人種目!I122),'中間シート（個人）'!$B$1,3),0))","v":""}]
[118,null,null,null,null,null,null,null,null,null,null,{"$f":"IF(B123=\"\",\"\",ROUNDDOWN(YEARFRAC(DATE(個人種目!G123,個人種目!H123,個人種目!I123),'中間シート（個人）'!$B$1,3),0))","v":""}]
[119,null,null,null,null,null,null,null,null,null,null,{"$f":"IF(B124=\"\",\"\",ROUNDDOWN(YEARFRAC(DATE(個人種目!G124,個人種目!H124,個人種目!I124),'中間シート（個人）'!$B$1,3),0))","v":""}]
[120,null,null,null,null,null,null,null,null,null,null,{"$f":"IF(B125=\"\",\"\",ROUNDDOWN(YEARFRAC(DATE(個人種目!G125,個人種目!H125,個人種目!I125),'中間シート（個人）'!$B$1,3),0))","v":""}]
[121,null,null,null,null,null,null,null,null,null,null,{"$f":"IF(B126=\"\",\"\",ROUNDDOWN(YEARFRAC(DATE(個人種目!G126,個人種目!H126,個人種目!I126),'中間シート（個人）'!$B$1,3),0))","v":""}]
[122,null,null,null,null,null,null,null,null,null,null,{"$f":"IF(B127=\"\",\"\",ROUNDDOWN(YEARFRAC(DATE(個人種目!G127,個人種目!H127,個人種目!I127),'中間シート（個人）'!$B$1,3),0))","v":""}]
[123,null,null,null,null,null,null,null,null,null,null,{"$f":"IF(B128=\"\",\"\",ROUNDDOWN(YEARFRAC(DATE(個人種目!G128,個人種目!H128,個人種目!I128),'中間シート（個人）'!$B$1,3),0))","v":""}]
[124,null,null,null,null,null,null,null,null,null,null,{"$f":"IF(B129=\"\",\"\",ROUNDDOWN(YEARFRAC(DATE(個人種目!G129,個人種目!H129,個人種目!I129),'中間シート（個人）'!$B$1,3),0))","v":""}]
[125,null,null,null,null,null,null,null,null,null,null,{"$f":"IF(B130=\"\",\"\",ROUNDDOWN(YEARFRAC(DATE(個人種目!G130,個人種目!H130,個人種目!I130),'中間シート（個人）'!$B$1,3),0))","v":""}]
[126,null,null,null,null,null,null,null,null,null,null,{"$f":"IF(B131=\"\",\"\",ROUNDDOWN(YEARFRAC(DATE(個人種目!G131,個人種目!H131,個人種目!I131),'中間シート（個人）'!$B$1,3),0))","v":""}]
[127,null,null,null,null,null,null,null,null,null,null,{"$f":"IF(B132=\"\",\"\",ROUNDDOWN(YEARFRAC(DATE(個人種目!G132,個人種目!H132,個人種目!I132),'中間シート（個人）'!$B$1,3),0))","v":""}]
[128,null,null,null,null,null,null,null,null,null,null,{"$f":"IF(B133=\"\",\"\",ROUNDDOWN(YEARFRAC(DATE(個人種目!G133,個人種目!H133,個人種目!I133),'中間シート（個人）'!$B$1,3),0))","v":""}]
[129,null,null,null,null,null,null,null,null,null,null,{"$f":"IF(B134=\"\",\"\",ROUNDDOWN(YEARFRAC(DATE(個人種目!G134,個人種目!H134,個人種目!I134),'中間シート（個人）'!$B$1,3),0))","v":""}]
[130,null,null,null,null,null,null,null,null,null,null,{"$f":"IF(B135=\"\",\"\",ROUNDDOWN(YEARFRAC(DATE(個人種目!G135,個人種目!H135,個人種目!I135),'中間シート（個人）'!$B$1,3),0))","v":""}]
[131,null,null,null,null,null,null,null,null,null,null,{"$f":"IF(B136=\"\",\"\",ROUNDDOWN(YEARFRAC(DATE(個人種目!G136,個人種目!H136,個人種目!I136),'中間シート（個人）'!$B$1,3),0))","v":""}]
[132,null,null,null,null,null,null,null,null,null,null,{"$f":"IF(B137=\"\",\"\",ROUNDDOWN(YEARFRAC(DATE(個人種目!G137,個人種目!H137,個人種目!I137),'中間シート（個人）'!$B$1,3),0))","v":""}]
[133,null,null,null,null,null,null,null,null,null,null,{"$f":"IF(B138=\"\",\"\",ROUNDDOWN(YEARFRAC(DATE(個人種目!G138,個人種目!H138,個人種目!I138),'中間シート（個人）'!$B$1,3),0))","v":""}]
[134,null,null,null,null,null,null,null,null,null,null,{"$f":"IF(B139=\"\",\"\",ROUNDDOWN(YEARFRAC(DATE(個人種目!G139,個人種目!H139,個人種目!I139),'中間シート（個人）'!$B$1,3),0))","v":""}]
[135,null,null,null,null,null,null,null,null,null,null,{"$f":"IF(B140=\"\",\"\",ROUNDDOWN(YEARFRAC(DATE(個人種目!G140,個人種目!H140,個人種目!I140),'中間シート（個人）'!$B$1,3),0))","v":""}]
[136,null,null,null,null,null,null,null,null,null,null,{"$f":"IF(B141=\"\",\"\",ROUNDDOWN(YEARFRAC(DATE(個人種目!G141,個人種目!H141,個人種目!I141),'中間シート（個人）'!$B$1,3),0))","v":""}]
[137,null,null,null,null,null,null,null,null,null,null,{"$f":"IF(B142=\"\",\"\",ROUNDDOWN(YEARFRAC(DATE(個人種目!G142,個人種目!H142,個人種目!I142),'中間シート（個人）'!$B$1,3),0))","v":""}]
[138,null,null,null,null,null,null,null,null,null,null,{"$f":"IF(B143=\"\",\"\",ROUNDDOWN(YEARFRAC(DATE(個人種目!G143,個人種目!H143,個人種目!I143),'中間シート（個人）'!$B$1,3),0))","v":""}]
[139,null,null,null,null,null,null,null,null,null,null,{"$f":"IF(B144=\"\",\"\",ROUNDDOWN(YEARFRAC(DATE(個人種目!G144,個人種目!H144,個人種目!I144),'中間シート（個人）'!$B$1,3),0))","v":""}]
[140,null,null,null,null,null,null,null,null,null,null,{"$f":"IF(B145=\"\",\"\",ROUNDDOWN(YEARFRAC(DATE(個人種目!G145,個人種目!H145,個人種目!I145),'中間シート（個人）'!$B$1,3),0))","v":""}]
[141,null,null,null,null,null,null,null,null,null,null,{"$f":"IF(B146=\"\",\"\",ROUNDDOWN(YEARFRAC(DATE(個人種目!G146,個人種目!H146,個人種目!I146),'中間シート（個人）'!$B$1,3),0))","v":""}]
[142,null,null,null,null,null,null,null,null,null,null,{"$f":"IF(B147=\"\",\"\",ROUNDDOWN(YEARFRAC(DATE(個人種目!G147,個人種目!H147,個人種目!I147),'中間シート（個人）'!$B$1,3),0))","v":""}]
[143,null,null,null,null,null,null,null,null,null,null,{"$f":"IF(B148=\"\",\"\",ROUNDDOWN(YEARFRAC(DATE(個人種目!G148,個人種目!H148,個人種目!I148),'中間シート（個人）'!$B$1,3),0))","v":""}]
[144,null,null,null,null,null,null,null,null,null,null,{"$f":"IF(B149=\"\",\"\",ROUNDDOWN(YEARFRAC(DATE(個人種目!G149,個人種目!H149,個人種目!I149),'中間シート（個人）'!$B$1,3),0))","v":""}]
[145,null,null,null,null,null,null,null,null,null,null,{"$f":"IF(B150=\"\",\"\",ROUNDDOWN(YEARFRAC(DATE(個人種目!G150,個人種目!H150,個人種目!I150),'中間シート（個人）'!$B$1,3),0))","v":""}]
[146,null,null,null,null,null,null,null,null,null,null,{"$f":"IF(B151=\"\",\"\",ROUNDDOWN(YEARFRAC(DATE(個人種目!G151,個人種目!H151,個人種目!I151),'中間シート（個人）'!$B$1,3),0))","v":""}]
[147,null,null,null,null,null,null,null,null,null,null,{"$f":"IF(B152=\"\",\"\",ROUNDDOWN(YEARFRAC(DATE(個人種目!G152,個人種目!H152,個人種目!I152),'中間シート（個人）'!$B$1,3),0))","v":""}]
[148,null,null,null,null,null,null,null,null,null,null,{"$f":"IF(B153=\"\",\"\",ROUNDDOWN(YEARFRAC(DATE(個人種目!G153,個人種目!H153,個人種目!I153),'中間シート（個人）'!$B$1,3),0))","v":""}]
[149,null,null,null,null,null,null,null,null,null,null,{"$f":"IF(B154=\"\",\"\",ROUNDDOWN(YEARFRAC(DATE(個人種目!G154,個人種目!H154,個人種目!I154),'中間シート（個人）'!$B$1,3),0))","v":""}]
[150,null,null,null,null,null,null,null,null,null,null,{"$f":"IF(B155=\"\",\"\",ROUNDDOWN(YEARFRAC(DATE(個人種目!G155,個人種目!H155,個人種目!I155),'中間シート（個人）'!$B$1,3),0))","v":""}]
[151,null,null,null,null,null,null,null,null,null,null,{"$f":"IF(B156=\"\",\"\",ROUNDDOWN(YEARFRAC(DATE(個人種目!G156,個人種目!H156,個人種目!I156),'中間シート（個人）'!$B$1,3),0))","v":""}]
[152,null,null,null,null,null,null,null,null,null,null,{"$f":"IF(B157=\"\",\"\",ROUNDDOWN(YEARFRAC(DATE(個人種目!G157,個人種目!H157,個人種目!I157),'中間シート（個人）'!$B$1,3),0))","v":""}]
[153,null,null,null,null,null,null,null,null,null,null,{"$f":"IF(B158=\"\",\"\",ROUNDDOWN(YEARFRAC(DATE(個人種目!G158,個人種目!H158,個人種目!I158),'中間シート（個人）'!$B$1,3),0))","v":""}]
[154,null,null,null,null,null,null,null,null,null,null,{"$f":"IF(B159=\"\",\"\",ROUNDDOWN(YEARFRAC(DATE(個人種目!G159,個人種目!H159,個人種目!I159),'中間シート（個人）'!$B$1,3),0))","v":""}]
[155,null,null,null,null,null,null,null,null,null,null,{"$f":"IF(B160=\"\",\"\",ROUNDDOWN(YEARFRAC(DATE(個人種目!G160,個人種目!H160,個人種目!I160),'中間シート（個人）'!$B$1,3),0))","v":""}]
[156,null,null,null,null,null,null,null,null,null,null,{"$f":"IF(B161=\"\",\"\",ROUNDDOWN(YEARFRAC(DATE(個人種目!G161,個人種目!H161,個人種目!I161),'中間シート（個人）'!$B$1,3),0))","v":""}]
[157,null,null,null,null,null,null,null,null,null,null,{"$f":"IF(B162=\"\",\"\",ROUNDDOWN(YEARFRAC(DATE(個人種目!G162,個人種目!H162,個人種目!I162),'中間シート（個人）'!$B$1,3),0))","v":""}]
[158,null,null,null,null,null,null,null,null,null,null,{"$f":"IF(B163=\"\",\"\",ROUNDDOWN(YEARFRAC(DATE(個人種目!G163,個人種目!H163,個人種目!I163),'中間シート（個人）'!$B$1,3),0))","v":""}]
[159,null,null,null,null,null,null,null,null,null,null,{"$f":"IF(B164=\"\",\"\",ROUNDDOWN(YEARFRAC(DATE(個人種目!G164,個人種目!H164,個人種目!I164),'中間シート（個人）'!$B$1,3),0))","v":""}]
[160,null,null,null,null,null,null,null,null,null,null,{"$f":"IF(B165=\"\",\"\",ROUNDDOWN(YEARFRAC(DATE(個人種目!G165,個人種目!H165,個人種目!I165),'中間シート（個人）'!$B$1,3),0))","v":""}]
[161,null,null,null,null,null,null,null,null,null,null,{"$f":"IF(B166=\"\",\"\",ROUNDDOWN(YEARFRAC(DATE(個人種目!G166,個人種目!H166,個人種目!I166),'中間シート（個人）'!$B$1,3),0))","v":""}]
[162,null,null,null,null,null,null,null,null,null,null,{"$f":"IF(B167=\"\",\"\",ROUNDDOWN(YEARFRAC(DATE(個人種目!G167,個人種目!H167,個人種目!I167),'中間シート（個人）'!$B$1,3),0))","v":""}]
[163,null,null,null,null,null,null,null,null,null,null,{"$f":"IF(B168=\"\",\"\",ROUNDDOWN(YEARFRAC(DATE(個人種目!G168,個人種目!H168,個人種目!I168),'中間シート（個人）'!$B$1,3),0))","v":""}]
[164,null,null,null,null,null,null,null,null,null,null,{"$f":"IF(B169=\"\",\"\",ROUNDDOWN(YEARFRAC(DATE(個人種目!G169,個人種目!H169,個人種目!I169),'中間シート（個人）'!$B$1,3),0))","v":""}]
[165,null,null,null,null,null,null,null,null,null,null,{"$f":"IF(B170=\"\",\"\",ROUNDDOWN(YEARFRAC(DATE(個人種目!G170,個人種目!H170,個人種目!I170),'中間シート（個人）'!$B$1,3),0))","v":""}]
[166,null,null,null,null,null,null,null,null,null,null,{"$f":"IF(B171=\"\",\"\",ROUNDDOWN(YEARFRAC(DATE(個人種目!G171,個人種目!H171,個人種目!I171),'中間シート（個人）'!$B$1,3),0))","v":""}]
[167,null,null,null,null,null,null,null,null,null,null,{"$f":"IF(B172=\"\",\"\",ROUNDDOWN(YEARFRAC(DATE(個人種目!G172,個人種目!H172,個人種目!I172),'中間シート（個人）'!$B$1,3),0))","v":""}]
[168,null,null,null,null,null,null,null,null,null,null,{"$f":"IF(B173=\"\",\"\",ROUNDDOWN(YEARFRAC(DATE(個人種目!G173,個人種目!H173,個人種目!I173),'中間シート（個人）'!$B$1,3),0))","v":""}]
[169,null,null,null,null,null,null,null,null,null,null,{"$f":"IF(B174=\"\",\"\",ROUNDDOWN(YEARFRAC(DATE(個人種目!G174,個人種目!H174,個人種目!I174),'中間シート（個人）'!$B$1,3),0))","v":""}]
[170,null,null,null,null,null,null,null,null,null,null,{"$f":"IF(B175=\"\",\"\",ROUNDDOWN(YEARFRAC(DATE(個人種目!G175,個人種目!H175,個人種目!I175),'中間シート（個人）'!$B$1,3),0))","v":""}]
[171,null,null,null,null,null,null,null,null,null,null,{"$f":"IF(B176=\"\",\"\",ROUNDDOWN(YEARFRAC(DATE(個人種目!G176,個人種目!H176,個人種目!I176),'中間シート（個人）'!$B$1,3),0))","v":""}]
[172,null,null,null,null,null,null,null,null,null,null,{"$f":"IF(B177=\"\",\"\",ROUNDDOWN(YEARFRAC(DATE(個人種目!G177,個人種目!H177,個人種目!I177),'中間シート（個人）'!$B$1,3),0))","v":""}]
[173,null,null,null,null,null,null,null,null,null,null,{"$f":"IF(B178=\"\",\"\",ROUNDDOWN(YEARFRAC(DATE(個人種目!G178,個人種目!H178,個人種目!I178),'中間シート（個人）'!$B$1,3),0))","v":""}]
[174,null,null,null,null,null,null,null,null,null,null,{"$f":"IF(B179=\"\",\"\",ROUNDDOWN(YEARFRAC(DATE(個人種目!G179,個人種目!H179,個人種目!I179),'中間シート（個人）'!$B$1,3),0))","v":""}]
[175,null,null,null,null,null,null,null,null,null,null,{"$f":"IF(B180=\"\",\"\",ROUNDDOWN(YEARFRAC(DATE(個人種目!G180,個人種目!H180,個人種目!I180),'中間シート（個人）'!$B$1,3),0))","v":""}]
[176,null,null,null,null,null,null,null,null,null,null,{"$f":"IF(B181=\"\",\"\",ROUNDDOWN(YEARFRAC(DATE(個人種目!G181,個人種目!H181,個人種目!I181),'中間シート（個人）'!$B$1,3),0))","v":""}]
[177,null,null,null,null,null,null,null,null,null,null,{"$f":"IF(B182=\"\",\"\",ROUNDDOWN(YEARFRAC(DATE(個人種目!G182,個人種目!H182,個人種目!I182),'中間シート（個人）'!$B$1,3),0))","v":""}]
[178,null,null,null,null,null,null,null,null,null,null,{"$f":"IF(B183=\"\",\"\",ROUNDDOWN(YEARFRAC(DATE(個人種目!G183,個人種目!H183,個人種目!I183),'中間シート（個人）'!$B$1,3),0))","v":""}]
[179,null,null,null,null,null,null,null,null,null,null,{"$f":"IF(B184=\"\",\"\",ROUNDDOWN(YEARFRAC(DATE(個人種目!G184,個人種目!H184,個人種目!I184),'中間シート（個人）'!$B$1,3),0))","v":""}]
[180,null,null,null,null,null,null,null,null,null,null,{"$f":"IF(B185=\"\",\"\",ROUNDDOWN(YEARFRAC(DATE(個人種目!G185,個人種目!H185,個人種目!I185),'中間シート（個人）'!$B$1,3),0))","v":""}]
[181,null,null,null,null,null,null,null,null,null,null,{"$f":"IF(B186=\"\",\"\",ROUNDDOWN(YEARFRAC(DATE(個人種目!G186,個人種目!H186,個人種目!I186),'中間シート（個人）'!$B$1,3),0))","v":""}]
[182,null,null,null,null,null,null,null,null,null,null,{"$f":"IF(B187=\"\",\"\",ROUNDDOWN(YEARFRAC(DATE(個人種目!G187,個人種目!H187,個人種目!I187),'中間シート（個人）'!$B$1,3),0))","v":""}]
[183,null,null,null,null,null,null,null,null,null,null,{"$f":"IF(B188=\"\",\"\",ROUNDDOWN(YEARFRAC(DATE(個人種目!G188,個人種目!H188,個人種目!I188),'中間シート（個人）'!$B$1,3),0))","v":""}]
[184,null,null,null,null,null,null,null,null,null,null,{"$f":"IF(B189=\"\",\"\",ROUNDDOWN(YEARFRAC(DATE(個人種目!G189,個人種目!H189,個人種目!I189),'中間シート（個人）'!$B$1,3),0))","v":""}]
[185,null,null,null,null,null,null,null,null,null,null,{"$f":"IF(B190=\"\",\"\",ROUNDDOWN(YEARFRAC(DATE(個人種目!G190,個人種目!H190,個人種目!I190),'中間シート（個人）'!$B$1,3),0))","v":""}]
[186,null,null,null,null,null,null,null,null,null,null,{"$f":"IF(B191=\"\",\"\",ROUNDDOWN(YEARFRAC(DATE(個人種目!G191,個人種目!H191,個人種目!I191),'中間シート（個人）'!$B$1,3),0))","v":""}]
[187,null,null,null,null,null,null,null,null,null,null,{"$f":"IF(B192=\"\",\"\",ROUNDDOWN(YEARFRAC(DATE(個人種目!G192,個人種目!H192,個人種目!I192),'中間シート（個人）'!$B$1,3),0))","v":""}]
[188,null,null,null,null,null,null,null,null,null,null,{"$f":"IF(B193=\"\",\"\",ROUNDDOWN(YEARFRAC(DATE(個人種目!G193,個人種目!H193,個人種目!I193),'中間シート（個人）'!$B$1,3),0))","v":""}]
[189,null,null,null,null,null,null,null,null,null,null,{"$f":"IF(B194=\"\",\"\",ROUNDDOWN(YEARFRAC(DATE(個人種目!G194,個人種目!H194,個人種目!I194),'中間シート（個人）'!$B$1,3),0))","v":""}]
[190,null,null,null,null,null,null,null,null,null,null,{"$f":"IF(B195=\"\",\"\",ROUNDDOWN(YEARFRAC(DATE(個人種目!G195,個人種目!H195,個人種目!I195),'中間シート（個人）'!$B$1,3),0))","v":""}]
[191,null,null,null,null,null,null,null,null,null,null,{"$f":"IF(B196=\"\",\"\",ROUNDDOWN(YEARFRAC(DATE(個人種目!G196,個人種目!H196,個人種目!I196),'中間シート（個人）'!$B$1,3),0))","v":""}]
[192,null,null,null,null,null,null,null,null,null,null,{"$f":"IF(B197=\"\",\"\",ROUNDDOWN(YEARFRAC(DATE(個人種目!G197,個人種目!H197,個人種目!I197),'中間シート（個人）'!$B$1,3),0))","v":""}]
[193,null,null,null,null,null,null,null,null,null,null,{"$f":"IF(B198=\"\",\"\",ROUNDDOWN(YEARFRAC(DATE(個人種目!G198,個人種目!H198,個人種目!I198),'中間シート（個人）'!$B$1,3),0))","v":""}]
[194,null,null,null,null,null,null,null,null,null,null,{"$f":"IF(B199=\"\",\"\",ROUNDDOWN(YEARFRAC(DATE(個人種目!G199,個人種目!H199,個人種目!I199),'中間シート（個人）'!$B$1,3),0))","v":""}]
[195,null,null,null,null,null,null,null,null,null,null,{"$f":"IF(B200=\"\",\"\",ROUNDDOWN(YEARFRAC(DATE(個人種目!G200,個人種目!H200,個人種目!I200),'中間シート（個人）'!$B$1,3),0))","v":""}]
[196,null,null,null,null,null,null,null,null,null,null,{"$f":"IF(B201=\"\",\"\",ROUNDDOWN(YEARFRAC(DATE(個人種目!G201,個人種目!H201,個人種目!I201),'中間シート（個人）'!$B$1,3),0))","v":""}]
[197,null,null,null,null,null,null,null,null,null,null,{"$f":"IF(B202=\"\",\"\",ROUNDDOWN(YEARFRAC(DATE(個人種目!G202,個人種目!H202,個人種目!I202),'中間シート（個人）'!$B$1,3),0))","v":""}]

{"sheet":"リレー種目","index":3,"n_rows":203,"n_cols":19,"rows_kept":203,"cut":false,"hidden":true,"merged":[[3,10,4,10],[3,11,4,11],[3,12,4,12],[3,13,4,13],[3,7,3,9],[0,7,0,9],[3,2,4,2],[3,4,3,6],[3,0,4,0],[3,1,4,1],[3,3,4,3],[0,4,0,5]]}
[null,"リレーエントリー用紙",null,"団体番号",{"$f":"IF(申込書_兵庫県!C7<>\"\",IF(申込書_兵庫県!M9=\"\",\"\",ASC(申込書_兵庫県!M9)),IF(申込書_コナミ!E8<>\"\",IF(申込書_コナミ!E6=\"\",\"\",ASC(申込書_コナミ!E6&申込書_コナミ!F6&申込書_コナミ!I6&申込書_コナミ!J6&申込書_コナミ!K6))))","v":false},null,"団体名",{"$f":"IF(申込書_兵庫県!C7<>\"\",IF(申込書_兵庫県!M7=\"\",申込書_兵庫県!C7,申込書_兵庫県!M7),IF(申込書_コナミ!E8<>\"\",IF(申込書_コナミ!E9=\"\",申込書_コナミ!E8,申込書_コナミ!E9)))","v":false},null,null,null,null,null,null,null,null,null,null,"：文字入力してください"]
[null,null,null,null,null,null,null,null,null,null,null,null,null,null,null,null,null,null,"：プルダウンから選んでください"]
[null,"※同一種目・同一年齢区分に複数チーム出場する場合はチーム区分を選んでください"]
[null,"チーム名","チーム\n区分","性別","エントリー",null,null,"エントリータイム",null,null,"第１泳者","第２泳者","第３泳者","第４泳者"]
[null,null,null,null,"種目","距離","合計年齢","分","秒"]
["例","兵庫水泳ｸﾗﾌﾞ","A","男性","フリーリレー","4×50m","120～159歳",3,35,88]
[1,{"$f":"IF($H$1=\"\",\"\",$H$1)","v":false},null,null,null,null,null,null,null,null,null,null,null,null,null,{"$f":"D7&\"@\"&E7","v":"@"},null,"リレーオーダーを入力する場合は、”選手名抽出”ボタンを押し、"]
[2,{"$f":"IF($H$1=\"\",\"\",$H$1)","v":false},null,null,null,null,null,null,null,null,null,null,null,null,null,{"$f":"D8&\"@\"&E8","v":"@"},null,"各泳者のリストから選手名を選んでください。"]
[3,false,null,null,null,null,null,null,null,null,null,null,null,null,null,"@",null,"選択したい選手名が表示されない場合は、個人種目シートに泳者名を登録してください。"]
[4,false,null,null,null,null,null,null,null,null,null,null,null,null,null,"@"]
[5,false,null,null,null,null,null,null,null,null,null,null,null,null,null,"@"]
[6,false,null,null,null,null,null,null,null,null,null,null,null,null,null,"@"]
[7,false,null,null,null,null,null,null,null,null,null,null,null,null,null,"@"]
[8,false,null,null,null,null,null,null,null,null,null,null,null,null,null,"@"]
[9,false,null,null,null,null,null,null,null,null,null,null,null,null,null,"@"]
[10,false,null,null,null,null,null,null,null,null,null,null,null,null,null,"@"]
[11,false,null,null,null,null,null,null,null,null,null,null,null,null,null,"@"]
[12,false,null,null,null,null,null,null,null,null,null,null,null,null,null,"@"]
[13,false,null,null,null,null,null,null,null,null,null,null,null,null,null,"@"]
[14,false,null,null,null,null,null,null,null,null,null,null,null,null,null,"@"]
[15,false,null,null,null,null,null,null,null,null,null,null,null,null,null,"@"]
[16,false,null,null,null,null,null,null,null,null,null,null,null,null,null,"@"]
[17,false,null,null,null,null,null,null,null,null,null,null,null,null,null,"@"]
[18,false,null,null,null,null,null,null,null,null,null,null,null,null,null,"@"]
[19,false,null,null,null,null,null,null,null,null,null,null,null,null,null,"@"]
[20,false,null,null,null,null,null,null,null,null,null,null,null,null,null,"@"]
[21,false,null,null,null,null,null,null,null,null,null,null,null,null,null,"@"]
[22,false,null,null,null,null,null,null,null,null,null,null,null,null,null,"@"]
[23,false,null,null,null,null,null,null,null,null,null,null,null,null,null,"@"]
[24,false,null,null,null,null,null,null,null,null,null,null,null,null,null,"@"]
[25,false,null,null,null,null,null,null,null,null,null,null,null,null,null,"@"]
[26,false,null,null,null,null,null,null,null,null,null,null,null,null,null,"@"]
[27,false,null,null,null,null,null,null,null,null,null,null,null,null,null,"@"]
[28,false,null,null,null,null,null,null,null,null,null,null,null,null,null,"@"]
[29,false,null,null,null,null,null,null,null,null,null,null,null,null,null,"@"]
[30,false,null,null,null,null,null,null,null,null,null,null,null,null,null,"@"]
[31,false,null,null,null,null,null,null,null,null,null,null,null,null,null,"@"]
[32,false,null,null,null,null,null,null,null,null,null,null,null,null,null,"@"]
[33,false,null,null,null,null,null,null,null,null,null,null,null,null,null,"@"]
[34,false,null,null,null,null,null,null,null,null,null,null,null,null,null,"@"]
[35,false,null,null,null,null,null,null,null,null,null,null,null,null,null,"@"]
[36,false,null,null,null,null,null,null,null,null,null,null,null,null,null,"@"]
[37,false,null,null,null,null,null,null,null,null,null,null,null,null,null,"@"]
[38,false,null,null,null,null,null,null,null,null,null,null,null,null,null,"@"]
[39,false,null,null,null,null,null,null,null,null,null,null,null,null,null,"@"]
[40,false,null,null,null,null,null,null,null,null,null,null,null,null,null,"@"]
[41,false,null,null,null,null,null,null,null,null,null,null,null,null,null,"@"]
[42,false,null,null,null,null,null,null,null,null,null,null,null,null,null,"@"]
[43,false,null,null,null,null,null,null,null,null,null,null,null,null,null,"@"]
[44,false,null,null,null,null,null,null,null,null,null,null,null,null,null,"@"]
[45,false,null,null,null,null,null,null,null,null,null,null,null,null,null,"@"]
[46,false,null,null,null,null,null,null,null,null,null,null,null,null,null,"@"]
[47,false,null,null,null,null,null,null,null,null,null,null,null,null,null,"@"]
[48,false,null,null,null,null,null,null,null,null,null,null,null,null,null,"@"]
[49,false,null,null,null,null,null,null,null,null,null,null,null,null,null,"@"]
[50,false,null,null,null,null,null,null,null,null,null,null,null,null,null,"@"]
[51,false,null,null,null,null,null,null,null,null,null,null,null,null,null,"@"]
[52,false,null,null,null,null,null,null,null,null,null,null,null,null,null,"@"]
[53,false,null,null,null,null,null,null,null,null,null,null,null,null,null,"@"]
[54,false,null,null,null,null,null,null,null,null,null,null,null,null,null,"@"]
[55,false,null,null,null,null,null,null,null,null,null,null,null,null,null,"@"]
[56,false,null,null,null,null,null,null,null,null,null,null,null,null,null,"@"]
[57,false,null,null,null,null,null,null,null,null,null,null,null,null,null,"@"]
[58,false,null,null,null,null,null,null,null,null,null,null,null,null,null,"@"]
[59,false,null,null,null,null,null,null,null,null,null,null,null,null,null,"@"]
[60,false,null,null,null,null,null,null,null,null,null,null,null,null,null,"@"]
[61,false,null,null,null,null,null,null,null,null,null,null,null,null,null,"@"]
[62,false,null,null,null,null,null,null,null,null,null,null,null,null,null,"@"]
[63,false,null,null,null,null,null,null,null,null,null,null,null,null,null,"@"]
[64,false,null,null,null,null,null,null,null,null,null,null,null,null,null,"@"]
[65,false,null,null,null,null,null,null,null,null,null,null,null,null,null,"@"]
[66,{"$f":"IF($H$1=\"\",\"\",$H$1)","v":false},null,null,null,null,null,null,null,null,null,null,null,null,null,{"$f":"D72&\"@\"&E72","v":"@"}]
[67,false,null,null,null,null,null,null,null,null,null,null,null,null,null,"@"]
[68,false,null,null,null,null,null,null,null,null,null,null,null,null,null,"@"]
[69,false,null,null,null,null,null,null,null,null,null,null,null,null,null,"@"]
[70,false,null,null,null,null,null,null,null,null,null,null,null,null,null,"@"]
[71,false,null,null,null,null,null,null,null,null,null,null,null,null,null,"@"]
[72,false,null,null,null,null,null,null,null,null,null,null,null,null,null,"@"]
[73,false,null,null,null,null,null,null,null,null,null,null,null,null,null,"@"]
[74,false,null,null,null,null,null,null,null,null,null,null,null,null,null,"@"]
[75,false,null,null,null,null,null,null,null,null,null,null,null,null,null,"@"]
[76,false,null,null,null,null,null,null,null,null,null,null,null,null,null,"@"]
[77,false,null,null,null,null,null,null,null,null,null,null,null,null,null,"@"]
[78,false,null,null,null,null,null,null,null,null,null,null,null,null,null,"@"]
[79,false,null,null,null,null,null,null,null,null,null,null,null,null,null,"@"]
[80,false,null,null,null,null,null,null,null,null,null,null,null,null,null,"@"]
[81,false,null,null,null,null,null,null,null,null,null,null,null,null,null,"@"]
[82,false,null,null,null,null,null,null,null,null,null,null,null,null,null,"@"]
[83,false,null,null,null,null,null,null,null,null,null,null,null,null,null,"@"]
[84,false,null,null,null,null,null,null,null,null,null,null,null,null,null,"@"]
[85,false,null,null,null,null,null,null,null,null,null,null,null,null,null,"@"]
[86,false,null,null,null,null,null,null,null,null,null,null,null,null,null,"@"]
[87,false,null,null,null,null,null,null,null,null,null,null,null,null,null,"@"]
[88,false,null,null,null,null,null,null,null,null,null,null,null,null,null,"@"]
[89,false,null,null,null,null,null,null,null,null,null,null,null,null,null,"@"]
[90,false,null,null,null,null,null,null,null,null,null,null,null,null,null,"@"]
[91,false,null,null,null,null,null,null,null,null,null,null,null,null,null,"@"]
[92,false,null,null,null,null,null,null,null,null,null,null,null,null,null,"@"]
[93,false,null,null,null,null,null,null,null,null,null,null,null,null,null,"@"]
[94,false,null,null,null,null,null,null,null,null,null,null,null,null,null,"@"]
[95,false,null,null,null,null,null,null,null,null,null,null,null,null,null,"@"]
[96,false,null,null,null,null,null,null,null,null,null,null,null,null,null,"@"]
[97,false,null,null,null,null,null,null,null,null,null,null,null,null,null,"@"]
[98,false,null,null,null,null,null,null,null,null,null,null,null,null,null,"@"]
[99,false,null,null,null,null,null,null,null,null,null,null,null,null,null,"@"]
[100,false,null,null,null,null,null,null,null,null,null,null,null,null,null,"@"]
[101,false,null,null,null,null,null,null,null,null,null,null,null,null,null,"@"]
[102,false,null,null,null,null,null,null,null,null,null,null,null,null,null,"@"]
[103,false,null,null,null,null,null,null,null,null,null,null,null,null,null,"@"]
[104,false,null,null,null,null,null,null,null,null,null,null,null,null,null,"@"]
[105,false,null,null,null,null,null,null,null,null,null,null,null,null,null,"@"]
[106,false,null,null,null,null,null,null,null,null,null,null,null,null,null,"@"]
[107,false,null,null,null,null,null,null,null,null,null,null,null,null,null,"@"]
[108,false,null,null,null,null,null,null,null,null,null,null,null,null,null,"@"]
[109,false,null,null,null,null,null,null,null,null,null,null,null,null,null,"@"]
[110,false,null,null,null,null,null,null,null,null,null,null,null,null,null,"@"]
[111,false,null,null,null,null,null,null,null,null,null,null,null,null,null,"@"]
[112,false,null,null,null,null,null,null,null,null,null,null,null,null,null,"@"]
[113,false,null,null,null,null,null,null,null,null,null,null,null,null,null,"@"]
[114,false,null,null,null,null,null,null,null,null,null,null,null,null,null,"@"]
[115,false,null,null,null,null,null,null,null,null,null,null,null,null,null,"@"]
[116,false,null,null,null,null,null,null,null,null,null,null,null,null,null,"@"]
[117,false,null,null,null,null,null,null,null,null,null,null,null,null,null,"@"]
[118,false,null,null,null,null,null,null,null,null,null,null,null,null,null,"@"]
[119,false,null,null,null,null,null,null,null,null,null,null,null,null,null,"@"]
[120,false,null,null,null,null,null,null,null,null,null,null,null,null,null,"@"]
[121,false,null,null,null,null,null,null,null,null,null,null,null,null,null,"@"]
[122,false,null,null,null,null,null,null,null,null,null,null,null,null,null,"@"]
[123,false,null,null,null,null,null,null,null,null,null,null,null,null,null,"@"]
[124,false,null,null,null,null,null,null,null,null,null,null,null,null,null,"@"]
[125,false,null,null,null,null,null,null,null,null,null,null,null,null,null,"@"]
[126,false,null,null,null,null,null,null,null,null,null,null,null,null,null,"@"]
[127,false,null,null,null,null,null,null,null,null,null,null,null,null,null,"@"]
[128,false,null,null,null,null,null,null,null,null,null,null,null,null,null,"@"]
[129,false,null,null,null,null,null,null,null,null,null,null,null,null,null,"@"]
[130,{"$f":"IF($H$1=\"\",\"\",$H$1)","v":false},null,null,null,null,null,null,null,null,null,null,null,null,null,{"$f":"D136&\"@\"&E136","v":"@"}]
[131,false,null,null,null,null,null,null,null,null,null,null,null,null,null,"@"]
[132,false,null,null,null,null,null,null,null,null,null,null,null,null,null,"@"]
[133,false,null,null,null,null,null,null,null,null,null,null,null,null,null,"@"]
[134,false,null,null,null,null,null,null,null,null,null,null,null,null,null,"@"]
[135,false,null,null,null,null,null,null,null,null,null,null,null,null,null,"@"]
[136,false,null,null,null,null,null,null,null,null,null,null,null,null,null,"@"]
[137,false,null,null,null,null,null,null,null,null,null,null,null,null,null,"@"]
[138,false,null,null,null,null,null,null,null,null,null,null,null,null,null,"@"]
[139,false,null,null,null,null,null,null,null,null,null,null,null,null,null,"@"]
[140,false,null,null,null,null,null,null,null,null,null,null,null,null,null,"@"]
[141,false,null,null,null,null,null,null,null,null,null,null,null,null,null,"@"]
[142,false,null,null,null,null,null,null,null,null,null,null,null,null,null,"@"]
[143,false,null,null,null,null,null,null,null,null,null,null,null,null,null,"@"]
[144,false,null,null,null,null,null,null,null,null,null,null,null,null,null,"@"]
[145,false,null,null,null,null,null,null,null,null,null,null,null,null,null,"@"]
[146,false,null,null,null,null,null,null,null,null,null,null,null,null,null,"@"]
[147,false,null,null,null,null,null,null,null,null,null,null,null,null,null,"@"]
[148,false,null,null,null,null,null,null,null,null,null,null,null,null,null,"@"]
[149,false,null,null,null,null,null,null,null,null,null,null,null,null,null,"@"]
[150,false,null,null,null,null,null,null,null,null,null,null,null,null,null,"@"]
[151,false,null,null,null,null,null,null,null,null,null,null,null,null,null,"@"]
[152,false,null,null,null,null,null,null,null,null,null,null,null,null,null,"@"]
[153,false,null,null,null,null,null,null,null,null,null,null,null,null,null,"@"]
[154,false,null,null,null,null,null,null,null,null,null,null,null,null,null,"@"]
[155,false,null,null,null,null,null,null,null,null,null,null,null,null,null,"@"]
[156,false,null,null,null,null,null,null,null,null,null,null,null,null,null,"@"]
[157,false,null,null,null,null,null,null,null,null,null,null,null,null,null,"@"]
[158,false,null,null,null,null,null,null,null,null,null,null,null,null,null,"@"]
[159,false,null,null,null,null,null,null,null,null,null,null,null,null,null,"@"]
[160,false,null,null,null,null,null,null,null,null,null,null,null,null,null,"@"]
[161,false,null,null,null,null,null,null,null,null,null,null,null,null,null,"@"]
[162,false,null,null,null,null,null,null,null,null,null,null,null,null,null,"@"]
[163,false,null,null,null,null,null,null,null,null,null,null,null,null,null,"@"]
[164,false,null,null,null,null,null,null,null,null,null,null,null,null,null,"@"]
[165,false,null,null,null,null,null,null,null,null,null,null,null,null,null,"@"]
[166,false,null,null,null,null,null,null,null,null,null,null,null,null,null,"@"]
[167,false,null,null,null,null,null,null,null,null,null,null,null,null,null,"@"]
[168,false,null,null,null,null,null,null,null,null,null,null,null,null,null,"@"]
[169,false,null,null,null,null,null,null,null,null,null,null,null,null,null,"@"]
[170,false,null,null,null,null,null,null,null,null,null,null,null,null,null,"@"]
[171,false,null,null,null,null,null,null,null,null,null,null,null,null,null,"@"]
[172,false,null,null,null,null,null,null,null,null,null,null,null,null,null,"@"]
[173,false,null,null,null,null,null,null,null,null,null,null,null,null,null,"@"]
[174,false,null,null,null,null,null,null,null,null,null,null,null,null,null,"@"]
[175,false,null,null,null,null,null,null,null,null,null,null,null,null,null,"@"]
[176,false,null,null,null,null,null,null,null,null,null,null,null,null,null,"@"]
[177,false,null,null,null,null,null,null,null,null,null,null,null,null,null,"@"]
[178,false,null,null,null,null,null,null,null,null,null,null,null,null,null,"@"]
[179,false,null,null,null,null,null,null,null,null,null,null,null,null,null,"@"]
[180,false,null,null,null,null,null,null,null,null,null,null,null,null,null,"@"]
[181,false,null,null,null,null,null,null,null,null,null,null,null,null,null,"@"]
[182,false,null,null,null,null,null,null,null,null,null,null,null,null,null,"@"]
[183,false,null,null,null,null,null,null,null,null,null,null,null,null,null,"@"]
[184,false,null,null,null,null,null,null,null,null,null,null,null,null,null,"@"]
[185,false,null,null,null,null,null,null,null,null,null,null,null,null,null,"@"]
[186,false,null,null,null,null,null,null,null,null,null,null,null,null,null,"@"]
[187,false,null,null,null,null,null,null,null,null,null,null,null,null,null,"@"]
[188,false,null,null,null,null,null,null,null,null,null,null,null,null,null,"@"]
[189,false,null,null,null,null,null,null,null,null,null,null,null,null,null,"@"]
[190,false,null,null,null,null,null,null,null,null,null,null,null,null,null,"@"]
[191,false,null,null,null,null,null,null,null,null,null,null,null,null,null,"@"]
[192,false,null,null,null,null,null,null,null,null,null,null,null,null,null,"@"]
[193,false,null,null,null,null,null,null,null,null,null,null,null,null,null,"@"]
[194,{"$f":"IF($H$1=\"\",\"\",$H$1)","v":false},null,null,null,null,null,null,null,null,null,null,null,null,null,{"$f":"D200&\"@\"&E200","v":"@"}]
[195,{"$f":"IF($H$1=\"\",\"\",$H$1)","v":false},null,null,null,null,null,null,null,null,null,null,null,null,null,{"$f":"D201&\"@\"&E201","v":"@"}]
[196,{"$f":"IF($H$1=\"\",\"\",$H$1)","v":false},null,null,null,null,null,null,null,null,null,null,null,null,null,{"$f":"D202&\"@\"&E202","v":"@"}]
[197,{"$f":"IF($H$1=\"\",\"\",$H$1)","v":false},null,null,null,null,null,null,null,null,null,null,null,null,null,{"$f":"D203&\"@\"&E203","v":"@"}]

{"sheet":"リレー種目_WebSWMSYS","index":4,"n_rows":203,"n_cols":19,"rows_kept":203,"cut":false,"hidden":false,"merged":[[3,10,4,10],[3,11,4,11],[3,12,4,12],[3,13,4,13],[3,7,3,9],[0,7,0,9],[3,2,4,2],[3,4,3,6],[3,0,4,0],[3,1,4,1],[3,3,4,3],[0,4,0,5]]}
[null,"リレーエントリー用紙",null,"団体番号",{"$f":"IF(申込書_兵庫県!C7<>\"\",IF(申込書_兵庫県!M9=\"\",\"\",ASC(申込書_兵庫県!M9)),IF(申込書_コナミ!E8<>\"\",IF(申込書_コナミ!E6=\"\",\"\",ASC(申込書_コナミ!E6&申込書_コナミ!F6&申込書_コナミ!I6&申込書_コナミ!J6&申込書_コナミ!K6))))","v":false},null,"団体名",{"$f":"IF(申込書_兵庫県!C7<>\"\",IF(申込書_兵庫県!M7=\"\",申込書_兵庫県!C7,申込書_兵庫県!M7),IF(申込書_コナミ!E8<>\"\",IF(申込書_コナミ!E9=\"\",申込書_コナミ!E8,申込書_コナミ!E9)))","v":false},null,null,null,null,null,null,null,null,null,null,"：文字入力してください"]
[null,null,null,null,null,null,null,null,null,null,null,null,null,null,null,null,null,null,"：プルダウンから選んでください"]
[null,"※同一種目・同一年齢区分に複数チーム出場する場合はチーム区分を選んでください"]
[null,"チーム名","チーム\n区分","性別","エントリー",null,null,null,null,null,"第１泳者","第２泳者","第３泳者","第４泳者"]
[null,null,null,null,"種目","距離","合計年齢"]
["例","兵庫水泳の会","A","男性","フリーリレー","4×50m","120～159歳"]
[1,{"$f":"IF($H$1=\"\",\"\",$H$1)","v":false},null,null,null,null,null,null,null,null,null,null,null,null,null,{"$f":"D7&\"@\"&E7","v":"@"}]
[2,false,null,null,null,null,null,null,null,null,null,null,null,null,null,"@"]
[3,false,null,null,null,null,null,null,null,null,null,null,null,null,null,"@"]
[4,false,null,null,null,null,null,null,null,null,null,null,null,null,null,"@"]
[5,false,null,null,null,null,null,null,null,null,null,null,null,null,null,"@"]
[6,false,null,null,null,null,null,null,null,null,null,null,null,null,null,"@"]
[7,false,null,null,null,null,null,null,null,null,null,null,null,null,null,"@"]
[8,false,null,null,null,null,null,null,null,null,null,null,null,null,null,"@"]
[9,false,null,null,null,null,null,null,null,null,null,null,null,null,null,"@"]
[10,false,null,null,null,null,null,null,null,null,null,null,null,null,null,"@"]
[11,false,null,null,null,null,null,null,null,null,null,null,null,null,null,"@"]
[12,false,null,null,null,null,null,null,null,null,null,null,null,null,null,"@"]
[13,false,null,null,null,null,null,null,null,null,null,null,null,null,null,"@"]
[14,false,null,null,null,null,null,null,null,null,null,null,null,null,null,"@"]
[15,false,null,null,null,null,null,null,null,null,null,null,null,null,null,"@"]
[16,false,null,null,null,null,null,null,null,null,null,null,null,null,null,"@"]
[17,false,null,null,null,null,null,null,null,null,null,null,null,null,null,"@"]
[18,false,null,null,null,null,null,null,null,null,null,null,null,null,null,"@"]
[19,false,null,null,null,null,null,null,null,null,null,null,null,null,null,"@"]
[20,false,null,null,null,null,null,null,null,null,null,null,null,null,null,"@"]
[21,false,null,null,null,null,null,null,null,null,null,null,null,null,null,"@"]
[22,false,null,null,null,null,null,null,null,null,null,null,null,null,null,"@"]
[23,false,null,null,null,null,null,null,null,null,null,null,null,null,null,"@"]
[24,false,null,null,null,null,null,null,null,null,null,null,null,null,null,"@"]
[25,false,null,null,null,null,null,null,null,null,null,null,null,null,null,"@"]
[26,false,null,null,null,null,null,null,null,null,null,null,null,null,null,"@"]
[27,false,null,null,null,null,null,null,null,null,null,null,null,null,null,"@"]
[28,false,null,null,null,null,null,null,null,null,null,null,null,null,null,"@"]
[29,false,null,null,null,null,null,null,null,null,null,null,null,null,null,"@"]
[30,false,null,null,null,null,null,null,null,null,null,null,null,null,null,"@"]
[31,false,null,null,null,null,null,null,null,null,null,null,null,null,null,"@"]
[32,false,null,null,null,null,null,null,null,null,null,null,null,null,null,"@"]
[33,{"$f":"IF($H$1=\"\",\"\",$H$1)","v":false},null,null,null,null,null,null,null,null,null,null,null,null,null,{"$f":"D39&\"@\"&E39","v":"@"}]
[34,false,null,null,null,null,null,null,null,null,null,null,null,null,null,"@"]
[35,false,null,null,null,null,null,null,null,null,null,null,null,null,null,"@"]
[36,false,null,null,null,null,null,null,null,null,null,null,null,null,null,"@"]
[37,false,null,null,null,null,null,null,null,null,null,null,null,null,null,"@"]
[38,false,null,null,null,null,null,null,null,null,null,null,null,null,null,"@"]
[39,false,null,null,null,null,null,null,null,null,null,null,null,null,null,"@"]
[40,false,null,null,null,null,null,null,null,null,null,null,null,null,null,"@"]
[41,false,null,null,null,null,null,null,null,null,null,null,null,null,null,"@"]
[42,false,null,null,null,null,null,null,null,null,null,null,null,null,null,"@"]
[43,false,null,null,null,null,null,null,null,null,null,null,null,null,null,"@"]
[44,false,null,null,null,null,null,null,null,null,null,null,null,null,null,"@"]
[45,false,null,null,null,null,null,null,null,null,null,null,null,null,null,"@"]
[46,false,null,null,null,null,null,null,null,null,null,null,null,null,null,"@"]
[47,false,null,null,null,null,null,null,null,null,null,null,null,null,null,"@"]
[48,false,null,null,null,null,null,null,null,null,null,null,null,null,null,"@"]
[49,false,null,null,null,null,null,null,null,null,null,null,null,null,null,"@"]
[50,false,null,null,null,null,null,null,null,null,null,null,null,null,null,"@"]
[51,false,null,null,null,null,null,null,null,null,null,null,null,null,null,"@"]
[52,false,null,null,null,null,null,null,null,null,null,null,null,null,null,"@"]
[53,false,null,null,null,null,null,null,null,null,null,null,null,null,null,"@"]
[54,false,null,null,null,null,null,null,null,null,null,null,null,null,null,"@"]
[55,false,null,null,null,null,null,null,null,null,null,null,null,null,null,"@"]
[56,false,null,null,null,null,null,null,null,null,null,null,null,null,null,"@"]
[57,false,null,null,null,null,null,null,null,null,null,null,null,null,null,"@"]
[58,false,null,null,null,null,null,null,null,null,null,null,null,null,null,"@"]
[59,false,null,null,null,null,null,null,null,null,null,null,null,null,null,"@"]
[60,false,null,null,null,null,null,null,null,null,null,null,null,null,null,"@"]
[61,false,null,null,null,null,null,null,null,null,null,null,null,null,null,"@"]
[62,false,null,null,null,null,null,null,null,null,null,null,null,null,null,"@"]
[63,false,null,null,null,null,null,null,null,null,null,null,null,null,null,"@"]
[64,false,null,null,null,null,null,null,null,null,null,null,null,null,null,"@"]
[65,{"$f":"IF($H$1=\"\",\"\",$H$1)","v":false},null,null,null,null,null,null,null,null,null,null,null,null,null,{"$f":"D71&\"@\"&E71","v":"@"}]
[66,false,null,null,null,null,null,null,null,null,null,null,null,null,null,"@"]
[67,false,null,null,null,null,null,null,null,null,null,null,null,null,null,"@"]
[68,false,null,null,null,null,null,null,null,null,null,null,null,null,null,"@"]
[69,false,null,null,null,null,null,null,null,null,null,null,null,null,null,"@"]
[70,false,null,null,null,null,null,null,null,null,null,null,null,null,null,"@"]
[71,false,null,null,null,null,null,null,null,null,null,null,null,null,null,"@"]
[72,false,null,null,null,null,null,null,null,null,null,null,null,null,null,"@"]
[73,false,null,null,null,null,null,null,null,null,null,null,null,null,null,"@"]
[74,false,null,null,null,null,null,null,null,null,null,null,null,null,null,"@"]
[75,false,null,null,null,null,null,null,null,null,null,null,null,null,null,"@"]
[76,false,null,null,null,null,null,null,null,null,null,null,null,null,null,"@"]
[77,false,null,null,null,null,null,null,null,null,null,null,null,null,null,"@"]
[78,false,null,null,null,null,null,null,null,null,null,null,null,null,null,"@"]
[79,false,null,null,null,null,null,null,null,null,null,null,null,null,null,"@"]
[80,false,null,null,null,null,null,null,null,null,null,null,null,null,null,"@"]
[81,false,null,null,null,null,null,null,null,null,null,null,null,null,null,"@"]
[82,false,null,null,null,null,null,null,null,null,null,null,null,null,null,"@"]
[83,false,null,null,null,null,null,null,null,null,null,null,null,null,null,"@"]
[84,false,null,null,null,null,null,null,null,null,null,null,null,null,null,"@"]
[85,false,null,null,null,null,null,null,null,null,null,null,null,null,null,"@"]
[86,false,null,null,null,null,null,null,null,null,null,null,null,null,null,"@"]
[87,false,null,null,null,null,null,null,null,null,null,null,null,null,null,"@"]
[88,false,null,null,null,null,null,null,null,null,null,null,null,null,null,"@"]
[89,false,null,null,null,null,null,null,null,null,null,null,null,null,null,"@"]
[90,false,null,null,null,null,null,null,null,null,null,null,null,null,null,"@"]
[91,false,null,null,null,null,null,null,null,null,null,null,null,null,null,"@"]
[92,false,null,null,null,null,null,null,null,null,null,null,null,null,null,"@"]
[93,false,null,null,null,null,null,null,null,null,null,null,null,null,null,"@"]
[94,false,null,null,null,null,null,null,null,null,null,null,null,null,null,"@"]
[95,false,null,null,null,null,null,null,null,null,null,null,null,null,null,"@"]
[96,false,null,null,null,null,null,null,null,null,null,null,null,null,null,"@"]
[97,{"$f":"IF($H$1=\"\",\"\",$H$1)","v":false},null,null,null,null,null,null,null,null,null,null,null,null,null,{"$f":"D103&\"@\"&E103","v":"@"}]
[98,false,null,null,null,null,null,null,null,null,null,null,null,null,null,"@"]
[99,false,null,null,null,null,null,null,null,null,null,null,null,null,null,"@"]
[100,false,null,null,null,null,null,null,null,null,null,null,null,null,null,"@"]
[101,false,null,null,null,null,null,null,null,null,null,null,null,null,null,"@"]
[102,false,null,null,null,null,null,null,null,null,null,null,null,null,null,"@"]
[103,false,null,null,null,null,null,null,null,null,null,null,null,null,null,"@"]
[104,false,null,null,null,null,null,null,null,null,null,null,null,null,null,"@"]
[105,false,null,null,null,null,null,null,null,null,null,null,null,null,null,"@"]
[106,false,null,null,null,null,null,null,null,null,null,null,null,null,null,"@"]
[107,false,null,null,null,null,null,null,null,null,null,null,null,null,null,"@"]
[108,false,null,null,null,null,null,null,null,null,null,null,null,null,null,"@"]
[109,false,null,null,null,null,null,null,null,null,null,null,null,null,null,"@"]
[110,false,null,null,null,null,null,null,null,null,null,null,null,null,null,"@"]
[111,false,null,null,null,null,null,null,null,null,null,null,null,null,null,"@"]
[112,false,null,null,null,null,null,null,null,null,null,null,null,null,null,"@"]
[113,false,null,null,null,null,null,null,null,null,null,null,null,null,null,"@"]
[114,false,null,null,null,null,null,null,null,null,null,null,null,null,null,"@"]
[115,false,null,null,null,null,null,null,null,null,null,null,null,null,null,"@"]
[116,false,null,null,null,null,null,null,null,null,null,null,null,null,null,"@"]
[117,false,null,null,null,null,null,null,null,null,null,null,null,null,null,"@"]
[118,false,null,null,null,null,null,null,null,null,null,null,null,null,null,"@"]
[119,false,null,null,null,null,null,null,null,null,null,null,null,null,null,"@"]
[120,false,null,null,null,null,null,null,null,null,null,null,null,null,null,"@"]
[121,false,null,null,null,null,null,null,null,null,null,null,null,null,null,"@"]
[122,false,null,null,null,null,null,null,null,null,null,null,null,null,null,"@"]
[123,false,null,null,null,null,null,null,null,null,null,null,null,null,null,"@"]
[124,false,null,null,null,null,null,null,null,null,null,null,null,null,null,"@"]
[125,false,null,null,null,null,null,null,null,null,null,null,null,null,null,"@"]
[126,false,null,null,null,null,null,null,null,null,null,null,null,null,null,"@"]
[127,false,null,null,null,null,null,null,null,null,null,null,null,null,null,"@"]
[128,false,null,null,null,null,null,null,null,null,null,null,null,null,null,"@"]
[129,{"$f":"IF($H$1=\"\",\"\",$H$1)","v":false},null,null,null,null,null,null,null,null,null,null,null,null,null,{"$f":"D135&\"@\"&E135","v":"@"}]
[130,false,null,null,null,null,null,null,null,null,null,null,null,null,null,"@"]
[131,false,null,null,null,null,null,null,null,null,null,null,null,null,null,"@"]
[132,false,null,null,null,null,null,null,null,null,null,null,null,null,null,"@"]
[133,false,null,null,null,null,null,null,null,null,null,null,null,null,null,"@"]
[134,false,null,null,null,null,null,null,null,null,null,null,null,null,null,"@"]
[135,false,null,null,null,null,null,null,null,null,null,null,null,null,null,"@"]
[136,false,null,null,null,null,null,null,null,null,null,null,null,null,null,"@"]
[137,false,null,null,null,null,null,null,null,null,null,null,null,null,null,"@"]
[138,false,null,null,null,null,null,null,null,null,null,null,null,null,null,"@"]
[139,false,null,null,null,null,null,null,null,null,null,null,null,null,null,"@"]
[140,false,null,null,null,null,null,null,null,null,null,null,null,null,null,"@"]
[141,false,null,null,null,null,null,null,null,null,null,null,null,null,null,"@"]
[142,false,null,null,null,null,null,null,null,null,null,null,null,null,null,"@"]
[143,false,null,null,null,null,null,null,null,null,null,null,null,null,null,"@"]
[144,false,null,null,null,null,null,null,null,null,null,null,null,null,null,"@"]
[145,false,null,null,null,null,null,null,null,null,null,null,null,null,null,"@"]
[146,false,null,null,null,null,null,null,null,null,null,null,null,null,null,"@"]
[147,false,null,null,null,null,null,null,null,null,null,null,null,null,null,"@"]
[148,false,null,null,null,null,null,null,null,null,null,null,null,null,null,"@"]
[149,false,null,null,null,null,null,null,null,null,null,null,null,null,null,"@"]
[150,false,null,null,null,null,null,null,null,null,null,null,null,null,null,"@"]
[151,false,null,null,null,null,null,null,null,null,null,null,null,null,null,"@"]
[152,false,null,null,null,null,null,null,null,null,null,null,null,null,null,"@"]
[153,false,null,null,null,null,null,null,null,null,null,null,null,null,null,"@"]
[154,false,null,null,null,null,null,null,null,null,null,null,null,null,null,"@"]
[155,false,null,null,null,null,null,null,null,null,null,null,null,null,null,"@"]
[156,false,null,null,null,null,null,null,null,null,null,null,null,null,null,"@"]
[157,false,null,null,null,null,null,null,null,null,null,null,null,null,null,"@"]
[158,false,null,null,null,null,null,null,null,null,null,null,null,null,null,"@"]
[159,false,null,null,null,null,null,null,null,null,null,null,null,null,null,"@"]
[160,false,null,null,null,null,null,null,null,null,null,null,null,null,null,"@"]
[161,{"$f":"IF($H$1=\"\",\"\",$H$1)","v":false},null,null,null,null,null,null,null,null,null,null,null,null,null,{"$f":"D167&\"@\"&E167","v":"@"}]
[162,false,null,null,null,null,null,null,null,null,null,null,null,null,null,"@"]
[163,false,null,null,null,null,null,null,null,null,null,null,null,null,null,"@"]
[164,false,null,null,null,null,null,null,null,null,null,null,null,null,null,"@"]
[165,false,null,null,null,null,null,null,null,null,null,null,null,null,null,"@"]
[166,false,null,null,null,null,null,null,null,null,null,null,null,null,null,"@"]
[167,false,null,null,null,null,null,null,null,null,null,null,null,null,null,"@"]
[168,false,null,null,null,null,null,null,null,null,null,null,null,null,null,"@"]
[169,false,null,null,null,null,null,null,null,null,null,null,null,null,null,"@"]
[170,false,null,null,null,null,null,null,null,null,null,null,null,null,null,"@"]
[171,false,null,null,null,null,null,null,null,null,null,null,null,null,null,"@"]
[172,false,null,null,null,null,null,null,null,null,null,null,null,null,null,"@"]
[173,false,null,null,null,null,null,null,null,null,null,null,null,null,null,"@"]
[174,false,null,null,null,null,null,null,null,null,null,null,null,null,null,"@"]
[175,false,null,null,null,null,null,null,null,null,null,null,null,null,null,"@"]
[176,false,null,null,null,null,null,null,null,null,null,null,null,null,null,"@"]
[177,false,null,null,null,null,null,null,null,null,null,null,null,null,null,"@"]
[178,false,null,null,null,null,null,null,null,null,null,null,null,null,null,"@"]
[179,false,null,null,null,null,null,null,null,null,null,null,null,null,null,"@"]
[180,false,null,null,null,null,null,null,null,null,null,null,null,null,null,"@"]
[181,false,null,null,null,null,null,null,null,null,null,null,null,null,null,"@"]
[182,false,null,null,null,null,null,null,null,null,null,null,null,null,null,"@"]
[183,false,null,null,null,null,null,null,null,null,null,null,null,null,null,"@"]
[184,false,null,null,null,null,null,null,null,null,null,null,null,null,null,"@"]
[185,false,null,null,null,null,null,null,null,null,null,null,null,null,null,"@"]
[186,false,null,null,null,null,null,null,null,null,null,null,null,null,null,"@"]
[187,false,null,null,null,null,null,null,null,null,null,null,null,null,null,"@"]
[188,false,null,null,null,null,null,null,null,null,null,null,null,null,null,"@"]
[189,false,null,null,null,null,null,null,null,null,null,null,null,null,null,"@"]
[190,false,null,null,null,null,null,null,null,null,null,null,null,null,null,"@"]
[191,false,null,null,null,null,null,null,null,null,null,null,null,null,null,"@"]
[192,false,null,null,null,null,null,null,null,null,null,null,null,null,null,"@"]
[193,false,null,null,null,null,null,null,null,null,null,null,null,null,null,"@"]
[194,false,null,null,null,null,null,null,null,null,null,null,null,null,null,"@"]
[195,false,null,null,null,null,null,null,null,null,null,null,null,null,null,"@"]
[196,false,null,null,null,null,null,null,null,null,null,null,null,null,null,"@"]
[197,false,null,null,null,null,null,null,null,null,null,null,null,null,null,"@"]

{"sheet":"コード一覧","index":5,"n_rows":20,"n_cols":25,"rows_kept":20,"cut":false,"hidden":true,"merged":[]}
["個人性別",null,"学種",null,"個人種目",null,"個人距離",null,null,"級",null,"リレー性別",null,"リレー種目",null,"リレー距離",null,null,"クラスコード",null,"社員区分","サイズ","チーム区分",null,"選手名"]
["男性",1,"高校",4,"自由形",1,"50m","0050",1,"1級",1,"男性",1,"フリーリレー",6,"4×50m","0200",4,"119歳以下",1,"正社員","S","A",null,"小山美夏"]
["女性",2,"大学",5,"背泳ぎ",2,"100m","0100",2,"2級",2,"女性",2,"メドレーリレー",7,null,null,null,"120～159歳",2,"契約社員","M","B",null,"内田友実"]
[null,null,"専門",6,"平泳ぎ",3,"200m","0200",3,"3級",3,"混合",3,null,null,null,null,null,"160～199歳",3,"アルバイト","L","C",null,"小山路子"]
[null,null,"一般",7,"バタフライ",4,null,null,null,"4級",4,null,null,null,null,null,null,null,"200～239歳",4,null,"2L","D",null,"小山晃"]
[null,null,null,null,"個人メドレー",5,null,null,null,"5級",5,null,null,null,null,null,null,null,"240～279歳",5,null,null,"E",null,"小山輝恒"]
[null,null,null,null,null,null,null,null,null,null,null,null,null,null,null,null,null,null,"280～319歳",6,null,null,"F"]
[null,null,null,null,null,null,null,null,null,null,null,null,null,null,null,null,null,null,"320～359歳",7]
[null,null,null,null,null,null,null,null,null,null,null,null,null,null,null,null,null,null,"360歳以上",8]
[null,null,null,null,null,null,null,null,4]
[null,null,"幼児",1,null,null,"200m","0200",null,null,null,null,null,null,null,"200m","0200"]
[null,null,"小学",2,null,null,"25m","0025",null,null,null,null,null,null,null,"100m","0100",null,"119歳以下",1]
[null,null,"中学",3,null,null,"50m","0050",null,null,null,null,null,null,null,"200m","0200",null,"120～159歳",2]
[null,null,"高校",4,null,null,"100m","0100",null,null,null,null,null,null,null,"400m","0400",null,"160～199歳",3]
[null,null,"大学",5,null,null,"200m","0200",null,null,null,null,null,null,null,"800m","0800",null,"200～239歳",4]
[null,null,"専門",6,null,null,"400m","0400",null,null,null,null,null,null,null,null,null,null,"240～279歳",5]
[null,null,"一般",7,null,null,"800m","0800",null,null,null,null,null,null,null,null,null,null,"280～319歳",6]
[null,null,null,null,null,null,"1500m","1500",null,null,null,null,null,null,null,null,null,null,"320～359歳",7]
[null,null,null,null,null,null,null,null,null,null,null,null,null,null,null,null,null,null,"320～359歳",7]
[null,null,null,null,null,null,null,null,null,null,null,null,null,null,null,null,null,null,"360歳以上",8]

{"sheet":"中間シート（個人）","index":6,"n_rows":100,"n_cols":15,"rows_kept":100,"cut":false,"hidden":true,"merged":[]}
["年齢基準日","2021-12-31"]
[]
[]
[]
["氏名",null,null,null,null,null,"年齢","クラス","種目","距離","エントリータイム"]
[{"$f":"IF(LEN(個人種目!B6)=1,個人種目!B6&\" \",個人種目!B6)","v":0},{"$f":"IF(LEN(個人種目!C6)=1,\" \"&個人種目!C6,個人種目!C6)","v":0},{"$f":"DBCS(IF(LEN(A6)+LEN(B6)<5,A6&\" \"&B6,A6&B6))","v":"０　０"},{"$f":"IF(C5=C6,\"○\",\"×\")","v":"×"},{"$f":"IF(D6=\"×\",1,E5+1)","v":1},{"$f":"C6&\"@\"&E6","v":"０　０@1"},{"$f":"ROUNDDOWN(YEARFRAC(DATE(個人種目!G6,個人種目!H6,個人種目!I6),$B$1,3),0)","v":{"$error":"#NUM!"}},{"$f":"IF(G6<20,11,ROUNDDOWN(G6/5,0)+7)","v":{"$error":"#NUM!"}},{"$f":"VLOOKUP(個人種目!M6,コード一覧!$E$2:$F$6,2,FALSE)","v":{"$error":"#N/A"}},{"$f":"VLOOKUP(個人種目!N6,コード一覧!$G$2:$I$4,2,FALSE)","v":{"$error":"#N/A"}},{"$f":"IF(LEN(個人種目!O6)=0,\"00\",IF(LEN(個人種目!O6)=1,\"0\"&個人種目!O6,個人種目!O6))","v":"00"},{"$f":"IF(LEN(個人種目!P6)=0,\"00\",IF(LEN(個人種目!P6)=1,\"0\"&個人種目!P6,個人種目!P6))","v":"00"},{"$f":"IF(LEN(個人種目!Q6)=0,\"00\",IF(LEN(個人種目!Q6)=1,\"0\"&個人種目!Q6,個人種目!Q6))","v":"00"},null,{"$f":"DATEDIF(DATE(個人種目!G6,個人種目!H6,個人種目!I6),$B$1+1,\"Y\")","v":{"$error":"#NUM!"}}]
[{"$f":"IF(LEN(個人種目!B7)=1,個人種目!B7&\" \",個人種目!B7)","v":0},{"$f":"IF(LEN(個人種目!C7)=1,\" \"&個人種目!C7,個人種目!C7)","v":0},{"$f":"DBCS(IF(LEN(A7)+LEN(B7)<5,A7&\" \"&B7,A7&B7))","v":"０　０"},{"$f":"IF(C6=C7,\"○\",\"×\")","v":"○"},{"$f":"IF(D7=\"×\",1,E6+1)","v":2},{"$f":"C7&\"@\"&E7","v":"０　０@2"},{"$f":"ROUNDDOWN(YEARFRAC(DATE(個人種目!G7,個人種目!H7,個人種目!I7),$B$1,3),0)","v":{"$error":"#NUM!"}},{"$f":"IF(G7<20,11,ROUNDDOWN(G7/5,0)+7)","v":{"$error":"#NUM!"}},{"$f":"VLOOKUP(個人種目!M7,コード一覧!$E$2:$F$6,2,FALSE)","v":{"$error":"#N/A"}},{"$f":"VLOOKUP(個人種目!N7,コード一覧!$G$2:$I$4,2,FALSE)","v":{"$error":"#N/A"}},{"$f":"IF(LEN(個人種目!O7)=0,\"00\",IF(LEN(個人種目!O7)=1,\"0\"&個人種目!O7,個人種目!O7))","v":"00"},{"$f":"IF(LEN(個人種目!P7)=0,\"00\",IF(LEN(個人種目!P7)=1,\"0\"&個人種目!P7,個人種目!P7))","v":"00"},{"$f":"IF(LEN(個人種目!Q7)=0,\"00\",IF(LEN(個人種目!Q7)=1,\"0\"&個人種目!Q7,個人種目!Q7))","v":"00"},null,{"$f":"DATEDIF(DATE(個人種目!G7,個人種目!H7,個人種目!I7),$B$1+1,\"Y\")","v":{"$error":"#NUM!"}}]
[{"$f":"IF(LEN(個人種目!B8)=1,個人種目!B8&\" \",個人種目!B8)","v":0},{"$f":"IF(LEN(個人種目!C8)=1,\" \"&個人種目!C8,個人種目!C8)","v":0},"０　０","○",3,"０　０@3",{"$f":"ROUNDDOWN(YEARFRAC(DATE(個人種目!G8,個人種目!H8,個人種目!I8),$B$1,3),0)","v":{"$error":"#NUM!"}},{"$error":"#NUM!"},{"$f":"VLOOKUP(個人種目!M8,コード一覧!$E$2:$F$6,2,FALSE)","v":{"$error":"#N/A"}},{"$f":"VLOOKUP(個人種目!N8,コード一覧!$G$2:$I$4,2,FALSE)","v":{"$error":"#N/A"}},{"$f":"IF(LEN(個人種目!O8)=0,\"00\",IF(LEN(個人種目!O8)=1,\"0\"&個人種目!O8,個人種目!O8))","v":"00"},{"$f":"IF(LEN(個人種目!P8)=0,\"00\",IF(LEN(個人種目!P8)=1,\"0\"&個人種目!P8,個人種目!P8))","v":"00"},{"$f":"IF(LEN(個人種目!Q8)=0,\"00\",IF(LEN(個人種目!Q8)=1,\"0\"&個人種目!Q8,個人種目!Q8))","v":"00"},null,{"$f":"DATEDIF(DATE(個人種目!G8,個人種目!H8,個人種目!I8),$B$1+1,\"Y\")","v":{"$error":"#NUM!"}}]
[{"$f":"IF(LEN(個人種目!B9)=1,個人種目!B9&\" \",個人種目!B9)","v":0},{"$f":"IF(LEN(個人種目!C9)=1,\" \"&個人種目!C9,個人種目!C9)","v":0},"０　０","○",4,"０　０@4",{"$f":"ROUNDDOWN(YEARFRAC(DATE(個人種目!G9,個人種目!H9,個人種目!I9),$B$1,3),0)","v":{"$error":"#NUM!"}},{"$error":"#NUM!"},{"$f":"VLOOKUP(個人種目!M9,コード一覧!$E$2:$F$6,2,FALSE)","v":{"$error":"#N/A"}},{"$f":"VLOOKUP(個人種目!N9,コード一覧!$G$2:$I$4,2,FALSE)","v":{"$error":"#N/A"}},{"$f":"IF(LEN(個人種目!O9)=0,\"00\",IF(LEN(個人種目!O9)=1,\"0\"&個人種目!O9,個人種目!O9))","v":"00"},{"$f":"IF(LEN(個人種目!P9)=0,\"00\",IF(LEN(個人種目!P9)=1,\"0\"&個人種目!P9,個人種目!P9))","v":"00"},{"$f":"IF(LEN(個人種目!Q9)=0,\"00\",IF(LEN(個人種目!Q9)=1,\"0\"&個人種目!Q9,個人種目!Q9))","v":"00"},null,{"$f":"DATEDIF(DATE(個人種目!G9,個人種目!H9,個人種目!I9),$B$1+1,\"Y\")","v":{"$error":"#NUM!"}}]
[{"$f":"IF(LEN(個人種目!B10)=1,個人種目!B10&\" \",個人種目!B10)","v":0},{"$f":"IF(LEN(個人種目!C10)=1,\" \"&個人種目!C10,個人種目!C10)","v":0},"０　０","○",5,"０　０@5",{"$f":"ROUNDDOWN(YEARFRAC(DATE(個人種目!G10,個人種目!H10,個人種目!I10),$B$1,3),0)","v":{"$error":"#NUM!"}},{"$error":"#NUM!"},{"$f":"VLOOKUP(個人種目!M10,コード一覧!$E$2:$F$6,2,FALSE)","v":{"$error":"#N/A"}},{"$f":"VLOOKUP(個人種目!N10,コード一覧!$G$2:$I$4,2,FALSE)","v":{"$error":"#N/A"}},{"$f":"IF(LEN(個人種目!O10)=0,\"00\",IF(LEN(個人種目!O10)=1,\"0\"&個人種目!O10,個人種目!O10))","v":"00"},{"$f":"IF(LEN(個人種目!P10)=0,\"00\",IF(LEN(個人種目!P10)=1,\"0\"&個人種目!P10,個人種目!P10))","v":"00"},{"$f":"IF(LEN(個人種目!Q10)=0,\"00\",IF(LEN(個人種目!Q10)=1,\"0\"&個人種目!Q10,個人種目!Q10))","v":"00"},null,{"$f":"DATEDIF(DATE(個人種目!G10,個人種目!H10,個人種目!I10),$B$1+1,\"Y\")","v":{"$error":"#NUM!"}}]
[{"$f":"IF(LEN(個人種目!B11)=1,個人種目!B11&\" \",個人種目!B11)","v":0},{"$f":"IF(LEN(個人種目!C11)=1,\" \"&個人種目!C11,個人種目!C11)","v":0},"０　０","○",6,"０　０@6",{"$f":"ROUNDDOWN(YEARFRAC(DATE(個人種目!G11,個人種目!H11,個人種目!I11),$B$1,3),0)","v":{"$error":"#NUM!"}},{"$error":"#NUM!"},{"$f":"VLOOKUP(個人種目!M11,コード一覧!$E$2:$F$6,2,FALSE)","v":{"$error":"#N/A"}},{"$f":"VLOOKUP(個人種目!N11,コード一覧!$G$2:$I$4,2,FALSE)","v":{"$error":"#N/A"}},{"$f":"IF(LEN(個人種目!O11)=0,\"00\",IF(LEN(個人種目!O11)=1,\"0\"&個人種目!O11,個人種目!O11))","v":"00"},{"$f":"IF(LEN(個人種目!P11)=0,\"00\",IF(LEN(個人種目!P11)=1,\"0\"&個人種目!P11,個人種目!P11))","v":"00"},{"$f":"IF(LEN(個人種目!Q11)=0,\"00\",IF(LEN(個人種目!Q11)=1,\"0\"&個人種目!Q11,個人種目!Q11))","v":"00"},null,{"$f":"DATEDIF(DATE(個人種目!G11,個人種目!H11,個人種目!I11),$B$1+1,\"Y\")","v":{"$error":"#NUM!"}}]
[{"$f":"IF(LEN(個人種目!B12)=1,個人種目!B12&\" \",個人種目!B12)","v":0},{"$f":"IF(LEN(個人種目!C12)=1,\" \"&個人種目!C12,個人種目!C12)","v":0},"０　０","○",7,"０　０@7",{"$f":"ROUNDDOWN(YEARFRAC(DATE(個人種目!G12,個人種目!H12,個人種目!I12),$B$1,3),0)","v":{"$error":"#NUM!"}},{"$error":"#NUM!"},{"$f":"VLOOKUP(個人種目!M12,コード一覧!$E$2:$F$6,2,FALSE)","v":{"$error":"#N/A"}},{"$f":"VLOOKUP(個人種目!N12,コード一覧!$G$2:$I$4,2,FALSE)","v":{"$error":"#N/A"}},{"$f":"IF(LEN(個人種目!O12)=0,\"00\",IF(LEN(個人種目!O12)=1,\"0\"&個人種目!O12,個人種目!O12))","v":"00"},{"$f":"IF(LEN(個人種目!P12)=0,\"00\",IF(LEN(個人種目!P12)=1,\"0\"&個人種目!P12,個人種目!P12))","v":"00"},{"$f":"IF(LEN(個人種目!Q12)=0,\"00\",IF(LEN(個人種目!Q12)=1,\"0\"&個人種目!Q12,個人種目!Q12))","v":"00"},null,{"$f":"DATEDIF(DATE(個人種目!G12,個人種目!H12,個人種目!I12),$B$1+1,\"Y\")","v":{"$error":"#NUM!"}}]
[{"$f":"IF(LEN(個人種目!B13)=1,個人種目!B13&\" \",個人種目!B13)","v":0},{"$f":"IF(LEN(個人種目!C13)=1,\" \"&個人種目!C13,個人種目!C13)","v":0},"０　０","○",8,"０　０@8",{"$f":"ROUNDDOWN(YEARFRAC(DATE(個人種目!G13,個人種目!H13,個人種目!I13),$B$1,3),0)","v":{"$error":"#NUM!"}},{"$error":"#NUM!"},{"$f":"VLOOKUP(個人種目!M13,コード一覧!$E$2:$F$6,2,FALSE)","v":{"$error":"#N/A"}},{"$f":"VLOOKUP(個人種目!N13,コード一覧!$G$2:$I$4,2,FALSE)","v":{"$error":"#N/A"}},{"$f":"IF(LEN(個人種目!O13)=0,\"00\",IF(LEN(個人種目!O13)=1,\"0\"&個人種目!O13,個人種目!O13))","v":"00"},{"$f":"IF(LEN(個人種目!P13)=0,\"00\",IF(LEN(個人種目!P13)=1,\"0\"&個人種目!P13,個人種目!P13))","v":"00"},{"$f":"IF(LEN(個人種目!Q13)=0,\"00\",IF(LEN(個人種目!Q13)=1,\"0\"&個人種目!Q13,個人種目!Q13))","v":"00"},null,{"$f":"DATEDIF(DATE(個人種目!G13,個人種目!H13,個人種目!I13),$B$1+1,\"Y\")","v":{"$error":"#NUM!"}}]
[{"$f":"IF(LEN(個人種目!B14)=1,個人種目!B14&\" \",個人種目!B14)","v":0},{"$f":"IF(LEN(個人種目!C14)=1,\" \"&個人種目!C14,個人種目!C14)","v":0},"０　０","○",9,"０　０@9",{"$f":"ROUNDDOWN(YEARFRAC(DATE(個人種目!G14,個人種目!H14,個人種目!I14),$B$1,3),0)","v":{"$error":"#NUM!"}},{"$error":"#NUM!"},{"$f":"VLOOKUP(個人種目!M14,コード一覧!$E$2:$F$6,2,FALSE)","v":{"$error":"#N/A"}},{"$f":"VLOOKUP(個人種目!N14,コード一覧!$G$2:$I$4,2,FALSE)","v":{"$error":"#N/A"}},{"$f":"IF(LEN(個人種目!O14)=0,\"00\",IF(LEN(個人種目!O14)=1,\"0\"&個人種目!O14,個人種目!O14))","v":"00"},{"$f":"IF(LEN(個人種目!P14)=0,\"00\",IF(LEN(個人種目!P14)=1,\"0\"&個人種目!P14,個人種目!P14))","v":"00"},{"$f":"IF(LEN(個人種目!Q14)=0,\"00\",IF(LEN(個人種目!Q14)=1,\"0\"&個人種目!Q14,個人種目!Q14))","v":"00"},null,{"$f":"DATEDIF(DATE(個人種目!G14,個人種目!H14,個人種目!I14),$B$1+1,\"Y\")","v":{"$error":"#NUM!"}}]
[{"$f":"IF(LEN(個人種目!B15)=1,個人種目!B15&\" \",個人種目!B15)","v":0},{"$f":"IF(LEN(個人種目!C15)=1,\" \"&個人種目!C15,個人種目!C15)","v":0},"０　０","○",10,"０　０@10",{"$f":"ROUNDDOWN(YEARFRAC(DATE(個人種目!G15,個人種目!H15,個人種目!I15),$B$1,3),0)","v":{"$error":"#NUM!"}},{"$error":"#NUM!"},{"$f":"VLOOKUP(個人種目!M15,コード一覧!$E$2:$F$6,2,FALSE)","v":{"$error":"#N/A"}},{"$f":"VLOOKUP(個人種目!N15,コード一覧!$G$2:$I$4,2,FALSE)","v":{"$error":"#N/A"}},{"$f":"IF(LEN(個人種目!O15)=0,\"00\",IF(LEN(個人種目!O15)=1,\"0\"&個人種目!O15,個人種目!O15))","v":"00"},{"$f":"IF(LEN(個人種目!P15)=0,\"00\",IF(LEN(個人種目!P15)=1,\"0\"&個人種目!P15,個人種目!P15))","v":"00"},{"$f":"IF(LEN(個人種目!Q15)=0,\"00\",IF(LEN(個人種目!Q15)=1,\"0\"&個人種目!Q15,個人種目!Q15))","v":"00"},null,{"$f":"DATEDIF(DATE(個人種目!G15,個人種目!H15,個人種目!I15),$B$1+1,\"Y\")","v":{"$error":"#NUM!"}}]
[{"$f":"IF(LEN(個人種目!B16)=1,個人種目!B16&\" \",個人種目!B16)","v":0},{"$f":"IF(LEN(個人種目!C16)=1,\" \"&個人種目!C16,個人種目!C16)","v":0},"０　０","○",11,"０　０@11",{"$f":"ROUNDDOWN(YEARFRAC(DATE(個人種目!G16,個人種目!H16,個人種目!I16),$B$1,3),0)","v":{"$error":"#NUM!"}},{"$error":"#NUM!"},{"$f":"VLOOKUP(個人種目!M16,コード一覧!$E$2:$F$6,2,FALSE)","v":{"$error":"#N/A"}},{"$f":"VLOOKUP(個人種目!N16,コード一覧!$G$2:$I$4,2,FALSE)","v":{"$error":"#N/A"}},{"$f":"IF(LEN(個人種目!O16)=0,\"00\",IF(LEN(個人種目!O16)=1,\"0\"&個人種目!O16,個人種目!O16))","v":"00"},{"$f":"IF(LEN(個人種目!P16)=0,\"00\",IF(LEN(個人種目!P16)=1,\"0\"&個人種目!P16,個人種目!P16))","v":"00"},{"$f":"IF(LEN(個人種目!Q16)=0,\"00\",IF(LEN(個人種目!Q16)=1,\"0\"&個人種目!Q16,個人種目!Q16))","v":"00"},null,{"$f":"DATEDIF(DATE(個人種目!G16,個人種目!H16,個人種目!I16),$B$1+1,\"Y\")","v":{"$error":"#NUM!"}}]
[{"$f":"IF(LEN(個人種目!B17)=1,個人種目!B17&\" \",個人種目!B17)","v":0},{"$f":"IF(LEN(個人種目!C17)=1,\" \"&個人種目!C17,個人種目!C17)","v":0},"０　０","○",12,"０　０@12",{"$f":"ROUNDDOWN(YEARFRAC(DATE(個人種目!G17,個人種目!H17,個人種目!I17),$B$1,3),0)","v":{"$error":"#NUM!"}},{"$error":"#NUM!"},{"$f":"VLOOKUP(個人種目!M17,コード一覧!$E$2:$F$6,2,FALSE)","v":{"$error":"#N/A"}},{"$f":"VLOOKUP(個人種目!N17,コード一覧!$G$2:$I$4,2,FALSE)","v":{"$error":"#N/A"}},{"$f":"IF(LEN(個人種目!O17)=0,\"00\",IF(LEN(個人種目!O17)=1,\"0\"&個人種目!O17,個人種目!O17))","v":"00"},{"$f":"IF(LEN(個人種目!P17)=0,\"00\",IF(LEN(個人種目!P17)=1,\"0\"&個人種目!P17,個人種目!P17))","v":"00"},{"$f":"IF(LEN(個人種目!Q17)=0,\"00\",IF(LEN(個人種目!Q17)=1,\"0\"&個人種目!Q17,個人種目!Q17))","v":"00"},null,{"$f":"DATEDIF(DATE(個人種目!G17,個人種目!H17,個人種目!I17),$B$1+1,\"Y\")","v":{"$error":"#NUM!"}}]
[{"$f":"IF(LEN(個人種目!B18)=1,個人種目!B18&\" \",個人種目!B18)","v":0},{"$f":"IF(LEN(個人種目!C18)=1,\" \"&個人種目!C18,個人種目!C18)","v":0},"０　０","○",13,"０　０@13",{"$f":"ROUNDDOWN(YEARFRAC(DATE(個人種目!G18,個人種目!H18,個人種目!I18),$B$1,3),0)","v":{"$error":"#NUM!"}},{"$error":"#NUM!"},{"$f":"VLOOKUP(個人種目!M18,コード一覧!$E$2:$F$6,2,FALSE)","v":{"$error":"#N/A"}},{"$f":"VLOOKUP(個人種目!N18,コード一覧!$G$2:$I$4,2,FALSE)","v":{"$error":"#N/A"}},{"$f":"IF(LEN(個人種目!O18)=0,\"00\",IF(LEN(個人種目!O18)=1,\"0\"&個人種目!O18,個人種目!O18))","v":"00"},{"$f":"IF(LEN(個人種目!P18)=0,\"00\",IF(LEN(個人種目!P18)=1,\"0\"&個人種目!P18,個人種目!P18))","v":"00"},{"$f":"IF(LEN(個人種目!Q18)=0,\"00\",IF(LEN(個人種目!Q18)=1,\"0\"&個人種目!Q18,個人種目!Q18))","v":"00"},null,{"$f":"DATEDIF(DATE(個人種目!G18,個人種目!H18,個人種目!I18),$B$1+1,\"Y\")","v":{"$error":"#NUM!"}}]
[{"$f":"IF(LEN(個人種目!B19)=1,個人種目!B19&\" \",個人種目!B19)","v":0},{"$f":"IF(LEN(個人種目!C19)=1,\" \"&個人種目!C19,個人種目!C19)","v":0},"０　０","○",14,"０　０@14",{"$f":"ROUNDDOWN(YEARFRAC(DATE(個人種目!G19,個人種目!H19,個人種目!I19),$B$1,3),0)","v":{"$error":"#NUM!"}},{"$error":"#NUM!"},{"$f":"VLOOKUP(個人種目!M19,コード一覧!$E$2:$F$6,2,FALSE)","v":{"$error":"#N/A"}},{"$f":"VLOOKUP(個人種目!N19,コード一覧!$G$2:$I$4,2,FALSE)","v":{"$error":"#N/A"}},{"$f":"IF(LEN(個人種目!O19)=0,\"00\",IF(LEN(個人種目!O19)=1,\"0\"&個人種目!O19,個人種目!O19))","v":"00"},{"$f":"IF(LEN(個人種目!P19)=0,\"00\",IF(LEN(個人種目!P19)=1,\"0\"&個人種目!P19,個人種目!P19))","v":"00"},{"$f":"IF(LEN(個人種目!Q19)=0,\"00\",IF(LEN(個人種目!Q19)=1,\"0\"&個人種目!Q19,個人種目!Q19))","v":"00"},null,{"$f":"DATEDIF(DATE(個人種目!G19,個人種目!H19,個人種目!I19),$B$1+1,\"Y\")","v":{"$error":"#NUM!"}}]
[{"$f":"IF(LEN(個人種目!B20)=1,個人種目!B20&\" \",個人種目!B20)","v":0},{"$f":"IF(LEN(個人種目!C20)=1,\" \"&個人種目!C20,個人種目!C20)","v":0},"０　０","○",15,"０　０@15",{"$f":"ROUNDDOWN(YEARFRAC(DATE(個人種目!G20,個人種目!H20,個人種目!I20),$B$1,3),0)","v":{"$error":"#NUM!"}},{"$error":"#NUM!"},{"$f":"VLOOKUP(個人種目!M20,コード一覧!$E$2:$F$6,2,FALSE)","v":{"$error":"#N/A"}},{"$f":"VLOOKUP(個人種目!N20,コード一覧!$G$2:$I$4,2,FALSE)","v":{"$error":"#N/A"}},{"$f":"IF(LEN(個人種目!O20)=0,\"00\",IF(LEN(個人種目!O20)=1,\"0\"&個人種目!O20,個人種目!O20))","v":"00"},{"$f":"IF(LEN(個人種目!P20)=0,\"00\",IF(LEN(個人種目!P20)=1,\"0\"&個人種目!P20,個人種目!P20))","v":"00"},{"$f":"IF(LEN(個人種目!Q20)=0,\"00\",IF(LEN(個人種目!Q20)=1,\"0\"&個人種目!Q20,個人種目!Q20))","v":"00"},null,{"$f":"DATEDIF(DATE(個人種目!G20,個人種目!H20,個人種目!I20),$B$1+1,\"Y\")","v":{"$error":"#NUM!"}}]
[{"$f":"IF(LEN(個人種目!B21)=1,個人種目!B21&\" \",個人種目!B21)","v":0},{"$f":"IF(LEN(個人種目!C21)=1,\" \"&個人種目!C21,個人種目!C21)","v":0},"０　０","○",16,"０　０@16",{"$f":"ROUNDDOWN(YEARFRAC(DATE(個人種目!G21,個人種目!H21,個人種目!I21),$B$1,3),0)","v":{"$error":"#NUM!"}},{"$error":"#NUM!"},{"$f":"VLOOKUP(個人種目!M21,コード一覧!$E$2:$F$6,2,FALSE)","v":{"$error":"#N/A"}},{"$f":"VLOOKUP(個人種目!N21,コード一覧!$G$2:$I$4,2,FALSE)","v":{"$error":"#N/A"}},{"$f":"IF(LEN(個人種目!O21)=0,\"00\",IF(LEN(個人種目!O21)=1,\"0\"&個人種目!O21,個人種目!O21))","v":"00"},{"$f":"IF(LEN(個人種目!P21)=0,\"00\",IF(LEN(個人種目!P21)=1,\"0\"&個人種目!P21,個人種目!P21))","v":"00"},{"$f":"IF(LEN(個人種目!Q21)=0,\"00\",IF(LEN(個人種目!Q21)=1,\"0\"&個人種目!Q21,個人種目!Q21))","v":"00"},null,{"$f":"DATEDIF(DATE(個人種目!G21,個人種目!H21,個人種目!I21),$B$1+1,\"Y\")","v":{"$error":"#NUM!"}}]
[{"$f":"IF(LEN(個人種目!B22)=1,個人種目!B22&\" \",個人種目!B22)","v":0},{"$f":"IF(LEN(個人種目!C22)=1,\" \"&個人種目!C22,個人種目!C22)","v":0},"０　０","○",17,"０　０@17",{"$f":"ROUNDDOWN(YEARFRAC(DATE(個人種目!G22,個人種目!H22,個人種目!I22),$B$1,3),0)","v":{"$error":"#NUM!"}},{"$error":"#NUM!"},{"$f":"VLOOKUP(個人種目!M22,コード一覧!$E$2:$F$6,2,FALSE)","v":{"$error":"#N/A"}},{"$f":"VLOOKUP(個人種目!N22,コード一覧!$G$2:$I$4,2,FALSE)","v":{"$error":"#N/A"}},{"$f":"IF(LEN(個人種目!O22)=0,\"00\",IF(LEN(個人種目!O22)=1,\"0\"&個人種目!O22,個人種目!O22))","v":"00"},{"$f":"IF(LEN(個人種目!P22)=0,\"00\",IF(LEN(個人種目!P22)=1,\"0\"&個人種目!P22,個人種目!P22))","v":"00"},{"$f":"IF(LEN(個人種目!Q22)=0,\"00\",IF(LEN(個人種目!Q22)=1,\"0\"&個人種目!Q22,個人種目!Q22))","v":"00"},null,{"$f":"DATEDIF(DATE(個人種目!G22,個人種目!H22,個人種目!I22),$B$1+1,\"Y\")","v":{"$error":"#NUM!"}}]
[{"$f":"IF(LEN(個人種目!B23)=1,個人種目!B23&\" \",個人種目!B23)","v":0},{"$f":"IF(LEN(個人種目!C23)=1,\" \"&個人種目!C23,個人種目!C23)","v":0},"０　０","○",18,"０　０@18",{"$f":"ROUNDDOWN(YEARFRAC(DATE(個人種目!G23,個人種目!H23,個人種目!I23),$B$1,3),0)","v":{"$error":"#NUM!"}},{"$error":"#NUM!"},{"$f":"VLOOKUP(個人種目!M23,コード一覧!$E$2:$F$6,2,FALSE)","v":{"$error":"#N/A"}},{"$f":"VLOOKUP(個人種目!N23,コード一覧!$G$2:$I$4,2,FALSE)","v":{"$error":"#N/A"}},{"$f":"IF(LEN(個人種目!O23)=0,\"00\",IF(LEN(個人種目!O23)=1,\"0\"&個人種目!O23,個人種目!O23))","v":"00"},{"$f":"IF(LEN(個人種目!P23)=0,\"00\",IF(LEN(個人種目!P23)=1,\"0\"&個人種目!P23,個人種目!P23))","v":"00"},{"$f":"IF(LEN(個人種目!Q23)=0,\"00\",IF(LEN(個人種目!Q23)=1,\"0\"&個人種目!Q23,個人種目!Q23))","v":"00"},null,{"$f":"DATEDIF(DATE(個人種目!G23,個人種目!H23,個人種目!I23),$B$1+1,\"Y\")","v":{"$error":"#NUM!"}}]
[{"$f":"IF(LEN(個人種目!B24)=1,個人種目!B24&\" \",個人種目!B24)","v":0},{"$f":"IF(LEN(個人種目!C24)=1,\" \"&個人種目!C24,個人種目!C24)","v":0},"０　０","○",19,"０　０@19",{"$f":"ROUNDDOWN(YEARFRAC(DATE(個人種目!G24,個人種目!H24,個人種目!I24),$B$1,3),0)","v":{"$error":"#NUM!"}},{"$error":"#NUM!"},{"$f":"VLOOKUP(個人種目!M24,コード一覧!$E$2:$F$6,2,FALSE)","v":{"$error":"#N/A"}},{"$f":"VLOOKUP(個人種目!N24,コード一覧!$G$2:$I$4,2,FALSE)","v":{"$error":"#N/A"}},{"$f":"IF(LEN(個人種目!O24)=0,\"00\",IF(LEN(個人種目!O24)=1,\"0\"&個人種目!O24,個人種目!O24))","v":"00"},{"$f":"IF(LEN(個人種目!P24)=0,\"00\",IF(LEN(個人種目!P24)=1,\"0\"&個人種目!P24,個人種目!P24))","v":"00"},{"$f":"IF(LEN(個人種目!Q24)=0,\"00\",IF(LEN(個人種目!Q24)=1,\"0\"&個人種目!Q24,個人種目!Q24))","v":"00"},null,{"$f":"DATEDIF(DATE(個人種目!G24,個人種目!H24,個人種目!I24),$B$1+1,\"Y\")","v":{"$error":"#NUM!"}}]
[{"$f":"IF(LEN(個人種目!B25)=1,個人種目!B25&\" \",個人種目!B25)","v":0},{"$f":"IF(LEN(個人種目!C25)=1,\" \"&個人種目!C25,個人種目!C25)","v":0},"０　０","○",20,"０　０@20",{"$f":"ROUNDDOWN(YEARFRAC(DATE(個人種目!G25,個人種目!H25,個人種目!I25),$B$1,3),0)","v":{"$error":"#NUM!"}},{"$error":"#NUM!"},{"$f":"VLOOKUP(個人種目!M25,コード一覧!$E$2:$F$6,2,FALSE)","v":{"$error":"#N/A"}},{"$f":"VLOOKUP(個人種目!N25,コード一覧!$G$2:$I$4,2,FALSE)","v":{"$error":"#N/A"}},{"$f":"IF(LEN(個人種目!O25)=0,\"00\",IF(LEN(個人種目!O25)=1,\"0\"&個人種目!O25,個人種目!O25))","v":"00"},{"$f":"IF(LEN(個人種目!P25)=0,\"00\",IF(LEN(個人種目!P25)=1,\"0\"&個人種目!P25,個人種目!P25))","v":"00"},{"$f":"IF(LEN(個人種目!Q25)=0,\"00\",IF(LEN(個人種目!Q25)=1,\"0\"&個人種目!Q25,個人種目!Q25))","v":"00"},null,{"$f":"DATEDIF(DATE(個人種目!G25,個人種目!H25,個人種目!I25),$B$1+1,\"Y\")","v":{"$error":"#NUM!"}}]
[{"$f":"IF(LEN(個人種目!B26)=1,個人種目!B26&\" \",個人種目!B26)","v":0},{"$f":"IF(LEN(個人種目!C26)=1,\" \"&個人種目!C26,個人種目!C26)","v":0},"０　０","○",21,"０　０@21",{"$f":"ROUNDDOWN(YEARFRAC(DATE(個人種目!G26,個人種目!H26,個人種目!I26),$B$1,3),0)","v":{"$error":"#NUM!"}},{"$error":"#NUM!"},{"$f":"VLOOKUP(個人種目!M26,コード一覧!$E$2:$F$6,2,FALSE)","v":{"$error":"#N/A"}},{"$f":"VLOOKUP(個人種目!N26,コード一覧!$G$2:$I$4,2,FALSE)","v":{"$error":"#N/A"}},{"$f":"IF(LEN(個人種目!O26)=0,\"00\",IF(LEN(個人種目!O26)=1,\"0\"&個人種目!O26,個人種目!O26))","v":"00"},{"$f":"IF(LEN(個人種目!P26)=0,\"00\",IF(LEN(個人種目!P26)=1,\"0\"&個人種目!P26,個人種目!P26))","v":"00"},{"$f":"IF(LEN(個人種目!Q26)=0,\"00\",IF(LEN(個人種目!Q26)=1,\"0\"&個人種目!Q26,個人種目!Q26))","v":"00"},null,{"$f":"DATEDIF(DATE(個人種目!G26,個人種目!H26,個人種目!I26),$B$1+1,\"Y\")","v":{"$error":"#NUM!"}}]
[{"$f":"IF(LEN(個人種目!B27)=1,個人種目!B27&\" \",個人種目!B27)","v":0},{"$f":"IF(LEN(個人種目!C27)=1,\" \"&個人種目!C27,個人種目!C27)","v":0},"０　０","○",22,"０　０@22",{"$f":"ROUNDDOWN(YEARFRAC(DATE(個人種目!G27,個人種目!H27,個人種目!I27),$B$1,3),0)","v":{"$error":"#NUM!"}},{"$error":"#NUM!"},{"$f":"VLOOKUP(個人種目!M27,コード一覧!$E$2:$F$6,2,FALSE)","v":{"$error":"#N/A"}},{"$f":"VLOOKUP(個人種目!N27,コード一覧!$G$2:$I$4,2,FALSE)","v":{"$error":"#N/A"}},{"$f":"IF(LEN(個人種目!O27)=0,\"00\",IF(LEN(個人種目!O27)=1,\"0\"&個人種目!O27,個人種目!O27))","v":"00"},{"$f":"IF(LEN(個人種目!P27)=0,\"00\",IF(LEN(個人種目!P27)=1,\"0\"&個人種目!P27,個人種目!P27))","v":"00"},{"$f":"IF(LEN(個人種目!Q27)=0,\"00\",IF(LEN(個人種目!Q27)=1,\"0\"&個人種目!Q27,個人種目!Q27))","v":"00"},null,{"$f":"DATEDIF(DATE(個人種目!G27,個人種目!H27,個人種目!I27),$B$1+1,\"Y\")","v":{"$error":"#NUM!"}}]
[{"$f":"IF(LEN(個人種目!B28)=1,個人種目!B28&\" \",個人種目!B28)","v":0},{"$f":"IF(LEN(個人種目!C28)=1,\" \"&個人種目!C28,個人種目!C28)","v":0},"０　０","○",23,"０　０@23",{"$f":"ROUNDDOWN(YEARFRAC(DATE(個人種目!G28,個人種目!H28,個人種目!I28),$B$1,3),0)","v":{"$error":"#NUM!"}},{"$error":"#NUM!"},{"$f":"VLOOKUP(個人種目!M28,コード一覧!$E$2:$F$6,2,FALSE)","v":{"$error":"#N/A"}},{"$f":"VLOOKUP(個人種目!N28,コード一覧!$G$2:$I$4,2,FALSE)","v":{"$error":"#N/A"}},{"$f":"IF(LEN(個人種目!O28)=0,\"00\",IF(LEN(個人種目!O28)=1,\"0\"&個人種目!O28,個人種目!O28))","v":"00"},{"$f":"IF(LEN(個人種目!P28)=0,\"00\",IF(LEN(個人種目!P28)=1,\"0\"&個人種目!P28,個人種目!P28))","v":"00"},{"$f":"IF(LEN(個人種目!Q28)=0,\"00\",IF(LEN(個人種目!Q28)=1,\"0\"&個人種目!Q28,個人種目!Q28))","v":"00"},null,{"$f":"DATEDIF(DATE(個人種目!G28,個人種目!H28,個人種目!I28),$B$1+1,\"Y\")","v":{"$error":"#NUM!"}}]
[{"$f":"IF(LEN(個人種目!B29)=1,個人種目!B29&\" \",個人種目!B29)","v":0},{"$f":"IF(LEN(個人種目!C29)=1,\" \"&個人種目!C29,個人種目!C29)","v":0},"０　０","○",24,"０　０@24",{"$f":"ROUNDDOWN(YEARFRAC(DATE(個人種目!G29,個人種目!H29,個人種目!I29),$B$1,3),0)","v":{"$error":"#NUM!"}},{"$error":"#NUM!"},{"$f":"VLOOKUP(個人種目!M29,コード一覧!$E$2:$F$6,2,FALSE)","v":{"$error":"#N/A"}},{"$f":"VLOOKUP(個人種目!N29,コード一覧!$G$2:$I$4,2,FALSE)","v":{"$error":"#N/A"}},{"$f":"IF(LEN(個人種目!O29)=0,\"00\",IF(LEN(個人種目!O29)=1,\"0\"&個人種目!O29,個人種目!O29))","v":"00"},{"$f":"IF(LEN(個人種目!P29)=0,\"00\",IF(LEN(個人種目!P29)=1,\"0\"&個人種目!P29,個人種目!P29))","v":"00"},{"$f":"IF(LEN(個人種目!Q29)=0,\"00\",IF(LEN(個人種目!Q29)=1,\"0\"&個人種目!Q29,個人種目!Q29))","v":"00"},null,{"$f":"DATEDIF(DATE(個人種目!G29,個人種目!H29,個人種目!I29),$B$1+1,\"Y\")","v":{"$error":"#NUM!"}}]
[{"$f":"IF(LEN(個人種目!B30)=1,個人種目!B30&\" \",個人種目!B30)","v":0},{"$f":"IF(LEN(個人種目!C30)=1,\" \"&個人種目!C30,個人種目!C30)","v":0},"０　０","○",25,"０　０@25",{"$f":"ROUNDDOWN(YEARFRAC(DATE(個人種目!G30,個人種目!H30,個人種目!I30),$B$1,3),0)","v":{"$error":"#NUM!"}},{"$error":"#NUM!"},{"$f":"VLOOKUP(個人種目!M30,コード一覧!$E$2:$F$6,2,FALSE)","v":{"$error":"#N/A"}},{"$f":"VLOOKUP(個人種目!N30,コード一覧!$G$2:$I$4,2,FALSE)","v":{"$error":"#N/A"}},{"$f":"IF(LEN(個人種目!O30)=0,\"00\",IF(LEN(個人種目!O30)=1,\"0\"&個人種目!O30,個人種目!O30))","v":"00"},{"$f":"IF(LEN(個人種目!P30)=0,\"00\",IF(LEN(個人種目!P30)=1,\"0\"&個人種目!P30,個人種目!P30))","v":"00"},{"$f":"IF(LEN(個人種目!Q30)=0,\"00\",IF(LEN(個人種目!Q30)=1,\"0\"&個人種目!Q30,個人種目!Q30))","v":"00"},null,{"$f":"DATEDIF(DATE(個人種目!G30,個人種目!H30,個人種目!I30),$B$1+1,\"Y\")","v":{"$error":"#NUM!"}}]
[{"$f":"IF(LEN(個人種目!B31)=1,個人種目!B31&\" \",個人種目!B31)","v":0},{"$f":"IF(LEN(個人種目!C31)=1,\" \"&個人種目!C31,個人種目!C31)","v":0},"０　０","○",26,"０　０@26",{"$f":"ROUNDDOWN(YEARFRAC(DATE(個人種目!G31,個人種目!H31,個人種目!I31),$B$1,3),0)","v":{"$error":"#NUM!"}},{"$error":"#NUM!"},{"$f":"VLOOKUP(個人種目!M31,コード一覧!$E$2:$F$6,2,FALSE)","v":{"$error":"#N/A"}},{"$f":"VLOOKUP(個人種目!N31,コード一覧!$G$2:$I$4,2,FALSE)","v":{"$error":"#N/A"}},{"$f":"IF(LEN(個人種目!O31)=0,\"00\",IF(LEN(個人種目!O31)=1,\"0\"&個人種目!O31,個人種目!O31))","v":"00"},{"$f":"IF(LEN(個人種目!P31)=0,\"00\",IF(LEN(個人種目!P31)=1,\"0\"&個人種目!P31,個人種目!P31))","v":"00"},{"$f":"IF(LEN(個人種目!Q31)=0,\"00\",IF(LEN(個人種目!Q31)=1,\"0\"&個人種目!Q31,個人種目!Q31))","v":"00"},null,{"$f":"DATEDIF(DATE(個人種目!G31,個人種目!H31,個人種目!I31),$B$1+1,\"Y\")","v":{"$error":"#NUM!"}}]
[{"$f":"IF(LEN(個人種目!B32)=1,個人種目!B32&\" \",個人種目!B32)","v":0},{"$f":"IF(LEN(個人種目!C32)=1,\" \"&個人種目!C32,個人種目!C32)","v":0},"０　０","○",27,"０　０@27",{"$f":"ROUNDDOWN(YEARFRAC(DATE(個人種目!G32,個人種目!H32,個人種目!I32),$B$1,3),0)","v":{"$error":"#NUM!"}},{"$error":"#NUM!"},{"$f":"VLOOKUP(個人種目!M32,コード一覧!$E$2:$F$6,2,FALSE)","v":{"$error":"#N/A"}},{"$f":"VLOOKUP(個人種目!N32,コード一覧!$G$2:$I$4,2,FALSE)","v":{"$error":"#N/A"}},{"$f":"IF(LEN(個人種目!O32)=0,\"00\",IF(LEN(個人種目!O32)=1,\"0\"&個人種目!O32,個人種目!O32))","v":"00"},{"$f":"IF(LEN(個人種目!P32)=0,\"00\",IF(LEN(個人種目!P32)=1,\"0\"&個人種目!P32,個人種目!P32))","v":"00"},{"$f":"IF(LEN(個人種目!Q32)=0,\"00\",IF(LEN(個人種目!Q32)=1,\"0\"&個人種目!Q32,個人種目!Q32))","v":"00"},null,{"$f":"DATEDIF(DATE(個人種目!G32,個人種目!H32,個人種目!I32),$B$1+1,\"Y\")","v":{"$error":"#NUM!"}}]
[{"$f":"IF(LEN(個人種目!B33)=1,個人種目!B33&\" \",個人種目!B33)","v":0},{"$f":"IF(LEN(個人種目!C33)=1,\" \"&個人種目!C33,個人種目!C33)","v":0},"０　０","○",28,"０　０@28",{"$f":"ROUNDDOWN(YEARFRAC(DATE(個人種目!G33,個人種目!H33,個人種目!I33),$B$1,3),0)","v":{"$error":"#NUM!"}},{"$error":"#NUM!"},{"$f":"VLOOKUP(個人種目!M33,コード一覧!$E$2:$F$6,2,FALSE)","v":{"$error":"#N/A"}},{"$f":"VLOOKUP(個人種目!N33,コード一覧!$G$2:$I$4,2,FALSE)","v":{"$error":"#N/A"}},{"$f":"IF(LEN(個人種目!O33)=0,\"00\",IF(LEN(個人種目!O33)=1,\"0\"&個人種目!O33,個人種目!O33))","v":"00"},{"$f":"IF(LEN(個人種目!P33)=0,\"00\",IF(LEN(個人種目!P33)=1,\"0\"&個人種目!P33,個人種目!P33))","v":"00"},{"$f":"IF(LEN(個人種目!Q33)=0,\"00\",IF(LEN(個人種目!Q33)=1,\"0\"&個人種目!Q33,個人種目!Q33))","v":"00"},null,{"$f":"DATEDIF(DATE(個人種目!G33,個人種目!H33,個人種目!I33),$B$1+1,\"Y\")","v":{"$error":"#NUM!"}}]
[{"$f":"IF(LEN(個人種目!B34)=1,個人種目!B34&\" \",個人種目!B34)","v":0},{"$f":"IF(LEN(個人種目!C34)=1,\" \"&個人種目!C34,個人種目!C34)","v":0},"０　０","○",29,"０　０@29",{"$f":"ROUNDDOWN(YEARFRAC(DATE(個人種目!G34,個人種目!H34,個人種目!I34),$B$1,3),0)","v":{"$error":"#NUM!"}},{"$error":"#NUM!"},{"$f":"VLOOKUP(個人種目!M34,コード一覧!$E$2:$F$6,2,FALSE)","v":{"$error":"#N/A"}},{"$f":"VLOOKUP(個人種目!N34,コード一覧!$G$2:$I$4,2,FALSE)","v":{"$error":"#N/A"}},{"$f":"IF(LEN(個人種目!O34)=0,\"00\",IF(LEN(個人種目!O34)=1,\"0\"&個人種目!O34,個人種目!O34))","v":"00"},{"$f":"IF(LEN(個人種目!P34)=0,\"00\",IF(LEN(個人種目!P34)=1,\"0\"&個人種目!P34,個人種目!P34))","v":"00"},{"$f":"IF(LEN(個人種目!Q34)=0,\"00\",IF(LEN(個人種目!Q34)=1,\"0\"&個人種目!Q34,個人種目!Q34))","v":"00"},null,{"$f":"DATEDIF(DATE(個人種目!G34,個人種目!H34,個人種目!I34),$B$1+1,\"Y\")","v":{"$error":"#NUM!"}}]
[{"$f":"IF(LEN(個人種目!B35)=1,個人種目!B35&\" \",個人種目!B35)","v":0},{"$f":"IF(LEN(個人種目!C35)=1,\" \"&個人種目!C35,個人種目!C35)","v":0},"０　０","○",30,"０　０@30",{"$f":"ROUNDDOWN(YEARFRAC(DATE(個人種目!G35,個人種目!H35,個人種目!I35),$B$1,3),0)","v":{"$error":"#NUM!"}},{"$error":"#NUM!"},{"$f":"VLOOKUP(個人種目!M35,コード一覧!$E$2:$F$6,2,FALSE)","v":{"$error":"#N/A"}},{"$f":"VLOOKUP(個人種目!N35,コード一覧!$G$2:$I$4,2,FALSE)","v":{"$error":"#N/A"}},{"$f":"IF(LEN(個人種目!O35)=0,\"00\",IF(LEN(個人種目!O35)=1,\"0\"&個人種目!O35,個人種目!O35))","v":"00"},{"$f":"IF(LEN(個人種目!P35)=0,\"00\",IF(LEN(個人種目!P35)=1,\"0\"&個人種目!P35,個人種目!P35))","v":"00"},{"$f":"IF(LEN(個人種目!Q35)=0,\"00\",IF(LEN(個人種目!Q35)=1,\"0\"&個人種目!Q35,個人種目!Q35))","v":"00"},null,{"$f":"DATEDIF(DATE(個人種目!G35,個人種目!H35,個人種目!I35),$B$1+1,\"Y\")","v":{"$error":"#NUM!"}}]
[{"$f":"IF(LEN(個人種目!B36)=1,個人種目!B36&\" \",個人種目!B36)","v":0},{"$f":"IF(LEN(個人種目!C36)=1,\" \"&個人種目!C36,個人種目!C36)","v":0},"０　０","○",31,"０　０@31",{"$f":"ROUNDDOWN(YEARFRAC(DATE(個人種目!G36,個人種目!H36,個人種目!I36),$B$1,3),0)","v":{"$error":"#NUM!"}},{"$error":"#NUM!"},{"$f":"VLOOKUP(個人種目!M36,コード一覧!$E$2:$F$6,2,FALSE)","v":{"$error":"#N/A"}},{"$f":"VLOOKUP(個人種目!N36,コード一覧!$G$2:$I$4,2,FALSE)","v":{"$error":"#N/A"}},{"$f":"IF(LEN(個人種目!O36)=0,\"00\",IF(LEN(個人種目!O36)=1,\"0\"&個人種目!O36,個人種目!O36))","v":"00"},{"$f":"IF(LEN(個人種目!P36)=0,\"00\",IF(LEN(個人種目!P36)=1,\"0\"&個人種目!P36,個人種目!P36))","v":"00"},{"$f":"IF(LEN(個人種目!Q36)=0,\"00\",IF(LEN(個人種目!Q36)=1,\"0\"&個人種目!Q36,個人種目!Q36))","v":"00"},null,{"$f":"DATEDIF(DATE(個人種目!G36,個人種目!H36,個人種目!I36),$B$1+1,\"Y\")","v":{"$error":"#NUM!"}}]
[{"$f":"IF(LEN(個人種目!B37)=1,個人種目!B37&\" \",個人種目!B37)","v":0},{"$f":"IF(LEN(個人種目!C37)=1,\" \"&個人種目!C37,個人種目!C37)","v":0},"０　０","○",32,"０　０@32",{"$f":"ROUNDDOWN(YEARFRAC(DATE(個人種目!G37,個人種目!H37,個人種目!I37),$B$1,3),0)","v":{"$error":"#NUM!"}},{"$error":"#NUM!"},{"$f":"VLOOKUP(個人種目!M37,コード一覧!$E$2:$F$6,2,FALSE)","v":{"$error":"#N/A"}},{"$f":"VLOOKUP(個人種目!N37,コード一覧!$G$2:$I$4,2,FALSE)","v":{"$error":"#N/A"}},{"$f":"IF(LEN(個人種目!O37)=0,\"00\",IF(LEN(個人種目!O37)=1,\"0\"&個人種目!O37,個人種目!O37))","v":"00"},{"$f":"IF(LEN(個人種目!P37)=0,\"00\",IF(LEN(個人種目!P37)=1,\"0\"&個人種目!P37,個人種目!P37))","v":"00"},{"$f":"IF(LEN(個人種目!Q37)=0,\"00\",IF(LEN(個人種目!Q37)=1,\"0\"&個人種目!Q37,個人種目!Q37))","v":"00"},null,{"$f":"DATEDIF(DATE(個人種目!G37,個人種目!H37,個人種目!I37),$B$1+1,\"Y\")","v":{"$error":"#NUM!"}}]
[{"$f":"IF(LEN(個人種目!B38)=1,個人種目!B38&\" \",個人種目!B38)","v":0},{"$f":"IF(LEN(個人種目!C38)=1,\" \"&個人種目!C38,個人種目!C38)","v":0},"０　０","○",33,"０　０@33",{"$f":"ROUNDDOWN(YEARFRAC(DATE(個人種目!G38,個人種目!H38,個人種目!I38),$B$1,3),0)","v":{"$error":"#NUM!"}},{"$error":"#NUM!"},{"$f":"VLOOKUP(個人種目!M38,コード一覧!$E$2:$F$6,2,FALSE)","v":{"$error":"#N/A"}},{"$f":"VLOOKUP(個人種目!N38,コード一覧!$G$2:$I$4,2,FALSE)","v":{"$error":"#N/A"}},{"$f":"IF(LEN(個人種目!O38)=0,\"00\",IF(LEN(個人種目!O38)=1,\"0\"&個人種目!O38,個人種目!O38))","v":"00"},{"$f":"IF(LEN(個人種目!P38)=0,\"00\",IF(LEN(個人種目!P38)=1,\"0\"&個人種目!P38,個人種目!P38))","v":"00"},{"$f":"IF(LEN(個人種目!Q38)=0,\"00\",IF(LEN(個人種目!Q38)=1,\"0\"&個人種目!Q38,個人種目!Q38))","v":"00"},null,{"$f":"DATEDIF(DATE(個人種目!G38,個人種目!H38,個人種目!I38),$B$1+1,\"Y\")","v":{"$error":"#NUM!"}}]
[{"$f":"IF(LEN(個人種目!B39)=1,個人種目!B39&\" \",個人種目!B39)","v":0},{"$f":"IF(LEN(個人種目!C39)=1,\" \"&個人種目!C39,個人種目!C39)","v":0},"０　０","○",34,"０　０@34",{"$f":"ROUNDDOWN(YEARFRAC(DATE(個人種目!G39,個人種目!H39,個人種目!I39),$B$1,3),0)","v":{"$error":"#NUM!"}},{"$error":"#NUM!"},{"$f":"VLOOKUP(個人種目!M39,コード一覧!$E$2:$F$6,2,FALSE)","v":{"$error":"#N/A"}},{"$f":"VLOOKUP(個人種目!N39,コード一覧!$G$2:$I$4,2,FALSE)","v":{"$error":"#N/A"}},{"$f":"IF(LEN(個人種目!O39)=0,\"00\",IF(LEN(個人種目!O39)=1,\"0\"&個人種目!O39,個人種目!O39))","v":"00"},{"$f":"IF(LEN(個人種目!P39)=0,\"00\",IF(LEN(個人種目!P39)=1,\"0\"&個人種目!P39,個人種目!P39))","v":"00"},{"$f":"IF(LEN(個人種目!Q39)=0,\"00\",IF(LEN(個人種目!Q39)=1,\"0\"&個人種目!Q39,個人種目!Q39))","v":"00"},null,{"$f":"DATEDIF(DATE(個人種目!G39,個人種目!H39,個人種目!I39),$B$1+1,\"Y\")","v":{"$error":"#NUM!"}}]
[{"$f":"IF(LEN(個人種目!B40)=1,個人種目!B40&\" \",個人種目!B40)","v":0},{"$f":"IF(LEN(個人種目!C40)=1,\" \"&個人種目!C40,個人種目!C40)","v":0},"０　０","○",35,"０　０@35",{"$f":"ROUNDDOWN(YEARFRAC(DATE(個人種目!G40,個人種目!H40,個人種目!I40),$B$1,3),0)","v":{"$error":"#NUM!"}},{"$error":"#NUM!"},{"$f":"VLOOKUP(個人種目!M40,コード一覧!$E$2:$F$6,2,FALSE)","v":{"$error":"#N/A"}},{"$f":"VLOOKUP(個人種目!N40,コード一覧!$G$2:$I$4,2,FALSE)","v":{"$error":"#N/A"}},{"$f":"IF(LEN(個人種目!O40)=0,\"00\",IF(LEN(個人種目!O40)=1,\"0\"&個人種目!O40,個人種目!O40))","v":"00"},{"$f":"IF(LEN(個人種目!P40)=0,\"00\",IF(LEN(個人種目!P40)=1,\"0\"&個人種目!P40,個人種目!P40))","v":"00"},{"$f":"IF(LEN(個人種目!Q40)=0,\"00\",IF(LEN(個人種目!Q40)=1,\"0\"&個人種目!Q40,個人種目!Q40))","v":"00"},null,{"$f":"DATEDIF(DATE(個人種目!G40,個人種目!H40,個人種目!I40),$B$1+1,\"Y\")","v":{"$error":"#NUM!"}}]
[{"$f":"IF(LEN(個人種目!B41)=1,個人種目!B41&\" \",個人種目!B41)","v":0},{"$f":"IF(LEN(個人種目!C41)=1,\" \"&個人種目!C41,個人種目!C41)","v":0},"０　０","○",36,"０　０@36",{"$f":"ROUNDDOWN(YEARFRAC(DATE(個人種目!G41,個人種目!H41,個人種目!I41),$B$1,3),0)","v":{"$error":"#NUM!"}},{"$error":"#NUM!"},{"$f":"VLOOKUP(個人種目!M41,コード一覧!$E$2:$F$6,2,FALSE)","v":{"$error":"#N/A"}},{"$f":"VLOOKUP(個人種目!N41,コード一覧!$G$2:$I$4,2,FALSE)","v":{"$error":"#N/A"}},{"$f":"IF(LEN(個人種目!O41)=0,\"00\",IF(LEN(個人種目!O41)=1,\"0\"&個人種目!O41,個人種目!O41))","v":"00"},{"$f":"IF(LEN(個人種目!P41)=0,\"00\",IF(LEN(個人種目!P41)=1,\"0\"&個人種目!P41,個人種目!P41))","v":"00"},{"$f":"IF(LEN(個人種目!Q41)=0,\"00\",IF(LEN(個人種目!Q41)=1,\"0\"&個人種目!Q41,個人種目!Q41))","v":"00"},null,{"$f":"DATEDIF(DATE(個人種目!G41,個人種目!H41,個人種目!I41),$B$1+1,\"Y\")","v":{"$error":"#NUM!"}}]
[{"$f":"IF(LEN(個人種目!B42)=1,個人種目!B42&\" \",個人種目!B42)","v":0},{"$f":"IF(LEN(個人種目!C42)=1,\" \"&個人種目!C42,個人種目!C42)","v":0},"０　０","○",37,"０　０@37",{"$f":"ROUNDDOWN(YEARFRAC(DATE(個人種目!G42,個人種目!H42,個人種目!I42),$B$1,3),0)","v":{"$error":"#NUM!"}},{"$error":"#NUM!"},{"$f":"VLOOKUP(個人種目!M42,コード一覧!$E$2:$F$6,2,FALSE)","v":{"$error":"#N/A"}},{"$f":"VLOOKUP(個人種目!N42,コード一覧!$G$2:$I$4,2,FALSE)","v":{"$error":"#N/A"}},{"$f":"IF(LEN(個人種目!O42)=0,\"00\",IF(LEN(個人種目!O42)=1,\"0\"&個人種目!O42,個人種目!O42))","v":"00"},{"$f":"IF(LEN(個人種目!P42)=0,\"00\",IF(LEN(個人種目!P42)=1,\"0\"&個人種目!P42,個人種目!P42))","v":"00"},{"$f":"IF(LEN(個人種目!Q42)=0,\"00\",IF(LEN(個人種目!Q42)=1,\"0\"&個人種目!Q42,個人種目!Q42))","v":"00"},null,{"$f":"DATEDIF(DATE(個人種目!G42,個人種目!H42,個人種目!I42),$B$1+1,\"Y\")","v":{"$error":"#NUM!"}}]
[{"$f":"IF(LEN(個人種目!B43)=1,個人種目!B43&\" \",個人種目!B43)","v":0},{"$f":"IF(LEN(個人種目!C43)=1,\" \"&個人種目!C43,個人種目!C43)","v":0},"０　０","○",38,"０　０@38",{"$f":"ROUNDDOWN(YEARFRAC(DATE(個人種目!G43,個人種目!H43,個人種目!I43),$B$1,3),0)","v":{"$error":"#NUM!"}},{"$error":"#NUM!"},{"$f":"VLOOKUP(個人種目!M43,コード一覧!$E$2:$F$6,2,FALSE)","v":{"$error":"#N/A"}},{"$f":"VLOOKUP(個人種目!N43,コード一覧!$G$2:$I$4,2,FALSE)","v":{"$error":"#N/A"}},{"$f":"IF(LEN(個人種目!O43)=0,\"00\",IF(LEN(個人種目!O43)=1,\"0\"&個人種目!O43,個人種目!O43))","v":"00"},{"$f":"IF(LEN(個人種目!P43)=0,\"00\",IF(LEN(個人種目!P43)=1,\"0\"&個人種目!P43,個人種目!P43))","v":"00"},{"$f":"IF(LEN(個人種目!Q43)=0,\"00\",IF(LEN(個人種目!Q43)=1,\"0\"&個人種目!Q43,個人種目!Q43))","v":"00"},null,{"$f":"DATEDIF(DATE(個人種目!G43,個人種目!H43,個人種目!I43),$B$1+1,\"Y\")","v":{"$error":"#NUM!"}}]
[{"$f":"IF(LEN(個人種目!B44)=1,個人種目!B44&\" \",個人種目!B44)","v":0},{"$f":"IF(LEN(個人種目!C44)=1,\" \"&個人種目!C44,個人種目!C44)","v":0},"０　０","○",39,"０　０@39",{"$f":"ROUNDDOWN(YEARFRAC(DATE(個人種目!G44,個人種目!H44,個人種目!I44),$B$1,3),0)","v":{"$error":"#NUM!"}},{"$error":"#NUM!"},{"$f":"VLOOKUP(個人種目!M44,コード一覧!$E$2:$F$6,2,FALSE)","v":{"$error":"#N/A"}},{"$f":"VLOOKUP(個人種目!N44,コード一覧!$G$2:$I$4,2,FALSE)","v":{"$error":"#N/A"}},{"$f":"IF(LEN(個人種目!O44)=0,\"00\",IF(LEN(個人種目!O44)=1,\"0\"&個人種目!O44,個人種目!O44))","v":"00"},{"$f":"IF(LEN(個人種目!P44)=0,\"00\",IF(LEN(個人種目!P44)=1,\"0\"&個人種目!P44,個人種目!P44))","v":"00"},{"$f":"IF(LEN(個人種目!Q44)=0,\"00\",IF(LEN(個人種目!Q44)=1,\"0\"&個人種目!Q44,個人種目!Q44))","v":"00"},null,{"$f":"DATEDIF(DATE(個人種目!G44,個人種目!H44,個人種目!I44),$B$1+1,\"Y\")","v":{"$error":"#NUM!"}}]
[{"$f":"IF(LEN(個人種目!B45)=1,個人種目!B45&\" \",個人種目!B45)","v":0},{"$f":"IF(LEN(個人種目!C45)=1,\" \"&個人種目!C45,個人種目!C45)","v":0},"０　０","○",40,"０　０@40",{"$f":"ROUNDDOWN(YEARFRAC(DATE(個人種目!G45,個人種目!H45,個人種目!I45),$B$1,3),0)","v":{"$error":"#NUM!"}},{"$error":"#NUM!"},{"$f":"VLOOKUP(個人種目!M45,コード一覧!$E$2:$F$6,2,FALSE)","v":{"$error":"#N/A"}},{"$f":"VLOOKUP(個人種目!N45,コード一覧!$G$2:$I$4,2,FALSE)","v":{"$error":"#N/A"}},{"$f":"IF(LEN(個人種目!O45)=0,\"00\",IF(LEN(個人種目!O45)=1,\"0\"&個人種目!O45,個人種目!O45))","v":"00"},{"$f":"IF(LEN(個人種目!P45)=0,\"00\",IF(LEN(個人種目!P45)=1,\"0\"&個人種目!P45,個人種目!P45))","v":"00"},{"$f":"IF(LEN(個人種目!Q45)=0,\"00\",IF(LEN(個人種目!Q45)=1,\"0\"&個人種目!Q45,個人種目!Q45))","v":"00"},null,{"$f":"DATEDIF(DATE(個人種目!G45,個人種目!H45,個人種目!I45),$B$1+1,\"Y\")","v":{"$error":"#NUM!"}}]
[{"$f":"IF(LEN(個人種目!B46)=1,個人種目!B46&\" \",個人種目!B46)","v":0},{"$f":"IF(LEN(個人種目!C46)=1,\" \"&個人種目!C46,個人種目!C46)","v":0},"０　０","○",41,"０　０@41",{"$f":"ROUNDDOWN(YEARFRAC(DATE(個人種目!G46,個人種目!H46,個人種目!I46),$B$1,3),0)","v":{"$error":"#NUM!"}},{"$error":"#NUM!"},{"$f":"VLOOKUP(個人種目!M46,コード一覧!$E$2:$F$6,2,FALSE)","v":{"$error":"#N/A"}},{"$f":"VLOOKUP(個人種目!N46,コード一覧!$G$2:$I$4,2,FALSE)","v":{"$error":"#N/A"}},{"$f":"IF(LEN(個人種目!O46)=0,\"00\",IF(LEN(個人種目!O46)=1,\"0\"&個人種目!O46,個人種目!O46))","v":"00"},{"$f":"IF(LEN(個人種目!P46)=0,\"00\",IF(LEN(個人種目!P46)=1,\"0\"&個人種目!P46,個人種目!P46))","v":"00"},{"$f":"IF(LEN(個人種目!Q46)=0,\"00\",IF(LEN(個人種目!Q46)=1,\"0\"&個人種目!Q46,個人種目!Q46))","v":"00"},null,{"$f":"DATEDIF(DATE(個人種目!G46,個人種目!H46,個人種目!I46),$B$1+1,\"Y\")","v":{"$error":"#NUM!"}}]
[{"$f":"IF(LEN(個人種目!B47)=1,個人種目!B47&\" \",個人種目!B47)","v":0},{"$f":"IF(LEN(個人種目!C47)=1,\" \"&個人種目!C47,個人種目!C47)","v":0},"０　０","○",42,"０　０@42",{"$f":"ROUNDDOWN(YEARFRAC(DATE(個人種目!G47,個人種目!H47,個人種目!I47),$B$1,3),0)","v":{"$error":"#NUM!"}},{"$error":"#NUM!"},{"$f":"VLOOKUP(個人種目!M47,コード一覧!$E$2:$F$6,2,FALSE)","v":{"$error":"#N/A"}},{"$f":"VLOOKUP(個人種目!N47,コード一覧!$G$2:$I$4,2,FALSE)","v":{"$error":"#N/A"}},{"$f":"IF(LEN(個人種目!O47)=0,\"00\",IF(LEN(個人種目!O47)=1,\"0\"&個人種目!O47,個人種目!O47))","v":"00"},{"$f":"IF(LEN(個人種目!P47)=0,\"00\",IF(LEN(個人種目!P47)=1,\"0\"&個人種目!P47,個人種目!P47))","v":"00"},{"$f":"IF(LEN(個人種目!Q47)=0,\"00\",IF(LEN(個人種目!Q47)=1,\"0\"&個人種目!Q47,個人種目!Q47))","v":"00"},null,{"$f":"DATEDIF(DATE(個人種目!G47,個人種目!H47,個人種目!I47),$B$1+1,\"Y\")","v":{"$error":"#NUM!"}}]
[{"$f":"IF(LEN(個人種目!B48)=1,個人種目!B48&\" \",個人種目!B48)","v":0},{"$f":"IF(LEN(個人種目!C48)=1,\" \"&個人種目!C48,個人種目!C48)","v":0},"０　０","○",43,"０　０@43",{"$f":"ROUNDDOWN(YEARFRAC(DATE(個人種目!G48,個人種目!H48,個人種目!I48),$B$1,3),0)","v":{"$error":"#NUM!"}},{"$error":"#NUM!"},{"$f":"VLOOKUP(個人種目!M48,コード一覧!$E$2:$F$6,2,FALSE)","v":{"$error":"#N/A"}},{"$f":"VLOOKUP(個人種目!N48,コード一覧!$G$2:$I$4,2,FALSE)","v":{"$error":"#N/A"}},{"$f":"IF(LEN(個人種目!O48)=0,\"00\",IF(LEN(個人種目!O48)=1,\"0\"&個人種目!O48,個人種目!O48))","v":"00"},{"$f":"IF(LEN(個人種目!P48)=0,\"00\",IF(LEN(個人種目!P48)=1,\"0\"&個人種目!P48,個人種目!P48))","v":"00"},{"$f":"IF(LEN(個人種目!Q48)=0,\"00\",IF(LEN(個人種目!Q48)=1,\"0\"&個人種目!Q48,個人種目!Q48))","v":"00"},null,{"$f":"DATEDIF(DATE(個人種目!G48,個人種目!H48,個人種目!I48),$B$1+1,\"Y\")","v":{"$error":"#NUM!"}}]
[{"$f":"IF(LEN(個人種目!B49)=1,個人種目!B49&\" \",個人種目!B49)","v":0},{"$f":"IF(LEN(個人種目!C49)=1,\" \"&個人種目!C49,個人種目!C49)","v":0},"０　０","○",44,"０　０@44",{"$f":"ROUNDDOWN(YEARFRAC(DATE(個人種目!G49,個人種目!H49,個人種目!I49),$B$1,3),0)","v":{"$error":"#NUM!"}},{"$error":"#NUM!"},{"$f":"VLOOKUP(個人種目!M49,コード一覧!$E$2:$F$6,2,FALSE)","v":{"$error":"#N/A"}},{"$f":"VLOOKUP(個人種目!N49,コード一覧!$G$2:$I$4,2,FALSE)","v":{"$error":"#N/A"}},{"$f":"IF(LEN(個人種目!O49)=0,\"00\",IF(LEN(個人種目!O49)=1,\"0\"&個人種目!O49,個人種目!O49))","v":"00"},{"$f":"IF(LEN(個人種目!P49)=0,\"00\",IF(LEN(個人種目!P49)=1,\"0\"&個人種目!P49,個人種目!P49))","v":"00"},{"$f":"IF(LEN(個人種目!Q49)=0,\"00\",IF(LEN(個人種目!Q49)=1,\"0\"&個人種目!Q49,個人種目!Q49))","v":"00"},null,{"$f":"DATEDIF(DATE(個人種目!G49,個人種目!H49,個人種目!I49),$B$1+1,\"Y\")","v":{"$error":"#NUM!"}}]
[{"$f":"IF(LEN(個人種目!B50)=1,個人種目!B50&\" \",個人種目!B50)","v":0},{"$f":"IF(LEN(個人種目!C50)=1,\" \"&個人種目!C50,個人種目!C50)","v":0},"０　０","○",45,"０　０@45",{"$f":"ROUNDDOWN(YEARFRAC(DATE(個人種目!G50,個人種目!H50,個人種目!I50),$B$1,3),0)","v":{"$error":"#NUM!"}},{"$error":"#NUM!"},{"$f":"VLOOKUP(個人種目!M50,コード一覧!$E$2:$F$6,2,FALSE)","v":{"$error":"#N/A"}},{"$f":"VLOOKUP(個人種目!N50,コード一覧!$G$2:$I$4,2,FALSE)","v":{"$error":"#N/A"}},{"$f":"IF(LEN(個人種目!O50)=0,\"00\",IF(LEN(個人種目!O50)=1,\"0\"&個人種目!O50,個人種目!O50))","v":"00"},{"$f":"IF(LEN(個人種目!P50)=0,\"00\",IF(LEN(個人種目!P50)=1,\"0\"&個人種目!P50,個人種目!P50))","v":"00"},{"$f":"IF(LEN(個人種目!Q50)=0,\"00\",IF(LEN(個人種目!Q50)=1,\"0\"&個人種目!Q50,個人種目!Q50))","v":"00"},null,{"$f":"DATEDIF(DATE(個人種目!G50,個人種目!H50,個人種目!I50),$B$1+1,\"Y\")","v":{"$error":"#NUM!"}}]
[{"$f":"IF(LEN(個人種目!B51)=1,個人種目!B51&\" \",個人種目!B51)","v":0},{"$f":"IF(LEN(個人種目!C51)=1,\" \"&個人種目!C51,個人種目!C51)","v":0},"０　０","○",46,"０　０@46",{"$f":"ROUNDDOWN(YEARFRAC(DATE(個人種目!G51,個人種目!H51,個人種目!I51),$B$1,3),0)","v":{"$error":"#NUM!"}},{"$error":"#NUM!"},{"$f":"VLOOKUP(個人種目!M51,コード一覧!$E$2:$F$6,2,FALSE)","v":{"$error":"#N/A"}},{"$f":"VLOOKUP(個人種目!N51,コード一覧!$G$2:$I$4,2,FALSE)","v":{"$error":"#N/A"}},{"$f":"IF(LEN(個人種目!O51)=0,\"00\",IF(LEN(個人種目!O51)=1,\"0\"&個人種目!O51,個人種目!O51))","v":"00"},{"$f":"IF(LEN(個人種目!P51)=0,\"00\",IF(LEN(個人種目!P51)=1,\"0\"&個人種目!P51,個人種目!P51))","v":"00"},{"$f":"IF(LEN(個人種目!Q51)=0,\"00\",IF(LEN(個人種目!Q51)=1,\"0\"&個人種目!Q51,個人種目!Q51))","v":"00"},null,{"$f":"DATEDIF(DATE(個人種目!G51,個人種目!H51,個人種目!I51),$B$1+1,\"Y\")","v":{"$error":"#NUM!"}}]
[{"$f":"IF(LEN(個人種目!B52)=1,個人種目!B52&\" \",個人種目!B52)","v":0},{"$f":"IF(LEN(個人種目!C52)=1,\" \"&個人種目!C52,個人種目!C52)","v":0},"０　０","○",47,"０　０@47",{"$f":"ROUNDDOWN(YEARFRAC(DATE(個人種目!G52,個人種目!H52,個人種目!I52),$B$1,3),0)","v":{"$error":"#NUM!"}},{"$error":"#NUM!"},{"$f":"VLOOKUP(個人種目!M52,コード一覧!$E$2:$F$6,2,FALSE)","v":{"$error":"#N/A"}},{"$f":"VLOOKUP(個人種目!N52,コード一覧!$G$2:$I$4,2,FALSE)","v":{"$error":"#N/A"}},{"$f":"IF(LEN(個人種目!O52)=0,\"00\",IF(LEN(個人種目!O52)=1,\"0\"&個人種目!O52,個人種目!O52))","v":"00"},{"$f":"IF(LEN(個人種目!P52)=0,\"00\",IF(LEN(個人種目!P52)=1,\"0\"&個人種目!P52,個人種目!P52))","v":"00"},{"$f":"IF(LEN(個人種目!Q52)=0,\"00\",IF(LEN(個人種目!Q52)=1,\"0\"&個人種目!Q52,個人種目!Q52))","v":"00"},null,{"$f":"DATEDIF(DATE(個人種目!G52,個人種目!H52,個人種目!I52),$B$1+1,\"Y\")","v":{"$error":"#NUM!"}}]
[{"$f":"IF(LEN(個人種目!B53)=1,個人種目!B53&\" \",個人種目!B53)","v":0},{"$f":"IF(LEN(個人種目!C53)=1,\" \"&個人種目!C53,個人種目!C53)","v":0},"０　０","○",48,"０　０@48",{"$f":"ROUNDDOWN(YEARFRAC(DATE(個人種目!G53,個人種目!H53,個人種目!I53),$B$1,3),0)","v":{"$error":"#NUM!"}},{"$error":"#NUM!"},{"$f":"VLOOKUP(個人種目!M53,コード一覧!$E$2:$F$6,2,FALSE)","v":{"$error":"#N/A"}},{"$f":"VLOOKUP(個人種目!N53,コード一覧!$G$2:$I$4,2,FALSE)","v":{"$error":"#N/A"}},{"$f":"IF(LEN(個人種目!O53)=0,\"00\",IF(LEN(個人種目!O53)=1,\"0\"&個人種目!O53,個人種目!O53))","v":"00"},{"$f":"IF(LEN(個人種目!P53)=0,\"00\",IF(LEN(個人種目!P53)=1,\"0\"&個人種目!P53,個人種目!P53))","v":"00"},{"$f":"IF(LEN(個人種目!Q53)=0,\"00\",IF(LEN(個人種目!Q53)=1,\"0\"&個人種目!Q53,個人種目!Q53))","v":"00"},null,{"$f":"DATEDIF(DATE(個人種目!G53,個人種目!H53,個人種目!I53),$B$1+1,\"Y\")","v":{"$error":"#NUM!"}}]
[{"$f":"IF(LEN(個人種目!B54)=1,個人種目!B54&\" \",個人種目!B54)","v":0},{"$f":"IF(LEN(個人種目!C54)=1,\" \"&個人種目!C54,個人種目!C54)","v":0},"０　０","○",49,"０　０@49",{"$f":"ROUNDDOWN(YEARFRAC(DATE(個人種目!G54,個人種目!H54,個人種目!I54),$B$1,3),0)","v":{"$error":"#NUM!"}},{"$error":"#NUM!"},{"$f":"VLOOKUP(個人種目!M54,コード一覧!$E$2:$F$6,2,FALSE)","v":{"$error":"#N/A"}},{"$f":"VLOOKUP(個人種目!N54,コード一覧!$G$2:$I$4,2,FALSE)","v":{"$error":"#N/A"}},{"$f":"IF(LEN(個人種目!O54)=0,\"00\",IF(LEN(個人種目!O54)=1,\"0\"&個人種目!O54,個人種目!O54))","v":"00"},{"$f":"IF(LEN(個人種目!P54)=0,\"00\",IF(LEN(個人種目!P54)=1,\"0\"&個人種目!P54,個人種目!P54))","v":"00"},{"$f":"IF(LEN(個人種目!Q54)=0,\"00\",IF(LEN(個人種目!Q54)=1,\"0\"&個人種目!Q54,個人種目!Q54))","v":"00"},null,{"$f":"DATEDIF(DATE(個人種目!G54,個人種目!H54,個人種目!I54),$B$1+1,\"Y\")","v":{"$error":"#NUM!"}}]
[{"$f":"IF(LEN(個人種目!B55)=1,個人種目!B55&\" \",個人種目!B55)","v":0},{"$f":"IF(LEN(個人種目!C55)=1,\" \"&個人種目!C55,個人種目!C55)","v":0},"０　０","○",50,"０　０@50",{"$f":"ROUNDDOWN(YEARFRAC(DATE(個人種目!G55,個人種目!H55,個人種目!I55),$B$1,3),0)","v":{"$error":"#NUM!"}},{"$error":"#NUM!"},{"$f":"VLOOKUP(個人種目!M55,コード一覧!$E$2:$F$6,2,FALSE)","v":{"$error":"#N/A"}},{"$f":"VLOOKUP(個人種目!N55,コード一覧!$G$2:$I$4,2,FALSE)","v":{"$error":"#N/A"}},{"$f":"IF(LEN(個人種目!O55)=0,\"00\",IF(LEN(個人種目!O55)=1,\"0\"&個人種目!O55,個人種目!O55))","v":"00"},{"$f":"IF(LEN(個人種目!P55)=0,\"00\",IF(LEN(個人種目!P55)=1,\"0\"&個人種目!P55,個人種目!P55))","v":"00"},{"$f":"IF(LEN(個人種目!Q55)=0,\"00\",IF(LEN(個人種目!Q55)=1,\"0\"&個人種目!Q55,個人種目!Q55))","v":"00"},null,{"$f":"DATEDIF(DATE(個人種目!G55,個人種目!H55,個人種目!I55),$B$1+1,\"Y\")","v":{"$error":"#NUM!"}}]
[{"$f":"IF(LEN(個人種目!B56)=1,個人種目!B56&\" \",個人種目!B56)","v":0},{"$f":"IF(LEN(個人種目!C56)=1,\" \"&個人種目!C56,個人種目!C56)","v":0},"０　０","○",51,"０　０@51",{"$f":"ROUNDDOWN(YEARFRAC(DATE(個人種目!G56,個人種目!H56,個人種目!I56),$B$1,3),0)","v":{"$error":"#NUM!"}},{"$error":"#NUM!"},{"$f":"VLOOKUP(個人種目!M56,コード一覧!$E$2:$F$6,2,FALSE)","v":{"$error":"#N/A"}},{"$f":"VLOOKUP(個人種目!N56,コード一覧!$G$2:$I$4,2,FALSE)","v":{"$error":"#N/A"}},{"$f":"IF(LEN(個人種目!O56)=0,\"00\",IF(LEN(個人種目!O56)=1,\"0\"&個人種目!O56,個人種目!O56))","v":"00"},{"$f":"IF(LEN(個人種目!P56)=0,\"00\",IF(LEN(個人種目!P56)=1,\"0\"&個人種目!P56,個人種目!P56))","v":"00"},{"$f":"IF(LEN(個人種目!Q56)=0,\"00\",IF(LEN(個人種目!Q56)=1,\"0\"&個人種目!Q56,個人種目!Q56))","v":"00"},null,{"$f":"DATEDIF(DATE(個人種目!G56,個人種目!H56,個人種目!I56),$B$1+1,\"Y\")","v":{"$error":"#NUM!"}}]
[{"$f":"IF(LEN(個人種目!B57)=1,個人種目!B57&\" \",個人種目!B57)","v":0},{"$f":"IF(LEN(個人種目!C57)=1,\" \"&個人種目!C57,個人種目!C57)","v":0},"０　０","○",52,"０　０@52",{"$f":"ROUNDDOWN(YEARFRAC(DATE(個人種目!G57,個人種目!H57,個人種目!I57),$B$1,3),0)","v":{"$error":"#NUM!"}},{"$error":"#NUM!"},{"$f":"VLOOKUP(個人種目!M57,コード一覧!$E$2:$F$6,2,FALSE)","v":{"$error":"#N/A"}},{"$f":"VLOOKUP(個人種目!N57,コード一覧!$G$2:$I$4,2,FALSE)","v":{"$error":"#N/A"}},{"$f":"IF(LEN(個人種目!O57)=0,\"00\",IF(LEN(個人種目!O57)=1,\"0\"&個人種目!O57,個人種目!O57))","v":"00"},{"$f":"IF(LEN(個人種目!P57)=0,\"00\",IF(LEN(個人種目!P57)=1,\"0\"&個人種目!P57,個人種目!P57))","v":"00"},{"$f":"IF(LEN(個人種目!Q57)=0,\"00\",IF(LEN(個人種目!Q57)=1,\"0\"&個人種目!Q57,個人種目!Q57))","v":"00"},null,{"$f":"DATEDIF(DATE(個人種目!G57,個人種目!H57,個人種目!I57),$B$1+1,\"Y\")","v":{"$error":"#NUM!"}}]
[{"$f":"IF(LEN(個人種目!B58)=1,個人種目!B58&\" \",個人種目!B58)","v":0},{"$f":"IF(LEN(個人種目!C58)=1,\" \"&個人種目!C58,個人種目!C58)","v":0},"０　０","○",53,"０　０@53",{"$f":"ROUNDDOWN(YEARFRAC(DATE(個人種目!G58,個人種目!H58,個人種目!I58),$B$1,3),0)","v":{"$error":"#NUM!"}},{"$error":"#NUM!"},{"$f":"VLOOKUP(個人種目!M58,コード一覧!$E$2:$F$6,2,FALSE)","v":{"$error":"#N/A"}},{"$f":"VLOOKUP(個人種目!N58,コード一覧!$G$2:$I$4,2,FALSE)","v":{"$error":"#N/A"}},{"$f":"IF(LEN(個人種目!O58)=0,\"00\",IF(LEN(個人種目!O58)=1,\"0\"&個人種目!O58,個人種目!O58))","v":"00"},{"$f":"IF(LEN(個人種目!P58)=0,\"00\",IF(LEN(個人種目!P58)=1,\"0\"&個人種目!P58,個人種目!P58))","v":"00"},{"$f":"IF(LEN(個人種目!Q58)=0,\"00\",IF(LEN(個人種目!Q58)=1,\"0\"&個人種目!Q58,個人種目!Q58))","v":"00"},null,{"$f":"DATEDIF(DATE(個人種目!G58,個人種目!H58,個人種目!I58),$B$1+1,\"Y\")","v":{"$error":"#NUM!"}}]
[{"$f":"IF(LEN(個人種目!B59)=1,個人種目!B59&\" \",個人種目!B59)","v":0},{"$f":"IF(LEN(個人種目!C59)=1,\" \"&個人種目!C59,個人種目!C59)","v":0},"０　０","○",54,"０　０@54",{"$f":"ROUNDDOWN(YEARFRAC(DATE(個人種目!G59,個人種目!H59,個人種目!I59),$B$1,3),0)","v":{"$error":"#NUM!"}},{"$error":"#NUM!"},{"$f":"VLOOKUP(個人種目!M59,コード一覧!$E$2:$F$6,2,FALSE)","v":{"$error":"#N/A"}},{"$f":"VLOOKUP(個人種目!N59,コード一覧!$G$2:$I$4,2,FALSE)","v":{"$error":"#N/A"}},{"$f":"IF(LEN(個人種目!O59)=0,\"00\",IF(LEN(個人種目!O59)=1,\"0\"&個人種目!O59,個人種目!O59))","v":"00"},{"$f":"IF(LEN(個人種目!P59)=0,\"00\",IF(LEN(個人種目!P59)=1,\"0\"&個人種目!P59,個人種目!P59))","v":"00"},{"$f":"IF(LEN(個人種目!Q59)=0,\"00\",IF(LEN(個人種目!Q59)=1,\"0\"&個人種目!Q59,個人種目!Q59))","v":"00"},null,{"$f":"DATEDIF(DATE(個人種目!G59,個人種目!H59,個人種目!I59),$B$1+1,\"Y\")","v":{"$error":"#NUM!"}}]
[{"$f":"IF(LEN(個人種目!B60)=1,個人種目!B60&\" \",個人種目!B60)","v":0},{"$f":"IF(LEN(個人種目!C60)=1,\" \"&個人種目!C60,個人種目!C60)","v":0},"０　０","○",55,"０　０@55",{"$f":"ROUNDDOWN(YEARFRAC(DATE(個人種目!G60,個人種目!H60,個人種目!I60),$B$1,3),0)","v":{"$error":"#NUM!"}},{"$error":"#NUM!"},{"$f":"VLOOKUP(個人種目!M60,コード一覧!$E$2:$F$6,2,FALSE)","v":{"$error":"#N/A"}},{"$f":"VLOOKUP(個人種目!N60,コード一覧!$G$2:$I$4,2,FALSE)","v":{"$error":"#N/A"}},{"$f":"IF(LEN(個人種目!O60)=0,\"00\",IF(LEN(個人種目!O60)=1,\"0\"&個人種目!O60,個人種目!O60))","v":"00"},{"$f":"IF(LEN(個人種目!P60)=0,\"00\",IF(LEN(個人種目!P60)=1,\"0\"&個人種目!P60,個人種目!P60))","v":"00"},{"$f":"IF(LEN(個人種目!Q60)=0,\"00\",IF(LEN(個人種目!Q60)=1,\"0\"&個人種目!Q60,個人種目!Q60))","v":"00"},null,{"$f":"DATEDIF(DATE(個人種目!G60,個人種目!H60,個人種目!I60),$B$1+1,\"Y\")","v":{"$error":"#NUM!"}}]
[{"$f":"IF(LEN(個人種目!B61)=1,個人種目!B61&\" \",個人種目!B61)","v":0},{"$f":"IF(LEN(個人種目!C61)=1,\" \"&個人種目!C61,個人種目!C61)","v":0},"０　０","○",56,"０　０@56",{"$f":"ROUNDDOWN(YEARFRAC(DATE(個人種目!G61,個人種目!H61,個人種目!I61),$B$1,3),0)","v":{"$error":"#NUM!"}},{"$error":"#NUM!"},{"$f":"VLOOKUP(個人種目!M61,コード一覧!$E$2:$F$6,2,FALSE)","v":{"$error":"#N/A"}},{"$f":"VLOOKUP(個人種目!N61,コード一覧!$G$2:$I$4,2,FALSE)","v":{"$error":"#N/A"}},{"$f":"IF(LEN(個人種目!O61)=0,\"00\",IF(LEN(個人種目!O61)=1,\"0\"&個人種目!O61,個人種目!O61))","v":"00"},{"$f":"IF(LEN(個人種目!P61)=0,\"00\",IF(LEN(個人種目!P61)=1,\"0\"&個人種目!P61,個人種目!P61))","v":"00"},{"$f":"IF(LEN(個人種目!Q61)=0,\"00\",IF(LEN(個人種目!Q61)=1,\"0\"&個人種目!Q61,個人種目!Q61))","v":"00"},null,{"$f":"DATEDIF(DATE(個人種目!G61,個人種目!H61,個人種目!I61),$B$1+1,\"Y\")","v":{"$error":"#NUM!"}}]
[{"$f":"IF(LEN(個人種目!B62)=1,個人種目!B62&\" \",個人種目!B62)","v":0},{"$f":"IF(LEN(個人種目!C62)=1,\" \"&個人種目!C62,個人種目!C62)","v":0},"０　０","○",57,"０　０@57",{"$f":"ROUNDDOWN(YEARFRAC(DATE(個人種目!G62,個人種目!H62,個人種目!I62),$B$1,3),0)","v":{"$error":"#NUM!"}},{"$error":"#NUM!"},{"$f":"VLOOKUP(個人種目!M62,コード一覧!$E$2:$F$6,2,FALSE)","v":{"$error":"#N/A"}},{"$f":"VLOOKUP(個人種目!N62,コード一覧!$G$2:$I$4,2,FALSE)","v":{"$error":"#N/A"}},{"$f":"IF(LEN(個人種目!O62)=0,\"00\",IF(LEN(個人種目!O62)=1,\"0\"&個人種目!O62,個人種目!O62))","v":"00"},{"$f":"IF(LEN(個人種目!P62)=0,\"00\",IF(LEN(個人種目!P62)=1,\"0\"&個人種目!P62,個人種目!P62))","v":"00"},{"$f":"IF(LEN(個人種目!Q62)=0,\"00\",IF(LEN(個人種目!Q62)=1,\"0\"&個人種目!Q62,個人種目!Q62))","v":"00"},null,{"$f":"DATEDIF(DATE(個人種目!G62,個人種目!H62,個人種目!I62),$B$1+1,\"Y\")","v":{"$error":"#NUM!"}}]
[{"$f":"IF(LEN(個人種目!B63)=1,個人種目!B63&\" \",個人種目!B63)","v":0},{"$f":"IF(LEN(個人種目!C63)=1,\" \"&個人種目!C63,個人種目!C63)","v":0},"０　０","○",58,"０　０@58",{"$f":"ROUNDDOWN(YEARFRAC(DATE(個人種目!G63,個人種目!H63,個人種目!I63),$B$1,3),0)","v":{"$error":"#NUM!"}},{"$error":"#NUM!"},{"$f":"VLOOKUP(個人種目!M63,コード一覧!$E$2:$F$6,2,FALSE)","v":{"$error":"#N/A"}},{"$f":"VLOOKUP(個人種目!N63,コード一覧!$G$2:$I$4,2,FALSE)","v":{"$error":"#N/A"}},{"$f":"IF(LEN(個人種目!O63)=0,\"00\",IF(LEN(個人種目!O63)=1,\"0\"&個人種目!O63,個人種目!O63))","v":"00"},{"$f":"IF(LEN(個人種目!P63)=0,\"00\",IF(LEN(個人種目!P63)=1,\"0\"&個人種目!P63,個人種目!P63))","v":"00"},{"$f":"IF(LEN(個人種目!Q63)=0,\"00\",IF(LEN(個人種目!Q63)=1,\"0\"&個人種目!Q63,個人種目!Q63))","v":"00"},null,{"$f":"DATEDIF(DATE(個人種目!G63,個人種目!H63,個人種目!I63),$B$1+1,\"Y\")","v":{"$error":"#NUM!"}}]
[{"$f":"IF(LEN(個人種目!B64)=1,個人種目!B64&\" \",個人種目!B64)","v":0},{"$f":"IF(LEN(個人種目!C64)=1,\" \"&個人種目!C64,個人種目!C64)","v":0},"０　０","○",59,"０　０@59",{"$f":"ROUNDDOWN(YEARFRAC(DATE(個人種目!G64,個人種目!H64,個人種目!I64),$B$1,3),0)","v":{"$error":"#NUM!"}},{"$error":"#NUM!"},{"$f":"VLOOKUP(個人種目!M64,コード一覧!$E$2:$F$6,2,FALSE)","v":{"$error":"#N/A"}},{"$f":"VLOOKUP(個人種目!N64,コード一覧!$G$2:$I$4,2,FALSE)","v":{"$error":"#N/A"}},{"$f":"IF(LEN(個人種目!O64)=0,\"00\",IF(LEN(個人種目!O64)=1,\"0\"&個人種目!O64,個人種目!O64))","v":"00"},{"$f":"IF(LEN(個人種目!P64)=0,\"00\",IF(LEN(個人種目!P64)=1,\"0\"&個人種目!P64,個人種目!P64))","v":"00"},{"$f":"IF(LEN(個人種目!Q64)=0,\"00\",IF(LEN(個人種目!Q64)=1,\"0\"&個人種目!Q64,個人種目!Q64))","v":"00"},null,{"$f":"DATEDIF(DATE(個人種目!G64,個人種目!H64,個人種目!I64),$B$1+1,\"Y\")","v":{"$error":"#NUM!"}}]
[{"$f":"IF(LEN(個人種目!B65)=1,個人種目!B65&\" \",個人種目!B65)","v":0},{"$f":"IF(LEN(個人種目!C65)=1,\" \"&個人種目!C65,個人種目!C65)","v":0},"０　０","○",60,"０　０@60",{"$f":"ROUNDDOWN(YEARFRAC(DATE(個人種目!G65,個人種目!H65,個人種目!I65),$B$1,3),0)","v":{"$error":"#NUM!"}},{"$error":"#NUM!"},{"$f":"VLOOKUP(個人種目!M65,コード一覧!$E$2:$F$6,2,FALSE)","v":{"$error":"#N/A"}},{"$f":"VLOOKUP(個人種目!N65,コード一覧!$G$2:$I$4,2,FALSE)","v":{"$error":"#N/A"}},{"$f":"IF(LEN(個人種目!O65)=0,\"00\",IF(LEN(個人種目!O65)=1,\"0\"&個人種目!O65,個人種目!O65))","v":"00"},{"$f":"IF(LEN(個人種目!P65)=0,\"00\",IF(LEN(個人種目!P65)=1,\"0\"&個人種目!P65,個人種目!P65))","v":"00"},{"$f":"IF(LEN(個人種目!Q65)=0,\"00\",IF(LEN(個人種目!Q65)=1,\"0\"&個人種目!Q65,個人種目!Q65))","v":"00"},null,{"$f":"DATEDIF(DATE(個人種目!G65,個人種目!H65,個人種目!I65),$B$1+1,\"Y\")","v":{"$error":"#NUM!"}}]
[{"$f":"IF(LEN(個人種目!B66)=1,個人種目!B66&\" \",個人種目!B66)","v":0},{"$f":"IF(LEN(個人種目!C66)=1,\" \"&個人種目!C66,個人種目!C66)","v":0},"０　０","○",61,"０　０@61",{"$f":"ROUNDDOWN(YEARFRAC(DATE(個人種目!G66,個人種目!H66,個人種目!I66),$B$1,3),0)","v":{"$error":"#NUM!"}},{"$error":"#NUM!"},{"$f":"VLOOKUP(個人種目!M66,コード一覧!$E$2:$F$6,2,FALSE)","v":{"$error":"#N/A"}},{"$f":"VLOOKUP(個人種目!N66,コード一覧!$G$2:$I$4,2,FALSE)","v":{"$error":"#N/A"}},{"$f":"IF(LEN(個人種目!O66)=0,\"00\",IF(LEN(個人種目!O66)=1,\"0\"&個人種目!O66,個人種目!O66))","v":"00"},{"$f":"IF(LEN(個人種目!P66)=0,\"00\",IF(LEN(個人種目!P66)=1,\"0\"&個人種目!P66,個人種目!P66))","v":"00"},{"$f":"IF(LEN(個人種目!Q66)=0,\"00\",IF(LEN(個人種目!Q66)=1,\"0\"&個人種目!Q66,個人種目!Q66))","v":"00"},null,{"$f":"DATEDIF(DATE(個人種目!G66,個人種目!H66,個人種目!I66),$B$1+1,\"Y\")","v":{"$error":"#NUM!"}}]
[{"$f":"IF(LEN(個人種目!B67)=1,個人種目!B67&\" \",個人種目!B67)","v":0},{"$f":"IF(LEN(個人種目!C67)=1,\" \"&個人種目!C67,個人種目!C67)","v":0},"０　０","○",62,"０　０@62",{"$f":"ROUNDDOWN(YEARFRAC(DATE(個人種目!G67,個人種目!H67,個人種目!I67),$B$1,3),0)","v":{"$error":"#NUM!"}},{"$error":"#NUM!"},{"$f":"VLOOKUP(個人種目!M67,コード一覧!$E$2:$F$6,2,FALSE)","v":{"$error":"#N/A"}},{"$f":"VLOOKUP(個人種目!N67,コード一覧!$G$2:$I$4,2,FALSE)","v":{"$error":"#N/A"}},{"$f":"IF(LEN(個人種目!O67)=0,\"00\",IF(LEN(個人種目!O67)=1,\"0\"&個人種目!O67,個人種目!O67))","v":"00"},{"$f":"IF(LEN(個人種目!P67)=0,\"00\",IF(LEN(個人種目!P67)=1,\"0\"&個人種目!P67,個人種目!P67))","v":"00"},{"$f":"IF(LEN(個人種目!Q67)=0,\"00\",IF(LEN(個人種目!Q67)=1,\"0\"&個人種目!Q67,個人種目!Q67))","v":"00"},null,{"$f":"DATEDIF(DATE(個人種目!G67,個人種目!H67,個人種目!I67),$B$1+1,\"Y\")","v":{"$error":"#NUM!"}}]
[{"$f":"IF(LEN(個人種目!B68)=1,個人種目!B68&\" \",個人種目!B68)","v":0},{"$f":"IF(LEN(個人種目!C68)=1,\" \"&個人種目!C68,個人種目!C68)","v":0},"０　０","○",63,"０　０@63",{"$f":"ROUNDDOWN(YEARFRAC(DATE(個人種目!G68,個人種目!H68,個人種目!I68),$B$1,3),0)","v":{"$error":"#NUM!"}},{"$error":"#NUM!"},{"$f":"VLOOKUP(個人種目!M68,コード一覧!$E$2:$F$6,2,FALSE)","v":{"$error":"#N/A"}},{"$f":"VLOOKUP(個人種目!N68,コード一覧!$G$2:$I$4,2,FALSE)","v":{"$error":"#N/A"}},{"$f":"IF(LEN(個人種目!O68)=0,\"00\",IF(LEN(個人種目!O68)=1,\"0\"&個人種目!O68,個人種目!O68))","v":"00"},{"$f":"IF(LEN(個人種目!P68)=0,\"00\",IF(LEN(個人種目!P68)=1,\"0\"&個人種目!P68,個人種目!P68))","v":"00"},{"$f":"IF(LEN(個人種目!Q68)=0,\"00\",IF(LEN(個人種目!Q68)=1,\"0\"&個人種目!Q68,個人種目!Q68))","v":"00"},null,{"$f":"DATEDIF(DATE(個人種目!G68,個人種目!H68,個人種目!I68),$B$1+1,\"Y\")","v":{"$error":"#NUM!"}}]
[{"$f":"IF(LEN(個人種目!B69)=1,個人種目!B69&\" \",個人種目!B69)","v":0},{"$f":"IF(LEN(個人種目!C69)=1,\" \"&個人種目!C69,個人種目!C69)","v":0},"０　０","○",64,"０　０@64",{"$f":"ROUNDDOWN(YEARFRAC(DATE(個人種目!G69,個人種目!H69,個人種目!I69),$B$1,3),0)","v":{"$error":"#NUM!"}},{"$error":"#NUM!"},{"$f":"VLOOKUP(個人種目!M69,コード一覧!$E$2:$F$6,2,FALSE)","v":{"$error":"#N/A"}},{"$f":"VLOOKUP(個人種目!N69,コード一覧!$G$2:$I$4,2,FALSE)","v":{"$error":"#N/A"}},{"$f":"IF(LEN(個人種目!O69)=0,\"00\",IF(LEN(個人種目!O69)=1,\"0\"&個人種目!O69,個人種目!O69))","v":"00"},{"$f":"IF(LEN(個人種目!P69)=0,\"00\",IF(LEN(個人種目!P69)=1,\"0\"&個人種目!P69,個人種目!P69))","v":"00"},{"$f":"IF(LEN(個人種目!Q69)=0,\"00\",IF(LEN(個人種目!Q69)=1,\"0\"&個人種目!Q69,個人種目!Q69))","v":"00"},null,{"$f":"DATEDIF(DATE(個人種目!G69,個人種目!H69,個人種目!I69),$B$1+1,\"Y\")","v":{"$error":"#NUM!"}}]
[{"$f":"IF(LEN(個人種目!B70)=1,個人種目!B70&\" \",個人種目!B70)","v":0},{"$f":"IF(LEN(個人種目!C70)=1,\" \"&個人種目!C70,個人種目!C70)","v":0},"０　０","○",65,"０　０@65",{"$f":"ROUNDDOWN(YEARFRAC(DATE(個人種目!G70,個人種目!H70,個人種目!I70),$B$1,3),0)","v":{"$error":"#NUM!"}},{"$error":"#NUM!"},{"$f":"VLOOKUP(個人種目!M70,コード一覧!$E$2:$F$6,2,FALSE)","v":{"$error":"#N/A"}},{"$f":"VLOOKUP(個人種目!N70,コード一覧!$G$2:$I$4,2,FALSE)","v":{"$error":"#N/A"}},{"$f":"IF(LEN(個人種目!O70)=0,\"00\",IF(LEN(個人種目!O70)=1,\"0\"&個人種目!O70,個人種目!O70))","v":"00"},{"$f":"IF(LEN(個人種目!P70)=0,\"00\",IF(LEN(個人種目!P70)=1,\"0\"&個人種目!P70,個人種目!P70))","v":"00"},{"$f":"IF(LEN(個人種目!Q70)=0,\"00\",IF(LEN(個人種目!Q70)=1,\"0\"&個人種目!Q70,個人種目!Q70))","v":"00"},null,{"$f":"DATEDIF(DATE(個人種目!G70,個人種目!H70,個人種目!I70),$B$1+1,\"Y\")","v":{"$error":"#NUM!"}}]
[{"$f":"IF(LEN(個人種目!B71)=1,個人種目!B71&\" \",個人種目!B71)","v":0},{"$f":"IF(LEN(個人種目!C71)=1,\" \"&個人種目!C71,個人種目!C71)","v":0},{"$f":"DBCS(IF(LEN(A71)+LEN(B71)<5,A71&\" \"&B71,A71&B71))","v":"０　０"},{"$f":"IF(C70=C71,\"○\",\"×\")","v":"○"},{"$f":"IF(D71=\"×\",1,E70+1)","v":66},{"$f":"C71&\"@\"&E71","v":"０　０@66"},{"$f":"ROUNDDOWN(YEARFRAC(DATE(個人種目!G71,個人種目!H71,個人種目!I71),$B$1,3),0)","v":{"$error":"#NUM!"}},{"$f":"IF(G71<20,11,ROUNDDOWN(G71/5,0)+7)","v":{"$error":"#NUM!"}},{"$f":"VLOOKUP(個人種目!M71,コード一覧!$E$2:$F$6,2,FALSE)","v":{"$error":"#N/A"}},{"$f":"VLOOKUP(個人種目!N71,コード一覧!$G$2:$I$4,2,FALSE)","v":{"$error":"#N/A"}},{"$f":"IF(LEN(個人種目!O71)=0,\"00\",IF(LEN(個人種目!O71)=1,\"0\"&個人種目!O71,個人種目!O71))","v":"00"},{"$f":"IF(LEN(個人種目!P71)=0,\"00\",IF(LEN(個人種目!P71)=1,\"0\"&個人種目!P71,個人種目!P71))","v":"00"},{"$f":"IF(LEN(個人種目!Q71)=0,\"00\",IF(LEN(個人種目!Q71)=1,\"0\"&個人種目!Q71,個人種目!Q71))","v":"00"},null,{"$f":"DATEDIF(DATE(個人種目!G71,個人種目!H71,個人種目!I71),$B$1+1,\"Y\")","v":{"$error":"#NUM!"}}]
[{"$f":"IF(LEN(個人種目!B72)=1,個人種目!B72&\" \",個人種目!B72)","v":0},{"$f":"IF(LEN(個人種目!C72)=1,\" \"&個人種目!C72,個人種目!C72)","v":0},"０　０","○",67,"０　０@67",{"$f":"ROUNDDOWN(YEARFRAC(DATE(個人種目!G72,個人種目!H72,個人種目!I72),$B$1,3),0)","v":{"$error":"#NUM!"}},{"$error":"#NUM!"},{"$f":"VLOOKUP(個人種目!M72,コード一覧!$E$2:$F$6,2,FALSE)","v":{"$error":"#N/A"}},{"$f":"VLOOKUP(個人種目!N72,コード一覧!$G$2:$I$4,2,FALSE)","v":{"$error":"#N/A"}},{"$f":"IF(LEN(個人種目!O72)=0,\"00\",IF(LEN(個人種目!O72)=1,\"0\"&個人種目!O72,個人種目!O72))","v":"00"},{"$f":"IF(LEN(個人種目!P72)=0,\"00\",IF(LEN(個人種目!P72)=1,\"0\"&個人種目!P72,個人種目!P72))","v":"00"},{"$f":"IF(LEN(個人種目!Q72)=0,\"00\",IF(LEN(個人種目!Q72)=1,\"0\"&個人種目!Q72,個人種目!Q72))","v":"00"},null,{"$f":"DATEDIF(DATE(個人種目!G72,個人種目!H72,個人種目!I72),$B$1+1,\"Y\")","v":{"$error":"#NUM!"}}]
[{"$f":"IF(LEN(個人種目!B73)=1,個人種目!B73&\" \",個人種目!B73)","v":0},{"$f":"IF(LEN(個人種目!C73)=1,\" \"&個人種目!C73,個人種目!C73)","v":0},"０　０","○",68,"０　０@68",{"$f":"ROUNDDOWN(YEARFRAC(DATE(個人種目!G73,個人種目!H73,個人種目!I73),$B$1,3),0)","v":{"$error":"#NUM!"}},{"$error":"#NUM!"},{"$f":"VLOOKUP(個人種目!M73,コード一覧!$E$2:$F$6,2,FALSE)","v":{"$error":"#N/A"}},{"$f":"VLOOKUP(個人種目!N73,コード一覧!$G$2:$I$4,2,FALSE)","v":{"$error":"#N/A"}},{"$f":"IF(LEN(個人種目!O73)=0,\"00\",IF(LEN(個人種目!O73)=1,\"0\"&個人種目!O73,個人種目!O73))","v":"00"},{"$f":"IF(LEN(個人種目!P73)=0,\"00\",IF(LEN(個人種目!P73)=1,\"0\"&個人種目!P73,個人種目!P73))","v":"00"},{"$f":"IF(LEN(個人種目!Q73)=0,\"00\",IF(LEN(個人種目!Q73)=1,\"0\"&個人種目!Q73,個人種目!Q73))","v":"00"},null,{"$f":"DATEDIF(DATE(個人種目!G73,個人種目!H73,個人種目!I73),$B$1+1,\"Y\")","v":{"$error":"#NUM!"}}]
[{"$f":"IF(LEN(個人種目!B74)=1,個人種目!B74&\" \",個人種目!B74)","v":0},{"$f":"IF(LEN(個人種目!C74)=1,\" \"&個人種目!C74,個人種目!C74)","v":0},"０　０","○",69,"０　０@69",{"$f":"ROUNDDOWN(YEARFRAC(DATE(個人種目!G74,個人種目!H74,個人種目!I74),$B$1,3),0)","v":{"$error":"#NUM!"}},{"$error":"#NUM!"},{"$f":"VLOOKUP(個人種目!M74,コード一覧!$E$2:$F$6,2,FALSE)","v":{"$error":"#N/A"}},{"$f":"VLOOKUP(個人種目!N74,コード一覧!$G$2:$I$4,2,FALSE)","v":{"$error":"#N/A"}},{"$f":"IF(LEN(個人種目!O74)=0,\"00\",IF(LEN(個人種目!O74)=1,\"0\"&個人種目!O74,個人種目!O74))","v":"00"},{"$f":"IF(LEN(個人種目!P74)=0,\"00\",IF(LEN(個人種目!P74)=1,\"0\"&個人種目!P74,個人種目!P74))","v":"00"},{"$f":"IF(LEN(個人種目!Q74)=0,\"00\",IF(LEN(個人種目!Q74)=1,\"0\"&個人種目!Q74,個人種目!Q74))","v":"00"},null,{"$f":"DATEDIF(DATE(個人種目!G74,個人種目!H74,個人種目!I74),$B$1+1,\"Y\")","v":{"$error":"#NUM!"}}]
[{"$f":"IF(LEN(個人種目!B75)=1,個人種目!B75&\" \",個人種目!B75)","v":0},{"$f":"IF(LEN(個人種目!C75)=1,\" \"&個人種目!C75,個人種目!C75)","v":0},"０　０","○",70,"０　０@70",{"$f":"ROUNDDOWN(YEARFRAC(DATE(個人種目!G75,個人種目!H75,個人種目!I75),$B$1,3),0)","v":{"$error":"#NUM!"}},{"$error":"#NUM!"},{"$f":"VLOOKUP(個人種目!M75,コード一覧!$E$2:$F$6,2,FALSE)","v":{"$error":"#N/A"}},{"$f":"VLOOKUP(個人種目!N75,コード一覧!$G$2:$I$4,2,FALSE)","v":{"$error":"#N/A"}},{"$f":"IF(LEN(個人種目!O75)=0,\"00\",IF(LEN(個人種目!O75)=1,\"0\"&個人種目!O75,個人種目!O75))","v":"00"},{"$f":"IF(LEN(個人種目!P75)=0,\"00\",IF(LEN(個人種目!P75)=1,\"0\"&個人種目!P75,個人種目!P75))","v":"00"},{"$f":"IF(LEN(個人種目!Q75)=0,\"00\",IF(LEN(個人種目!Q75)=1,\"0\"&個人種目!Q75,個人種目!Q75))","v":"00"},null,{"$f":"DATEDIF(DATE(個人種目!G75,個人種目!H75,個人種目!I75),$B$1+1,\"Y\")","v":{"$error":"#NUM!"}}]
[{"$f":"IF(LEN(個人種目!B76)=1,個人種目!B76&\" \",個人種目!B76)","v":0},{"$f":"IF(LEN(個人種目!C76)=1,\" \"&個人種目!C76,個人種目!C76)","v":0},"０　０","○",71,"０　０@71",{"$f":"ROUNDDOWN(YEARFRAC(DATE(個人種目!G76,個人種目!H76,個人種目!I76),$B$1,3),0)","v":{"$error":"#NUM!"}},{"$error":"#NUM!"},{"$f":"VLOOKUP(個人種目!M76,コード一覧!$E$2:$F$6,2,FALSE)","v":{"$error":"#N/A"}},{"$f":"VLOOKUP(個人種目!N76,コード一覧!$G$2:$I$4,2,FALSE)","v":{"$error":"#N/A"}},{"$f":"IF(LEN(個人種目!O76)=0,\"00\",IF(LEN(個人種目!O76)=1,\"0\"&個人種目!O76,個人種目!O76))","v":"00"},{"$f":"IF(LEN(個人種目!P76)=0,\"00\",IF(LEN(個人種目!P76)=1,\"0\"&個人種目!P76,個人種目!P76))","v":"00"},{"$f":"IF(LEN(個人種目!Q76)=0,\"00\",IF(LEN(個人種目!Q76)=1,\"0\"&個人種目!Q76,個人種目!Q76))","v":"00"},null,{"$f":"DATEDIF(DATE(個人種目!G76,個人種目!H76,個人種目!I76),$B$1+1,\"Y\")","v":{"$error":"#NUM!"}}]
[{"$f":"IF(LEN(個人種目!B77)=1,個人種目!B77&\" \",個人種目!B77)","v":0},{"$f":"IF(LEN(個人種目!C77)=1,\" \"&個人種目!C77,個人種目!C77)","v":0},"０　０","○",72,"０　０@72",{"$f":"ROUNDDOWN(YEARFRAC(DATE(個人種目!G77,個人種目!H77,個人種目!I77),$B$1,3),0)","v":{"$error":"#NUM!"}},{"$error":"#NUM!"},{"$f":"VLOOKUP(個人種目!M77,コード一覧!$E$2:$F$6,2,FALSE)","v":{"$error":"#N/A"}},{"$f":"VLOOKUP(個人種目!N77,コード一覧!$G$2:$I$4,2,FALSE)","v":{"$error":"#N/A"}},{"$f":"IF(LEN(個人種目!O77)=0,\"00\",IF(LEN(個人種目!O77)=1,\"0\"&個人種目!O77,個人種目!O77))","v":"00"},{"$f":"IF(LEN(個人種目!P77)=0,\"00\",IF(LEN(個人種目!P77)=1,\"0\"&個人種目!P77,個人種目!P77))","v":"00"},{"$f":"IF(LEN(個人種目!Q77)=0,\"00\",IF(LEN(個人種目!Q77)=1,\"0\"&個人種目!Q77,個人種目!Q77))","v":"00"},null,{"$f":"DATEDIF(DATE(個人種目!G77,個人種目!H77,個人種目!I77),$B$1+1,\"Y\")","v":{"$error":"#NUM!"}}]
[{"$f":"IF(LEN(個人種目!B78)=1,個人種目!B78&\" \",個人種目!B78)","v":0},{"$f":"IF(LEN(個人種目!C78)=1,\" \"&個人種目!C78,個人種目!C78)","v":0},"０　０","○",73,"０　０@73",{"$f":"ROUNDDOWN(YEARFRAC(DATE(個人種目!G78,個人種目!H78,個人種目!I78),$B$1,3),0)","v":{"$error":"#NUM!"}},{"$error":"#NUM!"},{"$f":"VLOOKUP(個人種目!M78,コード一覧!$E$2:$F$6,2,FALSE)","v":{"$error":"#N/A"}},{"$f":"VLOOKUP(個人種目!N78,コード一覧!$G$2:$I$4,2,FALSE)","v":{"$error":"#N/A"}},{"$f":"IF(LEN(個人種目!O78)=0,\"00\",IF(LEN(個人種目!O78)=1,\"0\"&個人種目!O78,個人種目!O78))","v":"00"},{"$f":"IF(LEN(個人種目!P78)=0,\"00\",IF(LEN(個人種目!P78)=1,\"0\"&個人種目!P78,個人種目!P78))","v":"00"},{"$f":"IF(LEN(個人種目!Q78)=0,\"00\",IF(LEN(個人種目!Q78)=1,\"0\"&個人種目!Q78,個人種目!Q78))","v":"00"},null,{"$f":"DATEDIF(DATE(個人種目!G78,個人種目!H78,個人種目!I78),$B$1+1,\"Y\")","v":{"$error":"#NUM!"}}]
[{"$f":"IF(LEN(個人種目!B79)=1,個人種目!B79&\" \",個人種目!B79)","v":0},{"$f":"IF(LEN(個人種目!C79)=1,\" \"&個人種目!C79,個人種目!C79)","v":0},"０　０","○",74,"０　０@74",{"$f":"ROUNDDOWN(YEARFRAC(DATE(個人種目!G79,個人種目!H79,個人種目!I79),$B$1,3),0)","v":{"$error":"#NUM!"}},{"$error":"#NUM!"},{"$f":"VLOOKUP(個人種目!M79,コード一覧!$E$2:$F$6,2,FALSE)","v":{"$error":"#N/A"}},{"$f":"VLOOKUP(個人種目!N79,コード一覧!$G$2:$I$4,2,FALSE)","v":{"$error":"#N/A"}},{"$f":"IF(LEN(個人種目!O79)=0,\"00\",IF(LEN(個人種目!O79)=1,\"0\"&個人種目!O79,個人種目!O79))","v":"00"},{"$f":"IF(LEN(個人種目!P79)=0,\"00\",IF(LEN(個人種目!P79)=1,\"0\"&個人種目!P79,個人種目!P79))","v":"00"},{"$f":"IF(LEN(個人種目!Q79)=0,\"00\",IF(LEN(個人種目!Q79)=1,\"0\"&個人種目!Q79,個人種目!Q79))","v":"00"},null,{"$f":"DATEDIF(DATE(個人種目!G79,個人種目!H79,個人種目!I79),$B$1+1,\"Y\")","v":{"$error":"#NUM!"}}]
[{"$f":"IF(LEN(個人種目!B80)=1,個人種目!B80&\" \",個人種目!B80)","v":0},{"$f":"IF(LEN(個人種目!C80)=1,\" \"&個人種目!C80,個人種目!C80)","v":0},"０　０","○",75,"０　０@75",{"$f":"ROUNDDOWN(YEARFRAC(DATE(個人種目!G80,個人種目!H80,個人種目!I80),$B$1,3),0)","v":{"$error":"#NUM!"}},{"$error":"#NUM!"},{"$f":"VLOOKUP(個人種目!M80,コード一覧!$E$2:$F$6,2,FALSE)","v":{"$error":"#N/A"}},{"$f":"VLOOKUP(個人種目!N80,コード一覧!$G$2:$I$4,2,FALSE)","v":{"$error":"#N/A"}},{"$f":"IF(LEN(個人種目!O80)=0,\"00\",IF(LEN(個人種目!O80)=1,\"0\"&個人種目!O80,個人種目!O80))","v":"00"},{"$f":"IF(LEN(個人種目!P80)=0,\"00\",IF(LEN(個人種目!P80)=1,\"0\"&個人種目!P80,個人種目!P80))","v":"00"},{"$f":"IF(LEN(個人種目!Q80)=0,\"00\",IF(LEN(個人種目!Q80)=1,\"0\"&個人種目!Q80,個人種目!Q80))","v":"00"},null,{"$f":"DATEDIF(DATE(個人種目!G80,個人種目!H80,個人種目!I80),$B$1+1,\"Y\")","v":{"$error":"#NUM!"}}]
[{"$f":"IF(LEN(個人種目!B81)=1,個人種目!B81&\" \",個人種目!B81)","v":0},{"$f":"IF(LEN(個人種目!C81)=1,\" \"&個人種目!C81,個人種目!C81)","v":0},"０　０","○",76,"０　０@76",{"$f":"ROUNDDOWN(YEARFRAC(DATE(個人種目!G81,個人種目!H81,個人種目!I81),$B$1,3),0)","v":{"$error":"#NUM!"}},{"$error":"#NUM!"},{"$f":"VLOOKUP(個人種目!M81,コード一覧!$E$2:$F$6,2,FALSE)","v":{"$error":"#N/A"}},{"$f":"VLOOKUP(個人種目!N81,コード一覧!$G$2:$I$4,2,FALSE)","v":{"$error":"#N/A"}},{"$f":"IF(LEN(個人種目!O81)=0,\"00\",IF(LEN(個人種目!O81)=1,\"0\"&個人種目!O81,個人種目!O81))","v":"00"},{"$f":"IF(LEN(個人種目!P81)=0,\"00\",IF(LEN(個人種目!P81)=1,\"0\"&個人種目!P81,個人種目!P81))","v":"00"},{"$f":"IF(LEN(個人種目!Q81)=0,\"00\",IF(LEN(個人種目!Q81)=1,\"0\"&個人種目!Q81,個人種目!Q81))","v":"00"},null,{"$f":"DATEDIF(DATE(個人種目!G81,個人種目!H81,個人種目!I81),$B$1+1,\"Y\")","v":{"$error":"#NUM!"}}]
[{"$f":"IF(LEN(個人種目!B82)=1,個人種目!B82&\" \",個人種目!B82)","v":0},{"$f":"IF(LEN(個人種目!C82)=1,\" \"&個人種目!C82,個人種目!C82)","v":0},"０　０","○",77,"０　０@77",{"$f":"ROUNDDOWN(YEARFRAC(DATE(個人種目!G82,個人種目!H82,個人種目!I82),$B$1,3),0)","v":{"$error":"#NUM!"}},{"$error":"#NUM!"},{"$f":"VLOOKUP(個人種目!M82,コード一覧!$E$2:$F$6,2,FALSE)","v":{"$error":"#N/A"}},{"$f":"VLOOKUP(個人種目!N82,コード一覧!$G$2:$I$4,2,FALSE)","v":{"$error":"#N/A"}},{"$f":"IF(LEN(個人種目!O82)=0,\"00\",IF(LEN(個人種目!O82)=1,\"0\"&個人種目!O82,個人種目!O82))","v":"00"},{"$f":"IF(LEN(個人種目!P82)=0,\"00\",IF(LEN(個人種目!P82)=1,\"0\"&個人種目!P82,個人種目!P82))","v":"00"},{"$f":"IF(LEN(個人種目!Q82)=0,\"00\",IF(LEN(個人種目!Q82)=1,\"0\"&個人種目!Q82,個人種目!Q82))","v":"00"},null,{"$f":"DATEDIF(DATE(個人種目!G82,個人種目!H82,個人種目!I82),$B$1+1,\"Y\")","v":{"$error":"#NUM!"}}]
[{"$f":"IF(LEN(個人種目!B83)=1,個人種目!B83&\" \",個人種目!B83)","v":0},{"$f":"IF(LEN(個人種目!C83)=1,\" \"&個人種目!C83,個人種目!C83)","v":0},"０　０","○",78,"０　０@78",{"$f":"ROUNDDOWN(YEARFRAC(DATE(個人種目!G83,個人種目!H83,個人種目!I83),$B$1,3),0)","v":{"$error":"#NUM!"}},{"$error":"#NUM!"},{"$f":"VLOOKUP(個人種目!M83,コード一覧!$E$2:$F$6,2,FALSE)","v":{"$error":"#N/A"}},{"$f":"VLOOKUP(個人種目!N83,コード一覧!$G$2:$I$4,2,FALSE)","v":{"$error":"#N/A"}},{"$f":"IF(LEN(個人種目!O83)=0,\"00\",IF(LEN(個人種目!O83)=1,\"0\"&個人種目!O83,個人種目!O83))","v":"00"},{"$f":"IF(LEN(個人種目!P83)=0,\"00\",IF(LEN(個人種目!P83)=1,\"0\"&個人種目!P83,個人種目!P83))","v":"00"},{"$f":"IF(LEN(個人種目!Q83)=0,\"00\",IF(LEN(個人種目!Q83)=1,\"0\"&個人種目!Q83,個人種目!Q83))","v":"00"},null,{"$f":"DATEDIF(DATE(個人種目!G83,個人種目!H83,個人種目!I83),$B$1+1,\"Y\")","v":{"$error":"#NUM!"}}]
[{"$f":"IF(LEN(個人種目!B84)=1,個人種目!B84&\" \",個人種目!B84)","v":0},{"$f":"IF(LEN(個人種目!C84)=1,\" \"&個人種目!C84,個人種目!C84)","v":0},"０　０","○",79,"０　０@79",{"$f":"ROUNDDOWN(YEARFRAC(DATE(個人種目!G84,個人種目!H84,個人種目!I84),$B$1,3),0)","v":{"$error":"#NUM!"}},{"$error":"#NUM!"},{"$f":"VLOOKUP(個人種目!M84,コード一覧!$E$2:$F$6,2,FALSE)","v":{"$error":"#N/A"}},{"$f":"VLOOKUP(個人種目!N84,コード一覧!$G$2:$I$4,2,FALSE)","v":{"$error":"#N/A"}},{"$f":"IF(LEN(個人種目!O84)=0,\"00\",IF(LEN(個人種目!O84)=1,\"0\"&個人種目!O84,個人種目!O84))","v":"00"},{"$f":"IF(LEN(個人種目!P84)=0,\"00\",IF(LEN(個人種目!P84)=1,\"0\"&個人種目!P84,個人種目!P84))","v":"00"},{"$f":"IF(LEN(個人種目!Q84)=0,\"00\",IF(LEN(個人種目!Q84)=1,\"0\"&個人種目!Q84,個人種目!Q84))","v":"00"},null,{"$f":"DATEDIF(DATE(個人種目!G84,個人種目!H84,個人種目!I84),$B$1+1,\"Y\")","v":{"$error":"#NUM!"}}]
[{"$f":"IF(LEN(個人種目!B85)=1,個人種目!B85&\" \",個人種目!B85)","v":0},{"$f":"IF(LEN(個人種目!C85)=1,\" \"&個人種目!C85,個人種目!C85)","v":0},"０　０","○",80,"０　０@80",{"$f":"ROUNDDOWN(YEARFRAC(DATE(個人種目!G85,個人種目!H85,個人種目!I85),$B$1,3),0)","v":{"$error":"#NUM!"}},{"$error":"#NUM!"},{"$f":"VLOOKUP(個人種目!M85,コード一覧!$E$2:$F$6,2,FALSE)","v":{"$error":"#N/A"}},{"$f":"VLOOKUP(個人種目!N85,コード一覧!$G$2:$I$4,2,FALSE)","v":{"$error":"#N/A"}},{"$f":"IF(LEN(個人種目!O85)=0,\"00\",IF(LEN(個人種目!O85)=1,\"0\"&個人種目!O85,個人種目!O85))","v":"00"},{"$f":"IF(LEN(個人種目!P85)=0,\"00\",IF(LEN(個人種目!P85)=1,\"0\"&個人種目!P85,個人種目!P85))","v":"00"},{"$f":"IF(LEN(個人種目!Q85)=0,\"00\",IF(LEN(個人種目!Q85)=1,\"0\"&個人種目!Q85,個人種目!Q85))","v":"00"},null,{"$f":"DATEDIF(DATE(個人種目!G85,個人種目!H85,個人種目!I85),$B$1+1,\"Y\")","v":{"$error":"#NUM!"}}]
[{"$f":"IF(LEN(個人種目!B86)=1,個人種目!B86&\" \",個人種目!B86)","v":0},{"$f":"IF(LEN(個人種目!C86)=1,\" \"&個人種目!C86,個人種目!C86)","v":0},"０　０","○",81,"０　０@81",{"$f":"ROUNDDOWN(YEARFRAC(DATE(個人種目!G86,個人種目!H86,個人種目!I86),$B$1,3),0)","v":{"$error":"#NUM!"}},{"$error":"#NUM!"},{"$f":"VLOOKUP(個人種目!M86,コード一覧!$E$2:$F$6,2,FALSE)","v":{"$error":"#N/A"}},{"$f":"VLOOKUP(個人種目!N86,コード一覧!$G$2:$I$4,2,FALSE)","v":{"$error":"#N/A"}},{"$f":"IF(LEN(個人種目!O86)=0,\"00\",IF(LEN(個人種目!O86)=1,\"0\"&個人種目!O86,個人種目!O86))","v":"00"},{"$f":"IF(LEN(個人種目!P86)=0,\"00\",IF(LEN(個人種目!P86)=1,\"0\"&個人種目!P86,個人種目!P86))","v":"00"},{"$f":"IF(LEN(個人種目!Q86)=0,\"00\",IF(LEN(個人種目!Q86)=1,\"0\"&個人種目!Q86,個人種目!Q86))","v":"00"},null,{"$f":"DATEDIF(DATE(個人種目!G86,個人種目!H86,個人種目!I86),$B$1+1,\"Y\")","v":{"$error":"#NUM!"}}]
[{"$f":"IF(LEN(個人種目!B87)=1,個人種目!B87&\" \",個人種目!B87)","v":0},{"$f":"IF(LEN(個人種目!C87)=1,\" \"&個人種目!C87,個人種目!C87)","v":0},"０　０","○",82,"０　０@82",{"$f":"ROUNDDOWN(YEARFRAC(DATE(個人種目!G87,個人種目!H87,個人種目!I87),$B$1,3),0)","v":{"$error":"#NUM!"}},{"$error":"#NUM!"},{"$f":"VLOOKUP(個人種目!M87,コード一覧!$E$2:$F$6,2,FALSE)","v":{"$error":"#N/A"}},{"$f":"VLOOKUP(個人種目!N87,コード一覧!$G$2:$I$4,2,FALSE)","v":{"$error":"#N/A"}},{"$f":"IF(LEN(個人種目!O87)=0,\"00\",IF(LEN(個人種目!O87)=1,\"0\"&個人種目!O87,個人種目!O87))","v":"00"},{"$f":"IF(LEN(個人種目!P87)=0,\"00\",IF(LEN(個人種目!P87)=1,\"0\"&個人種目!P87,個人種目!P87))","v":"00"},{"$f":"IF(LEN(個人種目!Q87)=0,\"00\",IF(LEN(個人種目!Q87)=1,\"0\"&個人種目!Q87,個人種目!Q87))","v":"00"},null,{"$f":"DATEDIF(DATE(個人種目!G87,個人種目!H87,個人種目!I87),$B$1+1,\"Y\")","v":{"$error":"#NUM!"}}]
[{"$f":"IF(LEN(個人種目!B88)=1,個人種目!B88&\" \",個人種目!B88)","v":0},{"$f":"IF(LEN(個人種目!C88)=1,\" \"&個人種目!C88,個人種目!C88)","v":0},"０　０","○",83,"０　０@83",{"$f":"ROUNDDOWN(YEARFRAC(DATE(個人種目!G88,個人種目!H88,個人種目!I88),$B$1,3),0)","v":{"$error":"#NUM!"}},{"$error":"#NUM!"},{"$f":"VLOOKUP(個人種目!M88,コード一覧!$E$2:$F$6,2,FALSE)","v":{"$error":"#N/A"}},{"$f":"VLOOKUP(個人種目!N88,コード一覧!$G$2:$I$4,2,FALSE)","v":{"$error":"#N/A"}},{"$f":"IF(LEN(個人種目!O88)=0,\"00\",IF(LEN(個人種目!O88)=1,\"0\"&個人種目!O88,個人種目!O88))","v":"00"},{"$f":"IF(LEN(個人種目!P88)=0,\"00\",IF(LEN(個人種目!P88)=1,\"0\"&個人種目!P88,個人種目!P88))","v":"00"},{"$f":"IF(LEN(個人種目!Q88)=0,\"00\",IF(LEN(個人種目!Q88)=1,\"0\"&個人種目!Q88,個人種目!Q88))","v":"00"},null,{"$f":"DATEDIF(DATE(個人種目!G88,個人種目!H88,個人種目!I88),$B$1+1,\"Y\")","v":{"$error":"#NUM!"}}]
[{"$f":"IF(LEN(個人種目!B89)=1,個人種目!B89&\" \",個人種目!B89)","v":0},{"$f":"IF(LEN(個人種目!C89)=1,\" \"&個人種目!C89,個人種目!C89)","v":0},"０　０","○",84,"０　０@84",{"$f":"ROUNDDOWN(YEARFRAC(DATE(個人種目!G89,個人種目!H89,個人種目!I89),$B$1,3),0)","v":{"$error":"#NUM!"}},{"$error":"#NUM!"},{"$f":"VLOOKUP(個人種目!M89,コード一覧!$E$2:$F$6,2,FALSE)","v":{"$error":"#N/A"}},{"$f":"VLOOKUP(個人種目!N89,コード一覧!$G$2:$I$4,2,FALSE)","v":{"$error":"#N/A"}},{"$f":"IF(LEN(個人種目!O89)=0,\"00\",IF(LEN(個人種目!O89)=1,\"0\"&個人種目!O89,個人種目!O89))","v":"00"},{"$f":"IF(LEN(個人種目!P89)=0,\"00\",IF(LEN(個人種目!P89)=1,\"0\"&個人種目!P89,個人種目!P89))","v":"00"},{"$f":"IF(LEN(個人種目!Q89)=0,\"00\",IF(LEN(個人種目!Q89)=1,\"0\"&個人種目!Q89,個人種目!Q89))","v":"00"},null,{"$f":"DATEDIF(DATE(個人種目!G89,個人種目!H89,個人種目!I89),$B$1+1,\"Y\")","v":{"$error":"#NUM!"}}]
[{"$f":"IF(LEN(個人種目!B90)=1,個人種目!B90&\" \",個人種目!B90)","v":0},{"$f":"IF(LEN(個人種目!C90)=1,\" \"&個人種目!C90,個人種目!C90)","v":0},"０　０","○",85,"０　０@85",{"$f":"ROUNDDOWN(YEARFRAC(DATE(個人種目!G90,個人種目!H90,個人種目!I90),$B$1,3),0)","v":{"$error":"#NUM!"}},{"$error":"#NUM!"},{"$f":"VLOOKUP(個人種目!M90,コード一覧!$E$2:$F$6,2,FALSE)","v":{"$error":"#N/A"}},{"$f":"VLOOKUP(個人種目!N90,コード一覧!$G$2:$I$4,2,FALSE)","v":{"$error":"#N/A"}},{"$f":"IF(LEN(個人種目!O90)=0,\"00\",IF(LEN(個人種目!O90)=1,\"0\"&個人種目!O90,個人種目!O90))","v":"00"},{"$f":"IF(LEN(個人種目!P90)=0,\"00\",IF(LEN(個人種目!P90)=1,\"0\"&個人種目!P90,個人種目!P90))","v":"00"},{"$f":"IF(LEN(個人種目!Q90)=0,\"00\",IF(LEN(個人種目!Q90)=1,\"0\"&個人種目!Q90,個人種目!Q90))","v":"00"},null,{"$f":"DATEDIF(DATE(個人種目!G90,個人種目!H90,個人種目!I90),$B$1+1,\"Y\")","v":{"$error":"#NUM!"}}]
[{"$f":"IF(LEN(個人種目!B91)=1,個人種目!B91&\" \",個人種目!B91)","v":0},{"$f":"IF(LEN(個人種目!C91)=1,\" \"&個人種目!C91,個人種目!C91)","v":0},"０　０","○",86,"０　０@86",{"$f":"ROUNDDOWN(YEARFRAC(DATE(個人種目!G91,個人種目!H91,個人種目!I91),$B$1,3),0)","v":{"$error":"#NUM!"}},{"$error":"#NUM!"},{"$f":"VLOOKUP(個人種目!M91,コード一覧!$E$2:$F$6,2,FALSE)","v":{"$error":"#N/A"}},{"$f":"VLOOKUP(個人種目!N91,コード一覧!$G$2:$I$4,2,FALSE)","v":{"$error":"#N/A"}},{"$f":"IF(LEN(個人種目!O91)=0,\"00\",IF(LEN(個人種目!O91)=1,\"0\"&個人種目!O91,個人種目!O91))","v":"00"},{"$f":"IF(LEN(個人種目!P91)=0,\"00\",IF(LEN(個人種目!P91)=1,\"0\"&個人種目!P91,個人種目!P91))","v":"00"},{"$f":"IF(LEN(個人種目!Q91)=0,\"00\",IF(LEN(個人種目!Q91)=1,\"0\"&個人種目!Q91,個人種目!Q91))","v":"00"},null,{"$f":"DATEDIF(DATE(個人種目!G91,個人種目!H91,個人種目!I91),$B$1+1,\"Y\")","v":{"$error":"#NUM!"}}]
[{"$f":"IF(LEN(個人種目!B92)=1,個人種目!B92&\" \",個人種目!B92)","v":0},{"$f":"IF(LEN(個人種目!C92)=1,\" \"&個人種目!C92,個人種目!C92)","v":0},"０　０","○",87,"０　０@87",{"$f":"ROUNDDOWN(YEARFRAC(DATE(個人種目!G92,個人種目!H92,個人種目!I92),$B$1,3),0)","v":{"$error":"#NUM!"}},{"$error":"#NUM!"},{"$f":"VLOOKUP(個人種目!M92,コード一覧!$E$2:$F$6,2,FALSE)","v":{"$error":"#N/A"}},{"$f":"VLOOKUP(個人種目!N92,コード一覧!$G$2:$I$4,2,FALSE)","v":{"$error":"#N/A"}},{"$f":"IF(LEN(個人種目!O92)=0,\"00\",IF(LEN(個人種目!O92)=1,\"0\"&個人種目!O92,個人種目!O92))","v":"00"},{"$f":"IF(LEN(個人種目!P92)=0,\"00\",IF(LEN(個人種目!P92)=1,\"0\"&個人種目!P92,個人種目!P92))","v":"00"},{"$f":"IF(LEN(個人種目!Q92)=0,\"00\",IF(LEN(個人種目!Q92)=1,\"0\"&個人種目!Q92,個人種目!Q92))","v":"00"},null,{"$f":"DATEDIF(DATE(個人種目!G92,個人種目!H92,個人種目!I92),$B$1+1,\"Y\")","v":{"$error":"#NUM!"}}]
[{"$f":"IF(LEN(個人種目!B93)=1,個人種目!B93&\" \",個人種目!B93)","v":0},{"$f":"IF(LEN(個人種目!C93)=1,\" \"&個人種目!C93,個人種目!C93)","v":0},"０　０","○",88,"０　０@88",{"$f":"ROUNDDOWN(YEARFRAC(DATE(個人種目!G93,個人種目!H93,個人種目!I93),$B$1,3),0)","v":{"$error":"#NUM!"}},{"$error":"#NUM!"},{"$f":"VLOOKUP(個人種目!M93,コード一覧!$E$2:$F$6,2,FALSE)","v":{"$error":"#N/A"}},{"$f":"VLOOKUP(個人種目!N93,コード一覧!$G$2:$I$4,2,FALSE)","v":{"$error":"#N/A"}},{"$f":"IF(LEN(個人種目!O93)=0,\"00\",IF(LEN(個人種目!O93)=1,\"0\"&個人種目!O93,個人種目!O93))","v":"00"},{"$f":"IF(LEN(個人種目!P93)=0,\"00\",IF(LEN(個人種目!P93)=1,\"0\"&個人種目!P93,個人種目!P93))","v":"00"},{"$f":"IF(LEN(個人種目!Q93)=0,\"00\",IF(LEN(個人種目!Q93)=1,\"0\"&個人種目!Q93,個人種目!Q93))","v":"00"},null,{"$f":"DATEDIF(DATE(個人種目!G93,個人種目!H93,個人種目!I93),$B$1+1,\"Y\")","v":{"$error":"#NUM!"}}]
[{"$f":"IF(LEN(個人種目!B94)=1,個人種目!B94&\" \",個人種目!B94)","v":0},{"$f":"IF(LEN(個人種目!C94)=1,\" \"&個人種目!C94,個人種目!C94)","v":0},"０　０","○",89,"０　０@89",{"$f":"ROUNDDOWN(YEARFRAC(DATE(個人種目!G94,個人種目!H94,個人種目!I94),$B$1,3),0)","v":{"$error":"#NUM!"}},{"$error":"#NUM!"},{"$f":"VLOOKUP(個人種目!M94,コード一覧!$E$2:$F$6,2,FALSE)","v":{"$error":"#N/A"}},{"$f":"VLOOKUP(個人種目!N94,コード一覧!$G$2:$I$4,2,FALSE)","v":{"$error":"#N/A"}},{"$f":"IF(LEN(個人種目!O94)=0,\"00\",IF(LEN(個人種目!O94)=1,\"0\"&個人種目!O94,個人種目!O94))","v":"00"},{"$f":"IF(LEN(個人種目!P94)=0,\"00\",IF(LEN(個人種目!P94)=1,\"0\"&個人種目!P94,個人種目!P94))","v":"00"},{"$f":"IF(LEN(個人種目!Q94)=0,\"00\",IF(LEN(個人種目!Q94)=1,\"0\"&個人種目!Q94,個人種目!Q94))","v":"00"},null,{"$f":"DATEDIF(DATE(個人種目!G94,個人種目!H94,個人種目!I94),$B$1+1,\"Y\")","v":{"$error":"#NUM!"}}]
[{"$f":"IF(LEN(個人種目!B95)=1,個人種目!B95&\" \",個人種目!B95)","v":0},{"$f":"IF(LEN(個人種目!C95)=1,\" \"&個人種目!C95,個人種目!C95)","v":0},"０　０","○",90,"０　０@90",{"$f":"ROUNDDOWN(YEARFRAC(DATE(個人種目!G95,個人種目!H95,個人種目!I95),$B$1,3),0)","v":{"$error":"#NUM!"}},{"$error":"#NUM!"},{"$f":"VLOOKUP(個人種目!M95,コード一覧!$E$2:$F$6,2,FALSE)","v":{"$error":"#N/A"}},{"$f":"VLOOKUP(個人種目!N95,コード一覧!$G$2:$I$4,2,FALSE)","v":{"$error":"#N/A"}},{"$f":"IF(LEN(個人種目!O95)=0,\"00\",IF(LEN(個人種目!O95)=1,\"0\"&個人種目!O95,個人種目!O95))","v":"00"},{"$f":"IF(LEN(個人種目!P95)=0,\"00\",IF(LEN(個人種目!P95)=1,\"0\"&個人種目!P95,個人種目!P95))","v":"00"},{"$f":"IF(LEN(個人種目!Q95)=0,\"00\",IF(LEN(個人種目!Q95)=1,\"0\"&個人種目!Q95,個人種目!Q95))","v":"00"},null,{"$f":"DATEDIF(DATE(個人種目!G95,個人種目!H95,個人種目!I95),$B$1+1,\"Y\")","v":{"$error":"#NUM!"}}]
[{"$f":"IF(LEN(個人種目!B96)=1,個人種目!B96&\" \",個人種目!B96)","v":0},{"$f":"IF(LEN(個人種目!C96)=1,\" \"&個人種目!C96,個人種目!C96)","v":0},"０　０","○",91,"０　０@91",{"$f":"ROUNDDOWN(YEARFRAC(DATE(個人種目!G96,個人種目!H96,個人種目!I96),$B$1,3),0)","v":{"$error":"#NUM!"}},{"$error":"#NUM!"},{"$f":"VLOOKUP(個人種目!M96,コード一覧!$E$2:$F$6,2,FALSE)","v":{"$error":"#N/A"}},{"$f":"VLOOKUP(個人種目!N96,コード一覧!$G$2:$I$4,2,FALSE)","v":{"$error":"#N/A"}},{"$f":"IF(LEN(個人種目!O96)=0,\"00\",IF(LEN(個人種目!O96)=1,\"0\"&個人種目!O96,個人種目!O96))","v":"00"},{"$f":"IF(LEN(個人種目!P96)=0,\"00\",IF(LEN(個人種目!P96)=1,\"0\"&個人種目!P96,個人種目!P96))","v":"00"},{"$f":"IF(LEN(個人種目!Q96)=0,\"00\",IF(LEN(個人種目!Q96)=1,\"0\"&個人種目!Q96,個人種目!Q96))","v":"00"},null,{"$f":"DATEDIF(DATE(個人種目!G96,個人種目!H96,個人種目!I96),$B$1+1,\"Y\")","v":{"$error":"#NUM!"}}]
[{"$f":"IF(LEN(個人種目!B97)=1,個人種目!B97&\" \",個人種目!B97)","v":0},{"$f":"IF(LEN(個人種目!C97)=1,\" \"&個人種目!C97,個人種目!C97)","v":0},"０　０","○",92,"０　０@92",{"$f":"ROUNDDOWN(YEARFRAC(DATE(個人種目!G97,個人種目!H97,個人種目!I97),$B$1,3),0)","v":{"$error":"#NUM!"}},{"$error":"#NUM!"},{"$f":"VLOOKUP(個人種目!M97,コード一覧!$E$2:$F$6,2,FALSE)","v":{"$error":"#N/A"}},{"$f":"VLOOKUP(個人種目!N97,コード一覧!$G$2:$I$4,2,FALSE)","v":{"$error":"#N/A"}},{"$f":"IF(LEN(個人種目!O97)=0,\"00\",IF(LEN(個人種目!O97)=1,\"0\"&個人種目!O97,個人種目!O97))","v":"00"},{"$f":"IF(LEN(個人種目!P97)=0,\"00\",IF(LEN(個人種目!P97)=1,\"0\"&個人種目!P97,個人種目!P97))","v":"00"},{"$f":"IF(LEN(個人種目!Q97)=0,\"00\",IF(LEN(個人種目!Q97)=1,\"0\"&個人種目!Q97,個人種目!Q97))","v":"00"},null,{"$f":"DATEDIF(DATE(個人種目!G97,個人種目!H97,個人種目!I97),$B$1+1,\"Y\")","v":{"$error":"#NUM!"}}]
[{"$f":"IF(LEN(個人種目!B98)=1,個人種目!B98&\" \",個人種目!B98)","v":0},{"$f":"IF(LEN(個人種目!C98)=1,\" \"&個人種目!C98,個人種目!C98)","v":0},"０　０","○",93,"０　０@93",{"$f":"ROUNDDOWN(YEARFRAC(DATE(個人種目!G98,個人種目!H98,個人種目!I98),$B$1,3),0)","v":{"$error":"#NUM!"}},{"$error":"#NUM!"},{"$f":"VLOOKUP(個人種目!M98,コード一覧!$E$2:$F$6,2,FALSE)","v":{"$error":"#N/A"}},{"$f":"VLOOKUP(個人種目!N98,コード一覧!$G$2:$I$4,2,FALSE)","v":{"$error":"#N/A"}},{"$f":"IF(LEN(個人種目!O98)=0,\"00\",IF(LEN(個人種目!O98)=1,\"0\"&個人種目!O98,個人種目!O98))","v":"00"},{"$f":"IF(LEN(個人種目!P98)=0,\"00\",IF(LEN(個人種目!P98)=1,\"0\"&個人種目!P98,個人種目!P98))","v":"00"},{"$f":"IF(LEN(個人種目!Q98)=0,\"00\",IF(LEN(個人種目!Q98)=1,\"0\"&個人種目!Q98,個人種目!Q98))","v":"00"},null,{"$f":"DATEDIF(DATE(個人種目!G98,個人種目!H98,個人種目!I98),$B$1+1,\"Y\")","v":{"$error":"#NUM!"}}]
[{"$f":"IF(LEN(個人種目!B99)=1,個人種目!B99&\" \",個人種目!B99)","v":0},{"$f":"IF(LEN(個人種目!C99)=1,\" \"&個人種目!C99,個人種目!C99)","v":0},"０　０","○",94,"０　０@94",{"$f":"ROUNDDOWN(YEARFRAC(DATE(個人種目!G99,個人種目!H99,個人種目!I99),$B$1,3),0)","v":{"$error":"#NUM!"}},{"$error":"#NUM!"},{"$f":"VLOOKUP(個人種目!M99,コード一覧!$E$2:$F$6,2,FALSE)","v":{"$error":"#N/A"}},{"$f":"VLOOKUP(個人種目!N99,コード一覧!$G$2:$I$4,2,FALSE)","v":{"$error":"#N/A"}},{"$f":"IF(LEN(個人種目!O99)=0,\"00\",IF(LEN(個人種目!O99)=1,\"0\"&個人種目!O99,個人種目!O99))","v":"00"},{"$f":"IF(LEN(個人種目!P99)=0,\"00\",IF(LEN(個人種目!P99)=1,\"0\"&個人種目!P99,個人種目!P99))","v":"00"},{"$f":"IF(LEN(個人種目!Q99)=0,\"00\",IF(LEN(個人種目!Q99)=1,\"0\"&個人種目!Q99,個人種目!Q99))","v":"00"},null,{"$f":"DATEDIF(DATE(個人種目!G99,個人種目!H99,個人種目!I99),$B$1+1,\"Y\")","v":{"$error":"#NUM!"}}]
[{"$f":"IF(LEN(個人種目!B100)=1,個人種目!B100&\" \",個人種目!B100)","v":0},{"$f":"IF(LEN(個人種目!C100)=1,\" \"&個人種目!C100,個人種目!C100)","v":0},"０　０","○",95,"０　０@95",{"$f":"ROUNDDOWN(YEARFRAC(DATE(個人種目!G100,個人種目!H100,個人種目!I100),$B$1,3),0)","v":{"$error":"#NUM!"}},{"$error":"#NUM!"},{"$f":"VLOOKUP(個人種目!M100,コード一覧!$E$2:$F$6,2,FALSE)","v":{"$error":"#N/A"}},{"$f":"VLOOKUP(個人種目!N100,コード一覧!$G$2:$I$4,2,FALSE)","v":{"$error":"#N/A"}},{"$f":"IF(LEN(個人種目!O100)=0,\"00\",IF(LEN(個人種目!O100)=1,\"0\"&個人種目!O100,個人種目!O100))","v":"00"},{"$f":"IF(LEN(個人種目!P100)=0,\"00\",IF(LEN(個人種目!P100)=1,\"0\"&個人種目!P100,個人種目!P100))","v":"00"},{"$f":"IF(LEN(個人種目!Q100)=0,\"00\",IF(LEN(個人種目!Q100)=1,\"0\"&個人種目!Q100,個人種目!Q100))","v":"00"},null,{"$f":"DATEDIF(DATE(個人種目!G100,個人種目!H100,個人種目!I100),$B$1+1,\"Y\")","v":{"$error":"#NUM!"}}]

{"sheet":"中間シート（リレー）","index":7,"n_rows":100,"n_cols":3,"rows_kept":100,"cut":false,"hidden":true,"merged":[]}
[]
[]
[]
[]
[]
[{"$f":"IF(LEN(リレー種目!H7)=0,\"00\",IF(LEN(リレー種目!H7)=1,\"0\"&リレー種目!H7,リレー種目!H7))","v":"00"},{"$f":"IF(LEN(リレー種目!I7)=0,\"00\",IF(LEN(リレー種目!I7)=1,\"0\"&リレー種目!I7,リレー種目!I7))","v":"00"},{"$f":"IF(LEN(リレー種目!J7)=0,\"00\",IF(LEN(リレー種目!J7)=1,\"0\"&リレー種目!J7,リレー種目!J7))","v":"00"}]
[{"$f":"IF(LEN(リレー種目!H8)=0,\"00\",IF(LEN(リレー種目!H8)=1,\"0\"&リレー種目!H8,リレー種目!H8))","v":"00"},{"$f":"IF(LEN(リレー種目!I8)=0,\"00\",IF(LEN(リレー種目!I8)=1,\"0\"&リレー種目!I8,リレー種目!I8))","v":"00"},{"$f":"IF(LEN(リレー種目!J8)=0,\"00\",IF(LEN(リレー種目!J8)=1,\"0\"&リレー種目!J8,リレー種目!J8))","v":"00"}]
[{"$f":"IF(LEN(リレー種目!H9)=0,\"00\",IF(LEN(リレー種目!H9)=1,\"0\"&リレー種目!H9,リレー種目!H9))","v":"00"},{"$f":"IF(LEN(リレー種目!I9)=0,\"00\",IF(LEN(リレー種目!I9)=1,\"0\"&リレー種目!I9,リレー種目!I9))","v":"00"},{"$f":"IF(LEN(リレー種目!J9)=0,\"00\",IF(LEN(リレー種目!J9)=1,\"0\"&リレー種目!J9,リレー種目!J9))","v":"00"}]
[{"$f":"IF(LEN(リレー種目!H10)=0,\"00\",IF(LEN(リレー種目!H10)=1,\"0\"&リレー種目!H10,リレー種目!H10))","v":"00"},{"$f":"IF(LEN(リレー種目!I10)=0,\"00\",IF(LEN(リレー種目!I10)=1,\"0\"&リレー種目!I10,リレー種目!I10))","v":"00"},{"$f":"IF(LEN(リレー種目!J10)=0,\"00\",IF(LEN(リレー種目!J10)=1,\"0\"&リレー種目!J10,リレー種目!J10))","v":"00"}]
[{"$f":"IF(LEN(リレー種目!H11)=0,\"00\",IF(LEN(リレー種目!H11)=1,\"0\"&リレー種目!H11,リレー種目!H11))","v":"00"},{"$f":"IF(LEN(リレー種目!I11)=0,\"00\",IF(LEN(リレー種目!I11)=1,\"0\"&リレー種目!I11,リレー種目!I11))","v":"00"},{"$f":"IF(LEN(リレー種目!J11)=0,\"00\",IF(LEN(リレー種目!J11)=1,\"0\"&リレー種目!J11,リレー種目!J11))","v":"00"}]
[{"$f":"IF(LEN(リレー種目!H12)=0,\"00\",IF(LEN(リレー種目!H12)=1,\"0\"&リレー種目!H12,リレー種目!H12))","v":"00"},{"$f":"IF(LEN(リレー種目!I12)=0,\"00\",IF(LEN(リレー種目!I12)=1,\"0\"&リレー種目!I12,リレー種目!I12))","v":"00"},{"$f":"IF(LEN(リレー種目!J12)=0,\"00\",IF(LEN(リレー種目!J12)=1,\"0\"&リレー種目!J12,リレー種目!J12))","v":"00"}]
[{"$f":"IF(LEN(リレー種目!H13)=0,\"00\",IF(LEN(リレー種目!H13)=1,\"0\"&リレー種目!H13,リレー種目!H13))","v":"00"},{"$f":"IF(LEN(リレー種目!I13)=0,\"00\",IF(LEN(リレー種目!I13)=1,\"0\"&リレー種目!I13,リレー種目!I13))","v":"00"},{"$f":"IF(LEN(リレー種目!J13)=0,\"00\",IF(LEN(リレー種目!J13)=1,\"0\"&リレー種目!J13,リレー種目!J13))","v":"00"}]
[{"$f":"IF(LEN(リレー種目!H14)=0,\"00\",IF(LEN(リレー種目!H14)=1,\"0\"&リレー種目!H14,リレー種目!H14))","v":"00"},{"$f":"IF(LEN(リレー種目!I14)=0,\"00\",IF(LEN(リレー種目!I14)=1,\"0\"&リレー種目!I14,リレー種目!I14))","v":"00"},{"$f":"IF(LEN(リレー種目!J14)=0,\"00\",IF(LEN(リレー種目!J14)=1,\"0\"&リレー種目!J14,リレー種目!J14))","v":"00"}]
[{"$f":"IF(LEN(リレー種目!H15)=0,\"00\",IF(LEN(リレー種目!H15)=1,\"0\"&リレー種目!H15,リレー種目!H15))","v":"00"},{"$f":"IF(LEN(リレー種目!I15)=0,\"00\",IF(LEN(リレー種目!I15)=1,\"0\"&リレー種目!I15,リレー種目!I15))","v":"00"},{"$f":"IF(LEN(リレー種目!J15)=0,\"00\",IF(LEN(リレー種目!J15)=1,\"0\"&リレー種目!J15,リレー種目!J15))","v":"00"}]
[{"$f":"IF(LEN(リレー種目!H16)=0,\"00\",IF(LEN(リレー種目!H16)=1,\"0\"&リレー種目!H16,リレー種目!H16))","v":"00"},{"$f":"IF(LEN(リレー種目!I16)=0,\"00\",IF(LEN(リレー種目!I16)=1,\"0\"&リレー種目!I16,リレー種目!I16))","v":"00"},{"$f":"IF(LEN(リレー種目!J16)=0,\"00\",IF(LEN(リレー種目!J16)=1,\"0\"&リレー種目!J16,リレー種目!J16))","v":"00"}]
[{"$f":"IF(LEN(リレー種目!H17)=0,\"00\",IF(LEN(リレー種目!H17)=1,\"0\"&リレー種目!H17,リレー種目!H17))","v":"00"},{"$f":"IF(LEN(リレー種目!I17)=0,\"00\",IF(LEN(リレー種目!I17)=1,\"0\"&リレー種目!I17,リレー種目!I17))","v":"00"},{"$f":"IF(LEN(リレー種目!J17)=0,\"00\",IF(LEN(リレー種目!J17)=1,\"0\"&リレー種目!J17,リレー種目!J17))","v":"00"}]
[{"$f":"IF(LEN(リレー種目!H18)=0,\"00\",IF(LEN(リレー種目!H18)=1,\"0\"&リレー種目!H18,リレー種目!H18))","v":"00"},{"$f":"IF(LEN(リレー種目!I18)=0,\"00\",IF(LEN(リレー種目!I18)=1,\"0\"&リレー種目!I18,リレー種目!I18))","v":"00"},{"$f":"IF(LEN(リレー種目!J18)=0,\"00\",IF(LEN(リレー種目!J18)=1,\"0\"&リレー種目!J18,リレー種目!J18))","v":"00"}]
[{"$f":"IF(LEN(リレー種目!H19)=0,\"00\",IF(LEN(リレー種目!H19)=1,\"0\"&リレー種目!H19,リレー種目!H19))","v":"00"},{"$f":"IF(LEN(リレー種目!I19)=0,\"00\",IF(LEN(リレー種目!I19)=1,\"0\"&リレー種目!I19,リレー種目!I19))","v":"00"},{"$f":"IF(LEN(リレー種目!J19)=0,\"00\",IF(LEN(リレー種目!J19)=1,\"0\"&リレー種目!J19,リレー種目!J19))","v":"00"}]
[{"$f":"IF(LEN(リレー種目!H20)=0,\"00\",IF(LEN(リレー種目!H20)=1,\"0\"&リレー種目!H20,リレー種目!H20))","v":"00"},{"$f":"IF(LEN(リレー種目!I20)=0,\"00\",IF(LEN(リレー種目!I20)=1,\"0\"&リレー種目!I20,リレー種目!I20))","v":"00"},{"$f":"IF(LEN(リレー種目!J20)=0,\"00\",IF(LEN(リレー種目!J20)=1,\"0\"&リレー種目!J20,リレー種目!J20))","v":"00"}]
[{"$f":"IF(LEN(リレー種目!H21)=0,\"00\",IF(LEN(リレー種目!H21)=1,\"0\"&リレー種目!H21,リレー種目!H21))","v":"00"},{"$f":"IF(LEN(リレー種目!I21)=0,\"00\",IF(LEN(リレー種目!I21)=1,\"0\"&リレー種目!I21,リレー種目!I21))","v":"00"},{"$f":"IF(LEN(リレー種目!J21)=0,\"00\",IF(LEN(リレー種目!J21)=1,\"0\"&リレー種目!J21,リレー種目!J21))","v":"00"}]
[{"$f":"IF(LEN(リレー種目!H22)=0,\"00\",IF(LEN(リレー種目!H22)=1,\"0\"&リレー種目!H22,リレー種目!H22))","v":"00"},{"$f":"IF(LEN(リレー種目!I22)=0,\"00\",IF(LEN(リレー種目!I22)=1,\"0\"&リレー種目!I22,リレー種目!I22))","v":"00"},{"$f":"IF(LEN(リレー種目!J22)=0,\"00\",IF(LEN(リレー種目!J22)=1,\"0\"&リレー種目!J22,リレー種目!J22))","v":"00"}]
[{"$f":"IF(LEN(リレー種目!H23)=0,\"00\",IF(LEN(リレー種目!H23)=1,\"0\"&リレー種目!H23,リレー種目!H23))","v":"00"},{"$f":"IF(LEN(リレー種目!I23)=0,\"00\",IF(LEN(リレー種目!I23)=1,\"0\"&リレー種目!I23,リレー種目!I23))","v":"00"},{"$f":"IF(LEN(リレー種目!J23)=0,\"00\",IF(LEN(リレー種目!J23)=1,\"0\"&リレー種目!J23,リレー種目!J23))","v":"00"}]
[{"$f":"IF(LEN(リレー種目!H24)=0,\"00\",IF(LEN(リレー種目!H24)=1,\"0\"&リレー種目!H24,リレー種目!H24))","v":"00"},{"$f":"IF(LEN(リレー種目!I24)=0,\"00\",IF(LEN(リレー種目!I24)=1,\"0\"&リレー種目!I24,リレー種目!I24))","v":"00"},{"$f":"IF(LEN(リレー種目!J24)=0,\"00\",IF(LEN(リレー種目!J24)=1,\"0\"&リレー種目!J24,リレー種目!J24))","v":"00"}]
[{"$f":"IF(LEN(リレー種目!H25)=0,\"00\",IF(LEN(リレー種目!H25)=1,\"0\"&リレー種目!H25,リレー種目!H25))","v":"00"},{"$f":"IF(LEN(リレー種目!I25)=0,\"00\",IF(LEN(リレー種目!I25)=1,\"0\"&リレー種目!I25,リレー種目!I25))","v":"00"},{"$f":"IF(LEN(リレー種目!J25)=0,\"00\",IF(LEN(リレー種目!J25)=1,\"0\"&リレー種目!J25,リレー種目!J25))","v":"00"}]
[{"$f":"IF(LEN(リレー種目!H26)=0,\"00\",IF(LEN(リレー種目!H26)=1,\"0\"&リレー種目!H26,リレー種目!H26))","v":"00"},{"$f":"IF(LEN(リレー種目!I26)=0,\"00\",IF(LEN(リレー種目!I26)=1,\"0\"&リレー種目!I26,リレー種目!I26))","v":"00"},{"$f":"IF(LEN(リレー種目!J26)=0,\"00\",IF(LEN(リレー種目!J26)=1,\"0\"&リレー種目!J26,リレー種目!J26))","v":"00"}]
[{"$f":"IF(LEN(リレー種目!H27)=0,\"00\",IF(LEN(リレー種目!H27)=1,\"0\"&リレー種目!H27,リレー種目!H27))","v":"00"},{"$f":"IF(LEN(リレー種目!I27)=0,\"00\",IF(LEN(リレー種目!I27)=1,\"0\"&リレー種目!I27,リレー種目!I27))","v":"00"},{"$f":"IF(LEN(リレー種目!J27)=0,\"00\",IF(LEN(リレー種目!J27)=1,\"0\"&リレー種目!J27,リレー種目!J27))","v":"00"}]
[{"$f":"IF(LEN(リレー種目!H28)=0,\"00\",IF(LEN(リレー種目!H28)=1,\"0\"&リレー種目!H28,リレー種目!H28))","v":"00"},{"$f":"IF(LEN(リレー種目!I28)=0,\"00\",IF(LEN(リレー種目!I28)=1,\"0\"&リレー種目!I28,リレー種目!I28))","v":"00"},{"$f":"IF(LEN(リレー種目!J28)=0,\"00\",IF(LEN(リレー種目!J28)=1,\"0\"&リレー種目!J28,リレー種目!J28))","v":"00"}]
[{"$f":"IF(LEN(リレー種目!H29)=0,\"00\",IF(LEN(リレー種目!H29)=1,\"0\"&リレー種目!H29,リレー種目!H29))","v":"00"},{"$f":"IF(LEN(リレー種目!I29)=0,\"00\",IF(LEN(リレー種目!I29)=1,\"0\"&リレー種目!I29,リレー種目!I29))","v":"00"},{"$f":"IF(LEN(リレー種目!J29)=0,\"00\",IF(LEN(リレー種目!J29)=1,\"0\"&リレー種目!J29,リレー種目!J29))","v":"00"}]
[{"$f":"IF(LEN(リレー種目!H30)=0,\"00\",IF(LEN(リレー種目!H30)=1,\"0\"&リレー種目!H30,リレー種目!H30))","v":"00"},{"$f":"IF(LEN(リレー種目!I30)=0,\"00\",IF(LEN(リレー種目!I30)=1,\"0\"&リレー種目!I30,リレー種目!I30))","v":"00"},{"$f":"IF(LEN(リレー種目!J30)=0,\"00\",IF(LEN(リレー種目!J30)=1,\"0\"&リレー種目!J30,リレー種目!J30))","v":"00"}]
[{"$f":"IF(LEN(リレー種目!H31)=0,\"00\",IF(LEN(リレー種目!H31)=1,\"0\"&リレー種目!H31,リレー種目!H31))","v":"00"},{"$f":"IF(LEN(リレー種目!I31)=0,\"00\",IF(LEN(リレー種目!I31)=1,\"0\"&リレー種目!I31,リレー種目!I31))","v":"00"},{"$f":"IF(LEN(リレー種目!J31)=0,\"00\",IF(LEN(リレー種目!J31)=1,\"0\"&リレー種目!J31,リレー種目!J31))","v":"00"}]
[{"$f":"IF(LEN(リレー種目!H32)=0,\"00\",IF(LEN(リレー種目!H32)=1,\"0\"&リレー種目!H32,リレー種目!H32))","v":"00"},{"$f":"IF(LEN(リレー種目!I32)=0,\"00\",IF(LEN(リレー種目!I32)=1,\"0\"&リレー種目!I32,リレー種目!I32))","v":"00"},{"$f":"IF(LEN(リレー種目!J32)=0,\"00\",IF(LEN(リレー種目!J32)=1,\"0\"&リレー種目!J32,リレー種目!J32))","v":"00"}]
[{"$f":"IF(LEN(リレー種目!H33)=0,\"00\",IF(LEN(リレー種目!H33)=1,\"0\"&リレー種目!H33,リレー種目!H33))","v":"00"},{"$f":"IF(LEN(リレー種目!I33)=0,\"00\",IF(LEN(リレー種目!I33)=1,\"0\"&リレー種目!I33,リレー種目!I33))","v":"00"},{"$f":"IF(LEN(リレー種目!J33)=0,\"00\",IF(LEN(リレー種目!J33)=1,\"0\"&リレー種目!J33,リレー種目!J33))","v":"00"}]
[{"$f":"IF(LEN(リレー種目!H34)=0,\"00\",IF(LEN(リレー種目!H34)=1,\"0\"&リレー種目!H34,リレー種目!H34))","v":"00"},{"$f":"IF(LEN(リレー種目!I34)=0,\"00\",IF(LEN(リレー種目!I34)=1,\"0\"&リレー種目!I34,リレー種目!I34))","v":"00"},{"$f":"IF(LEN(リレー種目!J34)=0,\"00\",IF(LEN(リレー種目!J34)=1,\"0\"&リレー種目!J34,リレー種目!J34))","v":"00"}]
[{"$f":"IF(LEN(リレー種目!H35)=0,\"00\",IF(LEN(リレー種目!H35)=1,\"0\"&リレー種目!H35,リレー種目!H35))","v":"00"},{"$f":"IF(LEN(リレー種目!I35)=0,\"00\",IF(LEN(リレー種目!I35)=1,\"0\"&リレー種目!I35,リレー種目!I35))","v":"00"},{"$f":"IF(LEN(リレー種目!J35)=0,\"00\",IF(LEN(リレー種目!J35)=1,\"0\"&リレー種目!J35,リレー種目!J35))","v":"00"}]
[{"$f":"IF(LEN(リレー種目!H36)=0,\"00\",IF(LEN(リレー種目!H36)=1,\"0\"&リレー種目!H36,リレー種目!H36))","v":"00"},{"$f":"IF(LEN(リレー種目!I36)=0,\"00\",IF(LEN(リレー種目!I36)=1,\"0\"&リレー種目!I36,リレー種目!I36))","v":"00"},{"$f":"IF(LEN(リレー種目!J36)=0,\"00\",IF(LEN(リレー種目!J36)=1,\"0\"&リレー種目!J36,リレー種目!J36))","v":"00"}]
[{"$f":"IF(LEN(リレー種目!H37)=0,\"00\",IF(LEN(リレー種目!H37)=1,\"0\"&リレー種目!H37,リレー種目!H37))","v":"00"},{"$f":"IF(LEN(リレー種目!I37)=0,\"00\",IF(LEN(リレー種目!I37)=1,\"0\"&リレー種目!I37,リレー種目!I37))","v":"00"},{"$f":"IF(LEN(リレー種目!J37)=0,\"00\",IF(LEN(リレー種目!J37)=1,\"0\"&リレー種目!J37,リレー種目!J37))","v":"00"}]
[{"$f":"IF(LEN(リレー種目!H38)=0,\"00\",IF(LEN(リレー種目!H38)=1,\"0\"&リレー種目!H38,リレー種目!H38))","v":"00"},{"$f":"IF(LEN(リレー種目!I38)=0,\"00\",IF(LEN(リレー種目!I38)=1,\"0\"&リレー種目!I38,リレー種目!I38))","v":"00"},{"$f":"IF(LEN(リレー種目!J38)=0,\"00\",IF(LEN(リレー種目!J38)=1,\"0\"&リレー種目!J38,リレー種目!J38))","v":"00"}]
[{"$f":"IF(LEN(リレー種目!H39)=0,\"00\",IF(LEN(リレー種目!H39)=1,\"0\"&リレー種目!H39,リレー種目!H39))","v":"00"},{"$f":"IF(LEN(リレー種目!I39)=0,\"00\",IF(LEN(リレー種目!I39)=1,\"0\"&リレー種目!I39,リレー種目!I39))","v":"00"},{"$f":"IF(LEN(リレー種目!J39)=0,\"00\",IF(LEN(リレー種目!J39)=1,\"0\"&リレー種目!J39,リレー種目!J39))","v":"00"}]
[{"$f":"IF(LEN(リレー種目!H40)=0,\"00\",IF(LEN(リレー種目!H40)=1,\"0\"&リレー種目!H40,リレー種目!H40))","v":"00"},{"$f":"IF(LEN(リレー種目!I40)=0,\"00\",IF(LEN(リレー種目!I40)=1,\"0\"&リレー種目!I40,リレー種目!I40))","v":"00"},{"$f":"IF(LEN(リレー種目!J40)=0,\"00\",IF(LEN(リレー種目!J40)=1,\"0\"&リレー種目!J40,リレー種目!J40))","v":"00"}]
[{"$f":"IF(LEN(リレー種目!H41)=0,\"00\",IF(LEN(リレー種目!H41)=1,\"0\"&リレー種目!H41,リレー種目!H41))","v":"00"},{"$f":"IF(LEN(リレー種目!I41)=0,\"00\",IF(LEN(リレー種目!I41)=1,\"0\"&リレー種目!I41,リレー種目!I41))","v":"00"},{"$f":"IF(LEN(リレー種目!J41)=0,\"00\",IF(LEN(リレー種目!J41)=1,\"0\"&リレー種目!J41,リレー種目!J41))","v":"00"}]
[{"$f":"IF(LEN(リレー種目!H42)=0,\"00\",IF(LEN(リレー種目!H42)=1,\"0\"&リレー種目!H42,リレー種目!H42))","v":"00"},{"$f":"IF(LEN(リレー種目!I42)=0,\"00\",IF(LEN(リレー種目!I42)=1,\"0\"&リレー種目!I42,リレー種目!I42))","v":"00"},{"$f":"IF(LEN(リレー種目!J42)=0,\"00\",IF(LEN(リレー種目!J42)=1,\"0\"&リレー種目!J42,リレー種目!J42))","v":"00"}]
[{"$f":"IF(LEN(リレー種目!H43)=0,\"00\",IF(LEN(リレー種目!H43)=1,\"0\"&リレー種目!H43,リレー種目!H43))","v":"00"},{"$f":"IF(LEN(リレー種目!I43)=0,\"00\",IF(LEN(リレー種目!I43)=1,\"0\"&リレー種目!I43,リレー種目!I43))","v":"00"},{"$f":"IF(LEN(リレー種目!J43)=0,\"00\",IF(LEN(リレー種目!J43)=1,\"0\"&リレー種目!J43,リレー種目!J43))","v":"00"}]
[{"$f":"IF(LEN(リレー種目!H44)=0,\"00\",IF(LEN(リレー種目!H44)=1,\"0\"&リレー種目!H44,リレー種目!H44))","v":"00"},{"$f":"IF(LEN(リレー種目!I44)=0,\"00\",IF(LEN(リレー種目!I44)=1,\"0\"&リレー種目!I44,リレー種目!I44))","v":"00"},{"$f":"IF(LEN(リレー種目!J44)=0,\"00\",IF(LEN(リレー種目!J44)=1,\"0\"&リレー種目!J44,リレー種目!J44))","v":"00"}]
[{"$f":"IF(LEN(リレー種目!H45)=0,\"00\",IF(LEN(リレー種目!H45)=1,\"0\"&リレー種目!H45,リレー種目!H45))","v":"00"},{"$f":"IF(LEN(リレー種目!I45)=0,\"00\",IF(LEN(リレー種目!I45)=1,\"0\"&リレー種目!I45,リレー種目!I45))","v":"00"},{"$f":"IF(LEN(リレー種目!J45)=0,\"00\",IF(LEN(リレー種目!J45)=1,\"0\"&リレー種目!J45,リレー種目!J45))","v":"00"}]
[{"$f":"IF(LEN(リレー種目!H46)=0,\"00\",IF(LEN(リレー種目!H46)=1,\"0\"&リレー種目!H46,リレー種目!H46))","v":"00"},{"$f":"IF(LEN(リレー種目!I46)=0,\"00\",IF(LEN(リレー種目!I46)=1,\"0\"&リレー種目!I46,リレー種目!I46))","v":"00"},{"$f":"IF(LEN(リレー種目!J46)=0,\"00\",IF(LEN(リレー種目!J46)=1,\"0\"&リレー種目!J46,リレー種目!J46))","v":"00"}]
[{"$f":"IF(LEN(リレー種目!H47)=0,\"00\",IF(LEN(リレー種目!H47)=1,\"0\"&リレー種目!H47,リレー種目!H47))","v":"00"},{"$f":"IF(LEN(リレー種目!I47)=0,\"00\",IF(LEN(リレー種目!I47)=1,\"0\"&リレー種目!I47,リレー種目!I47))","v":"00"},{"$f":"IF(LEN(リレー種目!J47)=0,\"00\",IF(LEN(リレー種目!J47)=1,\"0\"&リレー種目!J47,リレー種目!J47))","v":"00"}]
[{"$f":"IF(LEN(リレー種目!H48)=0,\"00\",IF(LEN(リレー種目!H48)=1,\"0\"&リレー種目!H48,リレー種目!H48))","v":"00"},{"$f":"IF(LEN(リレー種目!I48)=0,\"00\",IF(LEN(リレー種目!I48)=1,\"0\"&リレー種目!I48,リレー種目!I48))","v":"00"},{"$f":"IF(LEN(リレー種目!J48)=0,\"00\",IF(LEN(リレー種目!J48)=1,\"0\"&リレー種目!J48,リレー種目!J48))","v":"00"}]
[{"$f":"IF(LEN(リレー種目!H49)=0,\"00\",IF(LEN(リレー種目!H49)=1,\"0\"&リレー種目!H49,リレー種目!H49))","v":"00"},{"$f":"IF(LEN(リレー種目!I49)=0,\"00\",IF(LEN(リレー種目!I49)=1,\"0\"&リレー種目!I49,リレー種目!I49))","v":"00"},{"$f":"IF(LEN(リレー種目!J49)=0,\"00\",IF(LEN(リレー種目!J49)=1,\"0\"&リレー種目!J49,リレー種目!J49))","v":"00"}]
[{"$f":"IF(LEN(リレー種目!H50)=0,\"00\",IF(LEN(リレー種目!H50)=1,\"0\"&リレー種目!H50,リレー種目!H50))","v":"00"},{"$f":"IF(LEN(リレー種目!I50)=0,\"00\",IF(LEN(リレー種目!I50)=1,\"0\"&リレー種目!I50,リレー種目!I50))","v":"00"},{"$f":"IF(LEN(リレー種目!J50)=0,\"00\",IF(LEN(リレー種目!J50)=1,\"0\"&リレー種目!J50,リレー種目!J50))","v":"00"}]
[{"$f":"IF(LEN(リレー種目!H51)=0,\"00\",IF(LEN(リレー種目!H51)=1,\"0\"&リレー種目!H51,リレー種目!H51))","v":"00"},{"$f":"IF(LEN(リレー種目!I51)=0,\"00\",IF(LEN(リレー種目!I51)=1,\"0\"&リレー種目!I51,リレー種目!I51))","v":"00"},{"$f":"IF(LEN(リレー種目!J51)=0,\"00\",IF(LEN(リレー種目!J51)=1,\"0\"&リレー種目!J51,リレー種目!J51))","v":"00"}]
[{"$f":"IF(LEN(リレー種目!H52)=0,\"00\",IF(LEN(リレー種目!H52)=1,\"0\"&リレー種目!H52,リレー種目!H52))","v":"00"},{"$f":"IF(LEN(リレー種目!I52)=0,\"00\",IF(LEN(リレー種目!I52)=1,\"0\"&リレー種目!I52,リレー種目!I52))","v":"00"},{"$f":"IF(LEN(リレー種目!J52)=0,\"00\",IF(LEN(リレー種目!J52)=1,\"0\"&リレー種目!J52,リレー種目!J52))","v":"00"}]
[{"$f":"IF(LEN(リレー種目!H53)=0,\"00\",IF(LEN(リレー種目!H53)=1,\"0\"&リレー種目!H53,リレー種目!H53))","v":"00"},{"$f":"IF(LEN(リレー種目!I53)=0,\"00\",IF(LEN(リレー種目!I53)=1,\"0\"&リレー種目!I53,リレー種目!I53))","v":"00"},{"$f":"IF(LEN(リレー種目!J53)=0,\"00\",IF(LEN(リレー種目!J53)=1,\"0\"&リレー種目!J53,リレー種目!J53))","v":"00"}]
[{"$f":"IF(LEN(リレー種目!H54)=0,\"00\",IF(LEN(リレー種目!H54)=1,\"0\"&リレー種目!H54,リレー種目!H54))","v":"00"},{"$f":"IF(LEN(リレー種目!I54)=0,\"00\",IF(LEN(リレー種目!I54)=1,\"0\"&リレー種目!I54,リレー種目!I54))","v":"00"},{"$f":"IF(LEN(リレー種目!J54)=0,\"00\",IF(LEN(リレー種目!J54)=1,\"0\"&リレー種目!J54,リレー種目!J54))","v":"00"}]
[{"$f":"IF(LEN(リレー種目!H55)=0,\"00\",IF(LEN(リレー種目!H55)=1,\"0\"&リレー種目!H55,リレー種目!H55))","v":"00"},{"$f":"IF(LEN(リレー種目!I55)=0,\"00\",IF(LEN(リレー種目!I55)=1,\"0\"&リレー種目!I55,リレー種目!I55))","v":"00"},{"$f":"IF(LEN(リレー種目!J55)=0,\"00\",IF(LEN(リレー種目!J55)=1,\"0\"&リレー種目!J55,リレー種目!J55))","v":"00"}]
[{"$f":"IF(LEN(リレー種目!H56)=0,\"00\",IF(LEN(リレー種目!H56)=1,\"0\"&リレー種目!H56,リレー種目!H56))","v":"00"},{"$f":"IF(LEN(リレー種目!I56)=0,\"00\",IF(LEN(リレー種目!I56)=1,\"0\"&リレー種目!I56,リレー種目!I56))","v":"00"},{"$f":"IF(LEN(リレー種目!J56)=0,\"00\",IF(LEN(リレー種目!J56)=1,\"0\"&リレー種目!J56,リレー種目!J56))","v":"00"}]
[{"$f":"IF(LEN(リレー種目!H57)=0,\"00\",IF(LEN(リレー種目!H57)=1,\"0\"&リレー種目!H57,リレー種目!H57))","v":"00"},{"$f":"IF(LEN(リレー種目!I57)=0,\"00\",IF(LEN(リレー種目!I57)=1,\"0\"&リレー種目!I57,リレー種目!I57))","v":"00"},{"$f":"IF(LEN(リレー種目!J57)=0,\"00\",IF(LEN(リレー種目!J57)=1,\"0\"&リレー種目!J57,リレー種目!J57))","v":"00"}]
[{"$f":"IF(LEN(リレー種目!H58)=0,\"00\",IF(LEN(リレー種目!H58)=1,\"0\"&リレー種目!H58,リレー種目!H58))","v":"00"},{"$f":"IF(LEN(リレー種目!I58)=0,\"00\",IF(LEN(リレー種目!I58)=1,\"0\"&リレー種目!I58,リレー種目!I58))","v":"00"},{"$f":"IF(LEN(リレー種目!J58)=0,\"00\",IF(LEN(リレー種目!J58)=1,\"0\"&リレー種目!J58,リレー種目!J58))","v":"00"}]
[{"$f":"IF(LEN(リレー種目!H59)=0,\"00\",IF(LEN(リレー種目!H59)=1,\"0\"&リレー種目!H59,リレー種目!H59))","v":"00"},{"$f":"IF(LEN(リレー種目!I59)=0,\"00\",IF(LEN(リレー種目!I59)=1,\"0\"&リレー種目!I59,リレー種目!I59))","v":"00"},{"$f":"IF(LEN(リレー種目!J59)=0,\"00\",IF(LEN(リレー種目!J59)=1,\"0\"&リレー種目!J59,リレー種目!J59))","v":"00"}]
[{"$f":"IF(LEN(リレー種目!H60)=0,\"00\",IF(LEN(リレー種目!H60)=1,\"0\"&リレー種目!H60,リレー種目!H60))","v":"00"},{"$f":"IF(LEN(リレー種目!I60)=0,\"00\",IF(LEN(リレー種目!I60)=1,\"0\"&リレー種目!I60,リレー種目!I60))","v":"00"},{"$f":"IF(LEN(リレー種目!J60)=0,\"00\",IF(LEN(リレー種目!J60)=1,\"0\"&リレー種目!J60,リレー種目!J60))","v":"00"}]
[{"$f":"IF(LEN(リレー種目!H61)=0,\"00\",IF(LEN(リレー種目!H61)=1,\"0\"&リレー種目!H61,リレー種目!H61))","v":"00"},{"$f":"IF(LEN(リレー種目!I61)=0,\"00\",IF(LEN(リレー種目!I61)=1,\"0\"&リレー種目!I61,リレー種目!I61))","v":"00"},{"$f":"IF(LEN(リレー種目!J61)=0,\"00\",IF(LEN(リレー種目!J61)=1,\"0\"&リレー種目!J61,リレー種目!J61))","v":"00"}]
[{"$f":"IF(LEN(リレー種目!H62)=0,\"00\",IF(LEN(リレー種目!H62)=1,\"0\"&リレー種目!H62,リレー種目!H62))","v":"00"},{"$f":"IF(LEN(リレー種目!I62)=0,\"00\",IF(LEN(リレー種目!I62)=1,\"0\"&リレー種目!I62,リレー種目!I62))","v":"00"},{"$f":"IF(LEN(リレー種目!J62)=0,\"00\",IF(LEN(リレー種目!J62)=1,\"0\"&リレー種目!J62,リレー種目!J62))","v":"00"}]
[{"$f":"IF(LEN(リレー種目!H63)=0,\"00\",IF(LEN(リレー種目!H63)=1,\"0\"&リレー種目!H63,リレー種目!H63))","v":"00"},{"$f":"IF(LEN(リレー種目!I63)=0,\"00\",IF(LEN(リレー種目!I63)=1,\"0\"&リレー種目!I63,リレー種目!I63))","v":"00"},{"$f":"IF(LEN(リレー種目!J63)=0,\"00\",IF(LEN(リレー種目!J63)=1,\"0\"&リレー種目!J63,リレー種目!J63))","v":"00"}]
[{"$f":"IF(LEN(リレー種目!H64)=0,\"00\",IF(LEN(リレー種目!H64)=1,\"0\"&リレー種目!H64,リレー種目!H64))","v":"00"},{"$f":"IF(LEN(リレー種目!I64)=0,\"00\",IF(LEN(リレー種目!I64)=1,\"0\"&リレー種目!I64,リレー種目!I64))","v":"00"},{"$f":"IF(LEN(リレー種目!J64)=0,\"00\",IF(LEN(リレー種目!J64)=1,\"0\"&リレー種目!J64,リレー種目!J64))","v":"00"}]
[{"$f":"IF(LEN(リレー種目!H65)=0,\"00\",IF(LEN(リレー種目!H65)=1,\"0\"&リレー種目!H65,リレー種目!H65))","v":"00"},{"$f":"IF(LEN(リレー種目!I65)=0,\"00\",IF(LEN(リレー種目!I65)=1,\"0\"&リレー種目!I65,リレー種目!I65))","v":"00"},{"$f":"IF(LEN(リレー種目!J65)=0,\"00\",IF(LEN(リレー種目!J65)=1,\"0\"&リレー種目!J65,リレー種目!J65))","v":"00"}]
[{"$f":"IF(LEN(リレー種目!H66)=0,\"00\",IF(LEN(リレー種目!H66)=1,\"0\"&リレー種目!H66,リレー種目!H66))","v":"00"},{"$f":"IF(LEN(リレー種目!I66)=0,\"00\",IF(LEN(リレー種目!I66)=1,\"0\"&リレー種目!I66,リレー種目!I66))","v":"00"},{"$f":"IF(LEN(リレー種目!J66)=0,\"00\",IF(LEN(リレー種目!J66)=1,\"0\"&リレー種目!J66,リレー種目!J66))","v":"00"}]
[{"$f":"IF(LEN(リレー種目!H67)=0,\"00\",IF(LEN(リレー種目!H67)=1,\"0\"&リレー種目!H67,リレー種目!H67))","v":"00"},{"$f":"IF(LEN(リレー種目!I67)=0,\"00\",IF(LEN(リレー種目!I67)=1,\"0\"&リレー種目!I67,リレー種目!I67))","v":"00"},{"$f":"IF(LEN(リレー種目!J67)=0,\"00\",IF(LEN(リレー種目!J67)=1,\"0\"&リレー種目!J67,リレー種目!J67))","v":"00"}]
[{"$f":"IF(LEN(リレー種目!H68)=0,\"00\",IF(LEN(リレー種目!H68)=1,\"0\"&リレー種目!H68,リレー種目!H68))","v":"00"},{"$f":"IF(LEN(リレー種目!I68)=0,\"00\",IF(LEN(リレー種目!I68)=1,\"0\"&リレー種目!I68,リレー種目!I68))","v":"00"},{"$f":"IF(LEN(リレー種目!J68)=0,\"00\",IF(LEN(リレー種目!J68)=1,\"0\"&リレー種目!J68,リレー種目!J68))","v":"00"}]
[{"$f":"IF(LEN(リレー種目!H69)=0,\"00\",IF(LEN(リレー種目!H69)=1,\"0\"&リレー種目!H69,リレー種目!H69))","v":"00"},{"$f":"IF(LEN(リレー種目!I69)=0,\"00\",IF(LEN(リレー種目!I69)=1,\"0\"&リレー種目!I69,リレー種目!I69))","v":"00"},{"$f":"IF(LEN(リレー種目!J69)=0,\"00\",IF(LEN(リレー種目!J69)=1,\"0\"&リレー種目!J69,リレー種目!J69))","v":"00"}]
[{"$f":"IF(LEN(リレー種目!H70)=0,\"00\",IF(LEN(リレー種目!H70)=1,\"0\"&リレー種目!H70,リレー種目!H70))","v":"00"},{"$f":"IF(LEN(リレー種目!I70)=0,\"00\",IF(LEN(リレー種目!I70)=1,\"0\"&リレー種目!I70,リレー種目!I70))","v":"00"},{"$f":"IF(LEN(リレー種目!J70)=0,\"00\",IF(LEN(リレー種目!J70)=1,\"0\"&リレー種目!J70,リレー種目!J70))","v":"00"}]
[{"$f":"IF(LEN(リレー種目!H71)=0,\"00\",IF(LEN(リレー種目!H71)=1,\"0\"&リレー種目!H71,リレー種目!H71))","v":"00"},{"$f":"IF(LEN(リレー種目!I71)=0,\"00\",IF(LEN(リレー種目!I71)=1,\"0\"&リレー種目!I71,リレー種目!I71))","v":"00"},{"$f":"IF(LEN(リレー種目!J71)=0,\"00\",IF(LEN(リレー種目!J71)=1,\"0\"&リレー種目!J71,リレー種目!J71))","v":"00"}]
[{"$f":"IF(LEN(リレー種目!H72)=0,\"00\",IF(LEN(リレー種目!H72)=1,\"0\"&リレー種目!H72,リレー種目!H72))","v":"00"},{"$f":"IF(LEN(リレー種目!I72)=0,\"00\",IF(LEN(リレー種目!I72)=1,\"0\"&リレー種目!I72,リレー種目!I72))","v":"00"},{"$f":"IF(LEN(リレー種目!J72)=0,\"00\",IF(LEN(リレー種目!J72)=1,\"0\"&リレー種目!J72,リレー種目!J72))","v":"00"}]
[{"$f":"IF(LEN(リレー種目!H73)=0,\"00\",IF(LEN(リレー種目!H73)=1,\"0\"&リレー種目!H73,リレー種目!H73))","v":"00"},{"$f":"IF(LEN(リレー種目!I73)=0,\"00\",IF(LEN(リレー種目!I73)=1,\"0\"&リレー種目!I73,リレー種目!I73))","v":"00"},{"$f":"IF(LEN(リレー種目!J73)=0,\"00\",IF(LEN(リレー種目!J73)=1,\"0\"&リレー種目!J73,リレー種目!J73))","v":"00"}]
[{"$f":"IF(LEN(リレー種目!H74)=0,\"00\",IF(LEN(リレー種目!H74)=1,\"0\"&リレー種目!H74,リレー種目!H74))","v":"00"},{"$f":"IF(LEN(リレー種目!I74)=0,\"00\",IF(LEN(リレー種目!I74)=1,\"0\"&リレー種目!I74,リレー種目!I74))","v":"00"},{"$f":"IF(LEN(リレー種目!J74)=0,\"00\",IF(LEN(リレー種目!J74)=1,\"0\"&リレー種目!J74,リレー種目!J74))","v":"00"}]
[{"$f":"IF(LEN(リレー種目!H75)=0,\"00\",IF(LEN(リレー種目!H75)=1,\"0\"&リレー種目!H75,リレー種目!H75))","v":"00"},{"$f":"IF(LEN(リレー種目!I75)=0,\"00\",IF(LEN(リレー種目!I75)=1,\"0\"&リレー種目!I75,リレー種目!I75))","v":"00"},{"$f":"IF(LEN(リレー種目!J75)=0,\"00\",IF(LEN(リレー種目!J75)=1,\"0\"&リレー種目!J75,リレー種目!J75))","v":"00"}]
[{"$f":"IF(LEN(リレー種目!H76)=0,\"00\",IF(LEN(リレー種目!H76)=1,\"0\"&リレー種目!H76,リレー種目!H76))","v":"00"},{"$f":"IF(LEN(リレー種目!I76)=0,\"00\",IF(LEN(リレー種目!I76)=1,\"0\"&リレー種目!I76,リレー種目!I76))","v":"00"},{"$f":"IF(LEN(リレー種目!J76)=0,\"00\",IF(LEN(リレー種目!J76)=1,\"0\"&リレー種目!J76,リレー種目!J76))","v":"00"}]
[{"$f":"IF(LEN(リレー種目!H77)=0,\"00\",IF(LEN(リレー種目!H77)=1,\"0\"&リレー種目!H77,リレー種目!H77))","v":"00"},{"$f":"IF(LEN(リレー種目!I77)=0,\"00\",IF(LEN(リレー種目!I77)=1,\"0\"&リレー種目!I77,リレー種目!I77))","v":"00"},{"$f":"IF(LEN(リレー種目!J77)=0,\"00\",IF(LEN(リレー種目!J77)=1,\"0\"&リレー種目!J77,リレー種目!J77))","v":"00"}]
[{"$f":"IF(LEN(リレー種目!H78)=0,\"00\",IF(LEN(リレー種目!H78)=1,\"0\"&リレー種目!H78,リレー種目!H78))","v":"00"},{"$f":"IF(LEN(リレー種目!I78)=0,\"00\",IF(LEN(リレー種目!I78)=1,\"0\"&リレー種目!I78,リレー種目!I78))","v":"00"},{"$f":"IF(LEN(リレー種目!J78)=0,\"00\",IF(LEN(リレー種目!J78)=1,\"0\"&リレー種目!J78,リレー種目!J78))","v":"00"}]
[{"$f":"IF(LEN(リレー種目!H79)=0,\"00\",IF(LEN(リレー種目!H79)=1,\"0\"&リレー種目!H79,リレー種目!H79))","v":"00"},{"$f":"IF(LEN(リレー種目!I79)=0,\"00\",IF(LEN(リレー種目!I79)=1,\"0\"&リレー種目!I79,リレー種目!I79))","v":"00"},{"$f":"IF(LEN(リレー種目!J79)=0,\"00\",IF(LEN(リレー種目!J79)=1,\"0\"&リレー種目!J79,リレー種目!J79))","v":"00"}]
[{"$f":"IF(LEN(リレー種目!H80)=0,\"00\",IF(LEN(リレー種目!H80)=1,\"0\"&リレー種目!H80,リレー種目!H80))","v":"00"},{"$f":"IF(LEN(リレー種目!I80)=0,\"00\",IF(LEN(リレー種目!I80)=1,\"0\"&リレー種目!I80,リレー種目!I80))","v":"00"},{"$f":"IF(LEN(リレー種目!J80)=0,\"00\",IF(LEN(リレー種目!J80)=1,\"0\"&リレー種目!J80,リレー種目!J80))","v":"00"}]
[{"$f":"IF(LEN(リレー種目!H81)=0,\"00\",IF(LEN(リレー種目!H81)=1,\"0\"&リレー種目!H81,リレー種目!H81))","v":"00"},{"$f":"IF(LEN(リレー種目!I81)=0,\"00\",IF(LEN(リレー種目!I81)=1,\"0\"&リレー種目!I81,リレー種目!I81))","v":"00"},{"$f":"IF(LEN(リレー種目!J81)=0,\"00\",IF(LEN(リレー種目!J81)=1,\"0\"&リレー種目!J81,リレー種目!J81))","v":"00"}]
[{"$f":"IF(LEN(リレー種目!H82)=0,\"00\",IF(LEN(リレー種目!H82)=1,\"0\"&リレー種目!H82,リレー種目!H82))","v":"00"},{"$f":"IF(LEN(リレー種目!I82)=0,\"00\",IF(LEN(リレー種目!I82)=1,\"0\"&リレー種目!I82,リレー種目!I82))","v":"00"},{"$f":"IF(LEN(リレー種目!J82)=0,\"00\",IF(LEN(リレー種目!J82)=1,\"0\"&リレー種目!J82,リレー種目!J82))","v":"00"}]
[{"$f":"IF(LEN(リレー種目!H83)=0,\"00\",IF(LEN(リレー種目!H83)=1,\"0\"&リレー種目!H83,リレー種目!H83))","v":"00"},{"$f":"IF(LEN(リレー種目!I83)=0,\"00\",IF(LEN(リレー種目!I83)=1,\"0\"&リレー種目!I83,リレー種目!I83))","v":"00"},{"$f":"IF(LEN(リレー種目!J83)=0,\"00\",IF(LEN(リレー種目!J83)=1,\"0\"&リレー種目!J83,リレー種目!J83))","v":"00"}]
[{"$f":"IF(LEN(リレー種目!H84)=0,\"00\",IF(LEN(リレー種目!H84)=1,\"0\"&リレー種目!H84,リレー種目!H84))","v":"00"},{"$f":"IF(LEN(リレー種目!I84)=0,\"00\",IF(LEN(リレー種目!I84)=1,\"0\"&リレー種目!I84,リレー種目!I84))","v":"00"},{"$f":"IF(LEN(リレー種目!J84)=0,\"00\",IF(LEN(リレー種目!J84)=1,\"0\"&リレー種目!J84,リレー種目!J84))","v":"00"}]
[{"$f":"IF(LEN(リレー種目!H85)=0,\"00\",IF(LEN(リレー種目!H85)=1,\"0\"&リレー種目!H85,リレー種目!H85))","v":"00"},{"$f":"IF(LEN(リレー種目!I85)=0,\"00\",IF(LEN(リレー種目!I85)=1,\"0\"&リレー種目!I85,リレー種目!I85))","v":"00"},{"$f":"IF(LEN(リレー種目!J85)=0,\"00\",IF(LEN(リレー種目!J85)=1,\"0\"&リレー種目!J85,リレー種目!J85))","v":"00"}]
[{"$f":"IF(LEN(リレー種目!H86)=0,\"00\",IF(LEN(リレー種目!H86)=1,\"0\"&リレー種目!H86,リレー種目!H86))","v":"00"},{"$f":"IF(LEN(リレー種目!I86)=0,\"00\",IF(LEN(リレー種目!I86)=1,\"0\"&リレー種目!I86,リレー種目!I86))","v":"00"},{"$f":"IF(LEN(リレー種目!J86)=0,\"00\",IF(LEN(リレー種目!J86)=1,\"0\"&リレー種目!J86,リレー種目!J86))","v":"00"}]
[{"$f":"IF(LEN(リレー種目!H87)=0,\"00\",IF(LEN(リレー種目!H87)=1,\"0\"&リレー種目!H87,リレー種目!H87))","v":"00"},{"$f":"IF(LEN(リレー種目!I87)=0,\"00\",IF(LEN(リレー種目!I87)=1,\"0\"&リレー種目!I87,リレー種目!I87))","v":"00"},{"$f":"IF(LEN(リレー種目!J87)=0,\"00\",IF(LEN(リレー種目!J87)=1,\"0\"&リレー種目!J87,リレー種目!J87))","v":"00"}]
[{"$f":"IF(LEN(リレー種目!H88)=0,\"00\",IF(LEN(リレー種目!H88)=1,\"0\"&リレー種目!H88,リレー種目!H88))","v":"00"},{"$f":"IF(LEN(リレー種目!I88)=0,\"00\",IF(LEN(リレー種目!I88)=1,\"0\"&リレー種目!I88,リレー種目!I88))","v":"00"},{"$f":"IF(LEN(リレー種目!J88)=0,\"00\",IF(LEN(リレー種目!J88)=1,\"0\"&リレー種目!J88,リレー種目!J88))","v":"00"}]
[{"$f":"IF(LEN(リレー種目!H89)=0,\"00\",IF(LEN(リレー種目!H89)=1,\"0\"&リレー種目!H89,リレー種目!H89))","v":"00"},{"$f":"IF(LEN(リレー種目!I89)=0,\"00\",IF(LEN(リレー種目!I89)=1,\"0\"&リレー種目!I89,リレー種目!I89))","v":"00"},{"$f":"IF(LEN(リレー種目!J89)=0,\"00\",IF(LEN(リレー種目!J89)=1,\"0\"&リレー種目!J89,リレー種目!J89))","v":"00"}]
[{"$f":"IF(LEN(リレー種目!H90)=0,\"00\",IF(LEN(リレー種目!H90)=1,\"0\"&リレー種目!H90,リレー種目!H90))","v":"00"},{"$f":"IF(LEN(リレー種目!I90)=0,\"00\",IF(LEN(リレー種目!I90)=1,\"0\"&リレー種目!I90,リレー種目!I90))","v":"00"},{"$f":"IF(LEN(リレー種目!J90)=0,\"00\",IF(LEN(リレー種目!J90)=1,\"0\"&リレー種目!J90,リレー種目!J90))","v":"00"}]
[{"$f":"IF(LEN(リレー種目!H91)=0,\"00\",IF(LEN(リレー種目!H91)=1,\"0\"&リレー種目!H91,リレー種目!H91))","v":"00"},{"$f":"IF(LEN(リレー種目!I91)=0,\"00\",IF(LEN(リレー種目!I91)=1,\"0\"&リレー種目!I91,リレー種目!I91))","v":"00"},{"$f":"IF(LEN(リレー種目!J91)=0,\"00\",IF(LEN(リレー種目!J91)=1,\"0\"&リレー種目!J91,リレー種目!J91))","v":"00"}]
[{"$f":"IF(LEN(リレー種目!H92)=0,\"00\",IF(LEN(リレー種目!H92)=1,\"0\"&リレー種目!H92,リレー種目!H92))","v":"00"},{"$f":"IF(LEN(リレー種目!I92)=0,\"00\",IF(LEN(リレー種目!I92)=1,\"0\"&リレー種目!I92,リレー種目!I92))","v":"00"},{"$f":"IF(LEN(リレー種目!J92)=0,\"00\",IF(LEN(リレー種目!J92)=1,\"0\"&リレー種目!J92,リレー種目!J92))","v":"00"}]
[{"$f":"IF(LEN(リレー種目!H93)=0,\"00\",IF(LEN(リレー種目!H93)=1,\"0\"&リレー種目!H93,リレー種目!H93))","v":"00"},{"$f":"IF(LEN(リレー種目!I93)=0,\"00\",IF(LEN(リレー種目!I93)=1,\"0\"&リレー種目!I93,リレー種目!I93))","v":"00"},{"$f":"IF(LEN(リレー種目!J93)=0,\"00\",IF(LEN(リレー種目!J93)=1,\"0\"&リレー種目!J93,リレー種目!J93))","v":"00"}]
[{"$f":"IF(LEN(リレー種目!H94)=0,\"00\",IF(LEN(リレー種目!H94)=1,\"0\"&リレー種目!H94,リレー種目!H94))","v":"00"},{"$f":"IF(LEN(リレー種目!I94)=0,\"00\",IF(LEN(リレー種目!I94)=1,\"0\"&リレー種目!I94,リレー種目!I94))","v":"00"},{"$f":"IF(LEN(リレー種目!J94)=0,\"00\",IF(LEN(リレー種目!J94)=1,\"0\"&リレー種目!J94,リレー種目!J94))","v":"00"}]
[{"$f":"IF(LEN(リレー種目!H95)=0,\"00\",IF(LEN(リレー種目!H95)=1,\"0\"&リレー種目!H95,リレー種目!H95))","v":"00"},{"$f":"IF(LEN(リレー種目!I95)=0,\"00\",IF(LEN(リレー種目!I95)=1,\"0\"&リレー種目!I95,リレー種目!I95))","v":"00"},{"$f":"IF(LEN(リレー種目!J95)=0,\"00\",IF(LEN(リレー種目!J95)=1,\"0\"&リレー種目!J95,リレー種目!J95))","v":"00"}]
[{"$f":"IF(LEN(リレー種目!H96)=0,\"00\",IF(LEN(リレー種目!H96)=1,\"0\"&リレー種目!H96,リレー種目!H96))","v":"00"},{"$f":"IF(LEN(リレー種目!I96)=0,\"00\",IF(LEN(リレー種目!I96)=1,\"0\"&リレー種目!I96,リレー種目!I96))","v":"00"},{"$f":"IF(LEN(リレー種目!J96)=0,\"00\",IF(LEN(リレー種目!J96)=1,\"0\"&リレー種目!J96,リレー種目!J96))","v":"00"}]
[{"$f":"IF(LEN(リレー種目!H97)=0,\"00\",IF(LEN(リレー種目!H97)=1,\"0\"&リレー種目!H97,リレー種目!H97))","v":"00"},{"$f":"IF(LEN(リレー種目!I97)=0,\"00\",IF(LEN(リレー種目!I97)=1,\"0\"&リレー種目!I97,リレー種目!I97))","v":"00"},{"$f":"IF(LEN(リレー種目!J97)=0,\"00\",IF(LEN(リレー種目!J97)=1,\"0\"&リレー種目!J97,リレー種目!J97))","v":"00"}]
[{"$f":"IF(LEN(リレー種目!H98)=0,\"00\",IF(LEN(リレー種目!H98)=1,\"0\"&リレー種目!H98,リレー種目!H98))","v":"00"},{"$f":"IF(LEN(リレー種目!I98)=0,\"00\",IF(LEN(リレー種目!I98)=1,\"0\"&リレー種目!I98,リレー種目!I98))","v":"00"},{"$f":"IF(LEN(リレー種目!J98)=0,\"00\",IF(LEN(リレー種目!J98)=1,\"0\"&リレー種目!J98,リレー種目!J98))","v":"00"}]
[{"$f":"IF(LEN(リレー種目!H99)=0,\"00\",IF(LEN(リレー種目!H99)=1,\"0\"&リレー種目!H99,リレー種目!H99))","v":"00"},{"$f":"IF(LEN(リレー種目!I99)=0,\"00\",IF(LEN(リレー種目!I99)=1,\"0\"&リレー種目!I99,リレー種目!I99))","v":"00"},{"$f":"IF(LEN(リレー種目!J99)=0,\"00\",IF(LEN(リレー種目!J99)=1,\"0\"&リレー種目!J99,リレー種目!J99))","v":"00"}]
[{"$f":"IF(LEN(リレー種目!H100)=0,\"00\",IF(LEN(リレー種目!H100)=1,\"0\"&リレー種目!H100,リレー種目!H100))","v":"00"},{"$f":"IF(LEN(リレー種目!I100)=0,\"00\",IF(LEN(リレー種目!I100)=1,\"0\"&リレー種目!I100,リレー種目!I100))","v":"00"},{"$f":"IF(LEN(リレー種目!J100)=0,\"00\",IF(LEN(リレー種目!J100)=1,\"0\"&リレー種目!J100,リレー種目!J100))","v":"00"}]
[{"$f":"IF(LEN(リレー種目!H101)=0,\"00\",IF(LEN(リレー種目!H101)=1,\"0\"&リレー種目!H101,リレー種目!H101))","v":"00"},{"$f":"IF(LEN(リレー種目!I101)=0,\"00\",IF(LEN(リレー種目!I101)=1,\"0\"&リレー種目!I101,リレー種目!I101))","v":"00"},{"$f":"IF(LEN(リレー種目!J101)=0,\"00\",IF(LEN(リレー種目!J101)=1,\"0\"&リレー種目!J101,リレー種目!J101))","v":"00"}]

{"sheet":"エントリーシート（個人）","index":8,"n_rows":100,"n_cols":37,"rows_kept":100,"cut":false,"hidden":true,"merged":[]}
["選手番号(5)","旧日水連ｺｰﾄﾞ(12)","性別(1)","漢字氏名（30）","ｶﾅ氏名(30)","生年月日(8)","学校(1)","学年(1)","ｸﾗｽ(2)","新日水連ｺｰﾄﾞ(7)","所属名1(16)","ｶﾅ所属名1(16)","所属名2(16)","ｶﾅ所属名2(16)","所属名3(16)","ｶﾅ所属名3(16)","使用所属(1)","ｴﾝﾄﾘｰ1(5)","ｴﾝﾄﾘｰﾀｲﾑ1(7)","ｴﾝﾄﾘｰ2(5)","ｴﾝﾄﾘｰﾀｲﾑ2(7)","ｴﾝﾄﾘｰ3(5)","ｴﾝﾄﾘｰﾀｲﾑ3(7)","ｴﾝﾄﾘｰ4(5)","ｴﾝﾄﾘｰﾀｲﾑ4(7)","ｴﾝﾄﾘｰ5(5)","ｴﾝﾄﾘｰﾀｲﾑ5(7)","ｴﾝﾄﾘｰ6(1)","ｴﾝﾄﾘｰﾀｲﾑ6(7)","ｴﾝﾄﾘｰ7(5)","ｴﾝﾄﾘｰﾀｲﾑ7(7)","ｴﾝﾄﾘｰ8(5)","ｴﾝﾄﾘｰﾀｲﾑ8(7)","ｴﾝﾄﾘｰ9(5)","ｴﾝﾄﾘｰﾀｲﾑ9(7)","ｴﾝﾄﾘｰ10(5)","ｴﾝﾄﾘｰﾀｲﾑ10(7)"]
[29999,"130018301010",1,"大山  太郎-------------------E","ｵｵﾔﾏ ﾀﾛｳ---------------------E",19830101,3,1,"01","0005417","ＪＡＰＡＮ-----E","JAPAN-----E","東京都---------E","ﾄｳｷｮｳﾄ---------E","大江戸ＳＣ-----E","ｵｵｴﾄﾞSC--------E","4",10050,"0023.85",10100,"0052.39",10200,"00153.74",20100,"0056.74",20200,"0222.80",30100,"0102.88",40100,"0053.85",50200,"0205.53",60400,null,70400]
["選手番号(5)","旧日水連ｺｰﾄﾞ(12)","性別(1)","漢字氏名（30）","ｶﾅ氏名(30)","生年月日(8)","学校(1)","学年(1)","ｸﾗｽ(2)","新日水連ｺｰﾄﾞ(7)","所属名1(16)","ｶﾅ所属名1(16)","所属名2(16)","ｶﾅ所属名2(16)","所属名3(16)","ｶﾅ所属名3(16)","使用所属(1)","ｴﾝﾄﾘｰ1(5)","ｴﾝﾄﾘｰﾀｲﾑ1(7)","ｴﾝﾄﾘｰ2(5)","ｴﾝﾄﾘｰﾀｲﾑ2(7)","ｴﾝﾄﾘｰ3(5)","ｴﾝﾄﾘｰﾀｲﾑ3(7)","ｴﾝﾄﾘｰ4(5)","ｴﾝﾄﾘｰﾀｲﾑ4(7)","ｴﾝﾄﾘｰ5(5)","ｴﾝﾄﾘｰﾀｲﾑ5(7)","ｴﾝﾄﾘｰ6(1)","ｴﾝﾄﾘｰﾀｲﾑ6(7)","ｴﾝﾄﾘｰ7(5)","ｴﾝﾄﾘｰﾀｲﾑ7(7)","ｴﾝﾄﾘｰ8(5)","ｴﾝﾄﾘｰﾀｲﾑ8(7)","ｴﾝﾄﾘｰ9(5)","ｴﾝﾄﾘｰﾀｲﾑ9(7)","ｴﾝﾄﾘｰ10(5)","ｴﾝﾄﾘｰﾀｲﾑ10(7)"]
[null,null,{"$f":"IF('中間シート（個人）'!D6=\"○\",\"\",VLOOKUP(個人種目!F6,コード一覧!$A$2:$B$3,2,FALSE))","v":{"$error":"#N/A"}},{"$f":"IF('中間シート（個人）'!D6=\"○\",\"\",'中間シート（個人）'!C6)","v":"０　０"},{"$f":"IF('中間シート（個人）'!D6=\"○\",\"\",ASC(個人種目!D6&\" \"&個人種目!E6))","v":" "},{"$f":"IF('中間シート（個人）'!D6=\"○\",\"\",個人種目!G6&IF(LEN(個人種目!H6)=1,\"0\"&個人種目!H6,個人種目!H6)&IF(LEN(個人種目!I6)=1,\"0\"&個人種目!I6,個人種目!I6))","v":""},{"$f":"IF('中間シート（個人）'!D6=\"○\",\"\",VLOOKUP(個人種目!$J6,コード一覧!$C$3:$D$6,2,FALSE))","v":{"$error":"#N/A"}},{"$f":"IF('中間シート（個人）'!D6=\"○\",\"\",IF(個人種目!$J6=\"一般\",0,個人種目!$K6))","v":0},{"$f":"IF('中間シート（個人）'!D6=\"○\",\"\",'中間シート（個人）'!H6)","v":{"$error":"#NUM!"}},null,{"$f":"IF('中間シート（個人）'!D6=\"○\",\"\",個人種目!$L$1)","v":false},{"$f":"IF('中間シート（個人）'!D6=\"○\",\"\",ASC(申込書_コナミ!$S$9))","v":""},{"$f":"IF('中間シート（個人）'!D6=\"○\",\"\",申込書_コナミ!$E$8)","v":0},null,null,null,{"$f":"IF('中間シート（個人）'!D6=\"○\",\"\",4)","v":4},{"$f":"IF(ISERROR(VLOOKUP($D4&\"@1\",'中間シート（個人）'!$F$6:$O$100,4,FALSE)&VLOOKUP($D4&\"@1\",'中間シート（個人）'!$F$6:$O$100,5,FALSE)),\"\",VLOOKUP($D4&\"@1\",'中間シート（個人）'!$F$6:$O$100,4,FALSE)&VLOOKUP($D4&\"@1\",'中間シート（個人）'!$F$6:$O$100,5,FALSE))","v":""},{"$f":"IF(ISERROR(VLOOKUP($D4&\"@1\",'中間シート（個人）'!$F$6:$O$100,6,FALSE)&VLOOKUP($D4&\"@1\",'中間シート（個人）'!$F$6:$O$100,7,FALSE)&\".\"&VLOOKUP($D4&\"@1\",'中間シート（個人）'!$F$6:$O$100,8,FALSE)),\"\",VLOOKUP($D4&\"@1\",'中間シート（個人）'!$F$6:$O$100,6,FALSE)&VLOOKUP($D4&\"@1\",'中間シート（個人）'!$F$6:$O$100,7,FALSE)&\".\"&VLOOKUP($D4&\"@1\",'中間シート（個人）'!$F$6:$O$100,8,FALSE))","v":"0000.00"},{"$f":"IF(ISERROR(VLOOKUP($D4&\"@2\",'中間シート（個人）'!$F$6:$O$100,4,FALSE)&VLOOKUP($D4&\"@2\",'中間シート（個人）'!$F$6:$O$100,5,FALSE)),\"\",VLOOKUP($D4&\"@2\",'中間シート（個人）'!$F$6:$O$100,4,FALSE)&VLOOKUP($D4&\"@2\",'中間シート（個人）'!$F$6:$O$100,5,FALSE))","v":""},{"$f":"IF(ISERROR(VLOOKUP($D4&\"@2\",'中間シート（個人）'!$F$6:$O$100,6,FALSE)&VLOOKUP($D4&\"@2\",'中間シート（個人）'!$F$6:$O$100,7,FALSE)&\".\"&VLOOKUP($D4&\"@2\",'中間シート（個人）'!$F$6:$O$100,8,FALSE)),\"\",VLOOKUP($D4&\"@2\",'中間シート（個人）'!$F$6:$O$100,6,FALSE)&VLOOKUP($D4&\"@2\",'中間シート（個人）'!$F$6:$O$100,7,FALSE)&\".\"&VLOOKUP($D4&\"@2\",'中間シート（個人）'!$F$6:$O$100,8,FALSE))","v":"0000.00"},{"$f":"IF(ISERROR(VLOOKUP($D4&\"@3\",'中間シート（個人）'!$F$6:$O$100,4,FALSE)&VLOOKUP($D4&\"@3\",'中間シート（個人）'!$F$6:$O$100,5,FALSE)),\"\",VLOOKUP($D4&\"@3\",'中間シート（個人）'!$F$6:$O$100,4,FALSE)&VLOOKUP($D4&\"@3\",'中間シート（個人）'!$F$6:$O$100,5,FALSE))","v":""},{"$f":"IF(ISERROR(VLOOKUP($D4&\"@3\",'中間シート（個人）'!$F$6:$O$100,6,FALSE)&VLOOKUP($D4&\"@3\",'中間シート（個人）'!$F$6:$O$100,7,FALSE)&\".\"&VLOOKUP($D4&\"@3\",'中間シート（個人）'!$F$6:$O$100,8,FALSE)),\"\",VLOOKUP($D4&\"@3\",'中間シート（個人）'!$F$6:$O$100,6,FALSE)&VLOOKUP($D4&\"@3\",'中間シート（個人）'!$F$6:$O$100,7,FALSE)&\".\"&VLOOKUP($D4&\"@3\",'中間シート（個人）'!$F$6:$O$100,8,FALSE))","v":"0000.00"},{"$f":"IF(ISERROR(VLOOKUP($D4&\"@4\",'中間シート（個人）'!$F$6:$O$100,4,FALSE)&VLOOKUP($D4&\"@4\",'中間シート（個人）'!$F$6:$O$100,5,FALSE)),\"\",VLOOKUP($D4&\"@4\",'中間シート（個人）'!$F$6:$O$100,4,FALSE)&VLOOKUP($D4&\"@4\",'中間シート（個人）'!$F$6:$O$100,5,FALSE))","v":""},{"$f":"IF(ISERROR(VLOOKUP($D4&\"@4\",'中間シート（個人）'!$F$6:$O$100,6,FALSE)&VLOOKUP($D4&\"@4\",'中間シート（個人）'!$F$6:$O$100,7,FALSE)&\".\"&VLOOKUP($D4&\"@4\",'中間シート（個人）'!$F$6:$O$100,8,FALSE)),\"\",VLOOKUP($D4&\"@4\",'中間シート（個人）'!$F$6:$O$100,6,FALSE)&VLOOKUP($D4&\"@4\",'中間シート（個人）'!$F$6:$O$100,7,FALSE)&\".\"&VLOOKUP($D4&\"@4\",'中間シート（個人）'!$F$6:$O$100,8,FALSE))","v":"0000.00"},{"$f":"IF(ISERROR(VLOOKUP($D4&\"@5\",'中間シート（個人）'!$F$6:$O$100,4,FALSE)&VLOOKUP($D4&\"@5\",'中間シート（個人）'!$F$6:$O$100,5,FALSE)),\"\",VLOOKUP($D4&\"@5\",'中間シート（個人）'!$F$6:$O$100,4,FALSE)&VLOOKUP($D4&\"@5\",'中間シート（個人）'!$F$6:$O$100,5,FALSE))","v":""},{"$f":"IF(ISERROR(VLOOKUP($D4&\"@5\",'中間シート（個人）'!$F$6:$O$100,6,FALSE)&VLOOKUP($D4&\"@5\",'中間シート（個人）'!$F$6:$O$100,7,FALSE)&\".\"&VLOOKUP($D4&\"@5\",'中間シート（個人）'!$F$6:$O$100,8,FALSE)),\"\",VLOOKUP($D4&\"@5\",'中間シート（個人）'!$F$6:$O$100,6,FALSE)&VLOOKUP($D4&\"@5\",'中間シート（個人）'!$F$6:$O$100,7,FALSE)&\".\"&VLOOKUP($D4&\"@5\",'中間シート（個人）'!$F$6:$O$100,8,FALSE))","v":"0000.00"},{"$f":"IF(ISERROR(VLOOKUP($D4&\"@6\",'中間シート（個人）'!$F$6:$O$100,4,FALSE)&VLOOKUP($D4&\"@6\",'中間シート（個人）'!$F$6:$O$100,5,FALSE)),\"\",VLOOKUP($D4&\"@6\",'中間シート（個人）'!$F$6:$O$100,4,FALSE)&VLOOKUP($D4&\"@6\",'中間シート（個人）'!$F$6:$O$100,5,FALSE))","v":""},{"$f":"IF(ISERROR(VLOOKUP($D4&\"@6\",'中間シート（個人）'!$F$6:$O$100,6,FALSE)&VLOOKUP($D4&\"@6\",'中間シート（個人）'!$F$6:$O$100,7,FALSE)&\".\"&VLOOKUP($D4&\"@6\",'中間シート（個人）'!$F$6:$O$100,8,FALSE)),\"\",VLOOKUP($D4&\"@6\",'中間シート（個人）'!$F$6:$O$100,6,FALSE)&VLOOKUP($D4&\"@6\",'中間シート（個人）'!$F$6:$O$100,7,FALSE)&\".\"&VLOOKUP($D4&\"@6\",'中間シート（個人）'!$F$6:$O$100,8,FALSE))","v":"0000.00"},{"$f":"IF(ISERROR(VLOOKUP($D4&\"@7\",'中間シート（個人）'!$F$6:$O$100,4,FALSE)&VLOOKUP($D4&\"@7\",'中間シート（個人）'!$F$6:$O$100,5,FALSE)),\"\",VLOOKUP($D4&\"@7\",'中間シート（個人）'!$F$6:$O$100,4,FALSE)&VLOOKUP($D4&\"@7\",'中間シート（個人）'!$F$6:$O$100,5,FALSE))","v":""},{"$f":"IF(ISERROR(VLOOKUP($D4&\"@7\",'中間シート（個人）'!$F$6:$O$100,6,FALSE)&VLOOKUP($D4&\"@7\",'中間シート（個人）'!$F$6:$O$100,7,FALSE)&\".\"&VLOOKUP($D4&\"@7\",'中間シート（個人）'!$F$6:$O$100,8,FALSE)),\"\",VLOOKUP($D4&\"@7\",'中間シート（個人）'!$F$6:$O$100,6,FALSE)&VLOOKUP($D4&\"@7\",'中間シート（個人）'!$F$6:$O$100,7,FALSE)&\".\"&VLOOKUP($D4&\"@7\",'中間シート（個人）'!$F$6:$O$100,8,FALSE))","v":"0000.00"},{"$f":"IF(ISERROR(VLOOKUP($D4&\"@8\",'中間シート（個人）'!$F$6:$O$100,4,FALSE)&VLOOKUP($D4&\"@8\",'中間シート（個人）'!$F$6:$O$100,5,FALSE)),\"\",VLOOKUP($D4&\"@8\",'中間シート（個人）'!$F$6:$O$100,4,FALSE)&VLOOKUP($D4&\"@8\",'中間シート（個人）'!$F$6:$O$100,5,FALSE))","v":""},{"$f":"IF(ISERROR(VLOOKUP($D4&\"@8\",'中間シート（個人）'!$F$6:$O$100,6,FALSE)&VLOOKUP($D4&\"@8\",'中間シート（個人）'!$F$6:$O$100,7,FALSE)&\".\"&VLOOKUP($D4&\"@8\",'中間シート（個人）'!$F$6:$O$100,8,FALSE)),\"\",VLOOKUP($D4&\"@8\",'中間シート（個人）'!$F$6:$O$100,6,FALSE)&VLOOKUP($D4&\"@8\",'中間シート（個人）'!$F$6:$O$100,7,FALSE)&\".\"&VLOOKUP($D4&\"@8\",'中間シート（個人）'!$F$6:$O$100,8,FALSE))","v":"0000.00"},{"$f":"IF(ISERROR(VLOOKUP($D4&\"@9\",'中間シート（個人）'!$F$6:$O$100,4,FALSE)&VLOOKUP($D4&\"@9\",'中間シート（個人）'!$F$6:$O$100,5,FALSE)),\"\",VLOOKUP($D4&\"@9\",'中間シート（個人）'!$F$6:$O$100,4,FALSE)&VLOOKUP($D4&\"@9\",'中間シート（個人）'!$F$6:$O$100,5,FALSE))","v":""},{"$f":"IF(ISERROR(VLOOKUP($D4&\"@9\",'中間シート（個人）'!$F$6:$O$100,6,FALSE)&VLOOKUP($D4&\"@9\",'中間シート（個人）'!$F$6:$O$100,7,FALSE)&\".\"&VLOOKUP($D4&\"@9\",'中間シート（個人）'!$F$6:$O$100,8,FALSE)),\"\",VLOOKUP($D4&\"@9\",'中間シート（個人）'!$F$6:$O$100,6,FALSE)&VLOOKUP($D4&\"@9\",'中間シート（個人）'!$F$6:$O$100,7,FALSE)&\".\"&VLOOKUP($D4&\"@9\",'中間シート（個人）'!$F$6:$O$100,8,FALSE))","v":"0000.00"},{"$f":"IF(ISERROR(VLOOKUP($D4&\"@10\",'中間シート（個人）'!$F$6:$O$100,4,FALSE)&VLOOKUP($D4&\"@10\",'中間シート（個人）'!$F$6:$O$100,5,FALSE)),\"\",VLOOKUP($D4&\"@10\",'中間シート（個人）'!$F$6:$O$100,4,FALSE)&VLOOKUP($D4&\"@10\",'中間シート（個人）'!$F$6:$O$100,5,FALSE))","v":""},{"$f":"IF(ISERROR(VLOOKUP($D4&\"@10\",'中間シート（個人）'!$F$6:$O$100,6,FALSE)&VLOOKUP($D4&\"@10\",'中間シート（個人）'!$F$6:$O$100,7,FALSE)&\".\"&VLOOKUP($D4&\"@10\",'中間シート（個人）'!$F$6:$O$100,8,FALSE)),\"\",VLOOKUP($D4&\"@10\",'中間シート（個人）'!$F$6:$O$100,6,FALSE)&VLOOKUP($D4&\"@10\",'中間シート（個人）'!$F$6:$O$100,7,FALSE)&\".\"&VLOOKUP($D4&\"@10\",'中間シート（個人）'!$F$6:$O$100,8,FALSE))","v":"0000.00"}]
[null,null,{"$f":"IF('中間シート（個人）'!D7=\"○\",\"\",VLOOKUP(個人種目!F7,コード一覧!$A$2:$B$3,2,FALSE))","v":""},{"$f":"IF('中間シート（個人）'!D7=\"○\",\"\",'中間シート（個人）'!C7)","v":""},{"$f":"IF('中間シート（個人）'!D7=\"○\",\"\",ASC(個人種目!D7&\" \"&個人種目!E7))","v":""},{"$f":"IF('中間シート（個人）'!D7=\"○\",\"\",個人種目!G7&IF(LEN(個人種目!H7)=1,\"0\"&個人種目!H7,個人種目!H7)&IF(LEN(個人種目!I7)=1,\"0\"&個人種目!I7,個人種目!I7))","v":""},{"$f":"IF('中間シート（個人）'!D7=\"○\",\"\",VLOOKUP(個人種目!$J7,コード一覧!$C$3:$D$6,2,FALSE))","v":""},{"$f":"IF('中間シート（個人）'!D7=\"○\",\"\",IF(個人種目!$J7=\"一般\",0,個人種目!$K7))","v":""},{"$f":"IF('中間シート（個人）'!D7=\"○\",\"\",'中間シート（個人）'!H7)","v":""},null,{"$f":"IF('中間シート（個人）'!D7=\"○\",\"\",個人種目!$L$1)","v":""},{"$f":"IF('中間シート（個人）'!D7=\"○\",\"\",ASC(申込書_コナミ!$S$9))","v":""},{"$f":"IF('中間シート（個人）'!D7=\"○\",\"\",申込書_コナミ!$E$8)","v":""},null,null,null,{"$f":"IF('中間シート（個人）'!D7=\"○\",\"\",4)","v":""},{"$f":"IF(ISERROR(VLOOKUP($D5&\"@1\",'中間シート（個人）'!$F$6:$O$100,4,FALSE)&VLOOKUP($D5&\"@1\",'中間シート（個人）'!$F$6:$O$100,5,FALSE)),\"\",VLOOKUP($D5&\"@1\",'中間シート（個人）'!$F$6:$O$100,4,FALSE)&VLOOKUP($D5&\"@1\",'中間シート（個人）'!$F$6:$O$100,5,FALSE))","v":""},{"$f":"IF(ISERROR(VLOOKUP($D5&\"@1\",'中間シート（個人）'!$F$6:$O$100,6,FALSE)&VLOOKUP($D5&\"@1\",'中間シート（個人）'!$F$6:$O$100,7,FALSE)&\".\"&VLOOKUP($D5&\"@1\",'中間シート（個人）'!$F$6:$O$100,8,FALSE)),\"\",VLOOKUP($D5&\"@1\",'中間シート（個人）'!$F$6:$O$100,6,FALSE)&VLOOKUP($D5&\"@1\",'中間シート（個人）'!$F$6:$O$100,7,FALSE)&\".\"&VLOOKUP($D5&\"@1\",'中間シート（個人）'!$F$6:$O$100,8,FALSE))","v":""},{"$f":"IF(ISERROR(VLOOKUP($D5&\"@2\",'中間シート（個人）'!$F$6:$O$100,4,FALSE)&VLOOKUP($D5&\"@2\",'中間シート（個人）'!$F$6:$O$100,5,FALSE)),\"\",VLOOKUP($D5&\"@2\",'中間シート（個人）'!$F$6:$O$100,4,FALSE)&VLOOKUP($D5&\"@2\",'中間シート（個人）'!$F$6:$O$100,5,FALSE))","v":""},{"$f":"IF(ISERROR(VLOOKUP($D5&\"@2\",'中間シート（個人）'!$F$6:$O$100,6,FALSE)&VLOOKUP($D5&\"@2\",'中間シート（個人）'!$F$6:$O$100,7,FALSE)&\".\"&VLOOKUP($D5&\"@2\",'中間シート（個人）'!$F$6:$O$100,8,FALSE)),\"\",VLOOKUP($D5&\"@2\",'中間シート（個人）'!$F$6:$O$100,6,FALSE)&VLOOKUP($D5&\"@2\",'中間シート（個人）'!$F$6:$O$100,7,FALSE)&\".\"&VLOOKUP($D5&\"@2\",'中間シート（個人）'!$F$6:$O$100,8,FALSE))","v":""},{"$f":"IF(ISERROR(VLOOKUP($D5&\"@3\",'中間シート（個人）'!$F$6:$O$100,4,FALSE)&VLOOKUP($D5&\"@3\",'中間シート（個人）'!$F$6:$O$100,5,FALSE)),\"\",VLOOKUP($D5&\"@3\",'中間シート（個人）'!$F$6:$O$100,4,FALSE)&VLOOKUP($D5&\"@3\",'中間シート（個人）'!$F$6:$O$100,5,FALSE))","v":""},{"$f":"IF(ISERROR(VLOOKUP($D5&\"@3\",'中間シート（個人）'!$F$6:$O$100,6,FALSE)&VLOOKUP($D5&\"@3\",'中間シート（個人）'!$F$6:$O$100,7,FALSE)&\".\"&VLOOKUP($D5&\"@3\",'中間シート（個人）'!$F$6:$O$100,8,FALSE)),\"\",VLOOKUP($D5&\"@3\",'中間シート（個人）'!$F$6:$O$100,6,FALSE)&VLOOKUP($D5&\"@3\",'中間シート（個人）'!$F$6:$O$100,7,FALSE)&\".\"&VLOOKUP($D5&\"@3\",'中間シート（個人）'!$F$6:$O$100,8,FALSE))","v":""},{"$f":"IF(ISERROR(VLOOKUP($D5&\"@4\",'中間シート（個人）'!$F$6:$O$100,4,FALSE)&VLOOKUP($D5&\"@4\",'中間シート（個人）'!$F$6:$O$100,5,FALSE)),\"\",VLOOKUP($D5&\"@4\",'中間シート（個人）'!$F$6:$O$100,4,FALSE)&VLOOKUP($D5&\"@4\",'中間シート（個人）'!$F$6:$O$100,5,FALSE))","v":""},{"$f":"IF(ISERROR(VLOOKUP($D5&\"@4\",'中間シート（個人）'!$F$6:$O$100,6,FALSE)&VLOOKUP($D5&\"@4\",'中間シート（個人）'!$F$6:$O$100,7,FALSE)&\".\"&VLOOKUP($D5&\"@4\",'中間シート（個人）'!$F$6:$O$100,8,FALSE)),\"\",VLOOKUP($D5&\"@4\",'中間シート（個人）'!$F$6:$O$100,6,FALSE)&VLOOKUP($D5&\"@4\",'中間シート（個人）'!$F$6:$O$100,7,FALSE)&\".\"&VLOOKUP($D5&\"@4\",'中間シート（個人）'!$F$6:$O$100,8,FALSE))","v":""},{"$f":"IF(ISERROR(VLOOKUP($D5&\"@5\",'中間シート（個人）'!$F$6:$O$100,4,FALSE)&VLOOKUP($D5&\"@5\",'中間シート（個人）'!$F$6:$O$100,5,FALSE)),\"\",VLOOKUP($D5&\"@5\",'中間シート（個人）'!$F$6:$O$100,4,FALSE)&VLOOKUP($D5&\"@5\",'中間シート（個人）'!$F$6:$O$100,5,FALSE))","v":""},{"$f":"IF(ISERROR(VLOOKUP($D5&\"@5\",'中間シート（個人）'!$F$6:$O$100,6,FALSE)&VLOOKUP($D5&\"@5\",'中間シート（個人）'!$F$6:$O$100,7,FALSE)&\".\"&VLOOKUP($D5&\"@5\",'中間シート（個人）'!$F$6:$O$100,8,FALSE)),\"\",VLOOKUP($D5&\"@5\",'中間シート（個人）'!$F$6:$O$100,6,FALSE)&VLOOKUP($D5&\"@5\",'中間シート（個人）'!$F$6:$O$100,7,FALSE)&\".\"&VLOOKUP($D5&\"@5\",'中間シート（個人）'!$F$6:$O$100,8,FALSE))","v":""},{"$f":"IF(ISERROR(VLOOKUP($D5&\"@6\",'中間シート（個人）'!$F$6:$O$100,4,FALSE)&VLOOKUP($D5&\"@6\",'中間シート（個人）'!$F$6:$O$100,5,FALSE)),\"\",VLOOKUP($D5&\"@6\",'中間シート（個人）'!$F$6:$O$100,4,FALSE)&VLOOKUP($D5&\"@6\",'中間シート（個人）'!$F$6:$O$100,5,FALSE))","v":""},{"$f":"IF(ISERROR(VLOOKUP($D5&\"@6\",'中間シート（個人）'!$F$6:$O$100,6,FALSE)&VLOOKUP($D5&\"@6\",'中間シート（個人）'!$F$6:$O$100,7,FALSE)&\".\"&VLOOKUP($D5&\"@6\",'中間シート（個人）'!$F$6:$O$100,8,FALSE)),\"\",VLOOKUP($D5&\"@6\",'中間シート（個人）'!$F$6:$O$100,6,FALSE)&VLOOKUP($D5&\"@6\",'中間シート（個人）'!$F$6:$O$100,7,FALSE)&\".\"&VLOOKUP($D5&\"@6\",'中間シート（個人）'!$F$6:$O$100,8,FALSE))","v":""},{"$f":"IF(ISERROR(VLOOKUP($D5&\"@7\",'中間シート（個人）'!$F$6:$O$100,4,FALSE)&VLOOKUP($D5&\"@7\",'中間シート（個人）'!$F$6:$O$100,5,FALSE)),\"\",VLOOKUP($D5&\"@7\",'中間シート（個人）'!$F$6:$O$100,4,FALSE)&VLOOKUP($D5&\"@7\",'中間シート（個人）'!$F$6:$O$100,5,FALSE))","v":""},{"$f":"IF(ISERROR(VLOOKUP($D5&\"@7\",'中間シート（個人）'!$F$6:$O$100,6,FALSE)&VLOOKUP($D5&\"@7\",'中間シート（個人）'!$F$6:$O$100,7,FALSE)&\".\"&VLOOKUP($D5&\"@7\",'中間シート（個人）'!$F$6:$O$100,8,FALSE)),\"\",VLOOKUP($D5&\"@7\",'中間シート（個人）'!$F$6:$O$100,6,FALSE)&VLOOKUP($D5&\"@7\",'中間シート（個人）'!$F$6:$O$100,7,FALSE)&\".\"&VLOOKUP($D5&\"@7\",'中間シート（個人）'!$F$6:$O$100,8,FALSE))","v":""},{"$f":"IF(ISERROR(VLOOKUP($D5&\"@8\",'中間シート（個人）'!$F$6:$O$100,4,FALSE)&VLOOKUP($D5&\"@8\",'中間シート（個人）'!$F$6:$O$100,5,FALSE)),\"\",VLOOKUP($D5&\"@8\",'中間シート（個人）'!$F$6:$O$100,4,FALSE)&VLOOKUP($D5&\"@8\",'中間シート（個人）'!$F$6:$O$100,5,FALSE))","v":""},{"$f":"IF(ISERROR(VLOOKUP($D5&\"@8\",'中間シート（個人）'!$F$6:$O$100,6,FALSE)&VLOOKUP($D5&\"@8\",'中間シート（個人）'!$F$6:$O$100,7,FALSE)&\".\"&VLOOKUP($D5&\"@8\",'中間シート（個人）'!$F$6:$O$100,8,FALSE)),\"\",VLOOKUP($D5&\"@8\",'中間シート（個人）'!$F$6:$O$100,6,FALSE)&VLOOKUP($D5&\"@8\",'中間シート（個人）'!$F$6:$O$100,7,FALSE)&\".\"&VLOOKUP($D5&\"@8\",'中間シート（個人）'!$F$6:$O$100,8,FALSE))","v":""},{"$f":"IF(ISERROR(VLOOKUP($D5&\"@9\",'中間シート（個人）'!$F$6:$O$100,4,FALSE)&VLOOKUP($D5&\"@9\",'中間シート（個人）'!$F$6:$O$100,5,FALSE)),\"\",VLOOKUP($D5&\"@9\",'中間シート（個人）'!$F$6:$O$100,4,FALSE)&VLOOKUP($D5&\"@9\",'中間シート（個人）'!$F$6:$O$100,5,FALSE))","v":""},{"$f":"IF(ISERROR(VLOOKUP($D5&\"@9\",'中間シート（個人）'!$F$6:$O$100,6,FALSE)&VLOOKUP($D5&\"@9\",'中間シート（個人）'!$F$6:$O$100,7,FALSE)&\".\"&VLOOKUP($D5&\"@9\",'中間シート（個人）'!$F$6:$O$100,8,FALSE)),\"\",VLOOKUP($D5&\"@9\",'中間シート（個人）'!$F$6:$O$100,6,FALSE)&VLOOKUP($D5&\"@9\",'中間シート（個人）'!$F$6:$O$100,7,FALSE)&\".\"&VLOOKUP($D5&\"@9\",'中間シート（個人）'!$F$6:$O$100,8,FALSE))","v":""},{"$f":"IF(ISERROR(VLOOKUP($D5&\"@10\",'中間シート（個人）'!$F$6:$O$100,4,FALSE)&VLOOKUP($D5&\"@10\",'中間シート（個人）'!$F$6:$O$100,5,FALSE)),\"\",VLOOKUP($D5&\"@10\",'中間シート（個人）'!$F$6:$O$100,4,FALSE)&VLOOKUP($D5&\"@10\",'中間シート（個人）'!$F$6:$O$100,5,FALSE))","v":""},{"$f":"IF(ISERROR(VLOOKUP($D5&\"@10\",'中間シート（個人）'!$F$6:$O$100,6,FALSE)&VLOOKUP($D5&\"@10\",'中間シート（個人）'!$F$6:$O$100,7,FALSE)&\".\"&VLOOKUP($D5&\"@10\",'中間シート（個人）'!$F$6:$O$100,8,FALSE)),\"\",VLOOKUP($D5&\"@10\",'中間シート（個人）'!$F$6:$O$100,6,FALSE)&VLOOKUP($D5&\"@10\",'中間シート（個人）'!$F$6:$O$100,7,FALSE)&\".\"&VLOOKUP($D5&\"@10\",'中間シート（個人）'!$F$6:$O$100,8,FALSE))","v":""}]
[null,null,{"$f":"IF('中間シート（個人）'!D8=\"○\",\"\",VLOOKUP(個人種目!F8,コード一覧!$A$2:$B$3,2,FALSE))","v":""},{"$f":"IF('中間シート（個人）'!D8=\"○\",\"\",'中間シート（個人）'!C8)","v":""},{"$f":"IF('中間シート（個人）'!D8=\"○\",\"\",ASC(個人種目!D8&\" \"&個人種目!E8))","v":""},{"$f":"IF('中間シート（個人）'!D8=\"○\",\"\",個人種目!G8&IF(LEN(個人種目!H8)=1,\"0\"&個人種目!H8,個人種目!H8)&IF(LEN(個人種目!I8)=1,\"0\"&個人種目!I8,個人種目!I8))","v":""},{"$f":"IF('中間シート（個人）'!D8=\"○\",\"\",VLOOKUP(個人種目!$J8,コード一覧!$C$3:$D$6,2,FALSE))","v":""},{"$f":"IF('中間シート（個人）'!D8=\"○\",\"\",IF(個人種目!$J8=\"一般\",0,個人種目!$K8))","v":""},{"$f":"IF('中間シート（個人）'!D8=\"○\",\"\",'中間シート（個人）'!H8)","v":""},null,{"$f":"IF('中間シート（個人）'!D8=\"○\",\"\",個人種目!$L$1)","v":""},{"$f":"IF('中間シート（個人）'!D8=\"○\",\"\",ASC(申込書_コナミ!$S$9))","v":""},{"$f":"IF('中間シート（個人）'!D8=\"○\",\"\",申込書_コナミ!$E$8)","v":""},null,null,null,{"$f":"IF('中間シート（個人）'!D8=\"○\",\"\",4)","v":""},{"$f":"IF(ISERROR(VLOOKUP($D6&\"@1\",'中間シート（個人）'!$F$6:$O$100,4,FALSE)&VLOOKUP($D6&\"@1\",'中間シート（個人）'!$F$6:$O$100,5,FALSE)),\"\",VLOOKUP($D6&\"@1\",'中間シート（個人）'!$F$6:$O$100,4,FALSE)&VLOOKUP($D6&\"@1\",'中間シート（個人）'!$F$6:$O$100,5,FALSE))","v":""},{"$f":"IF(ISERROR(VLOOKUP($D6&\"@1\",'中間シート（個人）'!$F$6:$O$100,6,FALSE)&VLOOKUP($D6&\"@1\",'中間シート（個人）'!$F$6:$O$100,7,FALSE)&\".\"&VLOOKUP($D6&\"@1\",'中間シート（個人）'!$F$6:$O$100,8,FALSE)),\"\",VLOOKUP($D6&\"@1\",'中間シート（個人）'!$F$6:$O$100,6,FALSE)&VLOOKUP($D6&\"@1\",'中間シート（個人）'!$F$6:$O$100,7,FALSE)&\".\"&VLOOKUP($D6&\"@1\",'中間シート（個人）'!$F$6:$O$100,8,FALSE))","v":""},{"$f":"IF(ISERROR(VLOOKUP($D6&\"@2\",'中間シート（個人）'!$F$6:$O$100,4,FALSE)&VLOOKUP($D6&\"@2\",'中間シート（個人）'!$F$6:$O$100,5,FALSE)),\"\",VLOOKUP($D6&\"@2\",'中間シート（個人）'!$F$6:$O$100,4,FALSE)&VLOOKUP($D6&\"@2\",'中間シート（個人）'!$F$6:$O$100,5,FALSE))","v":""},{"$f":"IF(ISERROR(VLOOKUP($D6&\"@2\",'中間シート（個人）'!$F$6:$O$100,6,FALSE)&VLOOKUP($D6&\"@2\",'中間シート（個人）'!$F$6:$O$100,7,FALSE)&\".\"&VLOOKUP($D6&\"@2\",'中間シート（個人）'!$F$6:$O$100,8,FALSE)),\"\",VLOOKUP($D6&\"@2\",'中間シート（個人）'!$F$6:$O$100,6,FALSE)&VLOOKUP($D6&\"@2\",'中間シート（個人）'!$F$6:$O$100,7,FALSE)&\".\"&VLOOKUP($D6&\"@2\",'中間シート（個人）'!$F$6:$O$100,8,FALSE))","v":""},{"$f":"IF(ISERROR(VLOOKUP($D6&\"@3\",'中間シート（個人）'!$F$6:$O$100,4,FALSE)&VLOOKUP($D6&\"@3\",'中間シート（個人）'!$F$6:$O$100,5,FALSE)),\"\",VLOOKUP($D6&\"@3\",'中間シート（個人）'!$F$6:$O$100,4,FALSE)&VLOOKUP($D6&\"@3\",'中間シート（個人）'!$F$6:$O$100,5,FALSE))","v":""},{"$f":"IF(ISERROR(VLOOKUP($D6&\"@3\",'中間シート（個人）'!$F$6:$O$100,6,FALSE)&VLOOKUP($D6&\"@3\",'中間シート（個人）'!$F$6:$O$100,7,FALSE)&\".\"&VLOOKUP($D6&\"@3\",'中間シート（個人）'!$F$6:$O$100,8,FALSE)),\"\",VLOOKUP($D6&\"@3\",'中間シート（個人）'!$F$6:$O$100,6,FALSE)&VLOOKUP($D6&\"@3\",'中間シート（個人）'!$F$6:$O$100,7,FALSE)&\".\"&VLOOKUP($D6&\"@3\",'中間シート（個人）'!$F$6:$O$100,8,FALSE))","v":""},{"$f":"IF(ISERROR(VLOOKUP($D6&\"@4\",'中間シート（個人）'!$F$6:$O$100,4,FALSE)&VLOOKUP($D6&\"@4\",'中間シート（個人）'!$F$6:$O$100,5,FALSE)),\"\",VLOOKUP($D6&\"@4\",'中間シート（個人）'!$F$6:$O$100,4,FALSE)&VLOOKUP($D6&\"@4\",'中間シート（個人）'!$F$6:$O$100,5,FALSE))","v":""},{"$f":"IF(ISERROR(VLOOKUP($D6&\"@4\",'中間シート（個人）'!$F$6:$O$100,6,FALSE)&VLOOKUP($D6&\"@4\",'中間シート（個人）'!$F$6:$O$100,7,FALSE)&\".\"&VLOOKUP($D6&\"@4\",'中間シート（個人）'!$F$6:$O$100,8,FALSE)),\"\",VLOOKUP($D6&\"@4\",'中間シート（個人）'!$F$6:$O$100,6,FALSE)&VLOOKUP($D6&\"@4\",'中間シート（個人）'!$F$6:$O$100,7,FALSE)&\".\"&VLOOKUP($D6&\"@4\",'中間シート（個人）'!$F$6:$O$100,8,FALSE))","v":""},{"$f":"IF(ISERROR(VLOOKUP($D6&\"@5\",'中間シート（個人）'!$F$6:$O$100,4,FALSE)&VLOOKUP($D6&\"@5\",'中間シート（個人）'!$F$6:$O$100,5,FALSE)),\"\",VLOOKUP($D6&\"@5\",'中間シート（個人）'!$F$6:$O$100,4,FALSE)&VLOOKUP($D6&\"@5\",'中間シート（個人）'!$F$6:$O$100,5,FALSE))","v":""},{"$f":"IF(ISERROR(VLOOKUP($D6&\"@5\",'中間シート（個人）'!$F$6:$O$100,6,FALSE)&VLOOKUP($D6&\"@5\",'中間シート（個人）'!$F$6:$O$100,7,FALSE)&\".\"&VLOOKUP($D6&\"@5\",'中間シート（個人）'!$F$6:$O$100,8,FALSE)),\"\",VLOOKUP($D6&\"@5\",'中間シート（個人）'!$F$6:$O$100,6,FALSE)&VLOOKUP($D6&\"@5\",'中間シート（個人）'!$F$6:$O$100,7,FALSE)&\".\"&VLOOKUP($D6&\"@5\",'中間シート（個人）'!$F$6:$O$100,8,FALSE))","v":""},{"$f":"IF(ISERROR(VLOOKUP($D6&\"@6\",'中間シート（個人）'!$F$6:$O$100,4,FALSE)&VLOOKUP($D6&\"@6\",'中間シート（個人）'!$F$6:$O$100,5,FALSE)),\"\",VLOOKUP($D6&\"@6\",'中間シート（個人）'!$F$6:$O$100,4,FALSE)&VLOOKUP($D6&\"@6\",'中間シート（個人）'!$F$6:$O$100,5,FALSE))","v":""},{"$f":"IF(ISERROR(VLOOKUP($D6&\"@6\",'中間シート（個人）'!$F$6:$O$100,6,FALSE)&VLOOKUP($D6&\"@6\",'中間シート（個人）'!$F$6:$O$100,7,FALSE)&\".\"&VLOOKUP($D6&\"@6\",'中間シート（個人）'!$F$6:$O$100,8,FALSE)),\"\",VLOOKUP($D6&\"@6\",'中間シート（個人）'!$F$6:$O$100,6,FALSE)&VLOOKUP($D6&\"@6\",'中間シート（個人）'!$F$6:$O$100,7,FALSE)&\".\"&VLOOKUP($D6&\"@6\",'中間シート（個人）'!$F$6:$O$100,8,FALSE))","v":""},{"$f":"IF(ISERROR(VLOOKUP($D6&\"@7\",'中間シート（個人）'!$F$6:$O$100,4,FALSE)&VLOOKUP($D6&\"@7\",'中間シート（個人）'!$F$6:$O$100,5,FALSE)),\"\",VLOOKUP($D6&\"@7\",'中間シート（個人）'!$F$6:$O$100,4,FALSE)&VLOOKUP($D6&\"@7\",'中間シート（個人）'!$F$6:$O$100,5,FALSE))","v":""},{"$f":"IF(ISERROR(VLOOKUP($D6&\"@7\",'中間シート（個人）'!$F$6:$O$100,6,FALSE)&VLOOKUP($D6&\"@7\",'中間シート（個人）'!$F$6:$O$100,7,FALSE)&\".\"&VLOOKUP($D6&\"@7\",'中間シート（個人）'!$F$6:$O$100,8,FALSE)),\"\",VLOOKUP($D6&\"@7\",'中間シート（個人）'!$F$6:$O$100,6,FALSE)&VLOOKUP($D6&\"@7\",'中間シート（個人）'!$F$6:$O$100,7,FALSE)&\".\"&VLOOKUP($D6&\"@7\",'中間シート（個人）'!$F$6:$O$100,8,FALSE))","v":""},{"$f":"IF(ISERROR(VLOOKUP($D6&\"@8\",'中間シート（個人）'!$F$6:$O$100,4,FALSE)&VLOOKUP($D6&\"@8\",'中間シート（個人）'!$F$6:$O$100,5,FALSE)),\"\",VLOOKUP($D6&\"@8\",'中間シート（個人）'!$F$6:$O$100,4,FALSE)&VLOOKUP($D6&\"@8\",'中間シート（個人）'!$F$6:$O$100,5,FALSE))","v":""},{"$f":"IF(ISERROR(VLOOKUP($D6&\"@8\",'中間シート（個人）'!$F$6:$O$100,6,FALSE)&VLOOKUP($D6&\"@8\",'中間シート（個人）'!$F$6:$O$100,7,FALSE)&\".\"&VLOOKUP($D6&\"@8\",'中間シート（個人）'!$F$6:$O$100,8,FALSE)),\"\",VLOOKUP($D6&\"@8\",'中間シート（個人）'!$F$6:$O$100,6,FALSE)&VLOOKUP($D6&\"@8\",'中間シート（個人）'!$F$6:$O$100,7,FALSE)&\".\"&VLOOKUP($D6&\"@8\",'中間シート（個人）'!$F$6:$O$100,8,FALSE))","v":""},{"$f":"IF(ISERROR(VLOOKUP($D6&\"@9\",'中間シート（個人）'!$F$6:$O$100,4,FALSE)&VLOOKUP($D6&\"@9\",'中間シート（個人）'!$F$6:$O$100,5,FALSE)),\"\",VLOOKUP($D6&\"@9\",'中間シート（個人）'!$F$6:$O$100,4,FALSE)&VLOOKUP($D6&\"@9\",'中間シート（個人）'!$F$6:$O$100,5,FALSE))","v":""},{"$f":"IF(ISERROR(VLOOKUP($D6&\"@9\",'中間シート（個人）'!$F$6:$O$100,6,FALSE)&VLOOKUP($D6&\"@9\",'中間シート（個人）'!$F$6:$O$100,7,FALSE)&\".\"&VLOOKUP($D6&\"@9\",'中間シート（個人）'!$F$6:$O$100,8,FALSE)),\"\",VLOOKUP($D6&\"@9\",'中間シート（個人）'!$F$6:$O$100,6,FALSE)&VLOOKUP($D6&\"@9\",'中間シート（個人）'!$F$6:$O$100,7,FALSE)&\".\"&VLOOKUP($D6&\"@9\",'中間シート（個人）'!$F$6:$O$100,8,FALSE))","v":""},{"$f":"IF(ISERROR(VLOOKUP($D6&\"@10\",'中間シート（個人）'!$F$6:$O$100,4,FALSE)&VLOOKUP($D6&\"@10\",'中間シート（個人）'!$F$6:$O$100,5,FALSE)),\"\",VLOOKUP($D6&\"@10\",'中間シート（個人）'!$F$6:$O$100,4,FALSE)&VLOOKUP($D6&\"@10\",'中間シート（個人）'!$F$6:$O$100,5,FALSE))","v":""},{"$f":"IF(ISERROR(VLOOKUP($D6&\"@10\",'中間シート（個人）'!$F$6:$O$100,6,FALSE)&VLOOKUP($D6&\"@10\",'中間シート（個人）'!$F$6:$O$100,7,FALSE)&\".\"&VLOOKUP($D6&\"@10\",'中間シート（個人）'!$F$6:$O$100,8,FALSE)),\"\",VLOOKUP($D6&\"@10\",'中間シート（個人）'!$F$6:$O$100,6,FALSE)&VLOOKUP($D6&\"@10\",'中間シート（個人）'!$F$6:$O$100,7,FALSE)&\".\"&VLOOKUP($D6&\"@10\",'中間シート（個人）'!$F$6:$O$100,8,FALSE))","v":""}]
[null,null,{"$f":"IF('中間シート（個人）'!D9=\"○\",\"\",VLOOKUP(個人種目!F9,コード一覧!$A$2:$B$3,2,FALSE))","v":""},{"$f":"IF('中間シート（個人）'!D9=\"○\",\"\",'中間シート（個人）'!C9)","v":""},{"$f":"IF('中間シート（個人）'!D9=\"○\",\"\",ASC(個人種目!D9&\" \"&個人種目!E9))","v":""},{"$f":"IF('中間シート（個人）'!D9=\"○\",\"\",個人種目!G9&IF(LEN(個人種目!H9)=1,\"0\"&個人種目!H9,個人種目!H9)&IF(LEN(個人種目!I9)=1,\"0\"&個人種目!I9,個人種目!I9))","v":""},{"$f":"IF('中間シート（個人）'!D9=\"○\",\"\",VLOOKUP(個人種目!$J9,コード一覧!$C$3:$D$6,2,FALSE))","v":""},{"$f":"IF('中間シート（個人）'!D9=\"○\",\"\",IF(個人種目!$J9=\"一般\",0,個人種目!$K9))","v":""},{"$f":"IF('中間シート（個人）'!D9=\"○\",\"\",'中間シート（個人）'!H9)","v":""},null,{"$f":"IF('中間シート（個人）'!D9=\"○\",\"\",個人種目!$L$1)","v":""},{"$f":"IF('中間シート（個人）'!D9=\"○\",\"\",ASC(申込書_コナミ!$S$9))","v":""},{"$f":"IF('中間シート（個人）'!D9=\"○\",\"\",申込書_コナミ!$E$8)","v":""},null,null,null,{"$f":"IF('中間シート（個人）'!D9=\"○\",\"\",4)","v":""},{"$f":"IF(ISERROR(VLOOKUP($D7&\"@1\",'中間シート（個人）'!$F$6:$O$100,4,FALSE)&VLOOKUP($D7&\"@1\",'中間シート（個人）'!$F$6:$O$100,5,FALSE)),\"\",VLOOKUP($D7&\"@1\",'中間シート（個人）'!$F$6:$O$100,4,FALSE)&VLOOKUP($D7&\"@1\",'中間シート（個人）'!$F$6:$O$100,5,FALSE))","v":""},{"$f":"IF(ISERROR(VLOOKUP($D7&\"@1\",'中間シート（個人）'!$F$6:$O$100,6,FALSE)&VLOOKUP($D7&\"@1\",'中間シート（個人）'!$F$6:$O$100,7,FALSE)&\".\"&VLOOKUP($D7&\"@1\",'中間シート（個人）'!$F$6:$O$100,8,FALSE)),\"\",VLOOKUP($D7&\"@1\",'中間シート（個人）'!$F$6:$O$100,6,FALSE)&VLOOKUP($D7&\"@1\",'中間シート（個人）'!$F$6:$O$100,7,FALSE)&\".\"&VLOOKUP($D7&\"@1\",'中間シート（個人）'!$F$6:$O$100,8,FALSE))","v":""},{"$f":"IF(ISERROR(VLOOKUP($D7&\"@2\",'中間シート（個人）'!$F$6:$O$100,4,FALSE)&VLOOKUP($D7&\"@2\",'中間シート（個人）'!$F$6:$O$100,5,FALSE)),\"\",VLOOKUP($D7&\"@2\",'中間シート（個人）'!$F$6:$O$100,4,FALSE)&VLOOKUP($D7&\"@2\",'中間シート（個人）'!$F$6:$O$100,5,FALSE))","v":""},{"$f":"IF(ISERROR(VLOOKUP($D7&\"@2\",'中間シート（個人）'!$F$6:$O$100,6,FALSE)&VLOOKUP($D7&\"@2\",'中間シート（個人）'!$F$6:$O$100,7,FALSE)&\".\"&VLOOKUP($D7&\"@2\",'中間シート（個人）'!$F$6:$O$100,8,FALSE)),\"\",VLOOKUP($D7&\"@2\",'中間シート（個人）'!$F$6:$O$100,6,FALSE)&VLOOKUP($D7&\"@2\",'中間シート（個人）'!$F$6:$O$100,7,FALSE)&\".\"&VLOOKUP($D7&\"@2\",'中間シート（個人）'!$F$6:$O$100,8,FALSE))","v":""},{"$f":"IF(ISERROR(VLOOKUP($D7&\"@3\",'中間シート（個人）'!$F$6:$O$100,4,FALSE)&VLOOKUP($D7&\"@3\",'中間シート（個人）'!$F$6:$O$100,5,FALSE)),\"\",VLOOKUP($D7&\"@3\",'中間シート（個人）'!$F$6:$O$100,4,FALSE)&VLOOKUP($D7&\"@3\",'中間シート（個人）'!$F$6:$O$100,5,FALSE))","v":""},{"$f":"IF(ISERROR(VLOOKUP($D7&\"@3\",'中間シート（個人）'!$F$6:$O$100,6,FALSE)&VLOOKUP($D7&\"@3\",'中間シート（個人）'!$F$6:$O$100,7,FALSE)&\".\"&VLOOKUP($D7&\"@3\",'中間シート（個人）'!$F$6:$O$100,8,FALSE)),\"\",VLOOKUP($D7&\"@3\",'中間シート（個人）'!$F$6:$O$100,6,FALSE)&VLOOKUP($D7&\"@3\",'中間シート（個人）'!$F$6:$O$100,7,FALSE)&\".\"&VLOOKUP($D7&\"@3\",'中間シート（個人）'!$F$6:$O$100,8,FALSE))","v":""},{"$f":"IF(ISERROR(VLOOKUP($D7&\"@4\",'中間シート（個人）'!$F$6:$O$100,4,FALSE)&VLOOKUP($D7&\"@4\",'中間シート（個人）'!$F$6:$O$100,5,FALSE)),\"\",VLOOKUP($D7&\"@4\",'中間シート（個人）'!$F$6:$O$100,4,FALSE)&VLOOKUP($D7&\"@4\",'中間シート（個人）'!$F$6:$O$100,5,FALSE))","v":""},{"$f":"IF(ISERROR(VLOOKUP($D7&\"@4\",'中間シート（個人）'!$F$6:$O$100,6,FALSE)&VLOOKUP($D7&\"@4\",'中間シート（個人）'!$F$6:$O$100,7,FALSE)&\".\"&VLOOKUP($D7&\"@4\",'中間シート（個人）'!$F$6:$O$100,8,FALSE)),\"\",VLOOKUP($D7&\"@4\",'中間シート（個人）'!$F$6:$O$100,6,FALSE)&VLOOKUP($D7&\"@4\",'中間シート（個人）'!$F$6:$O$100,7,FALSE)&\".\"&VLOOKUP($D7&\"@4\",'中間シート（個人）'!$F$6:$O$100,8,FALSE))","v":""},{"$f":"IF(ISERROR(VLOOKUP($D7&\"@5\",'中間シート（個人）'!$F$6:$O$100,4,FALSE)&VLOOKUP($D7&\"@5\",'中間シート（個人）'!$F$6:$O$100,5,FALSE)),\"\",VLOOKUP($D7&\"@5\",'中間シート（個人）'!$F$6:$O$100,4,FALSE)&VLOOKUP($D7&\"@5\",'中間シート（個人）'!$F$6:$O$100,5,FALSE))","v":""},{"$f":"IF(ISERROR(VLOOKUP($D7&\"@5\",'中間シート（個人）'!$F$6:$O$100,6,FALSE)&VLOOKUP($D7&\"@5\",'中間シート（個人）'!$F$6:$O$100,7,FALSE)&\".\"&VLOOKUP($D7&\"@5\",'中間シート（個人）'!$F$6:$O$100,8,FALSE)),\"\",VLOOKUP($D7&\"@5\",'中間シート（個人）'!$F$6:$O$100,6,FALSE)&VLOOKUP($D7&\"@5\",'中間シート（個人）'!$F$6:$O$100,7,FALSE)&\".\"&VLOOKUP($D7&\"@5\",'中間シート（個人）'!$F$6:$O$100,8,FALSE))","v":""},{"$f":"IF(ISERROR(VLOOKUP($D7&\"@6\",'中間シート（個人）'!$F$6:$O$100,4,FALSE)&VLOOKUP($D7&\"@6\",'中間シート（個人）'!$F$6:$O$100,5,FALSE)),\"\",VLOOKUP($D7&\"@6\",'中間シート（個人）'!$F$6:$O$100,4,FALSE)&VLOOKUP($D7&\"@6\",'中間シート（個人）'!$F$6:$O$100,5,FALSE))","v":""},{"$f":"IF(ISERROR(VLOOKUP($D7&\"@6\",'中間シート（個人）'!$F$6:$O$100,6,FALSE)&VLOOKUP($D7&\"@6\",'中間シート（個人）'!$F$6:$O$100,7,FALSE)&\".\"&VLOOKUP($D7&\"@6\",'中間シート（個人）'!$F$6:$O$100,8,FALSE)),\"\",VLOOKUP($D7&\"@6\",'中間シート（個人）'!$F$6:$O$100,6,FALSE)&VLOOKUP($D7&\"@6\",'中間シート（個人）'!$F$6:$O$100,7,FALSE)&\".\"&VLOOKUP($D7&\"@6\",'中間シート（個人）'!$F$6:$O$100,8,FALSE))","v":""},{"$f":"IF(ISERROR(VLOOKUP($D7&\"@7\",'中間シート（個人）'!$F$6:$O$100,4,FALSE)&VLOOKUP($D7&\"@7\",'中間シート（個人）'!$F$6:$O$100,5,FALSE)),\"\",VLOOKUP($D7&\"@7\",'中間シート（個人）'!$F$6:$O$100,4,FALSE)&VLOOKUP($D7&\"@7\",'中間シート（個人）'!$F$6:$O$100,5,FALSE))","v":""},{"$f":"IF(ISERROR(VLOOKUP($D7&\"@7\",'中間シート（個人）'!$F$6:$O$100,6,FALSE)&VLOOKUP($D7&\"@7\",'中間シート（個人）'!$F$6:$O$100,7,FALSE)&\".\"&VLOOKUP($D7&\"@7\",'中間シート（個人）'!$F$6:$O$100,8,FALSE)),\"\",VLOOKUP($D7&\"@7\",'中間シート（個人）'!$F$6:$O$100,6,FALSE)&VLOOKUP($D7&\"@7\",'中間シート（個人）'!$F$6:$O$100,7,FALSE)&\".\"&VLOOKUP($D7&\"@7\",'中間シート（個人）'!$F$6:$O$100,8,FALSE))","v":""},{"$f":"IF(ISERROR(VLOOKUP($D7&\"@8\",'中間シート（個人）'!$F$6:$O$100,4,FALSE)&VLOOKUP($D7&\"@8\",'中間シート（個人）'!$F$6:$O$100,5,FALSE)),\"\",VLOOKUP($D7&\"@8\",'中間シート（個人）'!$F$6:$O$100,4,FALSE)&VLOOKUP($D7&\"@8\",'中間シート（個人）'!$F$6:$O$100,5,FALSE))","v":""},{"$f":"IF(ISERROR(VLOOKUP($D7&\"@8\",'中間シート（個人）'!$F$6:$O$100,6,FALSE)&VLOOKUP($D7&\"@8\",'中間シート（個人）'!$F$6:$O$100,7,FALSE)&\".\"&VLOOKUP($D7&\"@8\",'中間シート（個人）'!$F$6:$O$100,8,FALSE)),\"\",VLOOKUP($D7&\"@8\",'中間シート（個人）'!$F$6:$O$100,6,FALSE)&VLOOKUP($D7&\"@8\",'中間シート（個人）'!$F$6:$O$100,7,FALSE)&\".\"&VLOOKUP($D7&\"@8\",'中間シート（個人）'!$F$6:$O$100,8,FALSE))","v":""},{"$f":"IF(ISERROR(VLOOKUP($D7&\"@9\",'中間シート（個人）'!$F$6:$O$100,4,FALSE)&VLOOKUP($D7&\"@9\",'中間シート（個人）'!$F$6:$O$100,5,FALSE)),\"\",VLOOKUP($D7&\"@9\",'中間シート（個人）'!$F$6:$O$100,4,FALSE)&VLOOKUP($D7&\"@9\",'中間シート（個人）'!$F$6:$O$100,5,FALSE))","v":""},{"$f":"IF(ISERROR(VLOOKUP($D7&\"@9\",'中間シート（個人）'!$F$6:$O$100,6,FALSE)&VLOOKUP($D7&\"@9\",'中間シート（個人）'!$F$6:$O$100,7,FALSE)&\".\"&VLOOKUP($D7&\"@9\",'中間シート（個人）'!$F$6:$O$100,8,FALSE)),\"\",VLOOKUP($D7&\"@9\",'中間シート（個人）'!$F$6:$O$100,6,FALSE)&VLOOKUP($D7&\"@9\",'中間シート（個人）'!$F$6:$O$100,7,FALSE)&\".\"&VLOOKUP($D7&\"@9\",'中間シート（個人）'!$F$6:$O$100,8,FALSE))","v":""},{"$f":"IF(ISERROR(VLOOKUP($D7&\"@10\",'中間シート（個人）'!$F$6:$O$100,4,FALSE)&VLOOKUP($D7&\"@10\",'中間シート（個人）'!$F$6:$O$100,5,FALSE)),\"\",VLOOKUP($D7&\"@10\",'中間シート（個人）'!$F$6:$O$100,4,FALSE)&VLOOKUP($D7&\"@10\",'中間シート（個人）'!$F$6:$O$100,5,FALSE))","v":""},{"$f":"IF(ISERROR(VLOOKUP($D7&\"@10\",'中間シート（個人）'!$F$6:$O$100,6,FALSE)&VLOOKUP($D7&\"@10\",'中間シート（個人）'!$F$6:$O$100,7,FALSE)&\".\"&VLOOKUP($D7&\"@10\",'中間シート（個人）'!$F$6:$O$100,8,FALSE)),\"\",VLOOKUP($D7&\"@10\",'中間シート（個人）'!$F$6:$O$100,6,FALSE)&VLOOKUP($D7&\"@10\",'中間シート（個人）'!$F$6:$O$100,7,FALSE)&\".\"&VLOOKUP($D7&\"@10\",'中間シート（個人）'!$F$6:$O$100,8,FALSE))","v":""}]
[null,null,{"$f":"IF('中間シート（個人）'!D10=\"○\",\"\",VLOOKUP(個人種目!F10,コード一覧!$A$2:$B$3,2,FALSE))","v":""},{"$f":"IF('中間シート（個人）'!D10=\"○\",\"\",'中間シート（個人）'!C10)","v":""},{"$f":"IF('中間シート（個人）'!D10=\"○\",\"\",ASC(個人種目!D10&\" \"&個人種目!E10))","v":""},{"$f":"IF('中間シート（個人）'!D10=\"○\",\"\",個人種目!G10&IF(LEN(個人種目!H10)=1,\"0\"&個人種目!H10,個人種目!H10)&IF(LEN(個人種目!I10)=1,\"0\"&個人種目!I10,個人種目!I10))","v":""},{"$f":"IF('中間シート（個人）'!D10=\"○\",\"\",VLOOKUP(個人種目!$J10,コード一覧!$C$3:$D$6,2,FALSE))","v":""},{"$f":"IF('中間シート（個人）'!D10=\"○\",\"\",IF(個人種目!$J10=\"一般\",0,個人種目!$K10))","v":""},{"$f":"IF('中間シート（個人）'!D10=\"○\",\"\",'中間シート（個人）'!H10)","v":""},null,{"$f":"IF('中間シート（個人）'!D10=\"○\",\"\",個人種目!$L$1)","v":""},{"$f":"IF('中間シート（個人）'!D10=\"○\",\"\",ASC(申込書_コナミ!$S$9))","v":""},{"$f":"IF('中間シート（個人）'!D10=\"○\",\"\",申込書_コナミ!$E$8)","v":""},null,null,null,{"$f":"IF('中間シート（個人）'!D10=\"○\",\"\",4)","v":""},{"$f":"IF(ISERROR(VLOOKUP($D8&\"@1\",'中間シート（個人）'!$F$6:$O$100,4,FALSE)&VLOOKUP($D8&\"@1\",'中間シート（個人）'!$F$6:$O$100,5,FALSE)),\"\",VLOOKUP($D8&\"@1\",'中間シート（個人）'!$F$6:$O$100,4,FALSE)&VLOOKUP($D8&\"@1\",'中間シート（個人）'!$F$6:$O$100,5,FALSE))","v":""},{"$f":"IF(ISERROR(VLOOKUP($D8&\"@1\",'中間シート（個人）'!$F$6:$O$100,6,FALSE)&VLOOKUP($D8&\"@1\",'中間シート（個人）'!$F$6:$O$100,7,FALSE)&\".\"&VLOOKUP($D8&\"@1\",'中間シート（個人）'!$F$6:$O$100,8,FALSE)),\"\",VLOOKUP($D8&\"@1\",'中間シート（個人）'!$F$6:$O$100,6,FALSE)&VLOOKUP($D8&\"@1\",'中間シート（個人）'!$F$6:$O$100,7,FALSE)&\".\"&VLOOKUP($D8&\"@1\",'中間シート（個人）'!$F$6:$O$100,8,FALSE))","v":""},{"$f":"IF(ISERROR(VLOOKUP($D8&\"@2\",'中間シート（個人）'!$F$6:$O$100,4,FALSE)&VLOOKUP($D8&\"@2\",'中間シート（個人）'!$F$6:$O$100,5,FALSE)),\"\",VLOOKUP($D8&\"@2\",'中間シート（個人）'!$F$6:$O$100,4,FALSE)&VLOOKUP($D8&\"@2\",'中間シート（個人）'!$F$6:$O$100,5,FALSE))","v":""},{"$f":"IF(ISERROR(VLOOKUP($D8&\"@2\",'中間シート（個人）'!$F$6:$O$100,6,FALSE)&VLOOKUP($D8&\"@2\",'中間シート（個人）'!$F$6:$O$100,7,FALSE)&\".\"&VLOOKUP($D8&\"@2\",'中間シート（個人）'!$F$6:$O$100,8,FALSE)),\"\",VLOOKUP($D8&\"@2\",'中間シート（個人）'!$F$6:$O$100,6,FALSE)&VLOOKUP($D8&\"@2\",'中間シート（個人）'!$F$6:$O$100,7,FALSE)&\".\"&VLOOKUP($D8&\"@2\",'中間シート（個人）'!$F$6:$O$100,8,FALSE))","v":""},{"$f":"IF(ISERROR(VLOOKUP($D8&\"@3\",'中間シート（個人）'!$F$6:$O$100,4,FALSE)&VLOOKUP($D8&\"@3\",'中間シート（個人）'!$F$6:$O$100,5,FALSE)),\"\",VLOOKUP($D8&\"@3\",'中間シート（個人）'!$F$6:$O$100,4,FALSE)&VLOOKUP($D8&\"@3\",'中間シート（個人）'!$F$6:$O$100,5,FALSE))","v":""},{"$f":"IF(ISERROR(VLOOKUP($D8&\"@3\",'中間シート（個人）'!$F$6:$O$100,6,FALSE)&VLOOKUP($D8&\"@3\",'中間シート（個人）'!$F$6:$O$100,7,FALSE)&\".\"&VLOOKUP($D8&\"@3\",'中間シート（個人）'!$F$6:$O$100,8,FALSE)),\"\",VLOOKUP($D8&\"@3\",'中間シート（個人）'!$F$6:$O$100,6,FALSE)&VLOOKUP($D8&\"@3\",'中間シート（個人）'!$F$6:$O$100,7,FALSE)&\".\"&VLOOKUP($D8&\"@3\",'中間シート（個人）'!$F$6:$O$100,8,FALSE))","v":""},{"$f":"IF(ISERROR(VLOOKUP($D8&\"@4\",'中間シート（個人）'!$F$6:$O$100,4,FALSE)&VLOOKUP($D8&\"@4\",'中間シート（個人）'!$F$6:$O$100,5,FALSE)),\"\",VLOOKUP($D8&\"@4\",'中間シート（個人）'!$F$6:$O$100,4,FALSE)&VLOOKUP($D8&\"@4\",'中間シート（個人）'!$F$6:$O$100,5,FALSE))","v":""},{"$f":"IF(ISERROR(VLOOKUP($D8&\"@4\",'中間シート（個人）'!$F$6:$O$100,6,FALSE)&VLOOKUP($D8&\"@4\",'中間シート（個人）'!$F$6:$O$100,7,FALSE)&\".\"&VLOOKUP($D8&\"@4\",'中間シート（個人）'!$F$6:$O$100,8,FALSE)),\"\",VLOOKUP($D8&\"@4\",'中間シート（個人）'!$F$6:$O$100,6,FALSE)&VLOOKUP($D8&\"@4\",'中間シート（個人）'!$F$6:$O$100,7,FALSE)&\".\"&VLOOKUP($D8&\"@4\",'中間シート（個人）'!$F$6:$O$100,8,FALSE))","v":""},{"$f":"IF(ISERROR(VLOOKUP($D8&\"@5\",'中間シート（個人）'!$F$6:$O$100,4,FALSE)&VLOOKUP($D8&\"@5\",'中間シート（個人）'!$F$6:$O$100,5,FALSE)),\"\",VLOOKUP($D8&\"@5\",'中間シート（個人）'!$F$6:$O$100,4,FALSE)&VLOOKUP($D8&\"@5\",'中間シート（個人）'!$F$6:$O$100,5,FALSE))","v":""},{"$f":"IF(ISERROR(VLOOKUP($D8&\"@5\",'中間シート（個人）'!$F$6:$O$100,6,FALSE)&VLOOKUP($D8&\"@5\",'中間シート（個人）'!$F$6:$O$100,7,FALSE)&\".\"&VLOOKUP($D8&\"@5\",'中間シート（個人）'!$F$6:$O$100,8,FALSE)),\"\",VLOOKUP($D8&\"@5\",'中間シート（個人）'!$F$6:$O$100,6,FALSE)&VLOOKUP($D8&\"@5\",'中間シート（個人）'!$F$6:$O$100,7,FALSE)&\".\"&VLOOKUP($D8&\"@5\",'中間シート（個人）'!$F$6:$O$100,8,FALSE))","v":""},{"$f":"IF(ISERROR(VLOOKUP($D8&\"@6\",'中間シート（個人）'!$F$6:$O$100,4,FALSE)&VLOOKUP($D8&\"@6\",'中間シート（個人）'!$F$6:$O$100,5,FALSE)),\"\",VLOOKUP($D8&\"@6\",'中間シート（個人）'!$F$6:$O$100,4,FALSE)&VLOOKUP($D8&\"@6\",'中間シート（個人）'!$F$6:$O$100,5,FALSE))","v":""},{"$f":"IF(ISERROR(VLOOKUP($D8&\"@6\",'中間シート（個人）'!$F$6:$O$100,6,FALSE)&VLOOKUP($D8&\"@6\",'中間シート（個人）'!$F$6:$O$100,7,FALSE)&\".\"&VLOOKUP($D8&\"@6\",'中間シート（個人）'!$F$6:$O$100,8,FALSE)),\"\",VLOOKUP($D8&\"@6\",'中間シート（個人）'!$F$6:$O$100,6,FALSE)&VLOOKUP($D8&\"@6\",'中間シート（個人）'!$F$6:$O$100,7,FALSE)&\".\"&VLOOKUP($D8&\"@6\",'中間シート（個人）'!$F$6:$O$100,8,FALSE))","v":""},{"$f":"IF(ISERROR(VLOOKUP($D8&\"@7\",'中間シート（個人）'!$F$6:$O$100,4,FALSE)&VLOOKUP($D8&\"@7\",'中間シート（個人）'!$F$6:$O$100,5,FALSE)),\"\",VLOOKUP($D8&\"@7\",'中間シート（個人）'!$F$6:$O$100,4,FALSE)&VLOOKUP($D8&\"@7\",'中間シート（個人）'!$F$6:$O$100,5,FALSE))","v":""},{"$f":"IF(ISERROR(VLOOKUP($D8&\"@7\",'中間シート（個人）'!$F$6:$O$100,6,FALSE)&VLOOKUP($D8&\"@7\",'中間シート（個人）'!$F$6:$O$100,7,FALSE)&\".\"&VLOOKUP($D8&\"@7\",'中間シート（個人）'!$F$6:$O$100,8,FALSE)),\"\",VLOOKUP($D8&\"@7\",'中間シート（個人）'!$F$6:$O$100,6,FALSE)&VLOOKUP($D8&\"@7\",'中間シート（個人）'!$F$6:$O$100,7,FALSE)&\".\"&VLOOKUP($D8&\"@7\",'中間シート（個人）'!$F$6:$O$100,8,FALSE))","v":""},{"$f":"IF(ISERROR(VLOOKUP($D8&\"@8\",'中間シート（個人）'!$F$6:$O$100,4,FALSE)&VLOOKUP($D8&\"@8\",'中間シート（個人）'!$F$6:$O$100,5,FALSE)),\"\",VLOOKUP($D8&\"@8\",'中間シート（個人）'!$F$6:$O$100,4,FALSE)&VLOOKUP($D8&\"@8\",'中間シート（個人）'!$F$6:$O$100,5,FALSE))","v":""},{"$f":"IF(ISERROR(VLOOKUP($D8&\"@8\",'中間シート（個人）'!$F$6:$O$100,6,FALSE)&VLOOKUP($D8&\"@8\",'中間シート（個人）'!$F$6:$O$100,7,FALSE)&\".\"&VLOOKUP($D8&\"@8\",'中間シート（個人）'!$F$6:$O$100,8,FALSE)),\"\",VLOOKUP($D8&\"@8\",'中間シート（個人）'!$F$6:$O$100,6,FALSE)&VLOOKUP($D8&\"@8\",'中間シート（個人）'!$F$6:$O$100,7,FALSE)&\".\"&VLOOKUP($D8&\"@8\",'中間シート（個人）'!$F$6:$O$100,8,FALSE))","v":""},{"$f":"IF(ISERROR(VLOOKUP($D8&\"@9\",'中間シート（個人）'!$F$6:$O$100,4,FALSE)&VLOOKUP($D8&\"@9\",'中間シート（個人）'!$F$6:$O$100,5,FALSE)),\"\",VLOOKUP($D8&\"@9\",'中間シート（個人）'!$F$6:$O$100,4,FALSE)&VLOOKUP($D8&\"@9\",'中間シート（個人）'!$F$6:$O$100,5,FALSE))","v":""},{"$f":"IF(ISERROR(VLOOKUP($D8&\"@9\",'中間シート（個人）'!$F$6:$O$100,6,FALSE)&VLOOKUP($D8&\"@9\",'中間シート（個人）'!$F$6:$O$100,7,FALSE)&\".\"&VLOOKUP($D8&\"@9\",'中間シート（個人）'!$F$6:$O$100,8,FALSE)),\"\",VLOOKUP($D8&\"@9\",'中間シート（個人）'!$F$6:$O$100,6,FALSE)&VLOOKUP($D8&\"@9\",'中間シート（個人）'!$F$6:$O$100,7,FALSE)&\".\"&VLOOKUP($D8&\"@9\",'中間シート（個人）'!$F$6:$O$100,8,FALSE))","v":""},{"$f":"IF(ISERROR(VLOOKUP($D8&\"@10\",'中間シート（個人）'!$F$6:$O$100,4,FALSE)&VLOOKUP($D8&\"@10\",'中間シート（個人）'!$F$6:$O$100,5,FALSE)),\"\",VLOOKUP($D8&\"@10\",'中間シート（個人）'!$F$6:$O$100,4,FALSE)&VLOOKUP($D8&\"@10\",'中間シート（個人）'!$F$6:$O$100,5,FALSE))","v":""},{"$f":"IF(ISERROR(VLOOKUP($D8&\"@10\",'中間シート（個人）'!$F$6:$O$100,6,FALSE)&VLOOKUP($D8&\"@10\",'中間シート（個人）'!$F$6:$O$100,7,FALSE)&\".\"&VLOOKUP($D8&\"@10\",'中間シート（個人）'!$F$6:$O$100,8,FALSE)),\"\",VLOOKUP($D8&\"@10\",'中間シート（個人）'!$F$6:$O$100,6,FALSE)&VLOOKUP($D8&\"@10\",'中間シート（個人）'!$F$6:$O$100,7,FALSE)&\".\"&VLOOKUP($D8&\"@10\",'中間シート（個人）'!$F$6:$O$100,8,FALSE))","v":""}]
[null,null,{"$f":"IF('中間シート（個人）'!D11=\"○\",\"\",VLOOKUP(個人種目!F11,コード一覧!$A$2:$B$3,2,FALSE))","v":""},{"$f":"IF('中間シート（個人）'!D11=\"○\",\"\",'中間シート（個人）'!C11)","v":""},{"$f":"IF('中間シート（個人）'!D11=\"○\",\"\",ASC(個人種目!D11&\" \"&個人種目!E11))","v":""},{"$f":"IF('中間シート（個人）'!D11=\"○\",\"\",個人種目!G11&IF(LEN(個人種目!H11)=1,\"0\"&個人種目!H11,個人種目!H11)&IF(LEN(個人種目!I11)=1,\"0\"&個人種目!I11,個人種目!I11))","v":""},{"$f":"IF('中間シート（個人）'!D11=\"○\",\"\",VLOOKUP(個人種目!$J11,コード一覧!$C$3:$D$6,2,FALSE))","v":""},{"$f":"IF('中間シート（個人）'!D11=\"○\",\"\",IF(個人種目!$J11=\"一般\",0,個人種目!$K11))","v":""},{"$f":"IF('中間シート（個人）'!D11=\"○\",\"\",'中間シート（個人）'!H11)","v":""},null,{"$f":"IF('中間シート（個人）'!D11=\"○\",\"\",個人種目!$L$1)","v":""},{"$f":"IF('中間シート（個人）'!D11=\"○\",\"\",ASC(申込書_コナミ!$S$9))","v":""},{"$f":"IF('中間シート（個人）'!D11=\"○\",\"\",申込書_コナミ!$E$8)","v":""},null,null,null,{"$f":"IF('中間シート（個人）'!D11=\"○\",\"\",4)","v":""},{"$f":"IF(ISERROR(VLOOKUP($D9&\"@1\",'中間シート（個人）'!$F$6:$O$100,4,FALSE)&VLOOKUP($D9&\"@1\",'中間シート（個人）'!$F$6:$O$100,5,FALSE)),\"\",VLOOKUP($D9&\"@1\",'中間シート（個人）'!$F$6:$O$100,4,FALSE)&VLOOKUP($D9&\"@1\",'中間シート（個人）'!$F$6:$O$100,5,FALSE))","v":""},{"$f":"IF(ISERROR(VLOOKUP($D9&\"@1\",'中間シート（個人）'!$F$6:$O$100,6,FALSE)&VLOOKUP($D9&\"@1\",'中間シート（個人）'!$F$6:$O$100,7,FALSE)&\".\"&VLOOKUP($D9&\"@1\",'中間シート（個人）'!$F$6:$O$100,8,FALSE)),\"\",VLOOKUP($D9&\"@1\",'中間シート（個人）'!$F$6:$O$100,6,FALSE)&VLOOKUP($D9&\"@1\",'中間シート（個人）'!$F$6:$O$100,7,FALSE)&\".\"&VLOOKUP($D9&\"@1\",'中間シート（個人）'!$F$6:$O$100,8,FALSE))","v":""},{"$f":"IF(ISERROR(VLOOKUP($D9&\"@2\",'中間シート（個人）'!$F$6:$O$100,4,FALSE)&VLOOKUP($D9&\"@2\",'中間シート（個人）'!$F$6:$O$100,5,FALSE)),\"\",VLOOKUP($D9&\"@2\",'中間シート（個人）'!$F$6:$O$100,4,FALSE)&VLOOKUP($D9&\"@2\",'中間シート（個人）'!$F$6:$O$100,5,FALSE))","v":""},{"$f":"IF(ISERROR(VLOOKUP($D9&\"@2\",'中間シート（個人）'!$F$6:$O$100,6,FALSE)&VLOOKUP($D9&\"@2\",'中間シート（個人）'!$F$6:$O$100,7,FALSE)&\".\"&VLOOKUP($D9&\"@2\",'中間シート（個人）'!$F$6:$O$100,8,FALSE)),\"\",VLOOKUP($D9&\"@2\",'中間シート（個人）'!$F$6:$O$100,6,FALSE)&VLOOKUP($D9&\"@2\",'中間シート（個人）'!$F$6:$O$100,7,FALSE)&\".\"&VLOOKUP($D9&\"@2\",'中間シート（個人）'!$F$6:$O$100,8,FALSE))","v":""},{"$f":"IF(ISERROR(VLOOKUP($D9&\"@3\",'中間シート（個人）'!$F$6:$O$100,4,FALSE)&VLOOKUP($D9&\"@3\",'中間シート（個人）'!$F$6:$O$100,5,FALSE)),\"\",VLOOKUP($D9&\"@3\",'中間シート（個人）'!$F$6:$O$100,4,FALSE)&VLOOKUP($D9&\"@3\",'中間シート（個人）'!$F$6:$O$100,5,FALSE))","v":""},{"$f":"IF(ISERROR(VLOOKUP($D9&\"@3\",'中間シート（個人）'!$F$6:$O$100,6,FALSE)&VLOOKUP($D9&\"@3\",'中間シート（個人）'!$F$6:$O$100,7,FALSE)&\".\"&VLOOKUP($D9&\"@3\",'中間シート（個人）'!$F$6:$O$100,8,FALSE)),\"\",VLOOKUP($D9&\"@3\",'中間シート（個人）'!$F$6:$O$100,6,FALSE)&VLOOKUP($D9&\"@3\",'中間シート（個人）'!$F$6:$O$100,7,FALSE)&\".\"&VLOOKUP($D9&\"@3\",'中間シート（個人）'!$F$6:$O$100,8,FALSE))","v":""},{"$f":"IF(ISERROR(VLOOKUP($D9&\"@4\",'中間シート（個人）'!$F$6:$O$100,4,FALSE)&VLOOKUP($D9&\"@4\",'中間シート（個人）'!$F$6:$O$100,5,FALSE)),\"\",VLOOKUP($D9&\"@4\",'中間シート（個人）'!$F$6:$O$100,4,FALSE)&VLOOKUP($D9&\"@4\",'中間シート（個人）'!$F$6:$O$100,5,FALSE))","v":""},{"$f":"IF(ISERROR(VLOOKUP($D9&\"@4\",'中間シート（個人）'!$F$6:$O$100,6,FALSE)&VLOOKUP($D9&\"@4\",'中間シート（個人）'!$F$6:$O$100,7,FALSE)&\".\"&VLOOKUP($D9&\"@4\",'中間シート（個人）'!$F$6:$O$100,8,FALSE)),\"\",VLOOKUP($D9&\"@4\",'中間シート（個人）'!$F$6:$O$100,6,FALSE)&VLOOKUP($D9&\"@4\",'中間シート（個人）'!$F$6:$O$100,7,FALSE)&\".\"&VLOOKUP($D9&\"@4\",'中間シート（個人）'!$F$6:$O$100,8,FALSE))","v":""},{"$f":"IF(ISERROR(VLOOKUP($D9&\"@5\",'中間シート（個人）'!$F$6:$O$100,4,FALSE)&VLOOKUP($D9&\"@5\",'中間シート（個人）'!$F$6:$O$100,5,FALSE)),\"\",VLOOKUP($D9&\"@5\",'中間シート（個人）'!$F$6:$O$100,4,FALSE)&VLOOKUP($D9&\"@5\",'中間シート（個人）'!$F$6:$O$100,5,FALSE))","v":""},{"$f":"IF(ISERROR(VLOOKUP($D9&\"@5\",'中間シート（個人）'!$F$6:$O$100,6,FALSE)&VLOOKUP($D9&\"@5\",'中間シート（個人）'!$F$6:$O$100,7,FALSE)&\".\"&VLOOKUP($D9&\"@5\",'中間シート（個人）'!$F$6:$O$100,8,FALSE)),\"\",VLOOKUP($D9&\"@5\",'中間シート（個人）'!$F$6:$O$100,6,FALSE)&VLOOKUP($D9&\"@5\",'中間シート（個人）'!$F$6:$O$100,7,FALSE)&\".\"&VLOOKUP($D9&\"@5\",'中間シート（個人）'!$F$6:$O$100,8,FALSE))","v":""},{"$f":"IF(ISERROR(VLOOKUP($D9&\"@6\",'中間シート（個人）'!$F$6:$O$100,4,FALSE)&VLOOKUP($D9&\"@6\",'中間シート（個人）'!$F$6:$O$100,5,FALSE)),\"\",VLOOKUP($D9&\"@6\",'中間シート（個人）'!$F$6:$O$100,4,FALSE)&VLOOKUP($D9&\"@6\",'中間シート（個人）'!$F$6:$O$100,5,FALSE))","v":""},{"$f":"IF(ISERROR(VLOOKUP($D9&\"@6\",'中間シート（個人）'!$F$6:$O$100,6,FALSE)&VLOOKUP($D9&\"@6\",'中間シート（個人）'!$F$6:$O$100,7,FALSE)&\".\"&VLOOKUP($D9&\"@6\",'中間シート（個人）'!$F$6:$O$100,8,FALSE)),\"\",VLOOKUP($D9&\"@6\",'中間シート（個人）'!$F$6:$O$100,6,FALSE)&VLOOKUP($D9&\"@6\",'中間シート（個人）'!$F$6:$O$100,7,FALSE)&\".\"&VLOOKUP($D9&\"@6\",'中間シート（個人）'!$F$6:$O$100,8,FALSE))","v":""},{"$f":"IF(ISERROR(VLOOKUP($D9&\"@7\",'中間シート（個人）'!$F$6:$O$100,4,FALSE)&VLOOKUP($D9&\"@7\",'中間シート（個人）'!$F$6:$O$100,5,FALSE)),\"\",VLOOKUP($D9&\"@7\",'中間シート（個人）'!$F$6:$O$100,4,FALSE)&VLOOKUP($D9&\"@7\",'中間シート（個人）'!$F$6:$O$100,5,FALSE))","v":""},{"$f":"IF(ISERROR(VLOOKUP($D9&\"@7\",'中間シート（個人）'!$F$6:$O$100,6,FALSE)&VLOOKUP($D9&\"@7\",'中間シート（個人）'!$F$6:$O$100,7,FALSE)&\".\"&VLOOKUP($D9&\"@7\",'中間シート（個人）'!$F$6:$O$100,8,FALSE)),\"\",VLOOKUP($D9&\"@7\",'中間シート（個人）'!$F$6:$O$100,6,FALSE)&VLOOKUP($D9&\"@7\",'中間シート（個人）'!$F$6:$O$100,7,FALSE)&\".\"&VLOOKUP($D9&\"@7\",'中間シート（個人）'!$F$6:$O$100,8,FALSE))","v":""},{"$f":"IF(ISERROR(VLOOKUP($D9&\"@8\",'中間シート（個人）'!$F$6:$O$100,4,FALSE)&VLOOKUP($D9&\"@8\",'中間シート（個人）'!$F$6:$O$100,5,FALSE)),\"\",VLOOKUP($D9&\"@8\",'中間シート（個人）'!$F$6:$O$100,4,FALSE)&VLOOKUP($D9&\"@8\",'中間シート（個人）'!$F$6:$O$100,5,FALSE))","v":""},{"$f":"IF(ISERROR(VLOOKUP($D9&\"@8\",'中間シート（個人）'!$F$6:$O$100,6,FALSE)&VLOOKUP($D9&\"@8\",'中間シート（個人）'!$F$6:$O$100,7,FALSE)&\".\"&VLOOKUP($D9&\"@8\",'中間シート（個人）'!$F$6:$O$100,8,FALSE)),\"\",VLOOKUP($D9&\"@8\",'中間シート（個人）'!$F$6:$O$100,6,FALSE)&VLOOKUP($D9&\"@8\",'中間シート（個人）'!$F$6:$O$100,7,FALSE)&\".\"&VLOOKUP($D9&\"@8\",'中間シート（個人）'!$F$6:$O$100,8,FALSE))","v":""},{"$f":"IF(ISERROR(VLOOKUP($D9&\"@9\",'中間シート（個人）'!$F$6:$O$100,4,FALSE)&VLOOKUP($D9&\"@9\",'中間シート（個人）'!$F$6:$O$100,5,FALSE)),\"\",VLOOKUP($D9&\"@9\",'中間シート（個人）'!$F$6:$O$100,4,FALSE)&VLOOKUP($D9&\"@9\",'中間シート（個人）'!$F$6:$O$100,5,FALSE))","v":""},{"$f":"IF(ISERROR(VLOOKUP($D9&\"@9\",'中間シート（個人）'!$F$6:$O$100,6,FALSE)&VLOOKUP($D9&\"@9\",'中間シート（個人）'!$F$6:$O$100,7,FALSE)&\".\"&VLOOKUP($D9&\"@9\",'中間シート（個人）'!$F$6:$O$100,8,FALSE)),\"\",VLOOKUP($D9&\"@9\",'中間シート（個人）'!$F$6:$O$100,6,FALSE)&VLOOKUP($D9&\"@9\",'中間シート（個人）'!$F$6:$O$100,7,FALSE)&\".\"&VLOOKUP($D9&\"@9\",'中間シート（個人）'!$F$6:$O$100,8,FALSE))","v":""},{"$f":"IF(ISERROR(VLOOKUP($D9&\"@10\",'中間シート（個人）'!$F$6:$O$100,4,FALSE)&VLOOKUP($D9&\"@10\",'中間シート（個人）'!$F$6:$O$100,5,FALSE)),\"\",VLOOKUP($D9&\"@10\",'中間シート（個人）'!$F$6:$O$100,4,FALSE)&VLOOKUP($D9&\"@10\",'中間シート（個人）'!$F$6:$O$100,5,FALSE))","v":""},{"$f":"IF(ISERROR(VLOOKUP($D9&\"@10\",'中間シート（個人）'!$F$6:$O$100,6,FALSE)&VLOOKUP($D9&\"@10\",'中間シート（個人）'!$F$6:$O$100,7,FALSE)&\".\"&VLOOKUP($D9&\"@10\",'中間シート（個人）'!$F$6:$O$100,8,FALSE)),\"\",VLOOKUP($D9&\"@10\",'中間シート（個人）'!$F$6:$O$100,6,FALSE)&VLOOKUP($D9&\"@10\",'中間シート（個人）'!$F$6:$O$100,7,FALSE)&\".\"&VLOOKUP($D9&\"@10\",'中間シート（個人）'!$F$6:$O$100,8,FALSE))","v":""}]
[null,null,{"$f":"IF('中間シート（個人）'!D12=\"○\",\"\",VLOOKUP(個人種目!F12,コード一覧!$A$2:$B$3,2,FALSE))","v":""},{"$f":"IF('中間シート（個人）'!D12=\"○\",\"\",'中間シート（個人）'!C12)","v":""},{"$f":"IF('中間シート（個人）'!D12=\"○\",\"\",ASC(個人種目!D12&\" \"&個人種目!E12))","v":""},{"$f":"IF('中間シート（個人）'!D12=\"○\",\"\",個人種目!G12&IF(LEN(個人種目!H12)=1,\"0\"&個人種目!H12,個人種目!H12)&IF(LEN(個人種目!I12)=1,\"0\"&個人種目!I12,個人種目!I12))","v":""},{"$f":"IF('中間シート（個人）'!D12=\"○\",\"\",VLOOKUP(個人種目!$J12,コード一覧!$C$3:$D$6,2,FALSE))","v":""},{"$f":"IF('中間シート（個人）'!D12=\"○\",\"\",IF(個人種目!$J12=\"一般\",0,個人種目!$K12))","v":""},{"$f":"IF('中間シート（個人）'!D12=\"○\",\"\",'中間シート（個人）'!H12)","v":""},null,{"$f":"IF('中間シート（個人）'!D12=\"○\",\"\",個人種目!$L$1)","v":""},{"$f":"IF('中間シート（個人）'!D12=\"○\",\"\",ASC(申込書_コナミ!$S$9))","v":""},{"$f":"IF('中間シート（個人）'!D12=\"○\",\"\",申込書_コナミ!$E$8)","v":""},null,null,null,{"$f":"IF('中間シート（個人）'!D12=\"○\",\"\",4)","v":""},{"$f":"IF(ISERROR(VLOOKUP($D10&\"@1\",'中間シート（個人）'!$F$6:$O$100,4,FALSE)&VLOOKUP($D10&\"@1\",'中間シート（個人）'!$F$6:$O$100,5,FALSE)),\"\",VLOOKUP($D10&\"@1\",'中間シート（個人）'!$F$6:$O$100,4,FALSE)&VLOOKUP($D10&\"@1\",'中間シート（個人）'!$F$6:$O$100,5,FALSE))","v":""},{"$f":"IF(ISERROR(VLOOKUP($D10&\"@1\",'中間シート（個人）'!$F$6:$O$100,6,FALSE)&VLOOKUP($D10&\"@1\",'中間シート（個人）'!$F$6:$O$100,7,FALSE)&\".\"&VLOOKUP($D10&\"@1\",'中間シート（個人）'!$F$6:$O$100,8,FALSE)),\"\",VLOOKUP($D10&\"@1\",'中間シート（個人）'!$F$6:$O$100,6,FALSE)&VLOOKUP($D10&\"@1\",'中間シート（個人）'!$F$6:$O$100,7,FALSE)&\".\"&VLOOKUP($D10&\"@1\",'中間シート（個人）'!$F$6:$O$100,8,FALSE))","v":""},{"$f":"IF(ISERROR(VLOOKUP($D10&\"@2\",'中間シート（個人）'!$F$6:$O$100,4,FALSE)&VLOOKUP($D10&\"@2\",'中間シート（個人）'!$F$6:$O$100,5,FALSE)),\"\",VLOOKUP($D10&\"@2\",'中間シート（個人）'!$F$6:$O$100,4,FALSE)&VLOOKUP($D10&\"@2\",'中間シート（個人）'!$F$6:$O$100,5,FALSE))","v":""},{"$f":"IF(ISERROR(VLOOKUP($D10&\"@2\",'中間シート（個人）'!$F$6:$O$100,6,FALSE)&VLOOKUP($D10&\"@2\",'中間シート（個人）'!$F$6:$O$100,7,FALSE)&\".\"&VLOOKUP($D10&\"@2\",'中間シート（個人）'!$F$6:$O$100,8,FALSE)),\"\",VLOOKUP($D10&\"@2\",'中間シート（個人）'!$F$6:$O$100,6,FALSE)&VLOOKUP($D10&\"@2\",'中間シート（個人）'!$F$6:$O$100,7,FALSE)&\".\"&VLOOKUP($D10&\"@2\",'中間シート（個人）'!$F$6:$O$100,8,FALSE))","v":""},{"$f":"IF(ISERROR(VLOOKUP($D10&\"@3\",'中間シート（個人）'!$F$6:$O$100,4,FALSE)&VLOOKUP($D10&\"@3\",'中間シート（個人）'!$F$6:$O$100,5,FALSE)),\"\",VLOOKUP($D10&\"@3\",'中間シート（個人）'!$F$6:$O$100,4,FALSE)&VLOOKUP($D10&\"@3\",'中間シート（個人）'!$F$6:$O$100,5,FALSE))","v":""},{"$f":"IF(ISERROR(VLOOKUP($D10&\"@3\",'中間シート（個人）'!$F$6:$O$100,6,FALSE)&VLOOKUP($D10&\"@3\",'中間シート（個人）'!$F$6:$O$100,7,FALSE)&\".\"&VLOOKUP($D10&\"@3\",'中間シート（個人）'!$F$6:$O$100,8,FALSE)),\"\",VLOOKUP($D10&\"@3\",'中間シート（個人）'!$F$6:$O$100,6,FALSE)&VLOOKUP($D10&\"@3\",'中間シート（個人）'!$F$6:$O$100,7,FALSE)&\".\"&VLOOKUP($D10&\"@3\",'中間シート（個人）'!$F$6:$O$100,8,FALSE))","v":""},{"$f":"IF(ISERROR(VLOOKUP($D10&\"@4\",'中間シート（個人）'!$F$6:$O$100,4,FALSE)&VLOOKUP($D10&\"@4\",'中間シート（個人）'!$F$6:$O$100,5,FALSE)),\"\",VLOOKUP($D10&\"@4\",'中間シート（個人）'!$F$6:$O$100,4,FALSE)&VLOOKUP($D10&\"@4\",'中間シート（個人）'!$F$6:$O$100,5,FALSE))","v":""},{"$f":"IF(ISERROR(VLOOKUP($D10&\"@4\",'中間シート（個人）'!$F$6:$O$100,6,FALSE)&VLOOKUP($D10&\"@4\",'中間シート（個人）'!$F$6:$O$100,7,FALSE)&\".\"&VLOOKUP($D10&\"@4\",'中間シート（個人）'!$F$6:$O$100,8,FALSE)),\"\",VLOOKUP($D10&\"@4\",'中間シート（個人）'!$F$6:$O$100,6,FALSE)&VLOOKUP($D10&\"@4\",'中間シート（個人）'!$F$6:$O$100,7,FALSE)&\".\"&VLOOKUP($D10&\"@4\",'中間シート（個人）'!$F$6:$O$100,8,FALSE))","v":""},{"$f":"IF(ISERROR(VLOOKUP($D10&\"@5\",'中間シート（個人）'!$F$6:$O$100,4,FALSE)&VLOOKUP($D10&\"@5\",'中間シート（個人）'!$F$6:$O$100,5,FALSE)),\"\",VLOOKUP($D10&\"@5\",'中間シート（個人）'!$F$6:$O$100,4,FALSE)&VLOOKUP($D10&\"@5\",'中間シート（個人）'!$F$6:$O$100,5,FALSE))","v":""},{"$f":"IF(ISERROR(VLOOKUP($D10&\"@5\",'中間シート（個人）'!$F$6:$O$100,6,FALSE)&VLOOKUP($D10&\"@5\",'中間シート（個人）'!$F$6:$O$100,7,FALSE)&\".\"&VLOOKUP($D10&\"@5\",'中間シート（個人）'!$F$6:$O$100,8,FALSE)),\"\",VLOOKUP($D10&\"@5\",'中間シート（個人）'!$F$6:$O$100,6,FALSE)&VLOOKUP($D10&\"@5\",'中間シート（個人）'!$F$6:$O$100,7,FALSE)&\".\"&VLOOKUP($D10&\"@5\",'中間シート（個人）'!$F$6:$O$100,8,FALSE))","v":""},{"$f":"IF(ISERROR(VLOOKUP($D10&\"@6\",'中間シート（個人）'!$F$6:$O$100,4,FALSE)&VLOOKUP($D10&\"@6\",'中間シート（個人）'!$F$6:$O$100,5,FALSE)),\"\",VLOOKUP($D10&\"@6\",'中間シート（個人）'!$F$6:$O$100,4,FALSE)&VLOOKUP($D10&\"@6\",'中間シート（個人）'!$F$6:$O$100,5,FALSE))","v":""},{"$f":"IF(ISERROR(VLOOKUP($D10&\"@6\",'中間シート（個人）'!$F$6:$O$100,6,FALSE)&VLOOKUP($D10&\"@6\",'中間シート（個人）'!$F$6:$O$100,7,FALSE)&\".\"&VLOOKUP($D10&\"@6\",'中間シート（個人）'!$F$6:$O$100,8,FALSE)),\"\",VLOOKUP($D10&\"@6\",'中間シート（個人）'!$F$6:$O$100,6,FALSE)&VLOOKUP($D10&\"@6\",'中間シート（個人）'!$F$6:$O$100,7,FALSE)&\".\"&VLOOKUP($D10&\"@6\",'中間シート（個人）'!$F$6:$O$100,8,FALSE))","v":""},{"$f":"IF(ISERROR(VLOOKUP($D10&\"@7\",'中間シート（個人）'!$F$6:$O$100,4,FALSE)&VLOOKUP($D10&\"@7\",'中間シート（個人）'!$F$6:$O$100,5,FALSE)),\"\",VLOOKUP($D10&\"@7\",'中間シート（個人）'!$F$6:$O$100,4,FALSE)&VLOOKUP($D10&\"@7\",'中間シート（個人）'!$F$6:$O$100,5,FALSE))","v":""},{"$f":"IF(ISERROR(VLOOKUP($D10&\"@7\",'中間シート（個人）'!$F$6:$O$100,6,FALSE)&VLOOKUP($D10&\"@7\",'中間シート（個人）'!$F$6:$O$100,7,FALSE)&\".\"&VLOOKUP($D10&\"@7\",'中間シート（個人）'!$F$6:$O$100,8,FALSE)),\"\",VLOOKUP($D10&\"@7\",'中間シート（個人）'!$F$6:$O$100,6,FALSE)&VLOOKUP($D10&\"@7\",'中間シート（個人）'!$F$6:$O$100,7,FALSE)&\".\"&VLOOKUP($D10&\"@7\",'中間シート（個人）'!$F$6:$O$100,8,FALSE))","v":""},{"$f":"IF(ISERROR(VLOOKUP($D10&\"@8\",'中間シート（個人）'!$F$6:$O$100,4,FALSE)&VLOOKUP($D10&\"@8\",'中間シート（個人）'!$F$6:$O$100,5,FALSE)),\"\",VLOOKUP($D10&\"@8\",'中間シート（個人）'!$F$6:$O$100,4,FALSE)&VLOOKUP($D10&\"@8\",'中間シート（個人）'!$F$6:$O$100,5,FALSE))","v":""},{"$f":"IF(ISERROR(VLOOKUP($D10&\"@8\",'中間シート（個人）'!$F$6:$O$100,6,FALSE)&VLOOKUP($D10&\"@8\",'中間シート（個人）'!$F$6:$O$100,7,FALSE)&\".\"&VLOOKUP($D10&\"@8\",'中間シート（個人）'!$F$6:$O$100,8,FALSE)),\"\",VLOOKUP($D10&\"@8\",'中間シート（個人）'!$F$6:$O$100,6,FALSE)&VLOOKUP($D10&\"@8\",'中間シート（個人）'!$F$6:$O$100,7,FALSE)&\".\"&VLOOKUP($D10&\"@8\",'中間シート（個人）'!$F$6:$O$100,8,FALSE))","v":""},{"$f":"IF(ISERROR(VLOOKUP($D10&\"@9\",'中間シート（個人）'!$F$6:$O$100,4,FALSE)&VLOOKUP($D10&\"@9\",'中間シート（個人）'!$F$6:$O$100,5,FALSE)),\"\",VLOOKUP($D10&\"@9\",'中間シート（個人）'!$F$6:$O$100,4,FALSE)&VLOOKUP($D10&\"@9\",'中間シート（個人）'!$F$6:$O$100,5,FALSE))","v":""},{"$f":"IF(ISERROR(VLOOKUP($D10&\"@9\",'中間シート（個人）'!$F$6:$O$100,6,FALSE)&VLOOKUP($D10&\"@9\",'中間シート（個人）'!$F$6:$O$100,7,FALSE)&\".\"&VLOOKUP($D10&\"@9\",'中間シート（個人）'!$F$6:$O$100,8,FALSE)),\"\",VLOOKUP($D10&\"@9\",'中間シート（個人）'!$F$6:$O$100,6,FALSE)&VLOOKUP($D10&\"@9\",'中間シート（個人）'!$F$6:$O$100,7,FALSE)&\".\"&VLOOKUP($D10&\"@9\",'中間シート（個人）'!$F$6:$O$100,8,FALSE))","v":""},{"$f":"IF(ISERROR(VLOOKUP($D10&\"@10\",'中間シート（個人）'!$F$6:$O$100,4,FALSE)&VLOOKUP($D10&\"@10\",'中間シート（個人）'!$F$6:$O$100,5,FALSE)),\"\",VLOOKUP($D10&\"@10\",'中間シート（個人）'!$F$6:$O$100,4,FALSE)&VLOOKUP($D10&\"@10\",'中間シート（個人）'!$F$6:$O$100,5,FALSE))","v":""},{"$f":"IF(ISERROR(VLOOKUP($D10&\"@10\",'中間シート（個人）'!$F$6:$O$100,6,FALSE)&VLOOKUP($D10&\"@10\",'中間シート（個人）'!$F$6:$O$100,7,FALSE)&\".\"&VLOOKUP($D10&\"@10\",'中間シート（個人）'!$F$6:$O$100,8,FALSE)),\"\",VLOOKUP($D10&\"@10\",'中間シート（個人）'!$F$6:$O$100,6,FALSE)&VLOOKUP($D10&\"@10\",'中間シート（個人）'!$F$6:$O$100,7,FALSE)&\".\"&VLOOKUP($D10&\"@10\",'中間シート（個人）'!$F$6:$O$100,8,FALSE))","v":""}]
[null,null,{"$f":"IF('中間シート（個人）'!D13=\"○\",\"\",VLOOKUP(個人種目!F13,コード一覧!$A$2:$B$3,2,FALSE))","v":""},{"$f":"IF('中間シート（個人）'!D13=\"○\",\"\",'中間シート（個人）'!C13)","v":""},{"$f":"IF('中間シート（個人）'!D13=\"○\",\"\",ASC(個人種目!D13&\" \"&個人種目!E13))","v":""},{"$f":"IF('中間シート（個人）'!D13=\"○\",\"\",個人種目!G13&IF(LEN(個人種目!H13)=1,\"0\"&個人種目!H13,個人種目!H13)&IF(LEN(個人種目!I13)=1,\"0\"&個人種目!I13,個人種目!I13))","v":""},{"$f":"IF('中間シート（個人）'!D13=\"○\",\"\",VLOOKUP(個人種目!$J13,コード一覧!$C$3:$D$6,2,FALSE))","v":""},{"$f":"IF('中間シート（個人）'!D13=\"○\",\"\",IF(個人種目!$J13=\"一般\",0,個人種目!$K13))","v":""},{"$f":"IF('中間シート（個人）'!D13=\"○\",\"\",'中間シート（個人）'!H13)","v":""},null,{"$f":"IF('中間シート（個人）'!D13=\"○\",\"\",個人種目!$L$1)","v":""},{"$f":"IF('中間シート（個人）'!D13=\"○\",\"\",ASC(申込書_コナミ!$S$9))","v":""},{"$f":"IF('中間シート（個人）'!D13=\"○\",\"\",申込書_コナミ!$E$8)","v":""},null,null,null,{"$f":"IF('中間シート（個人）'!D13=\"○\",\"\",4)","v":""},{"$f":"IF(ISERROR(VLOOKUP($D11&\"@1\",'中間シート（個人）'!$F$6:$O$100,4,FALSE)&VLOOKUP($D11&\"@1\",'中間シート（個人）'!$F$6:$O$100,5,FALSE)),\"\",VLOOKUP($D11&\"@1\",'中間シート（個人）'!$F$6:$O$100,4,FALSE)&VLOOKUP($D11&\"@1\",'中間シート（個人）'!$F$6:$O$100,5,FALSE))","v":""},{"$f":"IF(ISERROR(VLOOKUP($D11&\"@1\",'中間シート（個人）'!$F$6:$O$100,6,FALSE)&VLOOKUP($D11&\"@1\",'中間シート（個人）'!$F$6:$O$100,7,FALSE)&\".\"&VLOOKUP($D11&\"@1\",'中間シート（個人）'!$F$6:$O$100,8,FALSE)),\"\",VLOOKUP($D11&\"@1\",'中間シート（個人）'!$F$6:$O$100,6,FALSE)&VLOOKUP($D11&\"@1\",'中間シート（個人）'!$F$6:$O$100,7,FALSE)&\".\"&VLOOKUP($D11&\"@1\",'中間シート（個人）'!$F$6:$O$100,8,FALSE))","v":""},{"$f":"IF(ISERROR(VLOOKUP($D11&\"@2\",'中間シート（個人）'!$F$6:$O$100,4,FALSE)&VLOOKUP($D11&\"@2\",'中間シート（個人）'!$F$6:$O$100,5,FALSE)),\"\",VLOOKUP($D11&\"@2\",'中間シート（個人）'!$F$6:$O$100,4,FALSE)&VLOOKUP($D11&\"@2\",'中間シート（個人）'!$F$6:$O$100,5,FALSE))","v":""},{"$f":"IF(ISERROR(VLOOKUP($D11&\"@2\",'中間シート（個人）'!$F$6:$O$100,6,FALSE)&VLOOKUP($D11&\"@2\",'中間シート（個人）'!$F$6:$O$100,7,FALSE)&\".\"&VLOOKUP($D11&\"@2\",'中間シート（個人）'!$F$6:$O$100,8,FALSE)),\"\",VLOOKUP($D11&\"@2\",'中間シート（個人）'!$F$6:$O$100,6,FALSE)&VLOOKUP($D11&\"@2\",'中間シート（個人）'!$F$6:$O$100,7,FALSE)&\".\"&VLOOKUP($D11&\"@2\",'中間シート（個人）'!$F$6:$O$100,8,FALSE))","v":""},{"$f":"IF(ISERROR(VLOOKUP($D11&\"@3\",'中間シート（個人）'!$F$6:$O$100,4,FALSE)&VLOOKUP($D11&\"@3\",'中間シート（個人）'!$F$6:$O$100,5,FALSE)),\"\",VLOOKUP($D11&\"@3\",'中間シート（個人）'!$F$6:$O$100,4,FALSE)&VLOOKUP($D11&\"@3\",'中間シート（個人）'!$F$6:$O$100,5,FALSE))","v":""},{"$f":"IF(ISERROR(VLOOKUP($D11&\"@3\",'中間シート（個人）'!$F$6:$O$100,6,FALSE)&VLOOKUP($D11&\"@3\",'中間シート（個人）'!$F$6:$O$100,7,FALSE)&\".\"&VLOOKUP($D11&\"@3\",'中間シート（個人）'!$F$6:$O$100,8,FALSE)),\"\",VLOOKUP($D11&\"@3\",'中間シート（個人）'!$F$6:$O$100,6,FALSE)&VLOOKUP($D11&\"@3\",'中間シート（個人）'!$F$6:$O$100,7,FALSE)&\".\"&VLOOKUP($D11&\"@3\",'中間シート（個人）'!$F$6:$O$100,8,FALSE))","v":""},{"$f":"IF(ISERROR(VLOOKUP($D11&\"@4\",'中間シート（個人）'!$F$6:$O$100,4,FALSE)&VLOOKUP($D11&\"@4\",'中間シート（個人）'!$F$6:$O$100,5,FALSE)),\"\",VLOOKUP($D11&\"@4\",'中間シート（個人）'!$F$6:$O$100,4,FALSE)&VLOOKUP($D11&\"@4\",'中間シート（個人）'!$F$6:$O$100,5,FALSE))","v":""},{"$f":"IF(ISERROR(VLOOKUP($D11&\"@4\",'中間シート（個人）'!$F$6:$O$100,6,FALSE)&VLOOKUP($D11&\"@4\",'中間シート（個人）'!$F$6:$O$100,7,FALSE)&\".\"&VLOOKUP($D11&\"@4\",'中間シート（個人）'!$F$6:$O$100,8,FALSE)),\"\",VLOOKUP($D11&\"@4\",'中間シート（個人）'!$F$6:$O$100,6,FALSE)&VLOOKUP($D11&\"@4\",'中間シート（個人）'!$F$6:$O$100,7,FALSE)&\".\"&VLOOKUP($D11&\"@4\",'中間シート（個人）'!$F$6:$O$100,8,FALSE))","v":""},{"$f":"IF(ISERROR(VLOOKUP($D11&\"@5\",'中間シート（個人）'!$F$6:$O$100,4,FALSE)&VLOOKUP($D11&\"@5\",'中間シート（個人）'!$F$6:$O$100,5,FALSE)),\"\",VLOOKUP($D11&\"@5\",'中間シート（個人）'!$F$6:$O$100,4,FALSE)&VLOOKUP($D11&\"@5\",'中間シート（個人）'!$F$6:$O$100,5,FALSE))","v":""},{"$f":"IF(ISERROR(VLOOKUP($D11&\"@5\",'中間シート（個人）'!$F$6:$O$100,6,FALSE)&VLOOKUP($D11&\"@5\",'中間シート（個人）'!$F$6:$O$100,7,FALSE)&\".\"&VLOOKUP($D11&\"@5\",'中間シート（個人）'!$F$6:$O$100,8,FALSE)),\"\",VLOOKUP($D11&\"@5\",'中間シート（個人）'!$F$6:$O$100,6,FALSE)&VLOOKUP($D11&\"@5\",'中間シート（個人）'!$F$6:$O$100,7,FALSE)&\".\"&VLOOKUP($D11&\"@5\",'中間シート（個人）'!$F$6:$O$100,8,FALSE))","v":""},{"$f":"IF(ISERROR(VLOOKUP($D11&\"@6\",'中間シート（個人）'!$F$6:$O$100,4,FALSE)&VLOOKUP($D11&\"@6\",'中間シート（個人）'!$F$6:$O$100,5,FALSE)),\"\",VLOOKUP($D11&\"@6\",'中間シート（個人）'!$F$6:$O$100,4,FALSE)&VLOOKUP($D11&\"@6\",'中間シート（個人）'!$F$6:$O$100,5,FALSE))","v":""},{"$f":"IF(ISERROR(VLOOKUP($D11&\"@6\",'中間シート（個人）'!$F$6:$O$100,6,FALSE)&VLOOKUP($D11&\"@6\",'中間シート（個人）'!$F$6:$O$100,7,FALSE)&\".\"&VLOOKUP($D11&\"@6\",'中間シート（個人）'!$F$6:$O$100,8,FALSE)),\"\",VLOOKUP($D11&\"@6\",'中間シート（個人）'!$F$6:$O$100,6,FALSE)&VLOOKUP($D11&\"@6\",'中間シート（個人）'!$F$6:$O$100,7,FALSE)&\".\"&VLOOKUP($D11&\"@6\",'中間シート（個人）'!$F$6:$O$100,8,FALSE))","v":""},{"$f":"IF(ISERROR(VLOOKUP($D11&\"@7\",'中間シート（個人）'!$F$6:$O$100,4,FALSE)&VLOOKUP($D11&\"@7\",'中間シート（個人）'!$F$6:$O$100,5,FALSE)),\"\",VLOOKUP($D11&\"@7\",'中間シート（個人）'!$F$6:$O$100,4,FALSE)&VLOOKUP($D11&\"@7\",'中間シート（個人）'!$F$6:$O$100,5,FALSE))","v":""},{"$f":"IF(ISERROR(VLOOKUP($D11&\"@7\",'中間シート（個人）'!$F$6:$O$100,6,FALSE)&VLOOKUP($D11&\"@7\",'中間シート（個人）'!$F$6:$O$100,7,FALSE)&\".\"&VLOOKUP($D11&\"@7\",'中間シート（個人）'!$F$6:$O$100,8,FALSE)),\"\",VLOOKUP($D11&\"@7\",'中間シート（個人）'!$F$6:$O$100,6,FALSE)&VLOOKUP($D11&\"@7\",'中間シート（個人）'!$F$6:$O$100,7,FALSE)&\".\"&VLOOKUP($D11&\"@7\",'中間シート（個人）'!$F$6:$O$100,8,FALSE))","v":""},{"$f":"IF(ISERROR(VLOOKUP($D11&\"@8\",'中間シート（個人）'!$F$6:$O$100,4,FALSE)&VLOOKUP($D11&\"@8\",'中間シート（個人）'!$F$6:$O$100,5,FALSE)),\"\",VLOOKUP($D11&\"@8\",'中間シート（個人）'!$F$6:$O$100,4,FALSE)&VLOOKUP($D11&\"@8\",'中間シート（個人）'!$F$6:$O$100,5,FALSE))","v":""},{"$f":"IF(ISERROR(VLOOKUP($D11&\"@8\",'中間シート（個人）'!$F$6:$O$100,6,FALSE)&VLOOKUP($D11&\"@8\",'中間シート（個人）'!$F$6:$O$100,7,FALSE)&\".\"&VLOOKUP($D11&\"@8\",'中間シート（個人）'!$F$6:$O$100,8,FALSE)),\"\",VLOOKUP($D11&\"@8\",'中間シート（個人）'!$F$6:$O$100,6,FALSE)&VLOOKUP($D11&\"@8\",'中間シート（個人）'!$F$6:$O$100,7,FALSE)&\".\"&VLOOKUP($D11&\"@8\",'中間シート（個人）'!$F$6:$O$100,8,FALSE))","v":""},{"$f":"IF(ISERROR(VLOOKUP($D11&\"@9\",'中間シート（個人）'!$F$6:$O$100,4,FALSE)&VLOOKUP($D11&\"@9\",'中間シート（個人）'!$F$6:$O$100,5,FALSE)),\"\",VLOOKUP($D11&\"@9\",'中間シート（個人）'!$F$6:$O$100,4,FALSE)&VLOOKUP($D11&\"@9\",'中間シート（個人）'!$F$6:$O$100,5,FALSE))","v":""},{"$f":"IF(ISERROR(VLOOKUP($D11&\"@9\",'中間シート（個人）'!$F$6:$O$100,6,FALSE)&VLOOKUP($D11&\"@9\",'中間シート（個人）'!$F$6:$O$100,7,FALSE)&\".\"&VLOOKUP($D11&\"@9\",'中間シート（個人）'!$F$6:$O$100,8,FALSE)),\"\",VLOOKUP($D11&\"@9\",'中間シート（個人）'!$F$6:$O$100,6,FALSE)&VLOOKUP($D11&\"@9\",'中間シート（個人）'!$F$6:$O$100,7,FALSE)&\".\"&VLOOKUP($D11&\"@9\",'中間シート（個人）'!$F$6:$O$100,8,FALSE))","v":""},{"$f":"IF(ISERROR(VLOOKUP($D11&\"@10\",'中間シート（個人）'!$F$6:$O$100,4,FALSE)&VLOOKUP($D11&\"@10\",'中間シート（個人）'!$F$6:$O$100,5,FALSE)),\"\",VLOOKUP($D11&\"@10\",'中間シート（個人）'!$F$6:$O$100,4,FALSE)&VLOOKUP($D11&\"@10\",'中間シート（個人）'!$F$6:$O$100,5,FALSE))","v":""},{"$f":"IF(ISERROR(VLOOKUP($D11&\"@10\",'中間シート（個人）'!$F$6:$O$100,6,FALSE)&VLOOKUP($D11&\"@10\",'中間シート（個人）'!$F$6:$O$100,7,FALSE)&\".\"&VLOOKUP($D11&\"@10\",'中間シート（個人）'!$F$6:$O$100,8,FALSE)),\"\",VLOOKUP($D11&\"@10\",'中間シート（個人）'!$F$6:$O$100,6,FALSE)&VLOOKUP($D11&\"@10\",'中間シート（個人）'!$F$6:$O$100,7,FALSE)&\".\"&VLOOKUP($D11&\"@10\",'中間シート（個人）'!$F$6:$O$100,8,FALSE))","v":""}]
[null,null,{"$f":"IF('中間シート（個人）'!D14=\"○\",\"\",VLOOKUP(個人種目!F14,コード一覧!$A$2:$B$3,2,FALSE))","v":""},{"$f":"IF('中間シート（個人）'!D14=\"○\",\"\",'中間シート（個人）'!C14)","v":""},{"$f":"IF('中間シート（個人）'!D14=\"○\",\"\",ASC(個人種目!D14&\" \"&個人種目!E14))","v":""},{"$f":"IF('中間シート（個人）'!D14=\"○\",\"\",個人種目!G14&IF(LEN(個人種目!H14)=1,\"0\"&個人種目!H14,個人種目!H14)&IF(LEN(個人種目!I14)=1,\"0\"&個人種目!I14,個人種目!I14))","v":""},{"$f":"IF('中間シート（個人）'!D14=\"○\",\"\",VLOOKUP(個人種目!$J14,コード一覧!$C$3:$D$6,2,FALSE))","v":""},{"$f":"IF('中間シート（個人）'!D14=\"○\",\"\",IF(個人種目!$J14=\"一般\",0,個人種目!$K14))","v":""},{"$f":"IF('中間シート（個人）'!D14=\"○\",\"\",'中間シート（個人）'!H14)","v":""},null,{"$f":"IF('中間シート（個人）'!D14=\"○\",\"\",個人種目!$L$1)","v":""},{"$f":"IF('中間シート（個人）'!D14=\"○\",\"\",ASC(申込書_コナミ!$S$9))","v":""},{"$f":"IF('中間シート（個人）'!D14=\"○\",\"\",申込書_コナミ!$E$8)","v":""},null,null,null,{"$f":"IF('中間シート（個人）'!D14=\"○\",\"\",4)","v":""},{"$f":"IF(ISERROR(VLOOKUP($D12&\"@1\",'中間シート（個人）'!$F$6:$O$100,4,FALSE)&VLOOKUP($D12&\"@1\",'中間シート（個人）'!$F$6:$O$100,5,FALSE)),\"\",VLOOKUP($D12&\"@1\",'中間シート（個人）'!$F$6:$O$100,4,FALSE)&VLOOKUP($D12&\"@1\",'中間シート（個人）'!$F$6:$O$100,5,FALSE))","v":""},{"$f":"IF(ISERROR(VLOOKUP($D12&\"@1\",'中間シート（個人）'!$F$6:$O$100,6,FALSE)&VLOOKUP($D12&\"@1\",'中間シート（個人）'!$F$6:$O$100,7,FALSE)&\".\"&VLOOKUP($D12&\"@1\",'中間シート（個人）'!$F$6:$O$100,8,FALSE)),\"\",VLOOKUP($D12&\"@1\",'中間シート（個人）'!$F$6:$O$100,6,FALSE)&VLOOKUP($D12&\"@1\",'中間シート（個人）'!$F$6:$O$100,7,FALSE)&\".\"&VLOOKUP($D12&\"@1\",'中間シート（個人）'!$F$6:$O$100,8,FALSE))","v":""},{"$f":"IF(ISERROR(VLOOKUP($D12&\"@2\",'中間シート（個人）'!$F$6:$O$100,4,FALSE)&VLOOKUP($D12&\"@2\",'中間シート（個人）'!$F$6:$O$100,5,FALSE)),\"\",VLOOKUP($D12&\"@2\",'中間シート（個人）'!$F$6:$O$100,4,FALSE)&VLOOKUP($D12&\"@2\",'中間シート（個人）'!$F$6:$O$100,5,FALSE))","v":""},{"$f":"IF(ISERROR(VLOOKUP($D12&\"@2\",'中間シート（個人）'!$F$6:$O$100,6,FALSE)&VLOOKUP($D12&\"@2\",'中間シート（個人）'!$F$6:$O$100,7,FALSE)&\".\"&VLOOKUP($D12&\"@2\",'中間シート（個人）'!$F$6:$O$100,8,FALSE)),\"\",VLOOKUP($D12&\"@2\",'中間シート（個人）'!$F$6:$O$100,6,FALSE)&VLOOKUP($D12&\"@2\",'中間シート（個人）'!$F$6:$O$100,7,FALSE)&\".\"&VLOOKUP($D12&\"@2\",'中間シート（個人）'!$F$6:$O$100,8,FALSE))","v":""},{"$f":"IF(ISERROR(VLOOKUP($D12&\"@3\",'中間シート（個人）'!$F$6:$O$100,4,FALSE)&VLOOKUP($D12&\"@3\",'中間シート（個人）'!$F$6:$O$100,5,FALSE)),\"\",VLOOKUP($D12&\"@3\",'中間シート（個人）'!$F$6:$O$100,4,FALSE)&VLOOKUP($D12&\"@3\",'中間シート（個人）'!$F$6:$O$100,5,FALSE))","v":""},{"$f":"IF(ISERROR(VLOOKUP($D12&\"@3\",'中間シート（個人）'!$F$6:$O$100,6,FALSE)&VLOOKUP($D12&\"@3\",'中間シート（個人）'!$F$6:$O$100,7,FALSE)&\".\"&VLOOKUP($D12&\"@3\",'中間シート（個人）'!$F$6:$O$100,8,FALSE)),\"\",VLOOKUP($D12&\"@3\",'中間シート（個人）'!$F$6:$O$100,6,FALSE)&VLOOKUP($D12&\"@3\",'中間シート（個人）'!$F$6:$O$100,7,FALSE)&\".\"&VLOOKUP($D12&\"@3\",'中間シート（個人）'!$F$6:$O$100,8,FALSE))","v":""},{"$f":"IF(ISERROR(VLOOKUP($D12&\"@4\",'中間シート（個人）'!$F$6:$O$100,4,FALSE)&VLOOKUP($D12&\"@4\",'中間シート（個人）'!$F$6:$O$100,5,FALSE)),\"\",VLOOKUP($D12&\"@4\",'中間シート（個人）'!$F$6:$O$100,4,FALSE)&VLOOKUP($D12&\"@4\",'中間シート（個人）'!$F$6:$O$100,5,FALSE))","v":""},{"$f":"IF(ISERROR(VLOOKUP($D12&\"@4\",'中間シート（個人）'!$F$6:$O$100,6,FALSE)&VLOOKUP($D12&\"@4\",'中間シート（個人）'!$F$6:$O$100,7,FALSE)&\".\"&VLOOKUP($D12&\"@4\",'中間シート（個人）'!$F$6:$O$100,8,FALSE)),\"\",VLOOKUP($D12&\"@4\",'中間シート（個人）'!$F$6:$O$100,6,FALSE)&VLOOKUP($D12&\"@4\",'中間シート（個人）'!$F$6:$O$100,7,FALSE)&\".\"&VLOOKUP($D12&\"@4\",'中間シート（個人）'!$F$6:$O$100,8,FALSE))","v":""},{"$f":"IF(ISERROR(VLOOKUP($D12&\"@5\",'中間シート（個人）'!$F$6:$O$100,4,FALSE)&VLOOKUP($D12&\"@5\",'中間シート（個人）'!$F$6:$O$100,5,FALSE)),\"\",VLOOKUP($D12&\"@5\",'中間シート（個人）'!$F$6:$O$100,4,FALSE)&VLOOKUP($D12&\"@5\",'中間シート（個人）'!$F$6:$O$100,5,FALSE))","v":""},{"$f":"IF(ISERROR(VLOOKUP($D12&\"@5\",'中間シート（個人）'!$F$6:$O$100,6,FALSE)&VLOOKUP($D12&\"@5\",'中間シート（個人）'!$F$6:$O$100,7,FALSE)&\".\"&VLOOKUP($D12&\"@5\",'中間シート（個人）'!$F$6:$O$100,8,FALSE)),\"\",VLOOKUP($D12&\"@5\",'中間シート（個人）'!$F$6:$O$100,6,FALSE)&VLOOKUP($D12&\"@5\",'中間シート（個人）'!$F$6:$O$100,7,FALSE)&\".\"&VLOOKUP($D12&\"@5\",'中間シート（個人）'!$F$6:$O$100,8,FALSE))","v":""},{"$f":"IF(ISERROR(VLOOKUP($D12&\"@6\",'中間シート（個人）'!$F$6:$O$100,4,FALSE)&VLOOKUP($D12&\"@6\",'中間シート（個人）'!$F$6:$O$100,5,FALSE)),\"\",VLOOKUP($D12&\"@6\",'中間シート（個人）'!$F$6:$O$100,4,FALSE)&VLOOKUP($D12&\"@6\",'中間シート（個人）'!$F$6:$O$100,5,FALSE))","v":""},{"$f":"IF(ISERROR(VLOOKUP($D12&\"@6\",'中間シート（個人）'!$F$6:$O$100,6,FALSE)&VLOOKUP($D12&\"@6\",'中間シート（個人）'!$F$6:$O$100,7,FALSE)&\".\"&VLOOKUP($D12&\"@6\",'中間シート（個人）'!$F$6:$O$100,8,FALSE)),\"\",VLOOKUP($D12&\"@6\",'中間シート（個人）'!$F$6:$O$100,6,FALSE)&VLOOKUP($D12&\"@6\",'中間シート（個人）'!$F$6:$O$100,7,FALSE)&\".\"&VLOOKUP($D12&\"@6\",'中間シート（個人）'!$F$6:$O$100,8,FALSE))","v":""},{"$f":"IF(ISERROR(VLOOKUP($D12&\"@7\",'中間シート（個人）'!$F$6:$O$100,4,FALSE)&VLOOKUP($D12&\"@7\",'中間シート（個人）'!$F$6:$O$100,5,FALSE)),\"\",VLOOKUP($D12&\"@7\",'中間シート（個人）'!$F$6:$O$100,4,FALSE)&VLOOKUP($D12&\"@7\",'中間シート（個人）'!$F$6:$O$100,5,FALSE))","v":""},{"$f":"IF(ISERROR(VLOOKUP($D12&\"@7\",'中間シート（個人）'!$F$6:$O$100,6,FALSE)&VLOOKUP($D12&\"@7\",'中間シート（個人）'!$F$6:$O$100,7,FALSE)&\".\"&VLOOKUP($D12&\"@7\",'中間シート（個人）'!$F$6:$O$100,8,FALSE)),\"\",VLOOKUP($D12&\"@7\",'中間シート（個人）'!$F$6:$O$100,6,FALSE)&VLOOKUP($D12&\"@7\",'中間シート（個人）'!$F$6:$O$100,7,FALSE)&\".\"&VLOOKUP($D12&\"@7\",'中間シート（個人）'!$F$6:$O$100,8,FALSE))","v":""},{"$f":"IF(ISERROR(VLOOKUP($D12&\"@8\",'中間シート（個人）'!$F$6:$O$100,4,FALSE)&VLOOKUP($D12&\"@8\",'中間シート（個人）'!$F$6:$O$100,5,FALSE)),\"\",VLOOKUP($D12&\"@8\",'中間シート（個人）'!$F$6:$O$100,4,FALSE)&VLOOKUP($D12&\"@8\",'中間シート（個人）'!$F$6:$O$100,5,FALSE))","v":""},{"$f":"IF(ISERROR(VLOOKUP($D12&\"@8\",'中間シート（個人）'!$F$6:$O$100,6,FALSE)&VLOOKUP($D12&\"@8\",'中間シート（個人）'!$F$6:$O$100,7,FALSE)&\".\"&VLOOKUP($D12&\"@8\",'中間シート（個人）'!$F$6:$O$100,8,FALSE)),\"\",VLOOKUP($D12&\"@8\",'中間シート（個人）'!$F$6:$O$100,6,FALSE)&VLOOKUP($D12&\"@8\",'中間シート（個人）'!$F$6:$O$100,7,FALSE)&\".\"&VLOOKUP($D12&\"@8\",'中間シート（個人）'!$F$6:$O$100,8,FALSE))","v":""},{"$f":"IF(ISERROR(VLOOKUP($D12&\"@9\",'中間シート（個人）'!$F$6:$O$100,4,FALSE)&VLOOKUP($D12&\"@9\",'中間シート（個人）'!$F$6:$O$100,5,FALSE)),\"\",VLOOKUP($D12&\"@9\",'中間シート（個人）'!$F$6:$O$100,4,FALSE)&VLOOKUP($D12&\"@9\",'中間シート（個人）'!$F$6:$O$100,5,FALSE))","v":""},{"$f":"IF(ISERROR(VLOOKUP($D12&\"@9\",'中間シート（個人）'!$F$6:$O$100,6,FALSE)&VLOOKUP($D12&\"@9\",'中間シート（個人）'!$F$6:$O$100,7,FALSE)&\".\"&VLOOKUP($D12&\"@9\",'中間シート（個人）'!$F$6:$O$100,8,FALSE)),\"\",VLOOKUP($D12&\"@9\",'中間シート（個人）'!$F$6:$O$100,6,FALSE)&VLOOKUP($D12&\"@9\",'中間シート（個人）'!$F$6:$O$100,7,FALSE)&\".\"&VLOOKUP($D12&\"@9\",'中間シート（個人）'!$F$6:$O$100,8,FALSE))","v":""},{"$f":"IF(ISERROR(VLOOKUP($D12&\"@10\",'中間シート（個人）'!$F$6:$O$100,4,FALSE)&VLOOKUP($D12&\"@10\",'中間シート（個人）'!$F$6:$O$100,5,FALSE)),\"\",VLOOKUP($D12&\"@10\",'中間シート（個人）'!$F$6:$O$100,4,FALSE)&VLOOKUP($D12&\"@10\",'中間シート（個人）'!$F$6:$O$100,5,FALSE))","v":""},{"$f":"IF(ISERROR(VLOOKUP($D12&\"@10\",'中間シート（個人）'!$F$6:$O$100,6,FALSE)&VLOOKUP($D12&\"@10\",'中間シート（個人）'!$F$6:$O$100,7,FALSE)&\".\"&VLOOKUP($D12&\"@10\",'中間シート（個人）'!$F$6:$O$100,8,FALSE)),\"\",VLOOKUP($D12&\"@10\",'中間シート（個人）'!$F$6:$O$100,6,FALSE)&VLOOKUP($D12&\"@10\",'中間シート（個人）'!$F$6:$O$100,7,FALSE)&\".\"&VLOOKUP($D12&\"@10\",'中間シート（個人）'!$F$6:$O$100,8,FALSE))","v":""}]
[null,null,{"$f":"IF('中間シート（個人）'!D15=\"○\",\"\",VLOOKUP(個人種目!F15,コード一覧!$A$2:$B$3,2,FALSE))","v":""},{"$f":"IF('中間シート（個人）'!D15=\"○\",\"\",'中間シート（個人）'!C15)","v":""},{"$f":"IF('中間シート（個人）'!D15=\"○\",\"\",ASC(個人種目!D15&\" \"&個人種目!E15))","v":""},{"$f":"IF('中間シート（個人）'!D15=\"○\",\"\",個人種目!G15&IF(LEN(個人種目!H15)=1,\"0\"&個人種目!H15,個人種目!H15)&IF(LEN(個人種目!I15)=1,\"0\"&個人種目!I15,個人種目!I15))","v":""},{"$f":"IF('中間シート（個人）'!D15=\"○\",\"\",VLOOKUP(個人種目!$J15,コード一覧!$C$3:$D$6,2,FALSE))","v":""},{"$f":"IF('中間シート（個人）'!D15=\"○\",\"\",IF(個人種目!$J15=\"一般\",0,個人種目!$K15))","v":""},{"$f":"IF('中間シート（個人）'!D15=\"○\",\"\",'中間シート（個人）'!H15)","v":""},null,{"$f":"IF('中間シート（個人）'!D15=\"○\",\"\",個人種目!$L$1)","v":""},{"$f":"IF('中間シート（個人）'!D15=\"○\",\"\",ASC(申込書_コナミ!$S$9))","v":""},{"$f":"IF('中間シート（個人）'!D15=\"○\",\"\",申込書_コナミ!$E$8)","v":""},null,null,null,{"$f":"IF('中間シート（個人）'!D15=\"○\",\"\",4)","v":""},{"$f":"IF(ISERROR(VLOOKUP($D13&\"@1\",'中間シート（個人）'!$F$6:$O$100,4,FALSE)&VLOOKUP($D13&\"@1\",'中間シート（個人）'!$F$6:$O$100,5,FALSE)),\"\",VLOOKUP($D13&\"@1\",'中間シート（個人）'!$F$6:$O$100,4,FALSE)&VLOOKUP($D13&\"@1\",'中間シート（個人）'!$F$6:$O$100,5,FALSE))","v":""},{"$f":"IF(ISERROR(VLOOKUP($D13&\"@1\",'中間シート（個人）'!$F$6:$O$100,6,FALSE)&VLOOKUP($D13&\"@1\",'中間シート（個人）'!$F$6:$O$100,7,FALSE)&\".\"&VLOOKUP($D13&\"@1\",'中間シート（個人）'!$F$6:$O$100,8,FALSE)),\"\",VLOOKUP($D13&\"@1\",'中間シート（個人）'!$F$6:$O$100,6,FALSE)&VLOOKUP($D13&\"@1\",'中間シート（個人）'!$F$6:$O$100,7,FALSE)&\".\"&VLOOKUP($D13&\"@1\",'中間シート（個人）'!$F$6:$O$100,8,FALSE))","v":""},{"$f":"IF(ISERROR(VLOOKUP($D13&\"@2\",'中間シート（個人）'!$F$6:$O$100,4,FALSE)&VLOOKUP($D13&\"@2\",'中間シート（個人）'!$F$6:$O$100,5,FALSE)),\"\",VLOOKUP($D13&\"@2\",'中間シート（個人）'!$F$6:$O$100,4,FALSE)&VLOOKUP($D13&\"@2\",'中間シート（個人）'!$F$6:$O$100,5,FALSE))","v":""},{"$f":"IF(ISERROR(VLOOKUP($D13&\"@2\",'中間シート（個人）'!$F$6:$O$100,6,FALSE)&VLOOKUP($D13&\"@2\",'中間シート（個人）'!$F$6:$O$100,7,FALSE)&\".\"&VLOOKUP($D13&\"@2\",'中間シート（個人）'!$F$6:$O$100,8,FALSE)),\"\",VLOOKUP($D13&\"@2\",'中間シート（個人）'!$F$6:$O$100,6,FALSE)&VLOOKUP($D13&\"@2\",'中間シート（個人）'!$F$6:$O$100,7,FALSE)&\".\"&VLOOKUP($D13&\"@2\",'中間シート（個人）'!$F$6:$O$100,8,FALSE))","v":""},{"$f":"IF(ISERROR(VLOOKUP($D13&\"@3\",'中間シート（個人）'!$F$6:$O$100,4,FALSE)&VLOOKUP($D13&\"@3\",'中間シート（個人）'!$F$6:$O$100,5,FALSE)),\"\",VLOOKUP($D13&\"@3\",'中間シート（個人）'!$F$6:$O$100,4,FALSE)&VLOOKUP($D13&\"@3\",'中間シート（個人）'!$F$6:$O$100,5,FALSE))","v":""},{"$f":"IF(ISERROR(VLOOKUP($D13&\"@3\",'中間シート（個人）'!$F$6:$O$100,6,FALSE)&VLOOKUP($D13&\"@3\",'中間シート（個人）'!$F$6:$O$100,7,FALSE)&\".\"&VLOOKUP($D13&\"@3\",'中間シート（個人）'!$F$6:$O$100,8,FALSE)),\"\",VLOOKUP($D13&\"@3\",'中間シート（個人）'!$F$6:$O$100,6,FALSE)&VLOOKUP($D13&\"@3\",'中間シート（個人）'!$F$6:$O$100,7,FALSE)&\".\"&VLOOKUP($D13&\"@3\",'中間シート（個人）'!$F$6:$O$100,8,FALSE))","v":""},{"$f":"IF(ISERROR(VLOOKUP($D13&\"@4\",'中間シート（個人）'!$F$6:$O$100,4,FALSE)&VLOOKUP($D13&\"@4\",'中間シート（個人）'!$F$6:$O$100,5,FALSE)),\"\",VLOOKUP($D13&\"@4\",'中間シート（個人）'!$F$6:$O$100,4,FALSE)&VLOOKUP($D13&\"@4\",'中間シート（個人）'!$F$6:$O$100,5,FALSE))","v":""},{"$f":"IF(ISERROR(VLOOKUP($D13&\"@4\",'中間シート（個人）'!$F$6:$O$100,6,FALSE)&VLOOKUP($D13&\"@4\",'中間シート（個人）'!$F$6:$O$100,7,FALSE)&\".\"&VLOOKUP($D13&\"@4\",'中間シート（個人）'!$F$6:$O$100,8,FALSE)),\"\",VLOOKUP($D13&\"@4\",'中間シート（個人）'!$F$6:$O$100,6,FALSE)&VLOOKUP($D13&\"@4\",'中間シート（個人）'!$F$6:$O$100,7,FALSE)&\".\"&VLOOKUP($D13&\"@4\",'中間シート（個人）'!$F$6:$O$100,8,FALSE))","v":""},{"$f":"IF(ISERROR(VLOOKUP($D13&\"@5\",'中間シート（個人）'!$F$6:$O$100,4,FALSE)&VLOOKUP($D13&\"@5\",'中間シート（個人）'!$F$6:$O$100,5,FALSE)),\"\",VLOOKUP($D13&\"@5\",'中間シート（個人）'!$F$6:$O$100,4,FALSE)&VLOOKUP($D13&\"@5\",'中間シート（個人）'!$F$6:$O$100,5,FALSE))","v":""},{"$f":"IF(ISERROR(VLOOKUP($D13&\"@5\",'中間シート（個人）'!$F$6:$O$100,6,FALSE)&VLOOKUP($D13&\"@5\",'中間シート（個人）'!$F$6:$O$100,7,FALSE)&\".\"&VLOOKUP($D13&\"@5\",'中間シート（個人）'!$F$6:$O$100,8,FALSE)),\"\",VLOOKUP($D13&\"@5\",'中間シート（個人）'!$F$6:$O$100,6,FALSE)&VLOOKUP($D13&\"@5\",'中間シート（個人）'!$F$6:$O$100,7,FALSE)&\".\"&VLOOKUP($D13&\"@5\",'中間シート（個人）'!$F$6:$O$100,8,FALSE))","v":""},{"$f":"IF(ISERROR(VLOOKUP($D13&\"@6\",'中間シート（個人）'!$F$6:$O$100,4,FALSE)&VLOOKUP($D13&\"@6\",'中間シート（個人）'!$F$6:$O$100,5,FALSE)),\"\",VLOOKUP($D13&\"@6\",'中間シート（個人）'!$F$6:$O$100,4,FALSE)&VLOOKUP($D13&\"@6\",'中間シート（個人）'!$F$6:$O$100,5,FALSE))","v":""},{"$f":"IF(ISERROR(VLOOKUP($D13&\"@6\",'中間シート（個人）'!$F$6:$O$100,6,FALSE)&VLOOKUP($D13&\"@6\",'中間シート（個人）'!$F$6:$O$100,7,FALSE)&\".\"&VLOOKUP($D13&\"@6\",'中間シート（個人）'!$F$6:$O$100,8,FALSE)),\"\",VLOOKUP($D13&\"@6\",'中間シート（個人）'!$F$6:$O$100,6,FALSE)&VLOOKUP($D13&\"@6\",'中間シート（個人）'!$F$6:$O$100,7,FALSE)&\".\"&VLOOKUP($D13&\"@6\",'中間シート（個人）'!$F$6:$O$100,8,FALSE))","v":""},{"$f":"IF(ISERROR(VLOOKUP($D13&\"@7\",'中間シート（個人）'!$F$6:$O$100,4,FALSE)&VLOOKUP($D13&\"@7\",'中間シート（個人）'!$F$6:$O$100,5,FALSE)),\"\",VLOOKUP($D13&\"@7\",'中間シート（個人）'!$F$6:$O$100,4,FALSE)&VLOOKUP($D13&\"@7\",'中間シート（個人）'!$F$6:$O$100,5,FALSE))","v":""},{"$f":"IF(ISERROR(VLOOKUP($D13&\"@7\",'中間シート（個人）'!$F$6:$O$100,6,FALSE)&VLOOKUP($D13&\"@7\",'中間シート（個人）'!$F$6:$O$100,7,FALSE)&\".\"&VLOOKUP($D13&\"@7\",'中間シート（個人）'!$F$6:$O$100,8,FALSE)),\"\",VLOOKUP($D13&\"@7\",'中間シート（個人）'!$F$6:$O$100,6,FALSE)&VLOOKUP($D13&\"@7\",'中間シート（個人）'!$F$6:$O$100,7,FALSE)&\".\"&VLOOKUP($D13&\"@7\",'中間シート（個人）'!$F$6:$O$100,8,FALSE))","v":""},{"$f":"IF(ISERROR(VLOOKUP($D13&\"@8\",'中間シート（個人）'!$F$6:$O$100,4,FALSE)&VLOOKUP($D13&\"@8\",'中間シート（個人）'!$F$6:$O$100,5,FALSE)),\"\",VLOOKUP($D13&\"@8\",'中間シート（個人）'!$F$6:$O$100,4,FALSE)&VLOOKUP($D13&\"@8\",'中間シート（個人）'!$F$6:$O$100,5,FALSE))","v":""},{"$f":"IF(ISERROR(VLOOKUP($D13&\"@8\",'中間シート（個人）'!$F$6:$O$100,6,FALSE)&VLOOKUP($D13&\"@8\",'中間シート（個人）'!$F$6:$O$100,7,FALSE)&\".\"&VLOOKUP($D13&\"@8\",'中間シート（個人）'!$F$6:$O$100,8,FALSE)),\"\",VLOOKUP($D13&\"@8\",'中間シート（個人）'!$F$6:$O$100,6,FALSE)&VLOOKUP($D13&\"@8\",'中間シート（個人）'!$F$6:$O$100,7,FALSE)&\".\"&VLOOKUP($D13&\"@8\",'中間シート（個人）'!$F$6:$O$100,8,FALSE))","v":""},{"$f":"IF(ISERROR(VLOOKUP($D13&\"@9\",'中間シート（個人）'!$F$6:$O$100,4,FALSE)&VLOOKUP($D13&\"@9\",'中間シート（個人）'!$F$6:$O$100,5,FALSE)),\"\",VLOOKUP($D13&\"@9\",'中間シート（個人）'!$F$6:$O$100,4,FALSE)&VLOOKUP($D13&\"@9\",'中間シート（個人）'!$F$6:$O$100,5,FALSE))","v":""},{"$f":"IF(ISERROR(VLOOKUP($D13&\"@9\",'中間シート（個人）'!$F$6:$O$100,6,FALSE)&VLOOKUP($D13&\"@9\",'中間シート（個人）'!$F$6:$O$100,7,FALSE)&\".\"&VLOOKUP($D13&\"@9\",'中間シート（個人）'!$F$6:$O$100,8,FALSE)),\"\",VLOOKUP($D13&\"@9\",'中間シート（個人）'!$F$6:$O$100,6,FALSE)&VLOOKUP($D13&\"@9\",'中間シート（個人）'!$F$6:$O$100,7,FALSE)&\".\"&VLOOKUP($D13&\"@9\",'中間シート（個人）'!$F$6:$O$100,8,FALSE))","v":""},{"$f":"IF(ISERROR(VLOOKUP($D13&\"@10\",'中間シート（個人）'!$F$6:$O$100,4,FALSE)&VLOOKUP($D13&\"@10\",'中間シート（個人）'!$F$6:$O$100,5,FALSE)),\"\",VLOOKUP($D13&\"@10\",'中間シート（個人）'!$F$6:$O$100,4,FALSE)&VLOOKUP($D13&\"@10\",'中間シート（個人）'!$F$6:$O$100,5,FALSE))","v":""},{"$f":"IF(ISERROR(VLOOKUP($D13&\"@10\",'中間シート（個人）'!$F$6:$O$100,6,FALSE)&VLOOKUP($D13&\"@10\",'中間シート（個人）'!$F$6:$O$100,7,FALSE)&\".\"&VLOOKUP($D13&\"@10\",'中間シート（個人）'!$F$6:$O$100,8,FALSE)),\"\",VLOOKUP($D13&\"@10\",'中間シート（個人）'!$F$6:$O$100,6,FALSE)&VLOOKUP($D13&\"@10\",'中間シート（個人）'!$F$6:$O$100,7,FALSE)&\".\"&VLOOKUP($D13&\"@10\",'中間シート（個人）'!$F$6:$O$100,8,FALSE))","v":""}]
[null,null,{"$f":"IF('中間シート（個人）'!D16=\"○\",\"\",VLOOKUP(個人種目!F16,コード一覧!$A$2:$B$3,2,FALSE))","v":""},{"$f":"IF('中間シート（個人）'!D16=\"○\",\"\",'中間シート（個人）'!C16)","v":""},{"$f":"IF('中間シート（個人）'!D16=\"○\",\"\",ASC(個人種目!D16&\" \"&個人種目!E16))","v":""},{"$f":"IF('中間シート（個人）'!D16=\"○\",\"\",個人種目!G16&IF(LEN(個人種目!H16)=1,\"0\"&個人種目!H16,個人種目!H16)&IF(LEN(個人種目!I16)=1,\"0\"&個人種目!I16,個人種目!I16))","v":""},{"$f":"IF('中間シート（個人）'!D16=\"○\",\"\",VLOOKUP(個人種目!$J16,コード一覧!$C$3:$D$6,2,FALSE))","v":""},{"$f":"IF('中間シート（個人）'!D16=\"○\",\"\",IF(個人種目!$J16=\"一般\",0,個人種目!$K16))","v":""},{"$f":"IF('中間シート（個人）'!D16=\"○\",\"\",'中間シート（個人）'!H16)","v":""},null,{"$f":"IF('中間シート（個人）'!D16=\"○\",\"\",個人種目!$L$1)","v":""},{"$f":"IF('中間シート（個人）'!D16=\"○\",\"\",ASC(申込書_コナミ!$S$9))","v":""},{"$f":"IF('中間シート（個人）'!D16=\"○\",\"\",申込書_コナミ!$E$8)","v":""},null,null,null,{"$f":"IF('中間シート（個人）'!D16=\"○\",\"\",4)","v":""},{"$f":"IF(ISERROR(VLOOKUP($D14&\"@1\",'中間シート（個人）'!$F$6:$O$100,4,FALSE)&VLOOKUP($D14&\"@1\",'中間シート（個人）'!$F$6:$O$100,5,FALSE)),\"\",VLOOKUP($D14&\"@1\",'中間シート（個人）'!$F$6:$O$100,4,FALSE)&VLOOKUP($D14&\"@1\",'中間シート（個人）'!$F$6:$O$100,5,FALSE))","v":""},{"$f":"IF(ISERROR(VLOOKUP($D14&\"@1\",'中間シート（個人）'!$F$6:$O$100,6,FALSE)&VLOOKUP($D14&\"@1\",'中間シート（個人）'!$F$6:$O$100,7,FALSE)&\".\"&VLOOKUP($D14&\"@1\",'中間シート（個人）'!$F$6:$O$100,8,FALSE)),\"\",VLOOKUP($D14&\"@1\",'中間シート（個人）'!$F$6:$O$100,6,FALSE)&VLOOKUP($D14&\"@1\",'中間シート（個人）'!$F$6:$O$100,7,FALSE)&\".\"&VLOOKUP($D14&\"@1\",'中間シート（個人）'!$F$6:$O$100,8,FALSE))","v":""},{"$f":"IF(ISERROR(VLOOKUP($D14&\"@2\",'中間シート（個人）'!$F$6:$O$100,4,FALSE)&VLOOKUP($D14&\"@2\",'中間シート（個人）'!$F$6:$O$100,5,FALSE)),\"\",VLOOKUP($D14&\"@2\",'中間シート（個人）'!$F$6:$O$100,4,FALSE)&VLOOKUP($D14&\"@2\",'中間シート（個人）'!$F$6:$O$100,5,FALSE))","v":""},{"$f":"IF(ISERROR(VLOOKUP($D14&\"@2\",'中間シート（個人）'!$F$6:$O$100,6,FALSE)&VLOOKUP($D14&\"@2\",'中間シート（個人）'!$F$6:$O$100,7,FALSE)&\".\"&VLOOKUP($D14&\"@2\",'中間シート（個人）'!$F$6:$O$100,8,FALSE)),\"\",VLOOKUP($D14&\"@2\",'中間シート（個人）'!$F$6:$O$100,6,FALSE)&VLOOKUP($D14&\"@2\",'中間シート（個人）'!$F$6:$O$100,7,FALSE)&\".\"&VLOOKUP($D14&\"@2\",'中間シート（個人）'!$F$6:$O$100,8,FALSE))","v":""},{"$f":"IF(ISERROR(VLOOKUP($D14&\"@3\",'中間シート（個人）'!$F$6:$O$100,4,FALSE)&VLOOKUP($D14&\"@3\",'中間シート（個人）'!$F$6:$O$100,5,FALSE)),\"\",VLOOKUP($D14&\"@3\",'中間シート（個人）'!$F$6:$O$100,4,FALSE)&VLOOKUP($D14&\"@3\",'中間シート（個人）'!$F$6:$O$100,5,FALSE))","v":""},{"$f":"IF(ISERROR(VLOOKUP($D14&\"@3\",'中間シート（個人）'!$F$6:$O$100,6,FALSE)&VLOOKUP($D14&\"@3\",'中間シート（個人）'!$F$6:$O$100,7,FALSE)&\".\"&VLOOKUP($D14&\"@3\",'中間シート（個人）'!$F$6:$O$100,8,FALSE)),\"\",VLOOKUP($D14&\"@3\",'中間シート（個人）'!$F$6:$O$100,6,FALSE)&VLOOKUP($D14&\"@3\",'中間シート（個人）'!$F$6:$O$100,7,FALSE)&\".\"&VLOOKUP($D14&\"@3\",'中間シート（個人）'!$F$6:$O$100,8,FALSE))","v":""},{"$f":"IF(ISERROR(VLOOKUP($D14&\"@4\",'中間シート（個人）'!$F$6:$O$100,4,FALSE)&VLOOKUP($D14&\"@4\",'中間シート（個人）'!$F$6:$O$100,5,FALSE)),\"\",VLOOKUP($D14&\"@4\",'中間シート（個人）'!$F$6:$O$100,4,FALSE)&VLOOKUP($D14&\"@4\",'中間シート（個人）'!$F$6:$O$100,5,FALSE))","v":""},{"$f":"IF(ISERROR(VLOOKUP($D14&\"@4\",'中間シート（個人）'!$F$6:$O$100,6,FALSE)&VLOOKUP($D14&\"@4\",'中間シート（個人）'!$F$6:$O$100,7,FALSE)&\".\"&VLOOKUP($D14&\"@4\",'中間シート（個人）'!$F$6:$O$100,8,FALSE)),\"\",VLOOKUP($D14&\"@4\",'中間シート（個人）'!$F$6:$O$100,6,FALSE)&VLOOKUP($D14&\"@4\",'中間シート（個人）'!$F$6:$O$100,7,FALSE)&\".\"&VLOOKUP($D14&\"@4\",'中間シート（個人）'!$F$6:$O$100,8,FALSE))","v":""},{"$f":"IF(ISERROR(VLOOKUP($D14&\"@5\",'中間シート（個人）'!$F$6:$O$100,4,FALSE)&VLOOKUP($D14&\"@5\",'中間シート（個人）'!$F$6:$O$100,5,FALSE)),\"\",VLOOKUP($D14&\"@5\",'中間シート（個人）'!$F$6:$O$100,4,FALSE)&VLOOKUP($D14&\"@5\",'中間シート（個人）'!$F$6:$O$100,5,FALSE))","v":""},{"$f":"IF(ISERROR(VLOOKUP($D14&\"@5\",'中間シート（個人）'!$F$6:$O$100,6,FALSE)&VLOOKUP($D14&\"@5\",'中間シート（個人）'!$F$6:$O$100,7,FALSE)&\".\"&VLOOKUP($D14&\"@5\",'中間シート（個人）'!$F$6:$O$100,8,FALSE)),\"\",VLOOKUP($D14&\"@5\",'中間シート（個人）'!$F$6:$O$100,6,FALSE)&VLOOKUP($D14&\"@5\",'中間シート（個人）'!$F$6:$O$100,7,FALSE)&\".\"&VLOOKUP($D14&\"@5\",'中間シート（個人）'!$F$6:$O$100,8,FALSE))","v":""},{"$f":"IF(ISERROR(VLOOKUP($D14&\"@6\",'中間シート（個人）'!$F$6:$O$100,4,FALSE)&VLOOKUP($D14&\"@6\",'中間シート（個人）'!$F$6:$O$100,5,FALSE)),\"\",VLOOKUP($D14&\"@6\",'中間シート（個人）'!$F$6:$O$100,4,FALSE)&VLOOKUP($D14&\"@6\",'中間シート（個人）'!$F$6:$O$100,5,FALSE))","v":""},{"$f":"IF(ISERROR(VLOOKUP($D14&\"@6\",'中間シート（個人）'!$F$6:$O$100,6,FALSE)&VLOOKUP($D14&\"@6\",'中間シート（個人）'!$F$6:$O$100,7,FALSE)&\".\"&VLOOKUP($D14&\"@6\",'中間シート（個人）'!$F$6:$O$100,8,FALSE)),\"\",VLOOKUP($D14&\"@6\",'中間シート（個人）'!$F$6:$O$100,6,FALSE)&VLOOKUP($D14&\"@6\",'中間シート（個人）'!$F$6:$O$100,7,FALSE)&\".\"&VLOOKUP($D14&\"@6\",'中間シート（個人）'!$F$6:$O$100,8,FALSE))","v":""},{"$f":"IF(ISERROR(VLOOKUP($D14&\"@7\",'中間シート（個人）'!$F$6:$O$100,4,FALSE)&VLOOKUP($D14&\"@7\",'中間シート（個人）'!$F$6:$O$100,5,FALSE)),\"\",VLOOKUP($D14&\"@7\",'中間シート（個人）'!$F$6:$O$100,4,FALSE)&VLOOKUP($D14&\"@7\",'中間シート（個人）'!$F$6:$O$100,5,FALSE))","v":""},{"$f":"IF(ISERROR(VLOOKUP($D14&\"@7\",'中間シート（個人）'!$F$6:$O$100,6,FALSE)&VLOOKUP($D14&\"@7\",'中間シート（個人）'!$F$6:$O$100,7,FALSE)&\".\"&VLOOKUP($D14&\"@7\",'中間シート（個人）'!$F$6:$O$100,8,FALSE)),\"\",VLOOKUP($D14&\"@7\",'中間シート（個人）'!$F$6:$O$100,6,FALSE)&VLOOKUP($D14&\"@7\",'中間シート（個人）'!$F$6:$O$100,7,FALSE)&\".\"&VLOOKUP($D14&\"@7\",'中間シート（個人）'!$F$6:$O$100,8,FALSE))","v":""},{"$f":"IF(ISERROR(VLOOKUP($D14&\"@8\",'中間シート（個人）'!$F$6:$O$100,4,FALSE)&VLOOKUP($D14&\"@8\",'中間シート（個人）'!$F$6:$O$100,5,FALSE)),\"\",VLOOKUP($D14&\"@8\",'中間シート（個人）'!$F$6:$O$100,4,FALSE)&VLOOKUP($D14&\"@8\",'中間シート（個人）'!$F$6:$O$100,5,FALSE))","v":""},{"$f":"IF(ISERROR(VLOOKUP($D14&\"@8\",'中間シート（個人）'!$F$6:$O$100,6,FALSE)&VLOOKUP($D14&\"@8\",'中間シート（個人）'!$F$6:$O$100,7,FALSE)&\".\"&VLOOKUP($D14&\"@8\",'中間シート（個人）'!$F$6:$O$100,8,FALSE)),\"\",VLOOKUP($D14&\"@8\",'中間シート（個人）'!$F$6:$O$100,6,FALSE)&VLOOKUP($D14&\"@8\",'中間シート（個人）'!$F$6:$O$100,7,FALSE)&\".\"&VLOOKUP($D14&\"@8\",'中間シート（個人）'!$F$6:$O$100,8,FALSE))","v":""},{"$f":"IF(ISERROR(VLOOKUP($D14&\"@9\",'中間シート（個人）'!$F$6:$O$100,4,FALSE)&VLOOKUP($D14&\"@9\",'中間シート（個人）'!$F$6:$O$100,5,FALSE)),\"\",VLOOKUP($D14&\"@9\",'中間シート（個人）'!$F$6:$O$100,4,FALSE)&VLOOKUP($D14&\"@9\",'中間シート（個人）'!$F$6:$O$100,5,FALSE))","v":""},{"$f":"IF(ISERROR(VLOOKUP($D14&\"@9\",'中間シート（個人）'!$F$6:$O$100,6,FALSE)&VLOOKUP($D14&\"@9\",'中間シート（個人）'!$F$6:$O$100,7,FALSE)&\".\"&VLOOKUP($D14&\"@9\",'中間シート（個人）'!$F$6:$O$100,8,FALSE)),\"\",VLOOKUP($D14&\"@9\",'中間シート（個人）'!$F$6:$O$100,6,FALSE)&VLOOKUP($D14&\"@9\",'中間シート（個人）'!$F$6:$O$100,7,FALSE)&\".\"&VLOOKUP($D14&\"@9\",'中間シート（個人）'!$F$6:$O$100,8,FALSE))","v":""},{"$f":"IF(ISERROR(VLOOKUP($D14&\"@10\",'中間シート（個人）'!$F$6:$O$100,4,FALSE)&VLOOKUP($D14&\"@10\",'中間シート（個人）'!$F$6:$O$100,5,FALSE)),\"\",VLOOKUP($D14&\"@10\",'中間シート（個人）'!$F$6:$O$100,4,FALSE)&VLOOKUP($D14&\"@10\",'中間シート（個人）'!$F$6:$O$100,5,FALSE))","v":""},{"$f":"IF(ISERROR(VLOOKUP($D14&\"@10\",'中間シート（個人）'!$F$6:$O$100,6,FALSE)&VLOOKUP($D14&\"@10\",'中間シート（個人）'!$F$6:$O$100,7,FALSE)&\".\"&VLOOKUP($D14&\"@10\",'中間シート（個人）'!$F$6:$O$100,8,FALSE)),\"\",VLOOKUP($D14&\"@10\",'中間シート（個人）'!$F$6:$O$100,6,FALSE)&VLOOKUP($D14&\"@10\",'中間シート（個人）'!$F$6:$O$100,7,FALSE)&\".\"&VLOOKUP($D14&\"@10\",'中間シート（個人）'!$F$6:$O$100,8,FALSE))","v":""}]
[null,null,{"$f":"IF('中間シート（個人）'!D17=\"○\",\"\",VLOOKUP(個人種目!F17,コード一覧!$A$2:$B$3,2,FALSE))","v":""},{"$f":"IF('中間シート（個人）'!D17=\"○\",\"\",'中間シート（個人）'!C17)","v":""},{"$f":"IF('中間シート（個人）'!D17=\"○\",\"\",ASC(個人種目!D17&\" \"&個人種目!E17))","v":""},{"$f":"IF('中間シート（個人）'!D17=\"○\",\"\",個人種目!G17&IF(LEN(個人種目!H17)=1,\"0\"&個人種目!H17,個人種目!H17)&IF(LEN(個人種目!I17)=1,\"0\"&個人種目!I17,個人種目!I17))","v":""},{"$f":"IF('中間シート（個人）'!D17=\"○\",\"\",VLOOKUP(個人種目!$J17,コード一覧!$C$3:$D$6,2,FALSE))","v":""},{"$f":"IF('中間シート（個人）'!D17=\"○\",\"\",IF(個人種目!$J17=\"一般\",0,個人種目!$K17))","v":""},{"$f":"IF('中間シート（個人）'!D17=\"○\",\"\",'中間シート（個人）'!H17)","v":""},null,{"$f":"IF('中間シート（個人）'!D17=\"○\",\"\",個人種目!$L$1)","v":""},{"$f":"IF('中間シート（個人）'!D17=\"○\",\"\",ASC(申込書_コナミ!$S$9))","v":""},{"$f":"IF('中間シート（個人）'!D17=\"○\",\"\",申込書_コナミ!$E$8)","v":""},null,null,null,{"$f":"IF('中間シート（個人）'!D17=\"○\",\"\",4)","v":""},{"$f":"IF(ISERROR(VLOOKUP($D15&\"@1\",'中間シート（個人）'!$F$6:$O$100,4,FALSE)&VLOOKUP($D15&\"@1\",'中間シート（個人）'!$F$6:$O$100,5,FALSE)),\"\",VLOOKUP($D15&\"@1\",'中間シート（個人）'!$F$6:$O$100,4,FALSE)&VLOOKUP($D15&\"@1\",'中間シート（個人）'!$F$6:$O$100,5,FALSE))","v":""},{"$f":"IF(ISERROR(VLOOKUP($D15&\"@1\",'中間シート（個人）'!$F$6:$O$100,6,FALSE)&VLOOKUP($D15&\"@1\",'中間シート（個人）'!$F$6:$O$100,7,FALSE)&\".\"&VLOOKUP($D15&\"@1\",'中間シート（個人）'!$F$6:$O$100,8,FALSE)),\"\",VLOOKUP($D15&\"@1\",'中間シート（個人）'!$F$6:$O$100,6,FALSE)&VLOOKUP($D15&\"@1\",'中間シート（個人）'!$F$6:$O$100,7,FALSE)&\".\"&VLOOKUP($D15&\"@1\",'中間シート（個人）'!$F$6:$O$100,8,FALSE))","v":""},{"$f":"IF(ISERROR(VLOOKUP($D15&\"@2\",'中間シート（個人）'!$F$6:$O$100,4,FALSE)&VLOOKUP($D15&\"@2\",'中間シート（個人）'!$F$6:$O$100,5,FALSE)),\"\",VLOOKUP($D15&\"@2\",'中間シート（個人）'!$F$6:$O$100,4,FALSE)&VLOOKUP($D15&\"@2\",'中間シート（個人）'!$F$6:$O$100,5,FALSE))","v":""},{"$f":"IF(ISERROR(VLOOKUP($D15&\"@2\",'中間シート（個人）'!$F$6:$O$100,6,FALSE)&VLOOKUP($D15&\"@2\",'中間シート（個人）'!$F$6:$O$100,7,FALSE)&\".\"&VLOOKUP($D15&\"@2\",'中間シート（個人）'!$F$6:$O$100,8,FALSE)),\"\",VLOOKUP($D15&\"@2\",'中間シート（個人）'!$F$6:$O$100,6,FALSE)&VLOOKUP($D15&\"@2\",'中間シート（個人）'!$F$6:$O$100,7,FALSE)&\".\"&VLOOKUP($D15&\"@2\",'中間シート（個人）'!$F$6:$O$100,8,FALSE))","v":""},{"$f":"IF(ISERROR(VLOOKUP($D15&\"@3\",'中間シート（個人）'!$F$6:$O$100,4,FALSE)&VLOOKUP($D15&\"@3\",'中間シート（個人）'!$F$6:$O$100,5,FALSE)),\"\",VLOOKUP($D15&\"@3\",'中間シート（個人）'!$F$6:$O$100,4,FALSE)&VLOOKUP($D15&\"@3\",'中間シート（個人）'!$F$6:$O$100,5,FALSE))","v":""},{"$f":"IF(ISERROR(VLOOKUP($D15&\"@3\",'中間シート（個人）'!$F$6:$O$100,6,FALSE)&VLOOKUP($D15&\"@3\",'中間シート（個人）'!$F$6:$O$100,7,FALSE)&\".\"&VLOOKUP($D15&\"@3\",'中間シート（個人）'!$F$6:$O$100,8,FALSE)),\"\",VLOOKUP($D15&\"@3\",'中間シート（個人）'!$F$6:$O$100,6,FALSE)&VLOOKUP($D15&\"@3\",'中間シート（個人）'!$F$6:$O$100,7,FALSE)&\".\"&VLOOKUP($D15&\"@3\",'中間シート（個人）'!$F$6:$O$100,8,FALSE))","v":""},{"$f":"IF(ISERROR(VLOOKUP($D15&\"@4\",'中間シート（個人）'!$F$6:$O$100,4,FALSE)&VLOOKUP($D15&\"@4\",'中間シート（個人）'!$F$6:$O$100,5,FALSE)),\"\",VLOOKUP($D15&\"@4\",'中間シート（個人）'!$F$6:$O$100,4,FALSE)&VLOOKUP($D15&\"@4\",'中間シート（個人）'!$F$6:$O$100,5,FALSE))","v":""},{"$f":"IF(ISERROR(VLOOKUP($D15&\"@4\",'中間シート（個人）'!$F$6:$O$100,6,FALSE)&VLOOKUP($D15&\"@4\",'中間シート（個人）'!$F$6:$O$100,7,FALSE)&\".\"&VLOOKUP($D15&\"@4\",'中間シート（個人）'!$F$6:$O$100,8,FALSE)),\"\",VLOOKUP($D15&\"@4\",'中間シート（個人）'!$F$6:$O$100,6,FALSE)&VLOOKUP($D15&\"@4\",'中間シート（個人）'!$F$6:$O$100,7,FALSE)&\".\"&VLOOKUP($D15&\"@4\",'中間シート（個人）'!$F$6:$O$100,8,FALSE))","v":""},{"$f":"IF(ISERROR(VLOOKUP($D15&\"@5\",'中間シート（個人）'!$F$6:$O$100,4,FALSE)&VLOOKUP($D15&\"@5\",'中間シート（個人）'!$F$6:$O$100,5,FALSE)),\"\",VLOOKUP($D15&\"@5\",'中間シート（個人）'!$F$6:$O$100,4,FALSE)&VLOOKUP($D15&\"@5\",'中間シート（個人）'!$F$6:$O$100,5,FALSE))","v":""},{"$f":"IF(ISERROR(VLOOKUP($D15&\"@5\",'中間シート（個人）'!$F$6:$O$100,6,FALSE)&VLOOKUP($D15&\"@5\",'中間シート（個人）'!$F$6:$O$100,7,FALSE)&\".\"&VLOOKUP($D15&\"@5\",'中間シート（個人）'!$F$6:$O$100,8,FALSE)),\"\",VLOOKUP($D15&\"@5\",'中間シート（個人）'!$F$6:$O$100,6,FALSE)&VLOOKUP($D15&\"@5\",'中間シート（個人）'!$F$6:$O$100,7,FALSE)&\".\"&VLOOKUP($D15&\"@5\",'中間シート（個人）'!$F$6:$O$100,8,FALSE))","v":""},{"$f":"IF(ISERROR(VLOOKUP($D15&\"@6\",'中間シート（個人）'!$F$6:$O$100,4,FALSE)&VLOOKUP($D15&\"@6\",'中間シート（個人）'!$F$6:$O$100,5,FALSE)),\"\",VLOOKUP($D15&\"@6\",'中間シート（個人）'!$F$6:$O$100,4,FALSE)&VLOOKUP($D15&\"@6\",'中間シート（個人）'!$F$6:$O$100,5,FALSE))","v":""},{"$f":"IF(ISERROR(VLOOKUP($D15&\"@6\",'中間シート（個人）'!$F$6:$O$100,6,FALSE)&VLOOKUP($D15&\"@6\",'中間シート（個人）'!$F$6:$O$100,7,FALSE)&\".\"&VLOOKUP($D15&\"@6\",'中間シート（個人）'!$F$6:$O$100,8,FALSE)),\"\",VLOOKUP($D15&\"@6\",'中間シート（個人）'!$F$6:$O$100,6,FALSE)&VLOOKUP($D15&\"@6\",'中間シート（個人）'!$F$6:$O$100,7,FALSE)&\".\"&VLOOKUP($D15&\"@6\",'中間シート（個人）'!$F$6:$O$100,8,FALSE))","v":""},{"$f":"IF(ISERROR(VLOOKUP($D15&\"@7\",'中間シート（個人）'!$F$6:$O$100,4,FALSE)&VLOOKUP($D15&\"@7\",'中間シート（個人）'!$F$6:$O$100,5,FALSE)),\"\",VLOOKUP($D15&\"@7\",'中間シート（個人）'!$F$6:$O$100,4,FALSE)&VLOOKUP($D15&\"@7\",'中間シート（個人）'!$F$6:$O$100,5,FALSE))","v":""},{"$f":"IF(ISERROR(VLOOKUP($D15&\"@7\",'中間シート（個人）'!$F$6:$O$100,6,FALSE)&VLOOKUP($D15&\"@7\",'中間シート（個人）'!$F$6:$O$100,7,FALSE)&\".\"&VLOOKUP($D15&\"@7\",'中間シート（個人）'!$F$6:$O$100,8,FALSE)),\"\",VLOOKUP($D15&\"@7\",'中間シート（個人）'!$F$6:$O$100,6,FALSE)&VLOOKUP($D15&\"@7\",'中間シート（個人）'!$F$6:$O$100,7,FALSE)&\".\"&VLOOKUP($D15&\"@7\",'中間シート（個人）'!$F$6:$O$100,8,FALSE))","v":""},{"$f":"IF(ISERROR(VLOOKUP($D15&\"@8\",'中間シート（個人）'!$F$6:$O$100,4,FALSE)&VLOOKUP($D15&\"@8\",'中間シート（個人）'!$F$6:$O$100,5,FALSE)),\"\",VLOOKUP($D15&\"@8\",'中間シート（個人）'!$F$6:$O$100,4,FALSE)&VLOOKUP($D15&\"@8\",'中間シート（個人）'!$F$6:$O$100,5,FALSE))","v":""},{"$f":"IF(ISERROR(VLOOKUP($D15&\"@8\",'中間シート（個人）'!$F$6:$O$100,6,FALSE)&VLOOKUP($D15&\"@8\",'中間シート（個人）'!$F$6:$O$100,7,FALSE)&\".\"&VLOOKUP($D15&\"@8\",'中間シート（個人）'!$F$6:$O$100,8,FALSE)),\"\",VLOOKUP($D15&\"@8\",'中間シート（個人）'!$F$6:$O$100,6,FALSE)&VLOOKUP($D15&\"@8\",'中間シート（個人）'!$F$6:$O$100,7,FALSE)&\".\"&VLOOKUP($D15&\"@8\",'中間シート（個人）'!$F$6:$O$100,8,FALSE))","v":""},{"$f":"IF(ISERROR(VLOOKUP($D15&\"@9\",'中間シート（個人）'!$F$6:$O$100,4,FALSE)&VLOOKUP($D15&\"@9\",'中間シート（個人）'!$F$6:$O$100,5,FALSE)),\"\",VLOOKUP($D15&\"@9\",'中間シート（個人）'!$F$6:$O$100,4,FALSE)&VLOOKUP($D15&\"@9\",'中間シート（個人）'!$F$6:$O$100,5,FALSE))","v":""},{"$f":"IF(ISERROR(VLOOKUP($D15&\"@9\",'中間シート（個人）'!$F$6:$O$100,6,FALSE)&VLOOKUP($D15&\"@9\",'中間シート（個人）'!$F$6:$O$100,7,FALSE)&\".\"&VLOOKUP($D15&\"@9\",'中間シート（個人）'!$F$6:$O$100,8,FALSE)),\"\",VLOOKUP($D15&\"@9\",'中間シート（個人）'!$F$6:$O$100,6,FALSE)&VLOOKUP($D15&\"@9\",'中間シート（個人）'!$F$6:$O$100,7,FALSE)&\".\"&VLOOKUP($D15&\"@9\",'中間シート（個人）'!$F$6:$O$100,8,FALSE))","v":""},{"$f":"IF(ISERROR(VLOOKUP($D15&\"@10\",'中間シート（個人）'!$F$6:$O$100,4,FALSE)&VLOOKUP($D15&\"@10\",'中間シート（個人）'!$F$6:$O$100,5,FALSE)),\"\",VLOOKUP($D15&\"@10\",'中間シート（個人）'!$F$6:$O$100,4,FALSE)&VLOOKUP($D15&\"@10\",'中間シート（個人）'!$F$6:$O$100,5,FALSE))","v":""},{"$f":"IF(ISERROR(VLOOKUP($D15&\"@10\",'中間シート（個人）'!$F$6:$O$100,6,FALSE)&VLOOKUP($D15&\"@10\",'中間シート（個人）'!$F$6:$O$100,7,FALSE)&\".\"&VLOOKUP($D15&\"@10\",'中間シート（個人）'!$F$6:$O$100,8,FALSE)),\"\",VLOOKUP($D15&\"@10\",'中間シート（個人）'!$F$6:$O$100,6,FALSE)&VLOOKUP($D15&\"@10\",'中間シート（個人）'!$F$6:$O$100,7,FALSE)&\".\"&VLOOKUP($D15&\"@10\",'中間シート（個人）'!$F$6:$O$100,8,FALSE))","v":""}]
[null,null,{"$f":"IF('中間シート（個人）'!D18=\"○\",\"\",VLOOKUP(個人種目!F18,コード一覧!$A$2:$B$3,2,FALSE))","v":""},{"$f":"IF('中間シート（個人）'!D18=\"○\",\"\",'中間シート（個人）'!C18)","v":""},{"$f":"IF('中間シート（個人）'!D18=\"○\",\"\",ASC(個人種目!D18&\" \"&個人種目!E18))","v":""},{"$f":"IF('中間シート（個人）'!D18=\"○\",\"\",個人種目!G18&IF(LEN(個人種目!H18)=1,\"0\"&個人種目!H18,個人種目!H18)&IF(LEN(個人種目!I18)=1,\"0\"&個人種目!I18,個人種目!I18))","v":""},{"$f":"IF('中間シート（個人）'!D18=\"○\",\"\",VLOOKUP(個人種目!$J18,コード一覧!$C$3:$D$6,2,FALSE))","v":""},{"$f":"IF('中間シート（個人）'!D18=\"○\",\"\",IF(個人種目!$J18=\"一般\",0,個人種目!$K18))","v":""},{"$f":"IF('中間シート（個人）'!D18=\"○\",\"\",'中間シート（個人）'!H18)","v":""},null,{"$f":"IF('中間シート（個人）'!D18=\"○\",\"\",個人種目!$L$1)","v":""},{"$f":"IF('中間シート（個人）'!D18=\"○\",\"\",ASC(申込書_コナミ!$S$9))","v":""},{"$f":"IF('中間シート（個人）'!D18=\"○\",\"\",申込書_コナミ!$E$8)","v":""},null,null,null,{"$f":"IF('中間シート（個人）'!D18=\"○\",\"\",4)","v":""},{"$f":"IF(ISERROR(VLOOKUP($D16&\"@1\",'中間シート（個人）'!$F$6:$O$100,4,FALSE)&VLOOKUP($D16&\"@1\",'中間シート（個人）'!$F$6:$O$100,5,FALSE)),\"\",VLOOKUP($D16&\"@1\",'中間シート（個人）'!$F$6:$O$100,4,FALSE)&VLOOKUP($D16&\"@1\",'中間シート（個人）'!$F$6:$O$100,5,FALSE))","v":""},{"$f":"IF(ISERROR(VLOOKUP($D16&\"@1\",'中間シート（個人）'!$F$6:$O$100,6,FALSE)&VLOOKUP($D16&\"@1\",'中間シート（個人）'!$F$6:$O$100,7,FALSE)&\".\"&VLOOKUP($D16&\"@1\",'中間シート（個人）'!$F$6:$O$100,8,FALSE)),\"\",VLOOKUP($D16&\"@1\",'中間シート（個人）'!$F$6:$O$100,6,FALSE)&VLOOKUP($D16&\"@1\",'中間シート（個人）'!$F$6:$O$100,7,FALSE)&\".\"&VLOOKUP($D16&\"@1\",'中間シート（個人）'!$F$6:$O$100,8,FALSE))","v":""},{"$f":"IF(ISERROR(VLOOKUP($D16&\"@2\",'中間シート（個人）'!$F$6:$O$100,4,FALSE)&VLOOKUP($D16&\"@2\",'中間シート（個人）'!$F$6:$O$100,5,FALSE)),\"\",VLOOKUP($D16&\"@2\",'中間シート（個人）'!$F$6:$O$100,4,FALSE)&VLOOKUP($D16&\"@2\",'中間シート（個人）'!$F$6:$O$100,5,FALSE))","v":""},{"$f":"IF(ISERROR(VLOOKUP($D16&\"@2\",'中間シート（個人）'!$F$6:$O$100,6,FALSE)&VLOOKUP($D16&\"@2\",'中間シート（個人）'!$F$6:$O$100,7,FALSE)&\".\"&VLOOKUP($D16&\"@2\",'中間シート（個人）'!$F$6:$O$100,8,FALSE)),\"\",VLOOKUP($D16&\"@2\",'中間シート（個人）'!$F$6:$O$100,6,FALSE)&VLOOKUP($D16&\"@2\",'中間シート（個人）'!$F$6:$O$100,7,FALSE)&\".\"&VLOOKUP($D16&\"@2\",'中間シート（個人）'!$F$6:$O$100,8,FALSE))","v":""},{"$f":"IF(ISERROR(VLOOKUP($D16&\"@3\",'中間シート（個人）'!$F$6:$O$100,4,FALSE)&VLOOKUP($D16&\"@3\",'中間シート（個人）'!$F$6:$O$100,5,FALSE)),\"\",VLOOKUP($D16&\"@3\",'中間シート（個人）'!$F$6:$O$100,4,FALSE)&VLOOKUP($D16&\"@3\",'中間シート（個人）'!$F$6:$O$100,5,FALSE))","v":""},{"$f":"IF(ISERROR(VLOOKUP($D16&\"@3\",'中間シート（個人）'!$F$6:$O$100,6,FALSE)&VLOOKUP($D16&\"@3\",'中間シート（個人）'!$F$6:$O$100,7,FALSE)&\".\"&VLOOKUP($D16&\"@3\",'中間シート（個人）'!$F$6:$O$100,8,FALSE)),\"\",VLOOKUP($D16&\"@3\",'中間シート（個人）'!$F$6:$O$100,6,FALSE)&VLOOKUP($D16&\"@3\",'中間シート（個人）'!$F$6:$O$100,7,FALSE)&\".\"&VLOOKUP($D16&\"@3\",'中間シート（個人）'!$F$6:$O$100,8,FALSE))","v":""},{"$f":"IF(ISERROR(VLOOKUP($D16&\"@4\",'中間シート（個人）'!$F$6:$O$100,4,FALSE)&VLOOKUP($D16&\"@4\",'中間シート（個人）'!$F$6:$O$100,5,FALSE)),\"\",VLOOKUP($D16&\"@4\",'中間シート（個人）'!$F$6:$O$100,4,FALSE)&VLOOKUP($D16&\"@4\",'中間シート（個人）'!$F$6:$O$100,5,FALSE))","v":""},{"$f":"IF(ISERROR(VLOOKUP($D16&\"@4\",'中間シート（個人）'!$F$6:$O$100,6,FALSE)&VLOOKUP($D16&\"@4\",'中間シート（個人）'!$F$6:$O$100,7,FALSE)&\".\"&VLOOKUP($D16&\"@4\",'中間シート（個人）'!$F$6:$O$100,8,FALSE)),\"\",VLOOKUP($D16&\"@4\",'中間シート（個人）'!$F$6:$O$100,6,FALSE)&VLOOKUP($D16&\"@4\",'中間シート（個人）'!$F$6:$O$100,7,FALSE)&\".\"&VLOOKUP($D16&\"@4\",'中間シート（個人）'!$F$6:$O$100,8,FALSE))","v":""},{"$f":"IF(ISERROR(VLOOKUP($D16&\"@5\",'中間シート（個人）'!$F$6:$O$100,4,FALSE)&VLOOKUP($D16&\"@5\",'中間シート（個人）'!$F$6:$O$100,5,FALSE)),\"\",VLOOKUP($D16&\"@5\",'中間シート（個人）'!$F$6:$O$100,4,FALSE)&VLOOKUP($D16&\"@5\",'中間シート（個人）'!$F$6:$O$100,5,FALSE))","v":""},{"$f":"IF(ISERROR(VLOOKUP($D16&\"@5\",'中間シート（個人）'!$F$6:$O$100,6,FALSE)&VLOOKUP($D16&\"@5\",'中間シート（個人）'!$F$6:$O$100,7,FALSE)&\".\"&VLOOKUP($D16&\"@5\",'中間シート（個人）'!$F$6:$O$100,8,FALSE)),\"\",VLOOKUP($D16&\"@5\",'中間シート（個人）'!$F$6:$O$100,6,FALSE)&VLOOKUP($D16&\"@5\",'中間シート（個人）'!$F$6:$O$100,7,FALSE)&\".\"&VLOOKUP($D16&\"@5\",'中間シート（個人）'!$F$6:$O$100,8,FALSE))","v":""},{"$f":"IF(ISERROR(VLOOKUP($D16&\"@6\",'中間シート（個人）'!$F$6:$O$100,4,FALSE)&VLOOKUP($D16&\"@6\",'中間シート（個人）'!$F$6:$O$100,5,FALSE)),\"\",VLOOKUP($D16&\"@6\",'中間シート（個人）'!$F$6:$O$100,4,FALSE)&VLOOKUP($D16&\"@6\",'中間シート（個人）'!$F$6:$O$100,5,FALSE))","v":""},{"$f":"IF(ISERROR(VLOOKUP($D16&\"@6\",'中間シート（個人）'!$F$6:$O$100,6,FALSE)&VLOOKUP($D16&\"@6\",'中間シート（個人）'!$F$6:$O$100,7,FALSE)&\".\"&VLOOKUP($D16&\"@6\",'中間シート（個人）'!$F$6:$O$100,8,FALSE)),\"\",VLOOKUP($D16&\"@6\",'中間シート（個人）'!$F$6:$O$100,6,FALSE)&VLOOKUP($D16&\"@6\",'中間シート（個人）'!$F$6:$O$100,7,FALSE)&\".\"&VLOOKUP($D16&\"@6\",'中間シート（個人）'!$F$6:$O$100,8,FALSE))","v":""},{"$f":"IF(ISERROR(VLOOKUP($D16&\"@7\",'中間シート（個人）'!$F$6:$O$100,4,FALSE)&VLOOKUP($D16&\"@7\",'中間シート（個人）'!$F$6:$O$100,5,FALSE)),\"\",VLOOKUP($D16&\"@7\",'中間シート（個人）'!$F$6:$O$100,4,FALSE)&VLOOKUP($D16&\"@7\",'中間シート（個人）'!$F$6:$O$100,5,FALSE))","v":""},{"$f":"IF(ISERROR(VLOOKUP($D16&\"@7\",'中間シート（個人）'!$F$6:$O$100,6,FALSE)&VLOOKUP($D16&\"@7\",'中間シート（個人）'!$F$6:$O$100,7,FALSE)&\".\"&VLOOKUP($D16&\"@7\",'中間シート（個人）'!$F$6:$O$100,8,FALSE)),\"\",VLOOKUP($D16&\"@7\",'中間シート（個人）'!$F$6:$O$100,6,FALSE)&VLOOKUP($D16&\"@7\",'中間シート（個人）'!$F$6:$O$100,7,FALSE)&\".\"&VLOOKUP($D16&\"@7\",'中間シート（個人）'!$F$6:$O$100,8,FALSE))","v":""},{"$f":"IF(ISERROR(VLOOKUP($D16&\"@8\",'中間シート（個人）'!$F$6:$O$100,4,FALSE)&VLOOKUP($D16&\"@8\",'中間シート（個人）'!$F$6:$O$100,5,FALSE)),\"\",VLOOKUP($D16&\"@8\",'中間シート（個人）'!$F$6:$O$100,4,FALSE)&VLOOKUP($D16&\"@8\",'中間シート（個人）'!$F$6:$O$100,5,FALSE))","v":""},{"$f":"IF(ISERROR(VLOOKUP($D16&\"@8\",'中間シート（個人）'!$F$6:$O$100,6,FALSE)&VLOOKUP($D16&\"@8\",'中間シート（個人）'!$F$6:$O$100,7,FALSE)&\".\"&VLOOKUP($D16&\"@8\",'中間シート（個人）'!$F$6:$O$100,8,FALSE)),\"\",VLOOKUP($D16&\"@8\",'中間シート（個人）'!$F$6:$O$100,6,FALSE)&VLOOKUP($D16&\"@8\",'中間シート（個人）'!$F$6:$O$100,7,FALSE)&\".\"&VLOOKUP($D16&\"@8\",'中間シート（個人）'!$F$6:$O$100,8,FALSE))","v":""},{"$f":"IF(ISERROR(VLOOKUP($D16&\"@9\",'中間シート（個人）'!$F$6:$O$100,4,FALSE)&VLOOKUP($D16&\"@9\",'中間シート（個人）'!$F$6:$O$100,5,FALSE)),\"\",VLOOKUP($D16&\"@9\",'中間シート（個人）'!$F$6:$O$100,4,FALSE)&VLOOKUP($D16&\"@9\",'中間シート（個人）'!$F$6:$O$100,5,FALSE))","v":""},{"$f":"IF(ISERROR(VLOOKUP($D16&\"@9\",'中間シート（個人）'!$F$6:$O$100,6,FALSE)&VLOOKUP($D16&\"@9\",'中間シート（個人）'!$F$6:$O$100,7,FALSE)&\".\"&VLOOKUP($D16&\"@9\",'中間シート（個人）'!$F$6:$O$100,8,FALSE)),\"\",VLOOKUP($D16&\"@9\",'中間シート（個人）'!$F$6:$O$100,6,FALSE)&VLOOKUP($D16&\"@9\",'中間シート（個人）'!$F$6:$O$100,7,FALSE)&\".\"&VLOOKUP($D16&\"@9\",'中間シート（個人）'!$F$6:$O$100,8,FALSE))","v":""},{"$f":"IF(ISERROR(VLOOKUP($D16&\"@10\",'中間シート（個人）'!$F$6:$O$100,4,FALSE)&VLOOKUP($D16&\"@10\",'中間シート（個人）'!$F$6:$O$100,5,FALSE)),\"\",VLOOKUP($D16&\"@10\",'中間シート（個人）'!$F$6:$O$100,4,FALSE)&VLOOKUP($D16&\"@10\",'中間シート（個人）'!$F$6:$O$100,5,FALSE))","v":""},{"$f":"IF(ISERROR(VLOOKUP($D16&\"@10\",'中間シート（個人）'!$F$6:$O$100,6,FALSE)&VLOOKUP($D16&\"@10\",'中間シート（個人）'!$F$6:$O$100,7,FALSE)&\".\"&VLOOKUP($D16&\"@10\",'中間シート（個人）'!$F$6:$O$100,8,FALSE)),\"\",VLOOKUP($D16&\"@10\",'中間シート（個人）'!$F$6:$O$100,6,FALSE)&VLOOKUP($D16&\"@10\",'中間シート（個人）'!$F$6:$O$100,7,FALSE)&\".\"&VLOOKUP($D16&\"@10\",'中間シート（個人）'!$F$6:$O$100,8,FALSE))","v":""}]
[null,null,{"$f":"IF('中間シート（個人）'!D19=\"○\",\"\",VLOOKUP(個人種目!F19,コード一覧!$A$2:$B$3,2,FALSE))","v":""},{"$f":"IF('中間シート（個人）'!D19=\"○\",\"\",'中間シート（個人）'!C19)","v":""},{"$f":"IF('中間シート（個人）'!D19=\"○\",\"\",ASC(個人種目!D19&\" \"&個人種目!E19))","v":""},{"$f":"IF('中間シート（個人）'!D19=\"○\",\"\",個人種目!G19&IF(LEN(個人種目!H19)=1,\"0\"&個人種目!H19,個人種目!H19)&IF(LEN(個人種目!I19)=1,\"0\"&個人種目!I19,個人種目!I19))","v":""},{"$f":"IF('中間シート（個人）'!D19=\"○\",\"\",VLOOKUP(個人種目!$J19,コード一覧!$C$3:$D$6,2,FALSE))","v":""},{"$f":"IF('中間シート（個人）'!D19=\"○\",\"\",IF(個人種目!$J19=\"一般\",0,個人種目!$K19))","v":""},{"$f":"IF('中間シート（個人）'!D19=\"○\",\"\",'中間シート（個人）'!H19)","v":""},null,{"$f":"IF('中間シート（個人）'!D19=\"○\",\"\",個人種目!$L$1)","v":""},{"$f":"IF('中間シート（個人）'!D19=\"○\",\"\",ASC(申込書_コナミ!$S$9))","v":""},{"$f":"IF('中間シート（個人）'!D19=\"○\",\"\",申込書_コナミ!$E$8)","v":""},null,null,null,{"$f":"IF('中間シート（個人）'!D19=\"○\",\"\",4)","v":""},{"$f":"IF(ISERROR(VLOOKUP($D17&\"@1\",'中間シート（個人）'!$F$6:$O$100,4,FALSE)&VLOOKUP($D17&\"@1\",'中間シート（個人）'!$F$6:$O$100,5,FALSE)),\"\",VLOOKUP($D17&\"@1\",'中間シート（個人）'!$F$6:$O$100,4,FALSE)&VLOOKUP($D17&\"@1\",'中間シート（個人）'!$F$6:$O$100,5,FALSE))","v":""},{"$f":"IF(ISERROR(VLOOKUP($D17&\"@1\",'中間シート（個人）'!$F$6:$O$100,6,FALSE)&VLOOKUP($D17&\"@1\",'中間シート（個人）'!$F$6:$O$100,7,FALSE)&\".\"&VLOOKUP($D17&\"@1\",'中間シート（個人）'!$F$6:$O$100,8,FALSE)),\"\",VLOOKUP($D17&\"@1\",'中間シート（個人）'!$F$6:$O$100,6,FALSE)&VLOOKUP($D17&\"@1\",'中間シート（個人）'!$F$6:$O$100,7,FALSE)&\".\"&VLOOKUP($D17&\"@1\",'中間シート（個人）'!$F$6:$O$100,8,FALSE))","v":""},{"$f":"IF(ISERROR(VLOOKUP($D17&\"@2\",'中間シート（個人）'!$F$6:$O$100,4,FALSE)&VLOOKUP($D17&\"@2\",'中間シート（個人）'!$F$6:$O$100,5,FALSE)),\"\",VLOOKUP($D17&\"@2\",'中間シート（個人）'!$F$6:$O$100,4,FALSE)&VLOOKUP($D17&\"@2\",'中間シート（個人）'!$F$6:$O$100,5,FALSE))","v":""},{"$f":"IF(ISERROR(VLOOKUP($D17&\"@2\",'中間シート（個人）'!$F$6:$O$100,6,FALSE)&VLOOKUP($D17&\"@2\",'中間シート（個人）'!$F$6:$O$100,7,FALSE)&\".\"&VLOOKUP($D17&\"@2\",'中間シート（個人）'!$F$6:$O$100,8,FALSE)),\"\",VLOOKUP($D17&\"@2\",'中間シート（個人）'!$F$6:$O$100,6,FALSE)&VLOOKUP($D17&\"@2\",'中間シート（個人）'!$F$6:$O$100,7,FALSE)&\".\"&VLOOKUP($D17&\"@2\",'中間シート（個人）'!$F$6:$O$100,8,FALSE))","v":""},{"$f":"IF(ISERROR(VLOOKUP($D17&\"@3\",'中間シート（個人）'!$F$6:$O$100,4,FALSE)&VLOOKUP($D17&\"@3\",'中間シート（個人）'!$F$6:$O$100,5,FALSE)),\"\",VLOOKUP($D17&\"@3\",'中間シート（個人）'!$F$6:$O$100,4,FALSE)&VLOOKUP($D17&\"@3\",'中間シート（個人）'!$F$6:$O$100,5,FALSE))","v":""},{"$f":"IF(ISERROR(VLOOKUP($D17&\"@3\",'中間シート（個人）'!$F$6:$O$100,6,FALSE)&VLOOKUP($D17&\"@3\",'中間シート（個人）'!$F$6:$O$100,7,FALSE)&\".\"&VLOOKUP($D17&\"@3\",'中間シート（個人）'!$F$6:$O$100,8,FALSE)),\"\",VLOOKUP($D17&\"@3\",'中間シート（個人）'!$F$6:$O$100,6,FALSE)&VLOOKUP($D17&\"@3\",'中間シート（個人）'!$F$6:$O$100,7,FALSE)&\".\"&VLOOKUP($D17&\"@3\",'中間シート（個人）'!$F$6:$O$100,8,FALSE))","v":""},{"$f":"IF(ISERROR(VLOOKUP($D17&\"@4\",'中間シート（個人）'!$F$6:$O$100,4,FALSE)&VLOOKUP($D17&\"@4\",'中間シート（個人）'!$F$6:$O$100,5,FALSE)),\"\",VLOOKUP($D17&\"@4\",'中間シート（個人）'!$F$6:$O$100,4,FALSE)&VLOOKUP($D17&\"@4\",'中間シート（個人）'!$F$6:$O$100,5,FALSE))","v":""},{"$f":"IF(ISERROR(VLOOKUP($D17&\"@4\",'中間シート（個人）'!$F$6:$O$100,6,FALSE)&VLOOKUP($D17&\"@4\",'中間シート（個人）'!$F$6:$O$100,7,FALSE)&\".\"&VLOOKUP($D17&\"@4\",'中間シート（個人）'!$F$6:$O$100,8,FALSE)),\"\",VLOOKUP($D17&\"@4\",'中間シート（個人）'!$F$6:$O$100,6,FALSE)&VLOOKUP($D17&\"@4\",'中間シート（個人）'!$F$6:$O$100,7,FALSE)&\".\"&VLOOKUP($D17&\"@4\",'中間シート（個人）'!$F$6:$O$100,8,FALSE))","v":""},{"$f":"IF(ISERROR(VLOOKUP($D17&\"@5\",'中間シート（個人）'!$F$6:$O$100,4,FALSE)&VLOOKUP($D17&\"@5\",'中間シート（個人）'!$F$6:$O$100,5,FALSE)),\"\",VLOOKUP($D17&\"@5\",'中間シート（個人）'!$F$6:$O$100,4,FALSE)&VLOOKUP($D17&\"@5\",'中間シート（個人）'!$F$6:$O$100,5,FALSE))","v":""},{"$f":"IF(ISERROR(VLOOKUP($D17&\"@5\",'中間シート（個人）'!$F$6:$O$100,6,FALSE)&VLOOKUP($D17&\"@5\",'中間シート（個人）'!$F$6:$O$100,7,FALSE)&\".\"&VLOOKUP($D17&\"@5\",'中間シート（個人）'!$F$6:$O$100,8,FALSE)),\"\",VLOOKUP($D17&\"@5\",'中間シート（個人）'!$F$6:$O$100,6,FALSE)&VLOOKUP($D17&\"@5\",'中間シート（個人）'!$F$6:$O$100,7,FALSE)&\".\"&VLOOKUP($D17&\"@5\",'中間シート（個人）'!$F$6:$O$100,8,FALSE))","v":""},{"$f":"IF(ISERROR(VLOOKUP($D17&\"@6\",'中間シート（個人）'!$F$6:$O$100,4,FALSE)&VLOOKUP($D17&\"@6\",'中間シート（個人）'!$F$6:$O$100,5,FALSE)),\"\",VLOOKUP($D17&\"@6\",'中間シート（個人）'!$F$6:$O$100,4,FALSE)&VLOOKUP($D17&\"@6\",'中間シート（個人）'!$F$6:$O$100,5,FALSE))","v":""},{"$f":"IF(ISERROR(VLOOKUP($D17&\"@6\",'中間シート（個人）'!$F$6:$O$100,6,FALSE)&VLOOKUP($D17&\"@6\",'中間シート（個人）'!$F$6:$O$100,7,FALSE)&\".\"&VLOOKUP($D17&\"@6\",'中間シート（個人）'!$F$6:$O$100,8,FALSE)),\"\",VLOOKUP($D17&\"@6\",'中間シート（個人）'!$F$6:$O$100,6,FALSE)&VLOOKUP($D17&\"@6\",'中間シート（個人）'!$F$6:$O$100,7,FALSE)&\".\"&VLOOKUP($D17&\"@6\",'中間シート（個人）'!$F$6:$O$100,8,FALSE))","v":""},{"$f":"IF(ISERROR(VLOOKUP($D17&\"@7\",'中間シート（個人）'!$F$6:$O$100,4,FALSE)&VLOOKUP($D17&\"@7\",'中間シート（個人）'!$F$6:$O$100,5,FALSE)),\"\",VLOOKUP($D17&\"@7\",'中間シート（個人）'!$F$6:$O$100,4,FALSE)&VLOOKUP($D17&\"@7\",'中間シート（個人）'!$F$6:$O$100,5,FALSE))","v":""},{"$f":"IF(ISERROR(VLOOKUP($D17&\"@7\",'中間シート（個人）'!$F$6:$O$100,6,FALSE)&VLOOKUP($D17&\"@7\",'中間シート（個人）'!$F$6:$O$100,7,FALSE)&\".\"&VLOOKUP($D17&\"@7\",'中間シート（個人）'!$F$6:$O$100,8,FALSE)),\"\",VLOOKUP($D17&\"@7\",'中間シート（個人）'!$F$6:$O$100,6,FALSE)&VLOOKUP($D17&\"@7\",'中間シート（個人）'!$F$6:$O$100,7,FALSE)&\".\"&VLOOKUP($D17&\"@7\",'中間シート（個人）'!$F$6:$O$100,8,FALSE))","v":""},{"$f":"IF(ISERROR(VLOOKUP($D17&\"@8\",'中間シート（個人）'!$F$6:$O$100,4,FALSE)&VLOOKUP($D17&\"@8\",'中間シート（個人）'!$F$6:$O$100,5,FALSE)),\"\",VLOOKUP($D17&\"@8\",'中間シート（個人）'!$F$6:$O$100,4,FALSE)&VLOOKUP($D17&\"@8\",'中間シート（個人）'!$F$6:$O$100,5,FALSE))","v":""},{"$f":"IF(ISERROR(VLOOKUP($D17&\"@8\",'中間シート（個人）'!$F$6:$O$100,6,FALSE)&VLOOKUP($D17&\"@8\",'中間シート（個人）'!$F$6:$O$100,7,FALSE)&\".\"&VLOOKUP($D17&\"@8\",'中間シート（個人）'!$F$6:$O$100,8,FALSE)),\"\",VLOOKUP($D17&\"@8\",'中間シート（個人）'!$F$6:$O$100,6,FALSE)&VLOOKUP($D17&\"@8\",'中間シート（個人）'!$F$6:$O$100,7,FALSE)&\".\"&VLOOKUP($D17&\"@8\",'中間シート（個人）'!$F$6:$O$100,8,FALSE))","v":""},{"$f":"IF(ISERROR(VLOOKUP($D17&\"@9\",'中間シート（個人）'!$F$6:$O$100,4,FALSE)&VLOOKUP($D17&\"@9\",'中間シート（個人）'!$F$6:$O$100,5,FALSE)),\"\",VLOOKUP($D17&\"@9\",'中間シート（個人）'!$F$6:$O$100,4,FALSE)&VLOOKUP($D17&\"@9\",'中間シート（個人）'!$F$6:$O$100,5,FALSE))","v":""},{"$f":"IF(ISERROR(VLOOKUP($D17&\"@9\",'中間シート（個人）'!$F$6:$O$100,6,FALSE)&VLOOKUP($D17&\"@9\",'中間シート（個人）'!$F$6:$O$100,7,FALSE)&\".\"&VLOOKUP($D17&\"@9\",'中間シート（個人）'!$F$6:$O$100,8,FALSE)),\"\",VLOOKUP($D17&\"@9\",'中間シート（個人）'!$F$6:$O$100,6,FALSE)&VLOOKUP($D17&\"@9\",'中間シート（個人）'!$F$6:$O$100,7,FALSE)&\".\"&VLOOKUP($D17&\"@9\",'中間シート（個人）'!$F$6:$O$100,8,FALSE))","v":""},{"$f":"IF(ISERROR(VLOOKUP($D17&\"@10\",'中間シート（個人）'!$F$6:$O$100,4,FALSE)&VLOOKUP($D17&\"@10\",'中間シート（個人）'!$F$6:$O$100,5,FALSE)),\"\",VLOOKUP($D17&\"@10\",'中間シート（個人）'!$F$6:$O$100,4,FALSE)&VLOOKUP($D17&\"@10\",'中間シート（個人）'!$F$6:$O$100,5,FALSE))","v":""},{"$f":"IF(ISERROR(VLOOKUP($D17&\"@10\",'中間シート（個人）'!$F$6:$O$100,6,FALSE)&VLOOKUP($D17&\"@10\",'中間シート（個人）'!$F$6:$O$100,7,FALSE)&\".\"&VLOOKUP($D17&\"@10\",'中間シート（個人）'!$F$6:$O$100,8,FALSE)),\"\",VLOOKUP($D17&\"@10\",'中間シート（個人）'!$F$6:$O$100,6,FALSE)&VLOOKUP($D17&\"@10\",'中間シート（個人）'!$F$6:$O$100,7,FALSE)&\".\"&VLOOKUP($D17&\"@10\",'中間シート（個人）'!$F$6:$O$100,8,FALSE))","v":""}]
[null,null,{"$f":"IF('中間シート（個人）'!D20=\"○\",\"\",VLOOKUP(個人種目!F20,コード一覧!$A$2:$B$3,2,FALSE))","v":""},{"$f":"IF('中間シート（個人）'!D20=\"○\",\"\",'中間シート（個人）'!C20)","v":""},{"$f":"IF('中間シート（個人）'!D20=\"○\",\"\",ASC(個人種目!D20&\" \"&個人種目!E20))","v":""},{"$f":"IF('中間シート（個人）'!D20=\"○\",\"\",個人種目!G20&IF(LEN(個人種目!H20)=1,\"0\"&個人種目!H20,個人種目!H20)&IF(LEN(個人種目!I20)=1,\"0\"&個人種目!I20,個人種目!I20))","v":""},{"$f":"IF('中間シート（個人）'!D20=\"○\",\"\",VLOOKUP(個人種目!$J20,コード一覧!$C$3:$D$6,2,FALSE))","v":""},{"$f":"IF('中間シート（個人）'!D20=\"○\",\"\",IF(個人種目!$J20=\"一般\",0,個人種目!$K20))","v":""},{"$f":"IF('中間シート（個人）'!D20=\"○\",\"\",'中間シート（個人）'!H20)","v":""},null,{"$f":"IF('中間シート（個人）'!D20=\"○\",\"\",個人種目!$L$1)","v":""},{"$f":"IF('中間シート（個人）'!D20=\"○\",\"\",ASC(申込書_コナミ!$S$9))","v":""},{"$f":"IF('中間シート（個人）'!D20=\"○\",\"\",申込書_コナミ!$E$8)","v":""},null,null,null,{"$f":"IF('中間シート（個人）'!D20=\"○\",\"\",4)","v":""},{"$f":"IF(ISERROR(VLOOKUP($D18&\"@1\",'中間シート（個人）'!$F$6:$O$100,4,FALSE)&VLOOKUP($D18&\"@1\",'中間シート（個人）'!$F$6:$O$100,5,FALSE)),\"\",VLOOKUP($D18&\"@1\",'中間シート（個人）'!$F$6:$O$100,4,FALSE)&VLOOKUP($D18&\"@1\",'中間シート（個人）'!$F$6:$O$100,5,FALSE))","v":""},{"$f":"IF(ISERROR(VLOOKUP($D18&\"@1\",'中間シート（個人）'!$F$6:$O$100,6,FALSE)&VLOOKUP($D18&\"@1\",'中間シート（個人）'!$F$6:$O$100,7,FALSE)&\".\"&VLOOKUP($D18&\"@1\",'中間シート（個人）'!$F$6:$O$100,8,FALSE)),\"\",VLOOKUP($D18&\"@1\",'中間シート（個人）'!$F$6:$O$100,6,FALSE)&VLOOKUP($D18&\"@1\",'中間シート（個人）'!$F$6:$O$100,7,FALSE)&\".\"&VLOOKUP($D18&\"@1\",'中間シート（個人）'!$F$6:$O$100,8,FALSE))","v":""},{"$f":"IF(ISERROR(VLOOKUP($D18&\"@2\",'中間シート（個人）'!$F$6:$O$100,4,FALSE)&VLOOKUP($D18&\"@2\",'中間シート（個人）'!$F$6:$O$100,5,FALSE)),\"\",VLOOKUP($D18&\"@2\",'中間シート（個人）'!$F$6:$O$100,4,FALSE)&VLOOKUP($D18&\"@2\",'中間シート（個人）'!$F$6:$O$100,5,FALSE))","v":""},{"$f":"IF(ISERROR(VLOOKUP($D18&\"@2\",'中間シート（個人）'!$F$6:$O$100,6,FALSE)&VLOOKUP($D18&\"@2\",'中間シート（個人）'!$F$6:$O$100,7,FALSE)&\".\"&VLOOKUP($D18&\"@2\",'中間シート（個人）'!$F$6:$O$100,8,FALSE)),\"\",VLOOKUP($D18&\"@2\",'中間シート（個人）'!$F$6:$O$100,6,FALSE)&VLOOKUP($D18&\"@2\",'中間シート（個人）'!$F$6:$O$100,7,FALSE)&\".\"&VLOOKUP($D18&\"@2\",'中間シート（個人）'!$F$6:$O$100,8,FALSE))","v":""},{"$f":"IF(ISERROR(VLOOKUP($D18&\"@3\",'中間シート（個人）'!$F$6:$O$100,4,FALSE)&VLOOKUP($D18&\"@3\",'中間シート（個人）'!$F$6:$O$100,5,FALSE)),\"\",VLOOKUP($D18&\"@3\",'中間シート（個人）'!$F$6:$O$100,4,FALSE)&VLOOKUP($D18&\"@3\",'中間シート（個人）'!$F$6:$O$100,5,FALSE))","v":""},{"$f":"IF(ISERROR(VLOOKUP($D18&\"@3\",'中間シート（個人）'!$F$6:$O$100,6,FALSE)&VLOOKUP($D18&\"@3\",'中間シート（個人）'!$F$6:$O$100,7,FALSE)&\".\"&VLOOKUP($D18&\"@3\",'中間シート（個人）'!$F$6:$O$100,8,FALSE)),\"\",VLOOKUP($D18&\"@3\",'中間シート（個人）'!$F$6:$O$100,6,FALSE)&VLOOKUP($D18&\"@3\",'中間シート（個人）'!$F$6:$O$100,7,FALSE)&\".\"&VLOOKUP($D18&\"@3\",'中間シート（個人）'!$F$6:$O$100,8,FALSE))","v":""},{"$f":"IF(ISERROR(VLOOKUP($D18&\"@4\",'中間シート（個人）'!$F$6:$O$100,4,FALSE)&VLOOKUP($D18&\"@4\",'中間シート（個人）'!$F$6:$O$100,5,FALSE)),\"\",VLOOKUP($D18&\"@4\",'中間シート（個人）'!$F$6:$O$100,4,FALSE)&VLOOKUP($D18&\"@4\",'中間シート（個人）'!$F$6:$O$100,5,FALSE))","v":""},{"$f":"IF(ISERROR(VLOOKUP($D18&\"@4\",'中間シート（個人）'!$F$6:$O$100,6,FALSE)&VLOOKUP($D18&\"@4\",'中間シート（個人）'!$F$6:$O$100,7,FALSE)&\".\"&VLOOKUP($D18&\"@4\",'中間シート（個人）'!$F$6:$O$100,8,FALSE)),\"\",VLOOKUP($D18&\"@4\",'中間シート（個人）'!$F$6:$O$100,6,FALSE)&VLOOKUP($D18&\"@4\",'中間シート（個人）'!$F$6:$O$100,7,FALSE)&\".\"&VLOOKUP($D18&\"@4\",'中間シート（個人）'!$F$6:$O$100,8,FALSE))","v":""},{"$f":"IF(ISERROR(VLOOKUP($D18&\"@5\",'中間シート（個人）'!$F$6:$O$100,4,FALSE)&VLOOKUP($D18&\"@5\",'中間シート（個人）'!$F$6:$O$100,5,FALSE)),\"\",VLOOKUP($D18&\"@5\",'中間シート（個人）'!$F$6:$O$100,4,FALSE)&VLOOKUP($D18&\"@5\",'中間シート（個人）'!$F$6:$O$100,5,FALSE))","v":""},{"$f":"IF(ISERROR(VLOOKUP($D18&\"@5\",'中間シート（個人）'!$F$6:$O$100,6,FALSE)&VLOOKUP($D18&\"@5\",'中間シート（個人）'!$F$6:$O$100,7,FALSE)&\".\"&VLOOKUP($D18&\"@5\",'中間シート（個人）'!$F$6:$O$100,8,FALSE)),\"\",VLOOKUP($D18&\"@5\",'中間シート（個人）'!$F$6:$O$100,6,FALSE)&VLOOKUP($D18&\"@5\",'中間シート（個人）'!$F$6:$O$100,7,FALSE)&\".\"&VLOOKUP($D18&\"@5\",'中間シート（個人）'!$F$6:$O$100,8,FALSE))","v":""},{"$f":"IF(ISERROR(VLOOKUP($D18&\"@6\",'中間シート（個人）'!$F$6:$O$100,4,FALSE)&VLOOKUP($D18&\"@6\",'中間シート（個人）'!$F$6:$O$100,5,FALSE)),\"\",VLOOKUP($D18&\"@6\",'中間シート（個人）'!$F$6:$O$100,4,FALSE)&VLOOKUP($D18&\"@6\",'中間シート（個人）'!$F$6:$O$100,5,FALSE))","v":""},{"$f":"IF(ISERROR(VLOOKUP($D18&\"@6\",'中間シート（個人）'!$F$6:$O$100,6,FALSE)&VLOOKUP($D18&\"@6\",'中間シート（個人）'!$F$6:$O$100,7,FALSE)&\".\"&VLOOKUP($D18&\"@6\",'中間シート（個人）'!$F$6:$O$100,8,FALSE)),\"\",VLOOKUP($D18&\"@6\",'中間シート（個人）'!$F$6:$O$100,6,FALSE)&VLOOKUP($D18&\"@6\",'中間シート（個人）'!$F$6:$O$100,7,FALSE)&\".\"&VLOOKUP($D18&\"@6\",'中間シート（個人）'!$F$6:$O$100,8,FALSE))","v":""},{"$f":"IF(ISERROR(VLOOKUP($D18&\"@7\",'中間シート（個人）'!$F$6:$O$100,4,FALSE)&VLOOKUP($D18&\"@7\",'中間シート（個人）'!$F$6:$O$100,5,FALSE)),\"\",VLOOKUP($D18&\"@7\",'中間シート（個人）'!$F$6:$O$100,4,FALSE)&VLOOKUP($D18&\"@7\",'中間シート（個人）'!$F$6:$O$100,5,FALSE))","v":""},{"$f":"IF(ISERROR(VLOOKUP($D18&\"@7\",'中間シート（個人）'!$F$6:$O$100,6,FALSE)&VLOOKUP($D18&\"@7\",'中間シート（個人）'!$F$6:$O$100,7,FALSE)&\".\"&VLOOKUP($D18&\"@7\",'中間シート（個人）'!$F$6:$O$100,8,FALSE)),\"\",VLOOKUP($D18&\"@7\",'中間シート（個人）'!$F$6:$O$100,6,FALSE)&VLOOKUP($D18&\"@7\",'中間シート（個人）'!$F$6:$O$100,7,FALSE)&\".\"&VLOOKUP($D18&\"@7\",'中間シート（個人）'!$F$6:$O$100,8,FALSE))","v":""},{"$f":"IF(ISERROR(VLOOKUP($D18&\"@8\",'中間シート（個人）'!$F$6:$O$100,4,FALSE)&VLOOKUP($D18&\"@8\",'中間シート（個人）'!$F$6:$O$100,5,FALSE)),\"\",VLOOKUP($D18&\"@8\",'中間シート（個人）'!$F$6:$O$100,4,FALSE)&VLOOKUP($D18&\"@8\",'中間シート（個人）'!$F$6:$O$100,5,FALSE))","v":""},{"$f":"IF(ISERROR(VLOOKUP($D18&\"@8\",'中間シート（個人）'!$F$6:$O$100,6,FALSE)&VLOOKUP($D18&\"@8\",'中間シート（個人）'!$F$6:$O$100,7,FALSE)&\".\"&VLOOKUP($D18&\"@8\",'中間シート（個人）'!$F$6:$O$100,8,FALSE)),\"\",VLOOKUP($D18&\"@8\",'中間シート（個人）'!$F$6:$O$100,6,FALSE)&VLOOKUP($D18&\"@8\",'中間シート（個人）'!$F$6:$O$100,7,FALSE)&\".\"&VLOOKUP($D18&\"@8\",'中間シート（個人）'!$F$6:$O$100,8,FALSE))","v":""},{"$f":"IF(ISERROR(VLOOKUP($D18&\"@9\",'中間シート（個人）'!$F$6:$O$100,4,FALSE)&VLOOKUP($D18&\"@9\",'中間シート（個人）'!$F$6:$O$100,5,FALSE)),\"\",VLOOKUP($D18&\"@9\",'中間シート（個人）'!$F$6:$O$100,4,FALSE)&VLOOKUP($D18&\"@9\",'中間シート（個人）'!$F$6:$O$100,5,FALSE))","v":""},{"$f":"IF(ISERROR(VLOOKUP($D18&\"@9\",'中間シート（個人）'!$F$6:$O$100,6,FALSE)&VLOOKUP($D18&\"@9\",'中間シート（個人）'!$F$6:$O$100,7,FALSE)&\".\"&VLOOKUP($D18&\"@9\",'中間シート（個人）'!$F$6:$O$100,8,FALSE)),\"\",VLOOKUP($D18&\"@9\",'中間シート（個人）'!$F$6:$O$100,6,FALSE)&VLOOKUP($D18&\"@9\",'中間シート（個人）'!$F$6:$O$100,7,FALSE)&\".\"&VLOOKUP($D18&\"@9\",'中間シート（個人）'!$F$6:$O$100,8,FALSE))","v":""},{"$f":"IF(ISERROR(VLOOKUP($D18&\"@10\",'中間シート（個人）'!$F$6:$O$100,4,FALSE)&VLOOKUP($D18&\"@10\",'中間シート（個人）'!$F$6:$O$100,5,FALSE)),\"\",VLOOKUP($D18&\"@10\",'中間シート（個人）'!$F$6:$O$100,4,FALSE)&VLOOKUP($D18&\"@10\",'中間シート（個人）'!$F$6:$O$100,5,FALSE))","v":""},{"$f":"IF(ISERROR(VLOOKUP($D18&\"@10\",'中間シート（個人）'!$F$6:$O$100,6,FALSE)&VLOOKUP($D18&\"@10\",'中間シート（個人）'!$F$6:$O$100,7,FALSE)&\".\"&VLOOKUP($D18&\"@10\",'中間シート（個人）'!$F$6:$O$100,8,FALSE)),\"\",VLOOKUP($D18&\"@10\",'中間シート（個人）'!$F$6:$O$100,6,FALSE)&VLOOKUP($D18&\"@10\",'中間シート（個人）'!$F$6:$O$100,7,FALSE)&\".\"&VLOOKUP($D18&\"@10\",'中間シート（個人）'!$F$6:$O$100,8,FALSE))","v":""}]
[null,null,{"$f":"IF('中間シート（個人）'!D21=\"○\",\"\",VLOOKUP(個人種目!F21,コード一覧!$A$2:$B$3,2,FALSE))","v":""},{"$f":"IF('中間シート（個人）'!D21=\"○\",\"\",'中間シート（個人）'!C21)","v":""},{"$f":"IF('中間シート（個人）'!D21=\"○\",\"\",ASC(個人種目!D21&\" \"&個人種目!E21))","v":""},{"$f":"IF('中間シート（個人）'!D21=\"○\",\"\",個人種目!G21&IF(LEN(個人種目!H21)=1,\"0\"&個人種目!H21,個人種目!H21)&IF(LEN(個人種目!I21)=1,\"0\"&個人種目!I21,個人種目!I21))","v":""},{"$f":"IF('中間シート（個人）'!D21=\"○\",\"\",VLOOKUP(個人種目!$J21,コード一覧!$C$3:$D$6,2,FALSE))","v":""},{"$f":"IF('中間シート（個人）'!D21=\"○\",\"\",IF(個人種目!$J21=\"一般\",0,個人種目!$K21))","v":""},{"$f":"IF('中間シート（個人）'!D21=\"○\",\"\",'中間シート（個人）'!H21)","v":""},null,{"$f":"IF('中間シート（個人）'!D21=\"○\",\"\",個人種目!$L$1)","v":""},{"$f":"IF('中間シート（個人）'!D21=\"○\",\"\",ASC(申込書_コナミ!$S$9))","v":""},{"$f":"IF('中間シート（個人）'!D21=\"○\",\"\",申込書_コナミ!$E$8)","v":""},null,null,null,{"$f":"IF('中間シート（個人）'!D21=\"○\",\"\",4)","v":""},{"$f":"IF(ISERROR(VLOOKUP($D19&\"@1\",'中間シート（個人）'!$F$6:$O$100,4,FALSE)&VLOOKUP($D19&\"@1\",'中間シート（個人）'!$F$6:$O$100,5,FALSE)),\"\",VLOOKUP($D19&\"@1\",'中間シート（個人）'!$F$6:$O$100,4,FALSE)&VLOOKUP($D19&\"@1\",'中間シート（個人）'!$F$6:$O$100,5,FALSE))","v":""},{"$f":"IF(ISERROR(VLOOKUP($D19&\"@1\",'中間シート（個人）'!$F$6:$O$100,6,FALSE)&VLOOKUP($D19&\"@1\",'中間シート（個人）'!$F$6:$O$100,7,FALSE)&\".\"&VLOOKUP($D19&\"@1\",'中間シート（個人）'!$F$6:$O$100,8,FALSE)),\"\",VLOOKUP($D19&\"@1\",'中間シート（個人）'!$F$6:$O$100,6,FALSE)&VLOOKUP($D19&\"@1\",'中間シート（個人）'!$F$6:$O$100,7,FALSE)&\".\"&VLOOKUP($D19&\"@1\",'中間シート（個人）'!$F$6:$O$100,8,FALSE))","v":""},{"$f":"IF(ISERROR(VLOOKUP($D19&\"@2\",'中間シート（個人）'!$F$6:$O$100,4,FALSE)&VLOOKUP($D19&\"@2\",'中間シート（個人）'!$F$6:$O$100,5,FALSE)),\"\",VLOOKUP($D19&\"@2\",'中間シート（個人）'!$F$6:$O$100,4,FALSE)&VLOOKUP($D19&\"@2\",'中間シート（個人）'!$F$6:$O$100,5,FALSE))","v":""},{"$f":"IF(ISERROR(VLOOKUP($D19&\"@2\",'中間シート（個人）'!$F$6:$O$100,6,FALSE)&VLOOKUP($D19&\"@2\",'中間シート（個人）'!$F$6:$O$100,7,FALSE)&\".\"&VLOOKUP($D19&\"@2\",'中間シート（個人）'!$F$6:$O$100,8,FALSE)),\"\",VLOOKUP($D19&\"@2\",'中間シート（個人）'!$F$6:$O$100,6,FALSE)&VLOOKUP($D19&\"@2\",'中間シート（個人）'!$F$6:$O$100,7,FALSE)&\".\"&VLOOKUP($D19&\"@2\",'中間シート（個人）'!$F$6:$O$100,8,FALSE))","v":""},{"$f":"IF(ISERROR(VLOOKUP($D19&\"@3\",'中間シート（個人）'!$F$6:$O$100,4,FALSE)&VLOOKUP($D19&\"@3\",'中間シート（個人）'!$F$6:$O$100,5,FALSE)),\"\",VLOOKUP($D19&\"@3\",'中間シート（個人）'!$F$6:$O$100,4,FALSE)&VLOOKUP($D19&\"@3\",'中間シート（個人）'!$F$6:$O$100,5,FALSE))","v":""},{"$f":"IF(ISERROR(VLOOKUP($D19&\"@3\",'中間シート（個人）'!$F$6:$O$100,6,FALSE)&VLOOKUP($D19&\"@3\",'中間シート（個人）'!$F$6:$O$100,7,FALSE)&\".\"&VLOOKUP($D19&\"@3\",'中間シート（個人）'!$F$6:$O$100,8,FALSE)),\"\",VLOOKUP($D19&\"@3\",'中間シート（個人）'!$F$6:$O$100,6,FALSE)&VLOOKUP($D19&\"@3\",'中間シート（個人）'!$F$6:$O$100,7,FALSE)&\".\"&VLOOKUP($D19&\"@3\",'中間シート（個人）'!$F$6:$O$100,8,FALSE))","v":""},{"$f":"IF(ISERROR(VLOOKUP($D19&\"@4\",'中間シート（個人）'!$F$6:$O$100,4,FALSE)&VLOOKUP($D19&\"@4\",'中間シート（個人）'!$F$6:$O$100,5,FALSE)),\"\",VLOOKUP($D19&\"@4\",'中間シート（個人）'!$F$6:$O$100,4,FALSE)&VLOOKUP($D19&\"@4\",'中間シート（個人）'!$F$6:$O$100,5,FALSE))","v":""},{"$f":"IF(ISERROR(VLOOKUP($D19&\"@4\",'中間シート（個人）'!$F$6:$O$100,6,FALSE)&VLOOKUP($D19&\"@4\",'中間シート（個人）'!$F$6:$O$100,7,FALSE)&\".\"&VLOOKUP($D19&\"@4\",'中間シート（個人）'!$F$6:$O$100,8,FALSE)),\"\",VLOOKUP($D19&\"@4\",'中間シート（個人）'!$F$6:$O$100,6,FALSE)&VLOOKUP($D19&\"@4\",'中間シート（個人）'!$F$6:$O$100,7,FALSE)&\".\"&VLOOKUP($D19&\"@4\",'中間シート（個人）'!$F$6:$O$100,8,FALSE))","v":""},{"$f":"IF(ISERROR(VLOOKUP($D19&\"@5\",'中間シート（個人）'!$F$6:$O$100,4,FALSE)&VLOOKUP($D19&\"@5\",'中間シート（個人）'!$F$6:$O$100,5,FALSE)),\"\",VLOOKUP($D19&\"@5\",'中間シート（個人）'!$F$6:$O$100,4,FALSE)&VLOOKUP($D19&\"@5\",'中間シート（個人）'!$F$6:$O$100,5,FALSE))","v":""},{"$f":"IF(ISERROR(VLOOKUP($D19&\"@5\",'中間シート（個人）'!$F$6:$O$100,6,FALSE)&VLOOKUP($D19&\"@5\",'中間シート（個人）'!$F$6:$O$100,7,FALSE)&\".\"&VLOOKUP($D19&\"@5\",'中間シート（個人）'!$F$6:$O$100,8,FALSE)),\"\",VLOOKUP($D19&\"@5\",'中間シート（個人）'!$F$6:$O$100,6,FALSE)&VLOOKUP($D19&\"@5\",'中間シート（個人）'!$F$6:$O$100,7,FALSE)&\".\"&VLOOKUP($D19&\"@5\",'中間シート（個人）'!$F$6:$O$100,8,FALSE))","v":""},{"$f":"IF(ISERROR(VLOOKUP($D19&\"@6\",'中間シート（個人）'!$F$6:$O$100,4,FALSE)&VLOOKUP($D19&\"@6\",'中間シート（個人）'!$F$6:$O$100,5,FALSE)),\"\",VLOOKUP($D19&\"@6\",'中間シート（個人）'!$F$6:$O$100,4,FALSE)&VLOOKUP($D19&\"@6\",'中間シート（個人）'!$F$6:$O$100,5,FALSE))","v":""},{"$f":"IF(ISERROR(VLOOKUP($D19&\"@6\",'中間シート（個人）'!$F$6:$O$100,6,FALSE)&VLOOKUP($D19&\"@6\",'中間シート（個人）'!$F$6:$O$100,7,FALSE)&\".\"&VLOOKUP($D19&\"@6\",'中間シート（個人）'!$F$6:$O$100,8,FALSE)),\"\",VLOOKUP($D19&\"@6\",'中間シート（個人）'!$F$6:$O$100,6,FALSE)&VLOOKUP($D19&\"@6\",'中間シート（個人）'!$F$6:$O$100,7,FALSE)&\".\"&VLOOKUP($D19&\"@6\",'中間シート（個人）'!$F$6:$O$100,8,FALSE))","v":""},{"$f":"IF(ISERROR(VLOOKUP($D19&\"@7\",'中間シート（個人）'!$F$6:$O$100,4,FALSE)&VLOOKUP($D19&\"@7\",'中間シート（個人）'!$F$6:$O$100,5,FALSE)),\"\",VLOOKUP($D19&\"@7\",'中間シート（個人）'!$F$6:$O$100,4,FALSE)&VLOOKUP($D19&\"@7\",'中間シート（個人）'!$F$6:$O$100,5,FALSE))","v":""},{"$f":"IF(ISERROR(VLOOKUP($D19&\"@7\",'中間シート（個人）'!$F$6:$O$100,6,FALSE)&VLOOKUP($D19&\"@7\",'中間シート（個人）'!$F$6:$O$100,7,FALSE)&\".\"&VLOOKUP($D19&\"@7\",'中間シート（個人）'!$F$6:$O$100,8,FALSE)),\"\",VLOOKUP($D19&\"@7\",'中間シート（個人）'!$F$6:$O$100,6,FALSE)&VLOOKUP($D19&\"@7\",'中間シート（個人）'!$F$6:$O$100,7,FALSE)&\".\"&VLOOKUP($D19&\"@7\",'中間シート（個人）'!$F$6:$O$100,8,FALSE))","v":""},{"$f":"IF(ISERROR(VLOOKUP($D19&\"@8\",'中間シート（個人）'!$F$6:$O$100,4,FALSE)&VLOOKUP($D19&\"@8\",'中間シート（個人）'!$F$6:$O$100,5,FALSE)),\"\",VLOOKUP($D19&\"@8\",'中間シート（個人）'!$F$6:$O$100,4,FALSE)&VLOOKUP($D19&\"@8\",'中間シート（個人）'!$F$6:$O$100,5,FALSE))","v":""},{"$f":"IF(ISERROR(VLOOKUP($D19&\"@8\",'中間シート（個人）'!$F$6:$O$100,6,FALSE)&VLOOKUP($D19&\"@8\",'中間シート（個人）'!$F$6:$O$100,7,FALSE)&\".\"&VLOOKUP($D19&\"@8\",'中間シート（個人）'!$F$6:$O$100,8,FALSE)),\"\",VLOOKUP($D19&\"@8\",'中間シート（個人）'!$F$6:$O$100,6,FALSE)&VLOOKUP($D19&\"@8\",'中間シート（個人）'!$F$6:$O$100,7,FALSE)&\".\"&VLOOKUP($D19&\"@8\",'中間シート（個人）'!$F$6:$O$100,8,FALSE))","v":""},{"$f":"IF(ISERROR(VLOOKUP($D19&\"@9\",'中間シート（個人）'!$F$6:$O$100,4,FALSE)&VLOOKUP($D19&\"@9\",'中間シート（個人）'!$F$6:$O$100,5,FALSE)),\"\",VLOOKUP($D19&\"@9\",'中間シート（個人）'!$F$6:$O$100,4,FALSE)&VLOOKUP($D19&\"@9\",'中間シート（個人）'!$F$6:$O$100,5,FALSE))","v":""},{"$f":"IF(ISERROR(VLOOKUP($D19&\"@9\",'中間シート（個人）'!$F$6:$O$100,6,FALSE)&VLOOKUP($D19&\"@9\",'中間シート（個人）'!$F$6:$O$100,7,FALSE)&\".\"&VLOOKUP($D19&\"@9\",'中間シート（個人）'!$F$6:$O$100,8,FALSE)),\"\",VLOOKUP($D19&\"@9\",'中間シート（個人）'!$F$6:$O$100,6,FALSE)&VLOOKUP($D19&\"@9\",'中間シート（個人）'!$F$6:$O$100,7,FALSE)&\".\"&VLOOKUP($D19&\"@9\",'中間シート（個人）'!$F$6:$O$100,8,FALSE))","v":""},{"$f":"IF(ISERROR(VLOOKUP($D19&\"@10\",'中間シート（個人）'!$F$6:$O$100,4,FALSE)&VLOOKUP($D19&\"@10\",'中間シート（個人）'!$F$6:$O$100,5,FALSE)),\"\",VLOOKUP($D19&\"@10\",'中間シート（個人）'!$F$6:$O$100,4,FALSE)&VLOOKUP($D19&\"@10\",'中間シート（個人）'!$F$6:$O$100,5,FALSE))","v":""},{"$f":"IF(ISERROR(VLOOKUP($D19&\"@10\",'中間シート（個人）'!$F$6:$O$100,6,FALSE)&VLOOKUP($D19&\"@10\",'中間シート（個人）'!$F$6:$O$100,7,FALSE)&\".\"&VLOOKUP($D19&\"@10\",'中間シート（個人）'!$F$6:$O$100,8,FALSE)),\"\",VLOOKUP($D19&\"@10\",'中間シート（個人）'!$F$6:$O$100,6,FALSE)&VLOOKUP($D19&\"@10\",'中間シート（個人）'!$F$6:$O$100,7,FALSE)&\".\"&VLOOKUP($D19&\"@10\",'中間シート（個人）'!$F$6:$O$100,8,FALSE))","v":""}]
[null,null,{"$f":"IF('中間シート（個人）'!D22=\"○\",\"\",VLOOKUP(個人種目!F22,コード一覧!$A$2:$B$3,2,FALSE))","v":""},{"$f":"IF('中間シート（個人）'!D22=\"○\",\"\",'中間シート（個人）'!C22)","v":""},{"$f":"IF('中間シート（個人）'!D22=\"○\",\"\",ASC(個人種目!D22&\" \"&個人種目!E22))","v":""},{"$f":"IF('中間シート（個人）'!D22=\"○\",\"\",個人種目!G22&IF(LEN(個人種目!H22)=1,\"0\"&個人種目!H22,個人種目!H22)&IF(LEN(個人種目!I22)=1,\"0\"&個人種目!I22,個人種目!I22))","v":""},{"$f":"IF('中間シート（個人）'!D22=\"○\",\"\",VLOOKUP(個人種目!$J22,コード一覧!$C$3:$D$6,2,FALSE))","v":""},{"$f":"IF('中間シート（個人）'!D22=\"○\",\"\",IF(個人種目!$J22=\"一般\",0,個人種目!$K22))","v":""},{"$f":"IF('中間シート（個人）'!D22=\"○\",\"\",'中間シート（個人）'!H22)","v":""},null,{"$f":"IF('中間シート（個人）'!D22=\"○\",\"\",個人種目!$L$1)","v":""},{"$f":"IF('中間シート（個人）'!D22=\"○\",\"\",ASC(申込書_コナミ!$S$9))","v":""},{"$f":"IF('中間シート（個人）'!D22=\"○\",\"\",申込書_コナミ!$E$8)","v":""},null,null,null,{"$f":"IF('中間シート（個人）'!D22=\"○\",\"\",4)","v":""},{"$f":"IF(ISERROR(VLOOKUP($D20&\"@1\",'中間シート（個人）'!$F$6:$O$100,4,FALSE)&VLOOKUP($D20&\"@1\",'中間シート（個人）'!$F$6:$O$100,5,FALSE)),\"\",VLOOKUP($D20&\"@1\",'中間シート（個人）'!$F$6:$O$100,4,FALSE)&VLOOKUP($D20&\"@1\",'中間シート（個人）'!$F$6:$O$100,5,FALSE))","v":""},{"$f":"IF(ISERROR(VLOOKUP($D20&\"@1\",'中間シート（個人）'!$F$6:$O$100,6,FALSE)&VLOOKUP($D20&\"@1\",'中間シート（個人）'!$F$6:$O$100,7,FALSE)&\".\"&VLOOKUP($D20&\"@1\",'中間シート（個人）'!$F$6:$O$100,8,FALSE)),\"\",VLOOKUP($D20&\"@1\",'中間シート（個人）'!$F$6:$O$100,6,FALSE)&VLOOKUP($D20&\"@1\",'中間シート（個人）'!$F$6:$O$100,7,FALSE)&\".\"&VLOOKUP($D20&\"@1\",'中間シート（個人）'!$F$6:$O$100,8,FALSE))","v":""},{"$f":"IF(ISERROR(VLOOKUP($D20&\"@2\",'中間シート（個人）'!$F$6:$O$100,4,FALSE)&VLOOKUP($D20&\"@2\",'中間シート（個人）'!$F$6:$O$100,5,FALSE)),\"\",VLOOKUP($D20&\"@2\",'中間シート（個人）'!$F$6:$O$100,4,FALSE)&VLOOKUP($D20&\"@2\",'中間シート（個人）'!$F$6:$O$100,5,FALSE))","v":""},{"$f":"IF(ISERROR(VLOOKUP($D20&\"@2\",'中間シート（個人）'!$F$6:$O$100,6,FALSE)&VLOOKUP($D20&\"@2\",'中間シート（個人）'!$F$6:$O$100,7,FALSE)&\".\"&VLOOKUP($D20&\"@2\",'中間シート（個人）'!$F$6:$O$100,8,FALSE)),\"\",VLOOKUP($D20&\"@2\",'中間シート（個人）'!$F$6:$O$100,6,FALSE)&VLOOKUP($D20&\"@2\",'中間シート（個人）'!$F$6:$O$100,7,FALSE)&\".\"&VLOOKUP($D20&\"@2\",'中間シート（個人）'!$F$6:$O$100,8,FALSE))","v":""},{"$f":"IF(ISERROR(VLOOKUP($D20&\"@3\",'中間シート（個人）'!$F$6:$O$100,4,FALSE)&VLOOKUP($D20&\"@3\",'中間シート（個人）'!$F$6:$O$100,5,FALSE)),\"\",VLOOKUP($D20&\"@3\",'中間シート（個人）'!$F$6:$O$100,4,FALSE)&VLOOKUP($D20&\"@3\",'中間シート（個人）'!$F$6:$O$100,5,FALSE))","v":""},{"$f":"IF(ISERROR(VLOOKUP($D20&\"@3\",'中間シート（個人）'!$F$6:$O$100,6,FALSE)&VLOOKUP($D20&\"@3\",'中間シート（個人）'!$F$6:$O$100,7,FALSE)&\".\"&VLOOKUP($D20&\"@3\",'中間シート（個人）'!$F$6:$O$100,8,FALSE)),\"\",VLOOKUP($D20&\"@3\",'中間シート（個人）'!$F$6:$O$100,6,FALSE)&VLOOKUP($D20&\"@3\",'中間シート（個人）'!$F$6:$O$100,7,FALSE)&\".\"&VLOOKUP($D20&\"@3\",'中間シート（個人）'!$F$6:$O$100,8,FALSE))","v":""},{"$f":"IF(ISERROR(VLOOKUP($D20&\"@4\",'中間シート（個人）'!$F$6:$O$100,4,FALSE)&VLOOKUP($D20&\"@4\",'中間シート（個人）'!$F$6:$O$100,5,FALSE)),\"\",VLOOKUP($D20&\"@4\",'中間シート（個人）'!$F$6:$O$100,4,FALSE)&VLOOKUP($D20&\"@4\",'中間シート（個人）'!$F$6:$O$100,5,FALSE))","v":""},{"$f":"IF(ISERROR(VLOOKUP($D20&\"@4\",'中間シート（個人）'!$F$6:$O$100,6,FALSE)&VLOOKUP($D20&\"@4\",'中間シート（個人）'!$F$6:$O$100,7,FALSE)&\".\"&VLOOKUP($D20&\"@4\",'中間シート（個人）'!$F$6:$O$100,8,FALSE)),\"\",VLOOKUP($D20&\"@4\",'中間シート（個人）'!$F$6:$O$100,6,FALSE)&VLOOKUP($D20&\"@4\",'中間シート（個人）'!$F$6:$O$100,7,FALSE)&\".\"&VLOOKUP($D20&\"@4\",'中間シート（個人）'!$F$6:$O$100,8,FALSE))","v":""},{"$f":"IF(ISERROR(VLOOKUP($D20&\"@5\",'中間シート（個人）'!$F$6:$O$100,4,FALSE)&VLOOKUP($D20&\"@5\",'中間シート（個人）'!$F$6:$O$100,5,FALSE)),\"\",VLOOKUP($D20&\"@5\",'中間シート（個人）'!$F$6:$O$100,4,FALSE)&VLOOKUP($D20&\"@5\",'中間シート（個人）'!$F$6:$O$100,5,FALSE))","v":""},{"$f":"IF(ISERROR(VLOOKUP($D20&\"@5\",'中間シート（個人）'!$F$6:$O$100,6,FALSE)&VLOOKUP($D20&\"@5\",'中間シート（個人）'!$F$6:$O$100,7,FALSE)&\".\"&VLOOKUP($D20&\"@5\",'中間シート（個人）'!$F$6:$O$100,8,FALSE)),\"\",VLOOKUP($D20&\"@5\",'中間シート（個人）'!$F$6:$O$100,6,FALSE)&VLOOKUP($D20&\"@5\",'中間シート（個人）'!$F$6:$O$100,7,FALSE)&\".\"&VLOOKUP($D20&\"@5\",'中間シート（個人）'!$F$6:$O$100,8,FALSE))","v":""},{"$f":"IF(ISERROR(VLOOKUP($D20&\"@6\",'中間シート（個人）'!$F$6:$O$100,4,FALSE)&VLOOKUP($D20&\"@6\",'中間シート（個人）'!$F$6:$O$100,5,FALSE)),\"\",VLOOKUP($D20&\"@6\",'中間シート（個人）'!$F$6:$O$100,4,FALSE)&VLOOKUP($D20&\"@6\",'中間シート（個人）'!$F$6:$O$100,5,FALSE))","v":""},{"$f":"IF(ISERROR(VLOOKUP($D20&\"@6\",'中間シート（個人）'!$F$6:$O$100,6,FALSE)&VLOOKUP($D20&\"@6\",'中間シート（個人）'!$F$6:$O$100,7,FALSE)&\".\"&VLOOKUP($D20&\"@6\",'中間シート（個人）'!$F$6:$O$100,8,FALSE)),\"\",VLOOKUP($D20&\"@6\",'中間シート（個人）'!$F$6:$O$100,6,FALSE)&VLOOKUP($D20&\"@6\",'中間シート（個人）'!$F$6:$O$100,7,FALSE)&\".\"&VLOOKUP($D20&\"@6\",'中間シート（個人）'!$F$6:$O$100,8,FALSE))","v":""},{"$f":"IF(ISERROR(VLOOKUP($D20&\"@7\",'中間シート（個人）'!$F$6:$O$100,4,FALSE)&VLOOKUP($D20&\"@7\",'中間シート（個人）'!$F$6:$O$100,5,FALSE)),\"\",VLOOKUP($D20&\"@7\",'中間シート（個人）'!$F$6:$O$100,4,FALSE)&VLOOKUP($D20&\"@7\",'中間シート（個人）'!$F$6:$O$100,5,FALSE))","v":""},{"$f":"IF(ISERROR(VLOOKUP($D20&\"@7\",'中間シート（個人）'!$F$6:$O$100,6,FALSE)&VLOOKUP($D20&\"@7\",'中間シート（個人）'!$F$6:$O$100,7,FALSE)&\".\"&VLOOKUP($D20&\"@7\",'中間シート（個人）'!$F$6:$O$100,8,FALSE)),\"\",VLOOKUP($D20&\"@7\",'中間シート（個人）'!$F$6:$O$100,6,FALSE)&VLOOKUP($D20&\"@7\",'中間シート（個人）'!$F$6:$O$100,7,FALSE)&\".\"&VLOOKUP($D20&\"@7\",'中間シート（個人）'!$F$6:$O$100,8,FALSE))","v":""},{"$f":"IF(ISERROR(VLOOKUP($D20&\"@8\",'中間シート（個人）'!$F$6:$O$100,4,FALSE)&VLOOKUP($D20&\"@8\",'中間シート（個人）'!$F$6:$O$100,5,FALSE)),\"\",VLOOKUP($D20&\"@8\",'中間シート（個人）'!$F$6:$O$100,4,FALSE)&VLOOKUP($D20&\"@8\",'中間シート（個人）'!$F$6:$O$100,5,FALSE))","v":""},{"$f":"IF(ISERROR(VLOOKUP($D20&\"@8\",'中間シート（個人）'!$F$6:$O$100,6,FALSE)&VLOOKUP($D20&\"@8\",'中間シート（個人）'!$F$6:$O$100,7,FALSE)&\".\"&VLOOKUP($D20&\"@8\",'中間シート（個人）'!$F$6:$O$100,8,FALSE)),\"\",VLOOKUP($D20&\"@8\",'中間シート（個人）'!$F$6:$O$100,6,FALSE)&VLOOKUP($D20&\"@8\",'中間シート（個人）'!$F$6:$O$100,7,FALSE)&\".\"&VLOOKUP($D20&\"@8\",'中間シート（個人）'!$F$6:$O$100,8,FALSE))","v":""},{"$f":"IF(ISERROR(VLOOKUP($D20&\"@9\",'中間シート（個人）'!$F$6:$O$100,4,FALSE)&VLOOKUP($D20&\"@9\",'中間シート（個人）'!$F$6:$O$100,5,FALSE)),\"\",VLOOKUP($D20&\"@9\",'中間シート（個人）'!$F$6:$O$100,4,FALSE)&VLOOKUP($D20&\"@9\",'中間シート（個人）'!$F$6:$O$100,5,FALSE))","v":""},{"$f":"IF(ISERROR(VLOOKUP($D20&\"@9\",'中間シート（個人）'!$F$6:$O$100,6,FALSE)&VLOOKUP($D20&\"@9\",'中間シート（個人）'!$F$6:$O$100,7,FALSE)&\".\"&VLOOKUP($D20&\"@9\",'中間シート（個人）'!$F$6:$O$100,8,FALSE)),\"\",VLOOKUP($D20&\"@9\",'中間シート（個人）'!$F$6:$O$100,6,FALSE)&VLOOKUP($D20&\"@9\",'中間シート（個人）'!$F$6:$O$100,7,FALSE)&\".\"&VLOOKUP($D20&\"@9\",'中間シート（個人）'!$F$6:$O$100,8,FALSE))","v":""},{"$f":"IF(ISERROR(VLOOKUP($D20&\"@10\",'中間シート（個人）'!$F$6:$O$100,4,FALSE)&VLOOKUP($D20&\"@10\",'中間シート（個人）'!$F$6:$O$100,5,FALSE)),\"\",VLOOKUP($D20&\"@10\",'中間シート（個人）'!$F$6:$O$100,4,FALSE)&VLOOKUP($D20&\"@10\",'中間シート（個人）'!$F$6:$O$100,5,FALSE))","v":""},{"$f":"IF(ISERROR(VLOOKUP($D20&\"@10\",'中間シート（個人）'!$F$6:$O$100,6,FALSE)&VLOOKUP($D20&\"@10\",'中間シート（個人）'!$F$6:$O$100,7,FALSE)&\".\"&VLOOKUP($D20&\"@10\",'中間シート（個人）'!$F$6:$O$100,8,FALSE)),\"\",VLOOKUP($D20&\"@10\",'中間シート（個人）'!$F$6:$O$100,6,FALSE)&VLOOKUP($D20&\"@10\",'中間シート（個人）'!$F$6:$O$100,7,FALSE)&\".\"&VLOOKUP($D20&\"@10\",'中間シート（個人）'!$F$6:$O$100,8,FALSE))","v":""}]
[null,null,{"$f":"IF('中間シート（個人）'!D23=\"○\",\"\",VLOOKUP(個人種目!F23,コード一覧!$A$2:$B$3,2,FALSE))","v":""},{"$f":"IF('中間シート（個人）'!D23=\"○\",\"\",'中間シート（個人）'!C23)","v":""},{"$f":"IF('中間シート（個人）'!D23=\"○\",\"\",ASC(個人種目!D23&\" \"&個人種目!E23))","v":""},{"$f":"IF('中間シート（個人）'!D23=\"○\",\"\",個人種目!G23&IF(LEN(個人種目!H23)=1,\"0\"&個人種目!H23,個人種目!H23)&IF(LEN(個人種目!I23)=1,\"0\"&個人種目!I23,個人種目!I23))","v":""},{"$f":"IF('中間シート（個人）'!D23=\"○\",\"\",VLOOKUP(個人種目!$J23,コード一覧!$C$3:$D$6,2,FALSE))","v":""},{"$f":"IF('中間シート（個人）'!D23=\"○\",\"\",IF(個人種目!$J23=\"一般\",0,個人種目!$K23))","v":""},{"$f":"IF('中間シート（個人）'!D23=\"○\",\"\",'中間シート（個人）'!H23)","v":""},null,{"$f":"IF('中間シート（個人）'!D23=\"○\",\"\",個人種目!$L$1)","v":""},{"$f":"IF('中間シート（個人）'!D23=\"○\",\"\",ASC(申込書_コナミ!$S$9))","v":""},{"$f":"IF('中間シート（個人）'!D23=\"○\",\"\",申込書_コナミ!$E$8)","v":""},null,null,null,{"$f":"IF('中間シート（個人）'!D23=\"○\",\"\",4)","v":""},{"$f":"IF(ISERROR(VLOOKUP($D21&\"@1\",'中間シート（個人）'!$F$6:$O$100,4,FALSE)&VLOOKUP($D21&\"@1\",'中間シート（個人）'!$F$6:$O$100,5,FALSE)),\"\",VLOOKUP($D21&\"@1\",'中間シート（個人）'!$F$6:$O$100,4,FALSE)&VLOOKUP($D21&\"@1\",'中間シート（個人）'!$F$6:$O$100,5,FALSE))","v":""},{"$f":"IF(ISERROR(VLOOKUP($D21&\"@1\",'中間シート（個人）'!$F$6:$O$100,6,FALSE)&VLOOKUP($D21&\"@1\",'中間シート（個人）'!$F$6:$O$100,7,FALSE)&\".\"&VLOOKUP($D21&\"@1\",'中間シート（個人）'!$F$6:$O$100,8,FALSE)),\"\",VLOOKUP($D21&\"@1\",'中間シート（個人）'!$F$6:$O$100,6,FALSE)&VLOOKUP($D21&\"@1\",'中間シート（個人）'!$F$6:$O$100,7,FALSE)&\".\"&VLOOKUP($D21&\"@1\",'中間シート（個人）'!$F$6:$O$100,8,FALSE))","v":""},{"$f":"IF(ISERROR(VLOOKUP($D21&\"@2\",'中間シート（個人）'!$F$6:$O$100,4,FALSE)&VLOOKUP($D21&\"@2\",'中間シート（個人）'!$F$6:$O$100,5,FALSE)),\"\",VLOOKUP($D21&\"@2\",'中間シート（個人）'!$F$6:$O$100,4,FALSE)&VLOOKUP($D21&\"@2\",'中間シート（個人）'!$F$6:$O$100,5,FALSE))","v":""},{"$f":"IF(ISERROR(VLOOKUP($D21&\"@2\",'中間シート（個人）'!$F$6:$O$100,6,FALSE)&VLOOKUP($D21&\"@2\",'中間シート（個人）'!$F$6:$O$100,7,FALSE)&\".\"&VLOOKUP($D21&\"@2\",'中間シート（個人）'!$F$6:$O$100,8,FALSE)),\"\",VLOOKUP($D21&\"@2\",'中間シート（個人）'!$F$6:$O$100,6,FALSE)&VLOOKUP($D21&\"@2\",'中間シート（個人）'!$F$6:$O$100,7,FALSE)&\".\"&VLOOKUP($D21&\"@2\",'中間シート（個人）'!$F$6:$O$100,8,FALSE))","v":""},{"$f":"IF(ISERROR(VLOOKUP($D21&\"@3\",'中間シート（個人）'!$F$6:$O$100,4,FALSE)&VLOOKUP($D21&\"@3\",'中間シート（個人）'!$F$6:$O$100,5,FALSE)),\"\",VLOOKUP($D21&\"@3\",'中間シート（個人）'!$F$6:$O$100,4,FALSE)&VLOOKUP($D21&\"@3\",'中間シート（個人）'!$F$6:$O$100,5,FALSE))","v":""},{"$f":"IF(ISERROR(VLOOKUP($D21&\"@3\",'中間シート（個人）'!$F$6:$O$100,6,FALSE)&VLOOKUP($D21&\"@3\",'中間シート（個人）'!$F$6:$O$100,7,FALSE)&\".\"&VLOOKUP($D21&\"@3\",'中間シート（個人）'!$F$6:$O$100,8,FALSE)),\"\",VLOOKUP($D21&\"@3\",'中間シート（個人）'!$F$6:$O$100,6,FALSE)&VLOOKUP($D21&\"@3\",'中間シート（個人）'!$F$6:$O$100,7,FALSE)&\".\"&VLOOKUP($D21&\"@3\",'中間シート（個人）'!$F$6:$O$100,8,FALSE))","v":""},{"$f":"IF(ISERROR(VLOOKUP($D21&\"@4\",'中間シート（個人）'!$F$6:$O$100,4,FALSE)&VLOOKUP($D21&\"@4\",'中間シート（個人）'!$F$6:$O$100,5,FALSE)),\"\",VLOOKUP($D21&\"@4\",'中間シート（個人）'!$F$6:$O$100,4,FALSE)&VLOOKUP($D21&\"@4\",'中間シート（個人）'!$F$6:$O$100,5,FALSE))","v":""},{"$f":"IF(ISERROR(VLOOKUP($D21&\"@4\",'中間シート（個人）'!$F$6:$O$100,6,FALSE)&VLOOKUP($D21&\"@4\",'中間シート（個人）'!$F$6:$O$100,7,FALSE)&\".\"&VLOOKUP($D21&\"@4\",'中間シート（個人）'!$F$6:$O$100,8,FALSE)),\"\",VLOOKUP($D21&\"@4\",'中間シート（個人）'!$F$6:$O$100,6,FALSE)&VLOOKUP($D21&\"@4\",'中間シート（個人）'!$F$6:$O$100,7,FALSE)&\".\"&VLOOKUP($D21&\"@4\",'中間シート（個人）'!$F$6:$O$100,8,FALSE))","v":""},{"$f":"IF(ISERROR(VLOOKUP($D21&\"@5\",'中間シート（個人）'!$F$6:$O$100,4,FALSE)&VLOOKUP($D21&\"@5\",'中間シート（個人）'!$F$6:$O$100,5,FALSE)),\"\",VLOOKUP($D21&\"@5\",'中間シート（個人）'!$F$6:$O$100,4,FALSE)&VLOOKUP($D21&\"@5\",'中間シート（個人）'!$F$6:$O$100,5,FALSE))","v":""},{"$f":"IF(ISERROR(VLOOKUP($D21&\"@5\",'中間シート（個人）'!$F$6:$O$100,6,FALSE)&VLOOKUP($D21&\"@5\",'中間シート（個人）'!$F$6:$O$100,7,FALSE)&\".\"&VLOOKUP($D21&\"@5\",'中間シート（個人）'!$F$6:$O$100,8,FALSE)),\"\",VLOOKUP($D21&\"@5\",'中間シート（個人）'!$F$6:$O$100,6,FALSE)&VLOOKUP($D21&\"@5\",'中間シート（個人）'!$F$6:$O$100,7,FALSE)&\".\"&VLOOKUP($D21&\"@5\",'中間シート（個人）'!$F$6:$O$100,8,FALSE))","v":""},{"$f":"IF(ISERROR(VLOOKUP($D21&\"@6\",'中間シート（個人）'!$F$6:$O$100,4,FALSE)&VLOOKUP($D21&\"@6\",'中間シート（個人）'!$F$6:$O$100,5,FALSE)),\"\",VLOOKUP($D21&\"@6\",'中間シート（個人）'!$F$6:$O$100,4,FALSE)&VLOOKUP($D21&\"@6\",'中間シート（個人）'!$F$6:$O$100,5,FALSE))","v":""},{"$f":"IF(ISERROR(VLOOKUP($D21&\"@6\",'中間シート（個人）'!$F$6:$O$100,6,FALSE)&VLOOKUP($D21&\"@6\",'中間シート（個人）'!$F$6:$O$100,7,FALSE)&\".\"&VLOOKUP($D21&\"@6\",'中間シート（個人）'!$F$6:$O$100,8,FALSE)),\"\",VLOOKUP($D21&\"@6\",'中間シート（個人）'!$F$6:$O$100,6,FALSE)&VLOOKUP($D21&\"@6\",'中間シート（個人）'!$F$6:$O$100,7,FALSE)&\".\"&VLOOKUP($D21&\"@6\",'中間シート（個人）'!$F$6:$O$100,8,FALSE))","v":""},{"$f":"IF(ISERROR(VLOOKUP($D21&\"@7\",'中間シート（個人）'!$F$6:$O$100,4,FALSE)&VLOOKUP($D21&\"@7\",'中間シート（個人）'!$F$6:$O$100,5,FALSE)),\"\",VLOOKUP($D21&\"@7\",'中間シート（個人）'!$F$6:$O$100,4,FALSE)&VLOOKUP($D21&\"@7\",'中間シート（個人）'!$F$6:$O$100,5,FALSE))","v":""},{"$f":"IF(ISERROR(VLOOKUP($D21&\"@7\",'中間シート（個人）'!$F$6:$O$100,6,FALSE)&VLOOKUP($D21&\"@7\",'中間シート（個人）'!$F$6:$O$100,7,FALSE)&\".\"&VLOOKUP($D21&\"@7\",'中間シート（個人）'!$F$6:$O$100,8,FALSE)),\"\",VLOOKUP($D21&\"@7\",'中間シート（個人）'!$F$6:$O$100,6,FALSE)&VLOOKUP($D21&\"@7\",'中間シート（個人）'!$F$6:$O$100,7,FALSE)&\".\"&VLOOKUP($D21&\"@7\",'中間シート（個人）'!$F$6:$O$100,8,FALSE))","v":""},{"$f":"IF(ISERROR(VLOOKUP($D21&\"@8\",'中間シート（個人）'!$F$6:$O$100,4,FALSE)&VLOOKUP($D21&\"@8\",'中間シート（個人）'!$F$6:$O$100,5,FALSE)),\"\",VLOOKUP($D21&\"@8\",'中間シート（個人）'!$F$6:$O$100,4,FALSE)&VLOOKUP($D21&\"@8\",'中間シート（個人）'!$F$6:$O$100,5,FALSE))","v":""},{"$f":"IF(ISERROR(VLOOKUP($D21&\"@8\",'中間シート（個人）'!$F$6:$O$100,6,FALSE)&VLOOKUP($D21&\"@8\",'中間シート（個人）'!$F$6:$O$100,7,FALSE)&\".\"&VLOOKUP($D21&\"@8\",'中間シート（個人）'!$F$6:$O$100,8,FALSE)),\"\",VLOOKUP($D21&\"@8\",'中間シート（個人）'!$F$6:$O$100,6,FALSE)&VLOOKUP($D21&\"@8\",'中間シート（個人）'!$F$6:$O$100,7,FALSE)&\".\"&VLOOKUP($D21&\"@8\",'中間シート（個人）'!$F$6:$O$100,8,FALSE))","v":""},{"$f":"IF(ISERROR(VLOOKUP($D21&\"@9\",'中間シート（個人）'!$F$6:$O$100,4,FALSE)&VLOOKUP($D21&\"@9\",'中間シート（個人）'!$F$6:$O$100,5,FALSE)),\"\",VLOOKUP($D21&\"@9\",'中間シート（個人）'!$F$6:$O$100,4,FALSE)&VLOOKUP($D21&\"@9\",'中間シート（個人）'!$F$6:$O$100,5,FALSE))","v":""},{"$f":"IF(ISERROR(VLOOKUP($D21&\"@9\",'中間シート（個人）'!$F$6:$O$100,6,FALSE)&VLOOKUP($D21&\"@9\",'中間シート（個人）'!$F$6:$O$100,7,FALSE)&\".\"&VLOOKUP($D21&\"@9\",'中間シート（個人）'!$F$6:$O$100,8,FALSE)),\"\",VLOOKUP($D21&\"@9\",'中間シート（個人）'!$F$6:$O$100,6,FALSE)&VLOOKUP($D21&\"@9\",'中間シート（個人）'!$F$6:$O$100,7,FALSE)&\".\"&VLOOKUP($D21&\"@9\",'中間シート（個人）'!$F$6:$O$100,8,FALSE))","v":""},{"$f":"IF(ISERROR(VLOOKUP($D21&\"@10\",'中間シート（個人）'!$F$6:$O$100,4,FALSE)&VLOOKUP($D21&\"@10\",'中間シート（個人）'!$F$6:$O$100,5,FALSE)),\"\",VLOOKUP($D21&\"@10\",'中間シート（個人）'!$F$6:$O$100,4,FALSE)&VLOOKUP($D21&\"@10\",'中間シート（個人）'!$F$6:$O$100,5,FALSE))","v":""},{"$f":"IF(ISERROR(VLOOKUP($D21&\"@10\",'中間シート（個人）'!$F$6:$O$100,6,FALSE)&VLOOKUP($D21&\"@10\",'中間シート（個人）'!$F$6:$O$100,7,FALSE)&\".\"&VLOOKUP($D21&\"@10\",'中間シート（個人）'!$F$6:$O$100,8,FALSE)),\"\",VLOOKUP($D21&\"@10\",'中間シート（個人）'!$F$6:$O$100,6,FALSE)&VLOOKUP($D21&\"@10\",'中間シート（個人）'!$F$6:$O$100,7,FALSE)&\".\"&VLOOKUP($D21&\"@10\",'中間シート（個人）'!$F$6:$O$100,8,FALSE))","v":""}]
[null,null,{"$f":"IF('中間シート（個人）'!D24=\"○\",\"\",VLOOKUP(個人種目!F24,コード一覧!$A$2:$B$3,2,FALSE))","v":""},{"$f":"IF('中間シート（個人）'!D24=\"○\",\"\",'中間シート（個人）'!C24)","v":""},{"$f":"IF('中間シート（個人）'!D24=\"○\",\"\",ASC(個人種目!D24&\" \"&個人種目!E24))","v":""},{"$f":"IF('中間シート（個人）'!D24=\"○\",\"\",個人種目!G24&IF(LEN(個人種目!H24)=1,\"0\"&個人種目!H24,個人種目!H24)&IF(LEN(個人種目!I24)=1,\"0\"&個人種目!I24,個人種目!I24))","v":""},{"$f":"IF('中間シート（個人）'!D24=\"○\",\"\",VLOOKUP(個人種目!$J24,コード一覧!$C$3:$D$6,2,FALSE))","v":""},{"$f":"IF('中間シート（個人）'!D24=\"○\",\"\",IF(個人種目!$J24=\"一般\",0,個人種目!$K24))","v":""},{"$f":"IF('中間シート（個人）'!D24=\"○\",\"\",'中間シート（個人）'!H24)","v":""},null,{"$f":"IF('中間シート（個人）'!D24=\"○\",\"\",個人種目!$L$1)","v":""},{"$f":"IF('中間シート（個人）'!D24=\"○\",\"\",ASC(申込書_コナミ!$S$9))","v":""},{"$f":"IF('中間シート（個人）'!D24=\"○\",\"\",申込書_コナミ!$E$8)","v":""},null,null,null,{"$f":"IF('中間シート（個人）'!D24=\"○\",\"\",4)","v":""},{"$f":"IF(ISERROR(VLOOKUP($D22&\"@1\",'中間シート（個人）'!$F$6:$O$100,4,FALSE)&VLOOKUP($D22&\"@1\",'中間シート（個人）'!$F$6:$O$100,5,FALSE)),\"\",VLOOKUP($D22&\"@1\",'中間シート（個人）'!$F$6:$O$100,4,FALSE)&VLOOKUP($D22&\"@1\",'中間シート（個人）'!$F$6:$O$100,5,FALSE))","v":""},{"$f":"IF(ISERROR(VLOOKUP($D22&\"@1\",'中間シート（個人）'!$F$6:$O$100,6,FALSE)&VLOOKUP($D22&\"@1\",'中間シート（個人）'!$F$6:$O$100,7,FALSE)&\".\"&VLOOKUP($D22&\"@1\",'中間シート（個人）'!$F$6:$O$100,8,FALSE)),\"\",VLOOKUP($D22&\"@1\",'中間シート（個人）'!$F$6:$O$100,6,FALSE)&VLOOKUP($D22&\"@1\",'中間シート（個人）'!$F$6:$O$100,7,FALSE)&\".\"&VLOOKUP($D22&\"@1\",'中間シート（個人）'!$F$6:$O$100,8,FALSE))","v":""},{"$f":"IF(ISERROR(VLOOKUP($D22&\"@2\",'中間シート（個人）'!$F$6:$O$100,4,FALSE)&VLOOKUP($D22&\"@2\",'中間シート（個人）'!$F$6:$O$100,5,FALSE)),\"\",VLOOKUP($D22&\"@2\",'中間シート（個人）'!$F$6:$O$100,4,FALSE)&VLOOKUP($D22&\"@2\",'中間シート（個人）'!$F$6:$O$100,5,FALSE))","v":""},{"$f":"IF(ISERROR(VLOOKUP($D22&\"@2\",'中間シート（個人）'!$F$6:$O$100,6,FALSE)&VLOOKUP($D22&\"@2\",'中間シート（個人）'!$F$6:$O$100,7,FALSE)&\".\"&VLOOKUP($D22&\"@2\",'中間シート（個人）'!$F$6:$O$100,8,FALSE)),\"\",VLOOKUP($D22&\"@2\",'中間シート（個人）'!$F$6:$O$100,6,FALSE)&VLOOKUP($D22&\"@2\",'中間シート（個人）'!$F$6:$O$100,7,FALSE)&\".\"&VLOOKUP($D22&\"@2\",'中間シート（個人）'!$F$6:$O$100,8,FALSE))","v":""},{"$f":"IF(ISERROR(VLOOKUP($D22&\"@3\",'中間シート（個人）'!$F$6:$O$100,4,FALSE)&VLOOKUP($D22&\"@3\",'中間シート（個人）'!$F$6:$O$100,5,FALSE)),\"\",VLOOKUP($D22&\"@3\",'中間シート（個人）'!$F$6:$O$100,4,FALSE)&VLOOKUP($D22&\"@3\",'中間シート（個人）'!$F$6:$O$100,5,FALSE))","v":""},{"$f":"IF(ISERROR(VLOOKUP($D22&\"@3\",'中間シート（個人）'!$F$6:$O$100,6,FALSE)&VLOOKUP($D22&\"@3\",'中間シート（個人）'!$F$6:$O$100,7,FALSE)&\".\"&VLOOKUP($D22&\"@3\",'中間シート（個人）'!$F$6:$O$100,8,FALSE)),\"\",VLOOKUP($D22&\"@3\",'中間シート（個人）'!$F$6:$O$100,6,FALSE)&VLOOKUP($D22&\"@3\",'中間シート（個人）'!$F$6:$O$100,7,FALSE)&\".\"&VLOOKUP($D22&\"@3\",'中間シート（個人）'!$F$6:$O$100,8,FALSE))","v":""},{"$f":"IF(ISERROR(VLOOKUP($D22&\"@4\",'中間シート（個人）'!$F$6:$O$100,4,FALSE)&VLOOKUP($D22&\"@4\",'中間シート（個人）'!$F$6:$O$100,5,FALSE)),\"\",VLOOKUP($D22&\"@4\",'中間シート（個人）'!$F$6:$O$100,4,FALSE)&VLOOKUP($D22&\"@4\",'中間シート（個人）'!$F$6:$O$100,5,FALSE))","v":""},{"$f":"IF(ISERROR(VLOOKUP($D22&\"@4\",'中間シート（個人）'!$F$6:$O$100,6,FALSE)&VLOOKUP($D22&\"@4\",'中間シート（個人）'!$F$6:$O$100,7,FALSE)&\".\"&VLOOKUP($D22&\"@4\",'中間シート（個人）'!$F$6:$O$100,8,FALSE)),\"\",VLOOKUP($D22&\"@4\",'中間シート（個人）'!$F$6:$O$100,6,FALSE)&VLOOKUP($D22&\"@4\",'中間シート（個人）'!$F$6:$O$100,7,FALSE)&\".\"&VLOOKUP($D22&\"@4\",'中間シート（個人）'!$F$6:$O$100,8,FALSE))","v":""},{"$f":"IF(ISERROR(VLOOKUP($D22&\"@5\",'中間シート（個人）'!$F$6:$O$100,4,FALSE)&VLOOKUP($D22&\"@5\",'中間シート（個人）'!$F$6:$O$100,5,FALSE)),\"\",VLOOKUP($D22&\"@5\",'中間シート（個人）'!$F$6:$O$100,4,FALSE)&VLOOKUP($D22&\"@5\",'中間シート（個人）'!$F$6:$O$100,5,FALSE))","v":""},{"$f":"IF(ISERROR(VLOOKUP($D22&\"@5\",'中間シート（個人）'!$F$6:$O$100,6,FALSE)&VLOOKUP($D22&\"@5\",'中間シート（個人）'!$F$6:$O$100,7,FALSE)&\".\"&VLOOKUP($D22&\"@5\",'中間シート（個人）'!$F$6:$O$100,8,FALSE)),\"\",VLOOKUP($D22&\"@5\",'中間シート（個人）'!$F$6:$O$100,6,FALSE)&VLOOKUP($D22&\"@5\",'中間シート（個人）'!$F$6:$O$100,7,FALSE)&\".\"&VLOOKUP($D22&\"@5\",'中間シート（個人）'!$F$6:$O$100,8,FALSE))","v":""},{"$f":"IF(ISERROR(VLOOKUP($D22&\"@6\",'中間シート（個人）'!$F$6:$O$100,4,FALSE)&VLOOKUP($D22&\"@6\",'中間シート（個人）'!$F$6:$O$100,5,FALSE)),\"\",VLOOKUP($D22&\"@6\",'中間シート（個人）'!$F$6:$O$100,4,FALSE)&VLOOKUP($D22&\"@6\",'中間シート（個人）'!$F$6:$O$100,5,FALSE))","v":""},{"$f":"IF(ISERROR(VLOOKUP($D22&\"@6\",'中間シート（個人）'!$F$6:$O$100,6,FALSE)&VLOOKUP($D22&\"@6\",'中間シート（個人）'!$F$6:$O$100,7,FALSE)&\".\"&VLOOKUP($D22&\"@6\",'中間シート（個人）'!$F$6:$O$100,8,FALSE)),\"\",VLOOKUP($D22&\"@6\",'中間シート（個人）'!$F$6:$O$100,6,FALSE)&VLOOKUP($D22&\"@6\",'中間シート（個人）'!$F$6:$O$100,7,FALSE)&\".\"&VLOOKUP($D22&\"@6\",'中間シート（個人）'!$F$6:$O$100,8,FALSE))","v":""},{"$f":"IF(ISERROR(VLOOKUP($D22&\"@7\",'中間シート（個人）'!$F$6:$O$100,4,FALSE)&VLOOKUP($D22&\"@7\",'中間シート（個人）'!$F$6:$O$100,5,FALSE)),\"\",VLOOKUP($D22&\"@7\",'中間シート（個人）'!$F$6:$O$100,4,FALSE)&VLOOKUP($D22&\"@7\",'中間シート（個人）'!$F$6:$O$100,5,FALSE))","v":""},{"$f":"IF(ISERROR(VLOOKUP($D22&\"@7\",'中間シート（個人）'!$F$6:$O$100,6,FALSE)&VLOOKUP($D22&\"@7\",'中間シート（個人）'!$F$6:$O$100,7,FALSE)&\".\"&VLOOKUP($D22&\"@7\",'中間シート（個人）'!$F$6:$O$100,8,FALSE)),\"\",VLOOKUP($D22&\"@7\",'中間シート（個人）'!$F$6:$O$100,6,FALSE)&VLOOKUP($D22&\"@7\",'中間シート（個人）'!$F$6:$O$100,7,FALSE)&\".\"&VLOOKUP($D22&\"@7\",'中間シート（個人）'!$F$6:$O$100,8,FALSE))","v":""},{"$f":"IF(ISERROR(VLOOKUP($D22&\"@8\",'中間シート（個人）'!$F$6:$O$100,4,FALSE)&VLOOKUP($D22&\"@8\",'中間シート（個人）'!$F$6:$O$100,5,FALSE)),\"\",VLOOKUP($D22&\"@8\",'中間シート（個人）'!$F$6:$O$100,4,FALSE)&VLOOKUP($D22&\"@8\",'中間シート（個人）'!$F$6:$O$100,5,FALSE))","v":""},{"$f":"IF(ISERROR(VLOOKUP($D22&\"@8\",'中間シート（個人）'!$F$6:$O$100,6,FALSE)&VLOOKUP($D22&\"@8\",'中間シート（個人）'!$F$6:$O$100,7,FALSE)&\".\"&VLOOKUP($D22&\"@8\",'中間シート（個人）'!$F$6:$O$100,8,FALSE)),\"\",VLOOKUP($D22&\"@8\",'中間シート（個人）'!$F$6:$O$100,6,FALSE)&VLOOKUP($D22&\"@8\",'中間シート（個人）'!$F$6:$O$100,7,FALSE)&\".\"&VLOOKUP($D22&\"@8\",'中間シート（個人）'!$F$6:$O$100,8,FALSE))","v":""},{"$f":"IF(ISERROR(VLOOKUP($D22&\"@9\",'中間シート（個人）'!$F$6:$O$100,4,FALSE)&VLOOKUP($D22&\"@9\",'中間シート（個人）'!$F$6:$O$100,5,FALSE)),\"\",VLOOKUP($D22&\"@9\",'中間シート（個人）'!$F$6:$O$100,4,FALSE)&VLOOKUP($D22&\"@9\",'中間シート（個人）'!$F$6:$O$100,5,FALSE))","v":""},{"$f":"IF(ISERROR(VLOOKUP($D22&\"@9\",'中間シート（個人）'!$F$6:$O$100,6,FALSE)&VLOOKUP($D22&\"@9\",'中間シート（個人）'!$F$6:$O$100,7,FALSE)&\".\"&VLOOKUP($D22&\"@9\",'中間シート（個人）'!$F$6:$O$100,8,FALSE)),\"\",VLOOKUP($D22&\"@9\",'中間シート（個人）'!$F$6:$O$100,6,FALSE)&VLOOKUP($D22&\"@9\",'中間シート（個人）'!$F$6:$O$100,7,FALSE)&\".\"&VLOOKUP($D22&\"@9\",'中間シート（個人）'!$F$6:$O$100,8,FALSE))","v":""},{"$f":"IF(ISERROR(VLOOKUP($D22&\"@10\",'中間シート（個人）'!$F$6:$O$100,4,FALSE)&VLOOKUP($D22&\"@10\",'中間シート（個人）'!$F$6:$O$100,5,FALSE)),\"\",VLOOKUP($D22&\"@10\",'中間シート（個人）'!$F$6:$O$100,4,FALSE)&VLOOKUP($D22&\"@10\",'中間シート（個人）'!$F$6:$O$100,5,FALSE))","v":""},{"$f":"IF(ISERROR(VLOOKUP($D22&\"@10\",'中間シート（個人）'!$F$6:$O$100,6,FALSE)&VLOOKUP($D22&\"@10\",'中間シート（個人）'!$F$6:$O$100,7,FALSE)&\".\"&VLOOKUP($D22&\"@10\",'中間シート（個人）'!$F$6:$O$100,8,FALSE)),\"\",VLOOKUP($D22&\"@10\",'中間シート（個人）'!$F$6:$O$100,6,FALSE)&VLOOKUP($D22&\"@10\",'中間シート（個人）'!$F$6:$O$100,7,FALSE)&\".\"&VLOOKUP($D22&\"@10\",'中間シート（個人）'!$F$6:$O$100,8,FALSE))","v":""}]
[null,null,{"$f":"IF('中間シート（個人）'!D25=\"○\",\"\",VLOOKUP(個人種目!F25,コード一覧!$A$2:$B$3,2,FALSE))","v":""},{"$f":"IF('中間シート（個人）'!D25=\"○\",\"\",'中間シート（個人）'!C25)","v":""},{"$f":"IF('中間シート（個人）'!D25=\"○\",\"\",ASC(個人種目!D25&\" \"&個人種目!E25))","v":""},{"$f":"IF('中間シート（個人）'!D25=\"○\",\"\",個人種目!G25&IF(LEN(個人種目!H25)=1,\"0\"&個人種目!H25,個人種目!H25)&IF(LEN(個人種目!I25)=1,\"0\"&個人種目!I25,個人種目!I25))","v":""},{"$f":"IF('中間シート（個人）'!D25=\"○\",\"\",VLOOKUP(個人種目!$J25,コード一覧!$C$3:$D$6,2,FALSE))","v":""},{"$f":"IF('中間シート（個人）'!D25=\"○\",\"\",IF(個人種目!$J25=\"一般\",0,個人種目!$K25))","v":""},{"$f":"IF('中間シート（個人）'!D25=\"○\",\"\",'中間シート（個人）'!H25)","v":""},null,{"$f":"IF('中間シート（個人）'!D25=\"○\",\"\",個人種目!$L$1)","v":""},{"$f":"IF('中間シート（個人）'!D25=\"○\",\"\",ASC(申込書_コナミ!$S$9))","v":""},{"$f":"IF('中間シート（個人）'!D25=\"○\",\"\",申込書_コナミ!$E$8)","v":""},null,null,null,{"$f":"IF('中間シート（個人）'!D25=\"○\",\"\",4)","v":""},{"$f":"IF(ISERROR(VLOOKUP($D23&\"@1\",'中間シート（個人）'!$F$6:$O$100,4,FALSE)&VLOOKUP($D23&\"@1\",'中間シート（個人）'!$F$6:$O$100,5,FALSE)),\"\",VLOOKUP($D23&\"@1\",'中間シート（個人）'!$F$6:$O$100,4,FALSE)&VLOOKUP($D23&\"@1\",'中間シート（個人）'!$F$6:$O$100,5,FALSE))","v":""},{"$f":"IF(ISERROR(VLOOKUP($D23&\"@1\",'中間シート（個人）'!$F$6:$O$100,6,FALSE)&VLOOKUP($D23&\"@1\",'中間シート（個人）'!$F$6:$O$100,7,FALSE)&\".\"&VLOOKUP($D23&\"@1\",'中間シート（個人）'!$F$6:$O$100,8,FALSE)),\"\",VLOOKUP($D23&\"@1\",'中間シート（個人）'!$F$6:$O$100,6,FALSE)&VLOOKUP($D23&\"@1\",'中間シート（個人）'!$F$6:$O$100,7,FALSE)&\".\"&VLOOKUP($D23&\"@1\",'中間シート（個人）'!$F$6:$O$100,8,FALSE))","v":""},{"$f":"IF(ISERROR(VLOOKUP($D23&\"@2\",'中間シート（個人）'!$F$6:$O$100,4,FALSE)&VLOOKUP($D23&\"@2\",'中間シート（個人）'!$F$6:$O$100,5,FALSE)),\"\",VLOOKUP($D23&\"@2\",'中間シート（個人）'!$F$6:$O$100,4,FALSE)&VLOOKUP($D23&\"@2\",'中間シート（個人）'!$F$6:$O$100,5,FALSE))","v":""},{"$f":"IF(ISERROR(VLOOKUP($D23&\"@2\",'中間シート（個人）'!$F$6:$O$100,6,FALSE)&VLOOKUP($D23&\"@2\",'中間シート（個人）'!$F$6:$O$100,7,FALSE)&\".\"&VLOOKUP($D23&\"@2\",'中間シート（個人）'!$F$6:$O$100,8,FALSE)),\"\",VLOOKUP($D23&\"@2\",'中間シート（個人）'!$F$6:$O$100,6,FALSE)&VLOOKUP($D23&\"@2\",'中間シート（個人）'!$F$6:$O$100,7,FALSE)&\".\"&VLOOKUP($D23&\"@2\",'中間シート（個人）'!$F$6:$O$100,8,FALSE))","v":""},{"$f":"IF(ISERROR(VLOOKUP($D23&\"@3\",'中間シート（個人）'!$F$6:$O$100,4,FALSE)&VLOOKUP($D23&\"@3\",'中間シート（個人）'!$F$6:$O$100,5,FALSE)),\"\",VLOOKUP($D23&\"@3\",'中間シート（個人）'!$F$6:$O$100,4,FALSE)&VLOOKUP($D23&\"@3\",'中間シート（個人）'!$F$6:$O$100,5,FALSE))","v":""},{"$f":"IF(ISERROR(VLOOKUP($D23&\"@3\",'中間シート（個人）'!$F$6:$O$100,6,FALSE)&VLOOKUP($D23&\"@3\",'中間シート（個人）'!$F$6:$O$100,7,FALSE)&\".\"&VLOOKUP($D23&\"@3\",'中間シート（個人）'!$F$6:$O$100,8,FALSE)),\"\",VLOOKUP($D23&\"@3\",'中間シート（個人）'!$F$6:$O$100,6,FALSE)&VLOOKUP($D23&\"@3\",'中間シート（個人）'!$F$6:$O$100,7,FALSE)&\".\"&VLOOKUP($D23&\"@3\",'中間シート（個人）'!$F$6:$O$100,8,FALSE))","v":""},{"$f":"IF(ISERROR(VLOOKUP($D23&\"@4\",'中間シート（個人）'!$F$6:$O$100,4,FALSE)&VLOOKUP($D23&\"@4\",'中間シート（個人）'!$F$6:$O$100,5,FALSE)),\"\",VLOOKUP($D23&\"@4\",'中間シート（個人）'!$F$6:$O$100,4,FALSE)&VLOOKUP($D23&\"@4\",'中間シート（個人）'!$F$6:$O$100,5,FALSE))","v":""},{"$f":"IF(ISERROR(VLOOKUP($D23&\"@4\",'中間シート（個人）'!$F$6:$O$100,6,FALSE)&VLOOKUP($D23&\"@4\",'中間シート（個人）'!$F$6:$O$100,7,FALSE)&\".\"&VLOOKUP($D23&\"@4\",'中間シート（個人）'!$F$6:$O$100,8,FALSE)),\"\",VLOOKUP($D23&\"@4\",'中間シート（個人）'!$F$6:$O$100,6,FALSE)&VLOOKUP($D23&\"@4\",'中間シート（個人）'!$F$6:$O$100,7,FALSE)&\".\"&VLOOKUP($D23&\"@4\",'中間シート（個人）'!$F$6:$O$100,8,FALSE))","v":""},{"$f":"IF(ISERROR(VLOOKUP($D23&\"@5\",'中間シート（個人）'!$F$6:$O$100,4,FALSE)&VLOOKUP($D23&\"@5\",'中間シート（個人）'!$F$6:$O$100,5,FALSE)),\"\",VLOOKUP($D23&\"@5\",'中間シート（個人）'!$F$6:$O$100,4,FALSE)&VLOOKUP($D23&\"@5\",'中間シート（個人）'!$F$6:$O$100,5,FALSE))","v":""},{"$f":"IF(ISERROR(VLOOKUP($D23&\"@5\",'中間シート（個人）'!$F$6:$O$100,6,FALSE)&VLOOKUP($D23&\"@5\",'中間シート（個人）'!$F$6:$O$100,7,FALSE)&\".\"&VLOOKUP($D23&\"@5\",'中間シート（個人）'!$F$6:$O$100,8,FALSE)),\"\",VLOOKUP($D23&\"@5\",'中間シート（個人）'!$F$6:$O$100,6,FALSE)&VLOOKUP($D23&\"@5\",'中間シート（個人）'!$F$6:$O$100,7,FALSE)&\".\"&VLOOKUP($D23&\"@5\",'中間シート（個人）'!$F$6:$O$100,8,FALSE))","v":""},{"$f":"IF(ISERROR(VLOOKUP($D23&\"@6\",'中間シート（個人）'!$F$6:$O$100,4,FALSE)&VLOOKUP($D23&\"@6\",'中間シート（個人）'!$F$6:$O$100,5,FALSE)),\"\",VLOOKUP($D23&\"@6\",'中間シート（個人）'!$F$6:$O$100,4,FALSE)&VLOOKUP($D23&\"@6\",'中間シート（個人）'!$F$6:$O$100,5,FALSE))","v":""},{"$f":"IF(ISERROR(VLOOKUP($D23&\"@6\",'中間シート（個人）'!$F$6:$O$100,6,FALSE)&VLOOKUP($D23&\"@6\",'中間シート（個人）'!$F$6:$O$100,7,FALSE)&\".\"&VLOOKUP($D23&\"@6\",'中間シート（個人）'!$F$6:$O$100,8,FALSE)),\"\",VLOOKUP($D23&\"@6\",'中間シート（個人）'!$F$6:$O$100,6,FALSE)&VLOOKUP($D23&\"@6\",'中間シート（個人）'!$F$6:$O$100,7,FALSE)&\".\"&VLOOKUP($D23&\"@6\",'中間シート（個人）'!$F$6:$O$100,8,FALSE))","v":""},{"$f":"IF(ISERROR(VLOOKUP($D23&\"@7\",'中間シート（個人）'!$F$6:$O$100,4,FALSE)&VLOOKUP($D23&\"@7\",'中間シート（個人）'!$F$6:$O$100,5,FALSE)),\"\",VLOOKUP($D23&\"@7\",'中間シート（個人）'!$F$6:$O$100,4,FALSE)&VLOOKUP($D23&\"@7\",'中間シート（個人）'!$F$6:$O$100,5,FALSE))","v":""},{"$f":"IF(ISERROR(VLOOKUP($D23&\"@7\",'中間シート（個人）'!$F$6:$O$100,6,FALSE)&VLOOKUP($D23&\"@7\",'中間シート（個人）'!$F$6:$O$100,7,FALSE)&\".\"&VLOOKUP($D23&\"@7\",'中間シート（個人）'!$F$6:$O$100,8,FALSE)),\"\",VLOOKUP($D23&\"@7\",'中間シート（個人）'!$F$6:$O$100,6,FALSE)&VLOOKUP($D23&\"@7\",'中間シート（個人）'!$F$6:$O$100,7,FALSE)&\".\"&VLOOKUP($D23&\"@7\",'中間シート（個人）'!$F$6:$O$100,8,FALSE))","v":""},{"$f":"IF(ISERROR(VLOOKUP($D23&\"@8\",'中間シート（個人）'!$F$6:$O$100,4,FALSE)&VLOOKUP($D23&\"@8\",'中間シート（個人）'!$F$6:$O$100,5,FALSE)),\"\",VLOOKUP($D23&\"@8\",'中間シート（個人）'!$F$6:$O$100,4,FALSE)&VLOOKUP($D23&\"@8\",'中間シート（個人）'!$F$6:$O$100,5,FALSE))","v":""},{"$f":"IF(ISERROR(VLOOKUP($D23&\"@8\",'中間シート（個人）'!$F$6:$O$100,6,FALSE)&VLOOKUP($D23&\"@8\",'中間シート（個人）'!$F$6:$O$100,7,FALSE)&\".\"&VLOOKUP($D23&\"@8\",'中間シート（個人）'!$F$6:$O$100,8,FALSE)),\"\",VLOOKUP($D23&\"@8\",'中間シート（個人）'!$F$6:$O$100,6,FALSE)&VLOOKUP($D23&\"@8\",'中間シート（個人）'!$F$6:$O$100,7,FALSE)&\".\"&VLOOKUP($D23&\"@8\",'中間シート（個人）'!$F$6:$O$100,8,FALSE))","v":""},{"$f":"IF(ISERROR(VLOOKUP($D23&\"@9\",'中間シート（個人）'!$F$6:$O$100,4,FALSE)&VLOOKUP($D23&\"@9\",'中間シート（個人）'!$F$6:$O$100,5,FALSE)),\"\",VLOOKUP($D23&\"@9\",'中間シート（個人）'!$F$6:$O$100,4,FALSE)&VLOOKUP($D23&\"@9\",'中間シート（個人）'!$F$6:$O$100,5,FALSE))","v":""},{"$f":"IF(ISERROR(VLOOKUP($D23&\"@9\",'中間シート（個人）'!$F$6:$O$100,6,FALSE)&VLOOKUP($D23&\"@9\",'中間シート（個人）'!$F$6:$O$100,7,FALSE)&\".\"&VLOOKUP($D23&\"@9\",'中間シート（個人）'!$F$6:$O$100,8,FALSE)),\"\",VLOOKUP($D23&\"@9\",'中間シート（個人）'!$F$6:$O$100,6,FALSE)&VLOOKUP($D23&\"@9\",'中間シート（個人）'!$F$6:$O$100,7,FALSE)&\".\"&VLOOKUP($D23&\"@9\",'中間シート（個人）'!$F$6:$O$100,8,FALSE))","v":""},{"$f":"IF(ISERROR(VLOOKUP($D23&\"@10\",'中間シート（個人）'!$F$6:$O$100,4,FALSE)&VLOOKUP($D23&\"@10\",'中間シート（個人）'!$F$6:$O$100,5,FALSE)),\"\",VLOOKUP($D23&\"@10\",'中間シート（個人）'!$F$6:$O$100,4,FALSE)&VLOOKUP($D23&\"@10\",'中間シート（個人）'!$F$6:$O$100,5,FALSE))","v":""},{"$f":"IF(ISERROR(VLOOKUP($D23&\"@10\",'中間シート（個人）'!$F$6:$O$100,6,FALSE)&VLOOKUP($D23&\"@10\",'中間シート（個人）'!$F$6:$O$100,7,FALSE)&\".\"&VLOOKUP($D23&\"@10\",'中間シート（個人）'!$F$6:$O$100,8,FALSE)),\"\",VLOOKUP($D23&\"@10\",'中間シート（個人）'!$F$6:$O$100,6,FALSE)&VLOOKUP($D23&\"@10\",'中間シート（個人）'!$F$6:$O$100,7,FALSE)&\".\"&VLOOKUP($D23&\"@10\",'中間シート（個人）'!$F$6:$O$100,8,FALSE))","v":""}]
[null,null,{"$f":"IF('中間シート（個人）'!D26=\"○\",\"\",VLOOKUP(個人種目!F26,コード一覧!$A$2:$B$3,2,FALSE))","v":""},{"$f":"IF('中間シート（個人）'!D26=\"○\",\"\",'中間シート（個人）'!C26)","v":""},{"$f":"IF('中間シート（個人）'!D26=\"○\",\"\",ASC(個人種目!D26&\" \"&個人種目!E26))","v":""},{"$f":"IF('中間シート（個人）'!D26=\"○\",\"\",個人種目!G26&IF(LEN(個人種目!H26)=1,\"0\"&個人種目!H26,個人種目!H26)&IF(LEN(個人種目!I26)=1,\"0\"&個人種目!I26,個人種目!I26))","v":""},{"$f":"IF('中間シート（個人）'!D26=\"○\",\"\",VLOOKUP(個人種目!$J26,コード一覧!$C$3:$D$6,2,FALSE))","v":""},{"$f":"IF('中間シート（個人）'!D26=\"○\",\"\",IF(個人種目!$J26=\"一般\",0,個人種目!$K26))","v":""},{"$f":"IF('中間シート（個人）'!D26=\"○\",\"\",'中間シート（個人）'!H26)","v":""},null,{"$f":"IF('中間シート（個人）'!D26=\"○\",\"\",個人種目!$L$1)","v":""},{"$f":"IF('中間シート（個人）'!D26=\"○\",\"\",ASC(申込書_コナミ!$S$9))","v":""},{"$f":"IF('中間シート（個人）'!D26=\"○\",\"\",申込書_コナミ!$E$8)","v":""},null,null,null,{"$f":"IF('中間シート（個人）'!D26=\"○\",\"\",4)","v":""},{"$f":"IF(ISERROR(VLOOKUP($D24&\"@1\",'中間シート（個人）'!$F$6:$O$100,4,FALSE)&VLOOKUP($D24&\"@1\",'中間シート（個人）'!$F$6:$O$100,5,FALSE)),\"\",VLOOKUP($D24&\"@1\",'中間シート（個人）'!$F$6:$O$100,4,FALSE)&VLOOKUP($D24&\"@1\",'中間シート（個人）'!$F$6:$O$100,5,FALSE))","v":""},{"$f":"IF(ISERROR(VLOOKUP($D24&\"@1\",'中間シート（個人）'!$F$6:$O$100,6,FALSE)&VLOOKUP($D24&\"@1\",'中間シート（個人）'!$F$6:$O$100,7,FALSE)&\".\"&VLOOKUP($D24&\"@1\",'中間シート（個人）'!$F$6:$O$100,8,FALSE)),\"\",VLOOKUP($D24&\"@1\",'中間シート（個人）'!$F$6:$O$100,6,FALSE)&VLOOKUP($D24&\"@1\",'中間シート（個人）'!$F$6:$O$100,7,FALSE)&\".\"&VLOOKUP($D24&\"@1\",'中間シート（個人）'!$F$6:$O$100,8,FALSE))","v":""},{"$f":"IF(ISERROR(VLOOKUP($D24&\"@2\",'中間シート（個人）'!$F$6:$O$100,4,FALSE)&VLOOKUP($D24&\"@2\",'中間シート（個人）'!$F$6:$O$100,5,FALSE)),\"\",VLOOKUP($D24&\"@2\",'中間シート（個人）'!$F$6:$O$100,4,FALSE)&VLOOKUP($D24&\"@2\",'中間シート（個人）'!$F$6:$O$100,5,FALSE))","v":""},{"$f":"IF(ISERROR(VLOOKUP($D24&\"@2\",'中間シート（個人）'!$F$6:$O$100,6,FALSE)&VLOOKUP($D24&\"@2\",'中間シート（個人）'!$F$6:$O$100,7,FALSE)&\".\"&VLOOKUP($D24&\"@2\",'中間シート（個人）'!$F$6:$O$100,8,FALSE)),\"\",VLOOKUP($D24&\"@2\",'中間シート（個人）'!$F$6:$O$100,6,FALSE)&VLOOKUP($D24&\"@2\",'中間シート（個人）'!$F$6:$O$100,7,FALSE)&\".\"&VLOOKUP($D24&\"@2\",'中間シート（個人）'!$F$6:$O$100,8,FALSE))","v":""},{"$f":"IF(ISERROR(VLOOKUP($D24&\"@3\",'中間シート（個人）'!$F$6:$O$100,4,FALSE)&VLOOKUP($D24&\"@3\",'中間シート（個人）'!$F$6:$O$100,5,FALSE)),\"\",VLOOKUP($D24&\"@3\",'中間シート（個人）'!$F$6:$O$100,4,FALSE)&VLOOKUP($D24&\"@3\",'中間シート（個人）'!$F$6:$O$100,5,FALSE))","v":""},{"$f":"IF(ISERROR(VLOOKUP($D24&\"@3\",'中間シート（個人）'!$F$6:$O$100,6,FALSE)&VLOOKUP($D24&\"@3\",'中間シート（個人）'!$F$6:$O$100,7,FALSE)&\".\"&VLOOKUP($D24&\"@3\",'中間シート（個人）'!$F$6:$O$100,8,FALSE)),\"\",VLOOKUP($D24&\"@3\",'中間シート（個人）'!$F$6:$O$100,6,FALSE)&VLOOKUP($D24&\"@3\",'中間シート（個人）'!$F$6:$O$100,7,FALSE)&\".\"&VLOOKUP($D24&\"@3\",'中間シート（個人）'!$F$6:$O$100,8,FALSE))","v":""},{"$f":"IF(ISERROR(VLOOKUP($D24&\"@4\",'中間シート（個人）'!$F$6:$O$100,4,FALSE)&VLOOKUP($D24&\"@4\",'中間シート（個人）'!$F$6:$O$100,5,FALSE)),\"\",VLOOKUP($D24&\"@4\",'中間シート（個人）'!$F$6:$O$100,4,FALSE)&VLOOKUP($D24&\"@4\",'中間シート（個人）'!$F$6:$O$100,5,FALSE))","v":""},{"$f":"IF(ISERROR(VLOOKUP($D24&\"@4\",'中間シート（個人）'!$F$6:$O$100,6,FALSE)&VLOOKUP($D24&\"@4\",'中間シート（個人）'!$F$6:$O$100,7,FALSE)&\".\"&VLOOKUP($D24&\"@4\",'中間シート（個人）'!$F$6:$O$100,8,FALSE)),\"\",VLOOKUP($D24&\"@4\",'中間シート（個人）'!$F$6:$O$100,6,FALSE)&VLOOKUP($D24&\"@4\",'中間シート（個人）'!$F$6:$O$100,7,FALSE)&\".\"&VLOOKUP($D24&\"@4\",'中間シート（個人）'!$F$6:$O$100,8,FALSE))","v":""},{"$f":"IF(ISERROR(VLOOKUP($D24&\"@5\",'中間シート（個人）'!$F$6:$O$100,4,FALSE)&VLOOKUP($D24&\"@5\",'中間シート（個人）'!$F$6:$O$100,5,FALSE)),\"\",VLOOKUP($D24&\"@5\",'中間シート（個人）'!$F$6:$O$100,4,FALSE)&VLOOKUP($D24&\"@5\",'中間シート（個人）'!$F$6:$O$100,5,FALSE))","v":""},{"$f":"IF(ISERROR(VLOOKUP($D24&\"@5\",'中間シート（個人）'!$F$6:$O$100,6,FALSE)&VLOOKUP($D24&\"@5\",'中間シート（個人）'!$F$6:$O$100,7,FALSE)&\".\"&VLOOKUP($D24&\"@5\",'中間シート（個人）'!$F$6:$O$100,8,FALSE)),\"\",VLOOKUP($D24&\"@5\",'中間シート（個人）'!$F$6:$O$100,6,FALSE)&VLOOKUP($D24&\"@5\",'中間シート（個人）'!$F$6:$O$100,7,FALSE)&\".\"&VLOOKUP($D24&\"@5\",'中間シート（個人）'!$F$6:$O$100,8,FALSE))","v":""},{"$f":"IF(ISERROR(VLOOKUP($D24&\"@6\",'中間シート（個人）'!$F$6:$O$100,4,FALSE)&VLOOKUP($D24&\"@6\",'中間シート（個人）'!$F$6:$O$100,5,FALSE)),\"\",VLOOKUP($D24&\"@6\",'中間シート（個人）'!$F$6:$O$100,4,FALSE)&VLOOKUP($D24&\"@6\",'中間シート（個人）'!$F$6:$O$100,5,FALSE))","v":""},{"$f":"IF(ISERROR(VLOOKUP($D24&\"@6\",'中間シート（個人）'!$F$6:$O$100,6,FALSE)&VLOOKUP($D24&\"@6\",'中間シート（個人）'!$F$6:$O$100,7,FALSE)&\".\"&VLOOKUP($D24&\"@6\",'中間シート（個人）'!$F$6:$O$100,8,FALSE)),\"\",VLOOKUP($D24&\"@6\",'中間シート（個人）'!$F$6:$O$100,6,FALSE)&VLOOKUP($D24&\"@6\",'中間シート（個人）'!$F$6:$O$100,7,FALSE)&\".\"&VLOOKUP($D24&\"@6\",'中間シート（個人）'!$F$6:$O$100,8,FALSE))","v":""},{"$f":"IF(ISERROR(VLOOKUP($D24&\"@7\",'中間シート（個人）'!$F$6:$O$100,4,FALSE)&VLOOKUP($D24&\"@7\",'中間シート（個人）'!$F$6:$O$100,5,FALSE)),\"\",VLOOKUP($D24&\"@7\",'中間シート（個人）'!$F$6:$O$100,4,FALSE)&VLOOKUP($D24&\"@7\",'中間シート（個人）'!$F$6:$O$100,5,FALSE))","v":""},{"$f":"IF(ISERROR(VLOOKUP($D24&\"@7\",'中間シート（個人）'!$F$6:$O$100,6,FALSE)&VLOOKUP($D24&\"@7\",'中間シート（個人）'!$F$6:$O$100,7,FALSE)&\".\"&VLOOKUP($D24&\"@7\",'中間シート（個人）'!$F$6:$O$100,8,FALSE)),\"\",VLOOKUP($D24&\"@7\",'中間シート（個人）'!$F$6:$O$100,6,FALSE)&VLOOKUP($D24&\"@7\",'中間シート（個人）'!$F$6:$O$100,7,FALSE)&\".\"&VLOOKUP($D24&\"@7\",'中間シート（個人）'!$F$6:$O$100,8,FALSE))","v":""},{"$f":"IF(ISERROR(VLOOKUP($D24&\"@8\",'中間シート（個人）'!$F$6:$O$100,4,FALSE)&VLOOKUP($D24&\"@8\",'中間シート（個人）'!$F$6:$O$100,5,FALSE)),\"\",VLOOKUP($D24&\"@8\",'中間シート（個人）'!$F$6:$O$100,4,FALSE)&VLOOKUP($D24&\"@8\",'中間シート（個人）'!$F$6:$O$100,5,FALSE))","v":""},{"$f":"IF(ISERROR(VLOOKUP($D24&\"@8\",'中間シート（個人）'!$F$6:$O$100,6,FALSE)&VLOOKUP($D24&\"@8\",'中間シート（個人）'!$F$6:$O$100,7,FALSE)&\".\"&VLOOKUP($D24&\"@8\",'中間シート（個人）'!$F$6:$O$100,8,FALSE)),\"\",VLOOKUP($D24&\"@8\",'中間シート（個人）'!$F$6:$O$100,6,FALSE)&VLOOKUP($D24&\"@8\",'中間シート（個人）'!$F$6:$O$100,7,FALSE)&\".\"&VLOOKUP($D24&\"@8\",'中間シート（個人）'!$F$6:$O$100,8,FALSE))","v":""},{"$f":"IF(ISERROR(VLOOKUP($D24&\"@9\",'中間シート（個人）'!$F$6:$O$100,4,FALSE)&VLOOKUP($D24&\"@9\",'中間シート（個人）'!$F$6:$O$100,5,FALSE)),\"\",VLOOKUP($D24&\"@9\",'中間シート（個人）'!$F$6:$O$100,4,FALSE)&VLOOKUP($D24&\"@9\",'中間シート（個人）'!$F$6:$O$100,5,FALSE))","v":""},{"$f":"IF(ISERROR(VLOOKUP($D24&\"@9\",'中間シート（個人）'!$F$6:$O$100,6,FALSE)&VLOOKUP($D24&\"@9\",'中間シート（個人）'!$F$6:$O$100,7,FALSE)&\".\"&VLOOKUP($D24&\"@9\",'中間シート（個人）'!$F$6:$O$100,8,FALSE)),\"\",VLOOKUP($D24&\"@9\",'中間シート（個人）'!$F$6:$O$100,6,FALSE)&VLOOKUP($D24&\"@9\",'中間シート（個人）'!$F$6:$O$100,7,FALSE)&\".\"&VLOOKUP($D24&\"@9\",'中間シート（個人）'!$F$6:$O$100,8,FALSE))","v":""},{"$f":"IF(ISERROR(VLOOKUP($D24&\"@10\",'中間シート（個人）'!$F$6:$O$100,4,FALSE)&VLOOKUP($D24&\"@10\",'中間シート（個人）'!$F$6:$O$100,5,FALSE)),\"\",VLOOKUP($D24&\"@10\",'中間シート（個人）'!$F$6:$O$100,4,FALSE)&VLOOKUP($D24&\"@10\",'中間シート（個人）'!$F$6:$O$100,5,FALSE))","v":""},{"$f":"IF(ISERROR(VLOOKUP($D24&\"@10\",'中間シート（個人）'!$F$6:$O$100,6,FALSE)&VLOOKUP($D24&\"@10\",'中間シート（個人）'!$F$6:$O$100,7,FALSE)&\".\"&VLOOKUP($D24&\"@10\",'中間シート（個人）'!$F$6:$O$100,8,FALSE)),\"\",VLOOKUP($D24&\"@10\",'中間シート（個人）'!$F$6:$O$100,6,FALSE)&VLOOKUP($D24&\"@10\",'中間シート（個人）'!$F$6:$O$100,7,FALSE)&\".\"&VLOOKUP($D24&\"@10\",'中間シート（個人）'!$F$6:$O$100,8,FALSE))","v":""}]
[null,null,{"$f":"IF('中間シート（個人）'!D27=\"○\",\"\",VLOOKUP(個人種目!F27,コード一覧!$A$2:$B$3,2,FALSE))","v":""},{"$f":"IF('中間シート（個人）'!D27=\"○\",\"\",'中間シート（個人）'!C27)","v":""},{"$f":"IF('中間シート（個人）'!D27=\"○\",\"\",ASC(個人種目!D27&\" \"&個人種目!E27))","v":""},{"$f":"IF('中間シート（個人）'!D27=\"○\",\"\",個人種目!G27&IF(LEN(個人種目!H27)=1,\"0\"&個人種目!H27,個人種目!H27)&IF(LEN(個人種目!I27)=1,\"0\"&個人種目!I27,個人種目!I27))","v":""},{"$f":"IF('中間シート（個人）'!D27=\"○\",\"\",VLOOKUP(個人種目!$J27,コード一覧!$C$3:$D$6,2,FALSE))","v":""},{"$f":"IF('中間シート（個人）'!D27=\"○\",\"\",IF(個人種目!$J27=\"一般\",0,個人種目!$K27))","v":""},{"$f":"IF('中間シート（個人）'!D27=\"○\",\"\",'中間シート（個人）'!H27)","v":""},null,{"$f":"IF('中間シート（個人）'!D27=\"○\",\"\",個人種目!$L$1)","v":""},{"$f":"IF('中間シート（個人）'!D27=\"○\",\"\",ASC(申込書_コナミ!$S$9))","v":""},{"$f":"IF('中間シート（個人）'!D27=\"○\",\"\",申込書_コナミ!$E$8)","v":""},null,null,null,{"$f":"IF('中間シート（個人）'!D27=\"○\",\"\",4)","v":""},{"$f":"IF(ISERROR(VLOOKUP($D25&\"@1\",'中間シート（個人）'!$F$6:$O$100,4,FALSE)&VLOOKUP($D25&\"@1\",'中間シート（個人）'!$F$6:$O$100,5,FALSE)),\"\",VLOOKUP($D25&\"@1\",'中間シート（個人）'!$F$6:$O$100,4,FALSE)&VLOOKUP($D25&\"@1\",'中間シート（個人）'!$F$6:$O$100,5,FALSE))","v":""},{"$f":"IF(ISERROR(VLOOKUP($D25&\"@1\",'中間シート（個人）'!$F$6:$O$100,6,FALSE)&VLOOKUP($D25&\"@1\",'中間シート（個人）'!$F$6:$O$100,7,FALSE)&\".\"&VLOOKUP($D25&\"@1\",'中間シート（個人）'!$F$6:$O$100,8,FALSE)),\"\",VLOOKUP($D25&\"@1\",'中間シート（個人）'!$F$6:$O$100,6,FALSE)&VLOOKUP($D25&\"@1\",'中間シート（個人）'!$F$6:$O$100,7,FALSE)&\".\"&VLOOKUP($D25&\"@1\",'中間シート（個人）'!$F$6:$O$100,8,FALSE))","v":""},{"$f":"IF(ISERROR(VLOOKUP($D25&\"@2\",'中間シート（個人）'!$F$6:$O$100,4,FALSE)&VLOOKUP($D25&\"@2\",'中間シート（個人）'!$F$6:$O$100,5,FALSE)),\"\",VLOOKUP($D25&\"@2\",'中間シート（個人）'!$F$6:$O$100,4,FALSE)&VLOOKUP($D25&\"@2\",'中間シート（個人）'!$F$6:$O$100,5,FALSE))","v":""},{"$f":"IF(ISERROR(VLOOKUP($D25&\"@2\",'中間シート（個人）'!$F$6:$O$100,6,FALSE)&VLOOKUP($D25&\"@2\",'中間シート（個人）'!$F$6:$O$100,7,FALSE)&\".\"&VLOOKUP($D25&\"@2\",'中間シート（個人）'!$F$6:$O$100,8,FALSE)),\"\",VLOOKUP($D25&\"@2\",'中間シート（個人）'!$F$6:$O$100,6,FALSE)&VLOOKUP($D25&\"@2\",'中間シート（個人）'!$F$6:$O$100,7,FALSE)&\".\"&VLOOKUP($D25&\"@2\",'中間シート（個人）'!$F$6:$O$100,8,FALSE))","v":""},{"$f":"IF(ISERROR(VLOOKUP($D25&\"@3\",'中間シート（個人）'!$F$6:$O$100,4,FALSE)&VLOOKUP($D25&\"@3\",'中間シート（個人）'!$F$6:$O$100,5,FALSE)),\"\",VLOOKUP($D25&\"@3\",'中間シート（個人）'!$F$6:$O$100,4,FALSE)&VLOOKUP($D25&\"@3\",'中間シート（個人）'!$F$6:$O$100,5,FALSE))","v":""},{"$f":"IF(ISERROR(VLOOKUP($D25&\"@3\",'中間シート（個人）'!$F$6:$O$100,6,FALSE)&VLOOKUP($D25&\"@3\",'中間シート（個人）'!$F$6:$O$100,7,FALSE)&\".\"&VLOOKUP($D25&\"@3\",'中間シート（個人）'!$F$6:$O$100,8,FALSE)),\"\",VLOOKUP($D25&\"@3\",'中間シート（個人）'!$F$6:$O$100,6,FALSE)&VLOOKUP($D25&\"@3\",'中間シート（個人）'!$F$6:$O$100,7,FALSE)&\".\"&VLOOKUP($D25&\"@3\",'中間シート（個人）'!$F$6:$O$100,8,FALSE))","v":""},{"$f":"IF(ISERROR(VLOOKUP($D25&\"@4\",'中間シート（個人）'!$F$6:$O$100,4,FALSE)&VLOOKUP($D25&\"@4\",'中間シート（個人）'!$F$6:$O$100,5,FALSE)),\"\",VLOOKUP($D25&\"@4\",'中間シート（個人）'!$F$6:$O$100,4,FALSE)&VLOOKUP($D25&\"@4\",'中間シート（個人）'!$F$6:$O$100,5,FALSE))","v":""},{"$f":"IF(ISERROR(VLOOKUP($D25&\"@4\",'中間シート（個人）'!$F$6:$O$100,6,FALSE)&VLOOKUP($D25&\"@4\",'中間シート（個人）'!$F$6:$O$100,7,FALSE)&\".\"&VLOOKUP($D25&\"@4\",'中間シート（個人）'!$F$6:$O$100,8,FALSE)),\"\",VLOOKUP($D25&\"@4\",'中間シート（個人）'!$F$6:$O$100,6,FALSE)&VLOOKUP($D25&\"@4\",'中間シート（個人）'!$F$6:$O$100,7,FALSE)&\".\"&VLOOKUP($D25&\"@4\",'中間シート（個人）'!$F$6:$O$100,8,FALSE))","v":""},{"$f":"IF(ISERROR(VLOOKUP($D25&\"@5\",'中間シート（個人）'!$F$6:$O$100,4,FALSE)&VLOOKUP($D25&\"@5\",'中間シート（個人）'!$F$6:$O$100,5,FALSE)),\"\",VLOOKUP($D25&\"@5\",'中間シート（個人）'!$F$6:$O$100,4,FALSE)&VLOOKUP($D25&\"@5\",'中間シート（個人）'!$F$6:$O$100,5,FALSE))","v":""},{"$f":"IF(ISERROR(VLOOKUP($D25&\"@5\",'中間シート（個人）'!$F$6:$O$100,6,FALSE)&VLOOKUP($D25&\"@5\",'中間シート（個人）'!$F$6:$O$100,7,FALSE)&\".\"&VLOOKUP($D25&\"@5\",'中間シート（個人）'!$F$6:$O$100,8,FALSE)),\"\",VLOOKUP($D25&\"@5\",'中間シート（個人）'!$F$6:$O$100,6,FALSE)&VLOOKUP($D25&\"@5\",'中間シート（個人）'!$F$6:$O$100,7,FALSE)&\".\"&VLOOKUP($D25&\"@5\",'中間シート（個人）'!$F$6:$O$100,8,FALSE))","v":""},{"$f":"IF(ISERROR(VLOOKUP($D25&\"@6\",'中間シート（個人）'!$F$6:$O$100,4,FALSE)&VLOOKUP($D25&\"@6\",'中間シート（個人）'!$F$6:$O$100,5,FALSE)),\"\",VLOOKUP($D25&\"@6\",'中間シート（個人）'!$F$6:$O$100,4,FALSE)&VLOOKUP($D25&\"@6\",'中間シート（個人）'!$F$6:$O$100,5,FALSE))","v":""},{"$f":"IF(ISERROR(VLOOKUP($D25&\"@6\",'中間シート（個人）'!$F$6:$O$100,6,FALSE)&VLOOKUP($D25&\"@6\",'中間シート（個人）'!$F$6:$O$100,7,FALSE)&\".\"&VLOOKUP($D25&\"@6\",'中間シート（個人）'!$F$6:$O$100,8,FALSE)),\"\",VLOOKUP($D25&\"@6\",'中間シート（個人）'!$F$6:$O$100,6,FALSE)&VLOOKUP($D25&\"@6\",'中間シート（個人）'!$F$6:$O$100,7,FALSE)&\".\"&VLOOKUP($D25&\"@6\",'中間シート（個人）'!$F$6:$O$100,8,FALSE))","v":""},{"$f":"IF(ISERROR(VLOOKUP($D25&\"@7\",'中間シート（個人）'!$F$6:$O$100,4,FALSE)&VLOOKUP($D25&\"@7\",'中間シート（個人）'!$F$6:$O$100,5,FALSE)),\"\",VLOOKUP($D25&\"@7\",'中間シート（個人）'!$F$6:$O$100,4,FALSE)&VLOOKUP($D25&\"@7\",'中間シート（個人）'!$F$6:$O$100,5,FALSE))","v":""},{"$f":"IF(ISERROR(VLOOKUP($D25&\"@7\",'中間シート（個人）'!$F$6:$O$100,6,FALSE)&VLOOKUP($D25&\"@7\",'中間シート（個人）'!$F$6:$O$100,7,FALSE)&\".\"&VLOOKUP($D25&\"@7\",'中間シート（個人）'!$F$6:$O$100,8,FALSE)),\"\",VLOOKUP($D25&\"@7\",'中間シート（個人）'!$F$6:$O$100,6,FALSE)&VLOOKUP($D25&\"@7\",'中間シート（個人）'!$F$6:$O$100,7,FALSE)&\".\"&VLOOKUP($D25&\"@7\",'中間シート（個人）'!$F$6:$O$100,8,FALSE))","v":""},{"$f":"IF(ISERROR(VLOOKUP($D25&\"@8\",'中間シート（個人）'!$F$6:$O$100,4,FALSE)&VLOOKUP($D25&\"@8\",'中間シート（個人）'!$F$6:$O$100,5,FALSE)),\"\",VLOOKUP($D25&\"@8\",'中間シート（個人）'!$F$6:$O$100,4,FALSE)&VLOOKUP($D25&\"@8\",'中間シート（個人）'!$F$6:$O$100,5,FALSE))","v":""},{"$f":"IF(ISERROR(VLOOKUP($D25&\"@8\",'中間シート（個人）'!$F$6:$O$100,6,FALSE)&VLOOKUP($D25&\"@8\",'中間シート（個人）'!$F$6:$O$100,7,FALSE)&\".\"&VLOOKUP($D25&\"@8\",'中間シート（個人）'!$F$6:$O$100,8,FALSE)),\"\",VLOOKUP($D25&\"@8\",'中間シート（個人）'!$F$6:$O$100,6,FALSE)&VLOOKUP($D25&\"@8\",'中間シート（個人）'!$F$6:$O$100,7,FALSE)&\".\"&VLOOKUP($D25&\"@8\",'中間シート（個人）'!$F$6:$O$100,8,FALSE))","v":""},{"$f":"IF(ISERROR(VLOOKUP($D25&\"@9\",'中間シート（個人）'!$F$6:$O$100,4,FALSE)&VLOOKUP($D25&\"@9\",'中間シート（個人）'!$F$6:$O$100,5,FALSE)),\"\",VLOOKUP($D25&\"@9\",'中間シート（個人）'!$F$6:$O$100,4,FALSE)&VLOOKUP($D25&\"@9\",'中間シート（個人）'!$F$6:$O$100,5,FALSE))","v":""},{"$f":"IF(ISERROR(VLOOKUP($D25&\"@9\",'中間シート（個人）'!$F$6:$O$100,6,FALSE)&VLOOKUP($D25&\"@9\",'中間シート（個人）'!$F$6:$O$100,7,FALSE)&\".\"&VLOOKUP($D25&\"@9\",'中間シート（個人）'!$F$6:$O$100,8,FALSE)),\"\",VLOOKUP($D25&\"@9\",'中間シート（個人）'!$F$6:$O$100,6,FALSE)&VLOOKUP($D25&\"@9\",'中間シート（個人）'!$F$6:$O$100,7,FALSE)&\".\"&VLOOKUP($D25&\"@9\",'中間シート（個人）'!$F$6:$O$100,8,FALSE))","v":""},{"$f":"IF(ISERROR(VLOOKUP($D25&\"@10\",'中間シート（個人）'!$F$6:$O$100,4,FALSE)&VLOOKUP($D25&\"@10\",'中間シート（個人）'!$F$6:$O$100,5,FALSE)),\"\",VLOOKUP($D25&\"@10\",'中間シート（個人）'!$F$6:$O$100,4,FALSE)&VLOOKUP($D25&\"@10\",'中間シート（個人）'!$F$6:$O$100,5,FALSE))","v":""},{"$f":"IF(ISERROR(VLOOKUP($D25&\"@10\",'中間シート（個人）'!$F$6:$O$100,6,FALSE)&VLOOKUP($D25&\"@10\",'中間シート（個人）'!$F$6:$O$100,7,FALSE)&\".\"&VLOOKUP($D25&\"@10\",'中間シート（個人）'!$F$6:$O$100,8,FALSE)),\"\",VLOOKUP($D25&\"@10\",'中間シート（個人）'!$F$6:$O$100,6,FALSE)&VLOOKUP($D25&\"@10\",'中間シート（個人）'!$F$6:$O$100,7,FALSE)&\".\"&VLOOKUP($D25&\"@10\",'中間シート（個人）'!$F$6:$O$100,8,FALSE))","v":""}]
[null,null,{"$f":"IF('中間シート（個人）'!D28=\"○\",\"\",VLOOKUP(個人種目!F28,コード一覧!$A$2:$B$3,2,FALSE))","v":""},{"$f":"IF('中間シート（個人）'!D28=\"○\",\"\",'中間シート（個人）'!C28)","v":""},{"$f":"IF('中間シート（個人）'!D28=\"○\",\"\",ASC(個人種目!D28&\" \"&個人種目!E28))","v":""},{"$f":"IF('中間シート（個人）'!D28=\"○\",\"\",個人種目!G28&IF(LEN(個人種目!H28)=1,\"0\"&個人種目!H28,個人種目!H28)&IF(LEN(個人種目!I28)=1,\"0\"&個人種目!I28,個人種目!I28))","v":""},{"$f":"IF('中間シート（個人）'!D28=\"○\",\"\",VLOOKUP(個人種目!$J28,コード一覧!$C$3:$D$6,2,FALSE))","v":""},{"$f":"IF('中間シート（個人）'!D28=\"○\",\"\",IF(個人種目!$J28=\"一般\",0,個人種目!$K28))","v":""},{"$f":"IF('中間シート（個人）'!D28=\"○\",\"\",'中間シート（個人）'!H28)","v":""},null,{"$f":"IF('中間シート（個人）'!D28=\"○\",\"\",個人種目!$L$1)","v":""},{"$f":"IF('中間シート（個人）'!D28=\"○\",\"\",ASC(申込書_コナミ!$S$9))","v":""},{"$f":"IF('中間シート（個人）'!D28=\"○\",\"\",申込書_コナミ!$E$8)","v":""},null,null,null,{"$f":"IF('中間シート（個人）'!D28=\"○\",\"\",4)","v":""},{"$f":"IF(ISERROR(VLOOKUP($D26&\"@1\",'中間シート（個人）'!$F$6:$O$100,4,FALSE)&VLOOKUP($D26&\"@1\",'中間シート（個人）'!$F$6:$O$100,5,FALSE)),\"\",VLOOKUP($D26&\"@1\",'中間シート（個人）'!$F$6:$O$100,4,FALSE)&VLOOKUP($D26&\"@1\",'中間シート（個人）'!$F$6:$O$100,5,FALSE))","v":""},{"$f":"IF(ISERROR(VLOOKUP($D26&\"@1\",'中間シート（個人）'!$F$6:$O$100,6,FALSE)&VLOOKUP($D26&\"@1\",'中間シート（個人）'!$F$6:$O$100,7,FALSE)&\".\"&VLOOKUP($D26&\"@1\",'中間シート（個人）'!$F$6:$O$100,8,FALSE)),\"\",VLOOKUP($D26&\"@1\",'中間シート（個人）'!$F$6:$O$100,6,FALSE)&VLOOKUP($D26&\"@1\",'中間シート（個人）'!$F$6:$O$100,7,FALSE)&\".\"&VLOOKUP($D26&\"@1\",'中間シート（個人）'!$F$6:$O$100,8,FALSE))","v":""},{"$f":"IF(ISERROR(VLOOKUP($D26&\"@2\",'中間シート（個人）'!$F$6:$O$100,4,FALSE)&VLOOKUP($D26&\"@2\",'中間シート（個人）'!$F$6:$O$100,5,FALSE)),\"\",VLOOKUP($D26&\"@2\",'中間シート（個人）'!$F$6:$O$100,4,FALSE)&VLOOKUP($D26&\"@2\",'中間シート（個人）'!$F$6:$O$100,5,FALSE))","v":""},{"$f":"IF(ISERROR(VLOOKUP($D26&\"@2\",'中間シート（個人）'!$F$6:$O$100,6,FALSE)&VLOOKUP($D26&\"@2\",'中間シート（個人）'!$F$6:$O$100,7,FALSE)&\".\"&VLOOKUP($D26&\"@2\",'中間シート（個人）'!$F$6:$O$100,8,FALSE)),\"\",VLOOKUP($D26&\"@2\",'中間シート（個人）'!$F$6:$O$100,6,FALSE)&VLOOKUP($D26&\"@2\",'中間シート（個人）'!$F$6:$O$100,7,FALSE)&\".\"&VLOOKUP($D26&\"@2\",'中間シート（個人）'!$F$6:$O$100,8,FALSE))","v":""},{"$f":"IF(ISERROR(VLOOKUP($D26&\"@3\",'中間シート（個人）'!$F$6:$O$100,4,FALSE)&VLOOKUP($D26&\"@3\",'中間シート（個人）'!$F$6:$O$100,5,FALSE)),\"\",VLOOKUP($D26&\"@3\",'中間シート（個人）'!$F$6:$O$100,4,FALSE)&VLOOKUP($D26&\"@3\",'中間シート（個人）'!$F$6:$O$100,5,FALSE))","v":""},{"$f":"IF(ISERROR(VLOOKUP($D26&\"@3\",'中間シート（個人）'!$F$6:$O$100,6,FALSE)&VLOOKUP($D26&\"@3\",'中間シート（個人）'!$F$6:$O$100,7,FALSE)&\".\"&VLOOKUP($D26&\"@3\",'中間シート（個人）'!$F$6:$O$100,8,FALSE)),\"\",VLOOKUP($D26&\"@3\",'中間シート（個人）'!$F$6:$O$100,6,FALSE)&VLOOKUP($D26&\"@3\",'中間シート（個人）'!$F$6:$O$100,7,FALSE)&\".\"&VLOOKUP($D26&\"@3\",'中間シート（個人）'!$F$6:$O$100,8,FALSE))","v":""},{"$f":"IF(ISERROR(VLOOKUP($D26&\"@4\",'中間シート（個人）'!$F$6:$O$100,4,FALSE)&VLOOKUP($D26&\"@4\",'中間シート（個人）'!$F$6:$O$100,5,FALSE)),\"\",VLOOKUP($D26&\"@4\",'中間シート（個人）'!$F$6:$O$100,4,FALSE)&VLOOKUP($D26&\"@4\",'中間シート（個人）'!$F$6:$O$100,5,FALSE))","v":""},{"$f":"IF(ISERROR(VLOOKUP($D26&\"@4\",'中間シート（個人）'!$F$6:$O$100,6,FALSE)&VLOOKUP($D26&\"@4\",'中間シート（個人）'!$F$6:$O$100,7,FALSE)&\".\"&VLOOKUP($D26&\"@4\",'中間シート（個人）'!$F$6:$O$100,8,FALSE)),\"\",VLOOKUP($D26&\"@4\",'中間シート（個人）'!$F$6:$O$100,6,FALSE)&VLOOKUP($D26&\"@4\",'中間シート（個人）'!$F$6:$O$100,7,FALSE)&\".\"&VLOOKUP($D26&\"@4\",'中間シート（個人）'!$F$6:$O$100,8,FALSE))","v":""},{"$f":"IF(ISERROR(VLOOKUP($D26&\"@5\",'中間シート（個人）'!$F$6:$O$100,4,FALSE)&VLOOKUP($D26&\"@5\",'中間シート（個人）'!$F$6:$O$100,5,FALSE)),\"\",VLOOKUP($D26&\"@5\",'中間シート（個人）'!$F$6:$O$100,4,FALSE)&VLOOKUP($D26&\"@5\",'中間シート（個人）'!$F$6:$O$100,5,FALSE))","v":""},{"$f":"IF(ISERROR(VLOOKUP($D26&\"@5\",'中間シート（個人）'!$F$6:$O$100,6,FALSE)&VLOOKUP($D26&\"@5\",'中間シート（個人）'!$F$6:$O$100,7,FALSE)&\".\"&VLOOKUP($D26&\"@5\",'中間シート（個人）'!$F$6:$O$100,8,FALSE)),\"\",VLOOKUP($D26&\"@5\",'中間シート（個人）'!$F$6:$O$100,6,FALSE)&VLOOKUP($D26&\"@5\",'中間シート（個人）'!$F$6:$O$100,7,FALSE)&\".\"&VLOOKUP($D26&\"@5\",'中間シート（個人）'!$F$6:$O$100,8,FALSE))","v":""},{"$f":"IF(ISERROR(VLOOKUP($D26&\"@6\",'中間シート（個人）'!$F$6:$O$100,4,FALSE)&VLOOKUP($D26&\"@6\",'中間シート（個人）'!$F$6:$O$100,5,FALSE)),\"\",VLOOKUP($D26&\"@6\",'中間シート（個人）'!$F$6:$O$100,4,FALSE)&VLOOKUP($D26&\"@6\",'中間シート（個人）'!$F$6:$O$100,5,FALSE))","v":""},{"$f":"IF(ISERROR(VLOOKUP($D26&\"@6\",'中間シート（個人）'!$F$6:$O$100,6,FALSE)&VLOOKUP($D26&\"@6\",'中間シート（個人）'!$F$6:$O$100,7,FALSE)&\".\"&VLOOKUP($D26&\"@6\",'中間シート（個人）'!$F$6:$O$100,8,FALSE)),\"\",VLOOKUP($D26&\"@6\",'中間シート（個人）'!$F$6:$O$100,6,FALSE)&VLOOKUP($D26&\"@6\",'中間シート（個人）'!$F$6:$O$100,7,FALSE)&\".\"&VLOOKUP($D26&\"@6\",'中間シート（個人）'!$F$6:$O$100,8,FALSE))","v":""},{"$f":"IF(ISERROR(VLOOKUP($D26&\"@7\",'中間シート（個人）'!$F$6:$O$100,4,FALSE)&VLOOKUP($D26&\"@7\",'中間シート（個人）'!$F$6:$O$100,5,FALSE)),\"\",VLOOKUP($D26&\"@7\",'中間シート（個人）'!$F$6:$O$100,4,FALSE)&VLOOKUP($D26&\"@7\",'中間シート（個人）'!$F$6:$O$100,5,FALSE))","v":""},{"$f":"IF(ISERROR(VLOOKUP($D26&\"@7\",'中間シート（個人）'!$F$6:$O$100,6,FALSE)&VLOOKUP($D26&\"@7\",'中間シート（個人）'!$F$6:$O$100,7,FALSE)&\".\"&VLOOKUP($D26&\"@7\",'中間シート（個人）'!$F$6:$O$100,8,FALSE)),\"\",VLOOKUP($D26&\"@7\",'中間シート（個人）'!$F$6:$O$100,6,FALSE)&VLOOKUP($D26&\"@7\",'中間シート（個人）'!$F$6:$O$100,7,FALSE)&\".\"&VLOOKUP($D26&\"@7\",'中間シート（個人）'!$F$6:$O$100,8,FALSE))","v":""},{"$f":"IF(ISERROR(VLOOKUP($D26&\"@8\",'中間シート（個人）'!$F$6:$O$100,4,FALSE)&VLOOKUP($D26&\"@8\",'中間シート（個人）'!$F$6:$O$100,5,FALSE)),\"\",VLOOKUP($D26&\"@8\",'中間シート（個人）'!$F$6:$O$100,4,FALSE)&VLOOKUP($D26&\"@8\",'中間シート（個人）'!$F$6:$O$100,5,FALSE))","v":""},{"$f":"IF(ISERROR(VLOOKUP($D26&\"@8\",'中間シート（個人）'!$F$6:$O$100,6,FALSE)&VLOOKUP($D26&\"@8\",'中間シート（個人）'!$F$6:$O$100,7,FALSE)&\".\"&VLOOKUP($D26&\"@8\",'中間シート（個人）'!$F$6:$O$100,8,FALSE)),\"\",VLOOKUP($D26&\"@8\",'中間シート（個人）'!$F$6:$O$100,6,FALSE)&VLOOKUP($D26&\"@8\",'中間シート（個人）'!$F$6:$O$100,7,FALSE)&\".\"&VLOOKUP($D26&\"@8\",'中間シート（個人）'!$F$6:$O$100,8,FALSE))","v":""},{"$f":"IF(ISERROR(VLOOKUP($D26&\"@9\",'中間シート（個人）'!$F$6:$O$100,4,FALSE)&VLOOKUP($D26&\"@9\",'中間シート（個人）'!$F$6:$O$100,5,FALSE)),\"\",VLOOKUP($D26&\"@9\",'中間シート（個人）'!$F$6:$O$100,4,FALSE)&VLOOKUP($D26&\"@9\",'中間シート（個人）'!$F$6:$O$100,5,FALSE))","v":""},{"$f":"IF(ISERROR(VLOOKUP($D26&\"@9\",'中間シート（個人）'!$F$6:$O$100,6,FALSE)&VLOOKUP($D26&\"@9\",'中間シート（個人）'!$F$6:$O$100,7,FALSE)&\".\"&VLOOKUP($D26&\"@9\",'中間シート（個人）'!$F$6:$O$100,8,FALSE)),\"\",VLOOKUP($D26&\"@9\",'中間シート（個人）'!$F$6:$O$100,6,FALSE)&VLOOKUP($D26&\"@9\",'中間シート（個人）'!$F$6:$O$100,7,FALSE)&\".\"&VLOOKUP($D26&\"@9\",'中間シート（個人）'!$F$6:$O$100,8,FALSE))","v":""},{"$f":"IF(ISERROR(VLOOKUP($D26&\"@10\",'中間シート（個人）'!$F$6:$O$100,4,FALSE)&VLOOKUP($D26&\"@10\",'中間シート（個人）'!$F$6:$O$100,5,FALSE)),\"\",VLOOKUP($D26&\"@10\",'中間シート（個人）'!$F$6:$O$100,4,FALSE)&VLOOKUP($D26&\"@10\",'中間シート（個人）'!$F$6:$O$100,5,FALSE))","v":""},{"$f":"IF(ISERROR(VLOOKUP($D26&\"@10\",'中間シート（個人）'!$F$6:$O$100,6,FALSE)&VLOOKUP($D26&\"@10\",'中間シート（個人）'!$F$6:$O$100,7,FALSE)&\".\"&VLOOKUP($D26&\"@10\",'中間シート（個人）'!$F$6:$O$100,8,FALSE)),\"\",VLOOKUP($D26&\"@10\",'中間シート（個人）'!$F$6:$O$100,6,FALSE)&VLOOKUP($D26&\"@10\",'中間シート（個人）'!$F$6:$O$100,7,FALSE)&\".\"&VLOOKUP($D26&\"@10\",'中間シート（個人）'!$F$6:$O$100,8,FALSE))","v":""}]
[null,null,{"$f":"IF('中間シート（個人）'!D29=\"○\",\"\",VLOOKUP(個人種目!F29,コード一覧!$A$2:$B$3,2,FALSE))","v":""},{"$f":"IF('中間シート（個人）'!D29=\"○\",\"\",'中間シート（個人）'!C29)","v":""},{"$f":"IF('中間シート（個人）'!D29=\"○\",\"\",ASC(個人種目!D29&\" \"&個人種目!E29))","v":""},{"$f":"IF('中間シート（個人）'!D29=\"○\",\"\",個人種目!G29&IF(LEN(個人種目!H29)=1,\"0\"&個人種目!H29,個人種目!H29)&IF(LEN(個人種目!I29)=1,\"0\"&個人種目!I29,個人種目!I29))","v":""},{"$f":"IF('中間シート（個人）'!D29=\"○\",\"\",VLOOKUP(個人種目!$J29,コード一覧!$C$3:$D$6,2,FALSE))","v":""},{"$f":"IF('中間シート（個人）'!D29=\"○\",\"\",IF(個人種目!$J29=\"一般\",0,個人種目!$K29))","v":""},{"$f":"IF('中間シート（個人）'!D29=\"○\",\"\",'中間シート（個人）'!H29)","v":""},null,{"$f":"IF('中間シート（個人）'!D29=\"○\",\"\",個人種目!$L$1)","v":""},{"$f":"IF('中間シート（個人）'!D29=\"○\",\"\",ASC(申込書_コナミ!$S$9))","v":""},{"$f":"IF('中間シート（個人）'!D29=\"○\",\"\",申込書_コナミ!$E$8)","v":""},null,null,null,{"$f":"IF('中間シート（個人）'!D29=\"○\",\"\",4)","v":""},{"$f":"IF(ISERROR(VLOOKUP($D27&\"@1\",'中間シート（個人）'!$F$6:$O$100,4,FALSE)&VLOOKUP($D27&\"@1\",'中間シート（個人）'!$F$6:$O$100,5,FALSE)),\"\",VLOOKUP($D27&\"@1\",'中間シート（個人）'!$F$6:$O$100,4,FALSE)&VLOOKUP($D27&\"@1\",'中間シート（個人）'!$F$6:$O$100,5,FALSE))","v":""},{"$f":"IF(ISERROR(VLOOKUP($D27&\"@1\",'中間シート（個人）'!$F$6:$O$100,6,FALSE)&VLOOKUP($D27&\"@1\",'中間シート（個人）'!$F$6:$O$100,7,FALSE)&\".\"&VLOOKUP($D27&\"@1\",'中間シート（個人）'!$F$6:$O$100,8,FALSE)),\"\",VLOOKUP($D27&\"@1\",'中間シート（個人）'!$F$6:$O$100,6,FALSE)&VLOOKUP($D27&\"@1\",'中間シート（個人）'!$F$6:$O$100,7,FALSE)&\".\"&VLOOKUP($D27&\"@1\",'中間シート（個人）'!$F$6:$O$100,8,FALSE))","v":""},{"$f":"IF(ISERROR(VLOOKUP($D27&\"@2\",'中間シート（個人）'!$F$6:$O$100,4,FALSE)&VLOOKUP($D27&\"@2\",'中間シート（個人）'!$F$6:$O$100,5,FALSE)),\"\",VLOOKUP($D27&\"@2\",'中間シート（個人）'!$F$6:$O$100,4,FALSE)&VLOOKUP($D27&\"@2\",'中間シート（個人）'!$F$6:$O$100,5,FALSE))","v":""},{"$f":"IF(ISERROR(VLOOKUP($D27&\"@2\",'中間シート（個人）'!$F$6:$O$100,6,FALSE)&VLOOKUP($D27&\"@2\",'中間シート（個人）'!$F$6:$O$100,7,FALSE)&\".\"&VLOOKUP($D27&\"@2\",'中間シート（個人）'!$F$6:$O$100,8,FALSE)),\"\",VLOOKUP($D27&\"@2\",'中間シート（個人）'!$F$6:$O$100,6,FALSE)&VLOOKUP($D27&\"@2\",'中間シート（個人）'!$F$6:$O$100,7,FALSE)&\".\"&VLOOKUP($D27&\"@2\",'中間シート（個人）'!$F$6:$O$100,8,FALSE))","v":""},{"$f":"IF(ISERROR(VLOOKUP($D27&\"@3\",'中間シート（個人）'!$F$6:$O$100,4,FALSE)&VLOOKUP($D27&\"@3\",'中間シート（個人）'!$F$6:$O$100,5,FALSE)),\"\",VLOOKUP($D27&\"@3\",'中間シート（個人）'!$F$6:$O$100,4,FALSE)&VLOOKUP($D27&\"@3\",'中間シート（個人）'!$F$6:$O$100,5,FALSE))","v":""},{"$f":"IF(ISERROR(VLOOKUP($D27&\"@3\",'中間シート（個人）'!$F$6:$O$100,6,FALSE)&VLOOKUP($D27&\"@3\",'中間シート（個人）'!$F$6:$O$100,7,FALSE)&\".\"&VLOOKUP($D27&\"@3\",'中間シート（個人）'!$F$6:$O$100,8,FALSE)),\"\",VLOOKUP($D27&\"@3\",'中間シート（個人）'!$F$6:$O$100,6,FALSE)&VLOOKUP($D27&\"@3\",'中間シート（個人）'!$F$6:$O$100,7,FALSE)&\".\"&VLOOKUP($D27&\"@3\",'中間シート（個人）'!$F$6:$O$100,8,FALSE))","v":""},{"$f":"IF(ISERROR(VLOOKUP($D27&\"@4\",'中間シート（個人）'!$F$6:$O$100,4,FALSE)&VLOOKUP($D27&\"@4\",'中間シート（個人）'!$F$6:$O$100,5,FALSE)),\"\",VLOOKUP($D27&\"@4\",'中間シート（個人）'!$F$6:$O$100,4,FALSE)&VLOOKUP($D27&\"@4\",'中間シート（個人）'!$F$6:$O$100,5,FALSE))","v":""},{"$f":"IF(ISERROR(VLOOKUP($D27&\"@4\",'中間シート（個人）'!$F$6:$O$100,6,FALSE)&VLOOKUP($D27&\"@4\",'中間シート（個人）'!$F$6:$O$100,7,FALSE)&\".\"&VLOOKUP($D27&\"@4\",'中間シート（個人）'!$F$6:$O$100,8,FALSE)),\"\",VLOOKUP($D27&\"@4\",'中間シート（個人）'!$F$6:$O$100,6,FALSE)&VLOOKUP($D27&\"@4\",'中間シート（個人）'!$F$6:$O$100,7,FALSE)&\".\"&VLOOKUP($D27&\"@4\",'中間シート（個人）'!$F$6:$O$100,8,FALSE))","v":""},{"$f":"IF(ISERROR(VLOOKUP($D27&\"@5\",'中間シート（個人）'!$F$6:$O$100,4,FALSE)&VLOOKUP($D27&\"@5\",'中間シート（個人）'!$F$6:$O$100,5,FALSE)),\"\",VLOOKUP($D27&\"@5\",'中間シート（個人）'!$F$6:$O$100,4,FALSE)&VLOOKUP($D27&\"@5\",'中間シート（個人）'!$F$6:$O$100,5,FALSE))","v":""},{"$f":"IF(ISERROR(VLOOKUP($D27&\"@5\",'中間シート（個人）'!$F$6:$O$100,6,FALSE)&VLOOKUP($D27&\"@5\",'中間シート（個人）'!$F$6:$O$100,7,FALSE)&\".\"&VLOOKUP($D27&\"@5\",'中間シート（個人）'!$F$6:$O$100,8,FALSE)),\"\",VLOOKUP($D27&\"@5\",'中間シート（個人）'!$F$6:$O$100,6,FALSE)&VLOOKUP($D27&\"@5\",'中間シート（個人）'!$F$6:$O$100,7,FALSE)&\".\"&VLOOKUP($D27&\"@5\",'中間シート（個人）'!$F$6:$O$100,8,FALSE))","v":""},{"$f":"IF(ISERROR(VLOOKUP($D27&\"@6\",'中間シート（個人）'!$F$6:$O$100,4,FALSE)&VLOOKUP($D27&\"@6\",'中間シート（個人）'!$F$6:$O$100,5,FALSE)),\"\",VLOOKUP($D27&\"@6\",'中間シート（個人）'!$F$6:$O$100,4,FALSE)&VLOOKUP($D27&\"@6\",'中間シート（個人）'!$F$6:$O$100,5,FALSE))","v":""},{"$f":"IF(ISERROR(VLOOKUP($D27&\"@6\",'中間シート（個人）'!$F$6:$O$100,6,FALSE)&VLOOKUP($D27&\"@6\",'中間シート（個人）'!$F$6:$O$100,7,FALSE)&\".\"&VLOOKUP($D27&\"@6\",'中間シート（個人）'!$F$6:$O$100,8,FALSE)),\"\",VLOOKUP($D27&\"@6\",'中間シート（個人）'!$F$6:$O$100,6,FALSE)&VLOOKUP($D27&\"@6\",'中間シート（個人）'!$F$6:$O$100,7,FALSE)&\".\"&VLOOKUP($D27&\"@6\",'中間シート（個人）'!$F$6:$O$100,8,FALSE))","v":""},{"$f":"IF(ISERROR(VLOOKUP($D27&\"@7\",'中間シート（個人）'!$F$6:$O$100,4,FALSE)&VLOOKUP($D27&\"@7\",'中間シート（個人）'!$F$6:$O$100,5,FALSE)),\"\",VLOOKUP($D27&\"@7\",'中間シート（個人）'!$F$6:$O$100,4,FALSE)&VLOOKUP($D27&\"@7\",'中間シート（個人）'!$F$6:$O$100,5,FALSE))","v":""},{"$f":"IF(ISERROR(VLOOKUP($D27&\"@7\",'中間シート（個人）'!$F$6:$O$100,6,FALSE)&VLOOKUP($D27&\"@7\",'中間シート（個人）'!$F$6:$O$100,7,FALSE)&\".\"&VLOOKUP($D27&\"@7\",'中間シート（個人）'!$F$6:$O$100,8,FALSE)),\"\",VLOOKUP($D27&\"@7\",'中間シート（個人）'!$F$6:$O$100,6,FALSE)&VLOOKUP($D27&\"@7\",'中間シート（個人）'!$F$6:$O$100,7,FALSE)&\".\"&VLOOKUP($D27&\"@7\",'中間シート（個人）'!$F$6:$O$100,8,FALSE))","v":""},{"$f":"IF(ISERROR(VLOOKUP($D27&\"@8\",'中間シート（個人）'!$F$6:$O$100,4,FALSE)&VLOOKUP($D27&\"@8\",'中間シート（個人）'!$F$6:$O$100,5,FALSE)),\"\",VLOOKUP($D27&\"@8\",'中間シート（個人）'!$F$6:$O$100,4,FALSE)&VLOOKUP($D27&\"@8\",'中間シート（個人）'!$F$6:$O$100,5,FALSE))","v":""},{"$f":"IF(ISERROR(VLOOKUP($D27&\"@8\",'中間シート（個人）'!$F$6:$O$100,6,FALSE)&VLOOKUP($D27&\"@8\",'中間シート（個人）'!$F$6:$O$100,7,FALSE)&\".\"&VLOOKUP($D27&\"@8\",'中間シート（個人）'!$F$6:$O$100,8,FALSE)),\"\",VLOOKUP($D27&\"@8\",'中間シート（個人）'!$F$6:$O$100,6,FALSE)&VLOOKUP($D27&\"@8\",'中間シート（個人）'!$F$6:$O$100,7,FALSE)&\".\"&VLOOKUP($D27&\"@8\",'中間シート（個人）'!$F$6:$O$100,8,FALSE))","v":""},{"$f":"IF(ISERROR(VLOOKUP($D27&\"@9\",'中間シート（個人）'!$F$6:$O$100,4,FALSE)&VLOOKUP($D27&\"@9\",'中間シート（個人）'!$F$6:$O$100,5,FALSE)),\"\",VLOOKUP($D27&\"@9\",'中間シート（個人）'!$F$6:$O$100,4,FALSE)&VLOOKUP($D27&\"@9\",'中間シート（個人）'!$F$6:$O$100,5,FALSE))","v":""},{"$f":"IF(ISERROR(VLOOKUP($D27&\"@9\",'中間シート（個人）'!$F$6:$O$100,6,FALSE)&VLOOKUP($D27&\"@9\",'中間シート（個人）'!$F$6:$O$100,7,FALSE)&\".\"&VLOOKUP($D27&\"@9\",'中間シート（個人）'!$F$6:$O$100,8,FALSE)),\"\",VLOOKUP($D27&\"@9\",'中間シート（個人）'!$F$6:$O$100,6,FALSE)&VLOOKUP($D27&\"@9\",'中間シート（個人）'!$F$6:$O$100,7,FALSE)&\".\"&VLOOKUP($D27&\"@9\",'中間シート（個人）'!$F$6:$O$100,8,FALSE))","v":""},{"$f":"IF(ISERROR(VLOOKUP($D27&\"@10\",'中間シート（個人）'!$F$6:$O$100,4,FALSE)&VLOOKUP($D27&\"@10\",'中間シート（個人）'!$F$6:$O$100,5,FALSE)),\"\",VLOOKUP($D27&\"@10\",'中間シート（個人）'!$F$6:$O$100,4,FALSE)&VLOOKUP($D27&\"@10\",'中間シート（個人）'!$F$6:$O$100,5,FALSE))","v":""},{"$f":"IF(ISERROR(VLOOKUP($D27&\"@10\",'中間シート（個人）'!$F$6:$O$100,6,FALSE)&VLOOKUP($D27&\"@10\",'中間シート（個人）'!$F$6:$O$100,7,FALSE)&\".\"&VLOOKUP($D27&\"@10\",'中間シート（個人）'!$F$6:$O$100,8,FALSE)),\"\",VLOOKUP($D27&\"@10\",'中間シート（個人）'!$F$6:$O$100,6,FALSE)&VLOOKUP($D27&\"@10\",'中間シート（個人）'!$F$6:$O$100,7,FALSE)&\".\"&VLOOKUP($D27&\"@10\",'中間シート（個人）'!$F$6:$O$100,8,FALSE))","v":""}]
[null,null,{"$f":"IF('中間シート（個人）'!D30=\"○\",\"\",VLOOKUP(個人種目!F30,コード一覧!$A$2:$B$3,2,FALSE))","v":""},{"$f":"IF('中間シート（個人）'!D30=\"○\",\"\",'中間シート（個人）'!C30)","v":""},{"$f":"IF('中間シート（個人）'!D30=\"○\",\"\",ASC(個人種目!D30&\" \"&個人種目!E30))","v":""},{"$f":"IF('中間シート（個人）'!D30=\"○\",\"\",個人種目!G30&IF(LEN(個人種目!H30)=1,\"0\"&個人種目!H30,個人種目!H30)&IF(LEN(個人種目!I30)=1,\"0\"&個人種目!I30,個人種目!I30))","v":""},{"$f":"IF('中間シート（個人）'!D30=\"○\",\"\",VLOOKUP(個人種目!$J30,コード一覧!$C$3:$D$6,2,FALSE))","v":""},{"$f":"IF('中間シート（個人）'!D30=\"○\",\"\",IF(個人種目!$J30=\"一般\",0,個人種目!$K30))","v":""},{"$f":"IF('中間シート（個人）'!D30=\"○\",\"\",'中間シート（個人）'!H30)","v":""},null,{"$f":"IF('中間シート（個人）'!D30=\"○\",\"\",個人種目!$L$1)","v":""},{"$f":"IF('中間シート（個人）'!D30=\"○\",\"\",ASC(申込書_コナミ!$S$9))","v":""},{"$f":"IF('中間シート（個人）'!D30=\"○\",\"\",申込書_コナミ!$E$8)","v":""},null,null,null,{"$f":"IF('中間シート（個人）'!D30=\"○\",\"\",4)","v":""},{"$f":"IF(ISERROR(VLOOKUP($D28&\"@1\",'中間シート（個人）'!$F$6:$O$100,4,FALSE)&VLOOKUP($D28&\"@1\",'中間シート（個人）'!$F$6:$O$100,5,FALSE)),\"\",VLOOKUP($D28&\"@1\",'中間シート（個人）'!$F$6:$O$100,4,FALSE)&VLOOKUP($D28&\"@1\",'中間シート（個人）'!$F$6:$O$100,5,FALSE))","v":""},{"$f":"IF(ISERROR(VLOOKUP($D28&\"@1\",'中間シート（個人）'!$F$6:$O$100,6,FALSE)&VLOOKUP($D28&\"@1\",'中間シート（個人）'!$F$6:$O$100,7,FALSE)&\".\"&VLOOKUP($D28&\"@1\",'中間シート（個人）'!$F$6:$O$100,8,FALSE)),\"\",VLOOKUP($D28&\"@1\",'中間シート（個人）'!$F$6:$O$100,6,FALSE)&VLOOKUP($D28&\"@1\",'中間シート（個人）'!$F$6:$O$100,7,FALSE)&\".\"&VLOOKUP($D28&\"@1\",'中間シート（個人）'!$F$6:$O$100,8,FALSE))","v":""},{"$f":"IF(ISERROR(VLOOKUP($D28&\"@2\",'中間シート（個人）'!$F$6:$O$100,4,FALSE)&VLOOKUP($D28&\"@2\",'中間シート（個人）'!$F$6:$O$100,5,FALSE)),\"\",VLOOKUP($D28&\"@2\",'中間シート（個人）'!$F$6:$O$100,4,FALSE)&VLOOKUP($D28&\"@2\",'中間シート（個人）'!$F$6:$O$100,5,FALSE))","v":""},{"$f":"IF(ISERROR(VLOOKUP($D28&\"@2\",'中間シート（個人）'!$F$6:$O$100,6,FALSE)&VLOOKUP($D28&\"@2\",'中間シート（個人）'!$F$6:$O$100,7,FALSE)&\".\"&VLOOKUP($D28&\"@2\",'中間シート（個人）'!$F$6:$O$100,8,FALSE)),\"\",VLOOKUP($D28&\"@2\",'中間シート（個人）'!$F$6:$O$100,6,FALSE)&VLOOKUP($D28&\"@2\",'中間シート（個人）'!$F$6:$O$100,7,FALSE)&\".\"&VLOOKUP($D28&\"@2\",'中間シート（個人）'!$F$6:$O$100,8,FALSE))","v":""},{"$f":"IF(ISERROR(VLOOKUP($D28&\"@3\",'中間シート（個人）'!$F$6:$O$100,4,FALSE)&VLOOKUP($D28&\"@3\",'中間シート（個人）'!$F$6:$O$100,5,FALSE)),\"\",VLOOKUP($D28&\"@3\",'中間シート（個人）'!$F$6:$O$100,4,FALSE)&VLOOKUP($D28&\"@3\",'中間シート（個人）'!$F$6:$O$100,5,FALSE))","v":""},{"$f":"IF(ISERROR(VLOOKUP($D28&\"@3\",'中間シート（個人）'!$F$6:$O$100,6,FALSE)&VLOOKUP($D28&\"@3\",'中間シート（個人）'!$F$6:$O$100,7,FALSE)&\".\"&VLOOKUP($D28&\"@3\",'中間シート（個人）'!$F$6:$O$100,8,FALSE)),\"\",VLOOKUP($D28&\"@3\",'中間シート（個人）'!$F$6:$O$100,6,FALSE)&VLOOKUP($D28&\"@3\",'中間シート（個人）'!$F$6:$O$100,7,FALSE)&\".\"&VLOOKUP($D28&\"@3\",'中間シート（個人）'!$F$6:$O$100,8,FALSE))","v":""},{"$f":"IF(ISERROR(VLOOKUP($D28&\"@4\",'中間シート（個人）'!$F$6:$O$100,4,FALSE)&VLOOKUP($D28&\"@4\",'中間シート（個人）'!$F$6:$O$100,5,FALSE)),\"\",VLOOKUP($D28&\"@4\",'中間シート（個人）'!$F$6:$O$100,4,FALSE)&VLOOKUP($D28&\"@4\",'中間シート（個人）'!$F$6:$O$100,5,FALSE))","v":""},{"$f":"IF(ISERROR(VLOOKUP($D28&\"@4\",'中間シート（個人）'!$F$6:$O$100,6,FALSE)&VLOOKUP($D28&\"@4\",'中間シート（個人）'!$F$6:$O$100,7,FALSE)&\".\"&VLOOKUP($D28&\"@4\",'中間シート（個人）'!$F$6:$O$100,8,FALSE)),\"\",VLOOKUP($D28&\"@4\",'中間シート（個人）'!$F$6:$O$100,6,FALSE)&VLOOKUP($D28&\"@4\",'中間シート（個人）'!$F$6:$O$100,7,FALSE)&\".\"&VLOOKUP($D28&\"@4\",'中間シート（個人）'!$F$6:$O$100,8,FALSE))","v":""},{"$f":"IF(ISERROR(VLOOKUP($D28&\"@5\",'中間シート（個人）'!$F$6:$O$100,4,FALSE)&VLOOKUP($D28&\"@5\",'中間シート（個人）'!$F$6:$O$100,5,FALSE)),\"\",VLOOKUP($D28&\"@5\",'中間シート（個人）'!$F$6:$O$100,4,FALSE)&VLOOKUP($D28&\"@5\",'中間シート（個人）'!$F$6:$O$100,5,FALSE))","v":""},{"$f":"IF(ISERROR(VLOOKUP($D28&\"@5\",'中間シート（個人）'!$F$6:$O$100,6,FALSE)&VLOOKUP($D28&\"@5\",'中間シート（個人）'!$F$6:$O$100,7,FALSE)&\".\"&VLOOKUP($D28&\"@5\",'中間シート（個人）'!$F$6:$O$100,8,FALSE)),\"\",VLOOKUP($D28&\"@5\",'中間シート（個人）'!$F$6:$O$100,6,FALSE)&VLOOKUP($D28&\"@5\",'中間シート（個人）'!$F$6:$O$100,7,FALSE)&\".\"&VLOOKUP($D28&\"@5\",'中間シート（個人）'!$F$6:$O$100,8,FALSE))","v":""},{"$f":"IF(ISERROR(VLOOKUP($D28&\"@6\",'中間シート（個人）'!$F$6:$O$100,4,FALSE)&VLOOKUP($D28&\"@6\",'中間シート（個人）'!$F$6:$O$100,5,FALSE)),\"\",VLOOKUP($D28&\"@6\",'中間シート（個人）'!$F$6:$O$100,4,FALSE)&VLOOKUP($D28&\"@6\",'中間シート（個人）'!$F$6:$O$100,5,FALSE))","v":""},{"$f":"IF(ISERROR(VLOOKUP($D28&\"@6\",'中間シート（個人）'!$F$6:$O$100,6,FALSE)&VLOOKUP($D28&\"@6\",'中間シート（個人）'!$F$6:$O$100,7,FALSE)&\".\"&VLOOKUP($D28&\"@6\",'中間シート（個人）'!$F$6:$O$100,8,FALSE)),\"\",VLOOKUP($D28&\"@6\",'中間シート（個人）'!$F$6:$O$100,6,FALSE)&VLOOKUP($D28&\"@6\",'中間シート（個人）'!$F$6:$O$100,7,FALSE)&\".\"&VLOOKUP($D28&\"@6\",'中間シート（個人）'!$F$6:$O$100,8,FALSE))","v":""},{"$f":"IF(ISERROR(VLOOKUP($D28&\"@7\",'中間シート（個人）'!$F$6:$O$100,4,FALSE)&VLOOKUP($D28&\"@7\",'中間シート（個人）'!$F$6:$O$100,5,FALSE)),\"\",VLOOKUP($D28&\"@7\",'中間シート（個人）'!$F$6:$O$100,4,FALSE)&VLOOKUP($D28&\"@7\",'中間シート（個人）'!$F$6:$O$100,5,FALSE))","v":""},{"$f":"IF(ISERROR(VLOOKUP($D28&\"@7\",'中間シート（個人）'!$F$6:$O$100,6,FALSE)&VLOOKUP($D28&\"@7\",'中間シート（個人）'!$F$6:$O$100,7,FALSE)&\".\"&VLOOKUP($D28&\"@7\",'中間シート（個人）'!$F$6:$O$100,8,FALSE)),\"\",VLOOKUP($D28&\"@7\",'中間シート（個人）'!$F$6:$O$100,6,FALSE)&VLOOKUP($D28&\"@7\",'中間シート（個人）'!$F$6:$O$100,7,FALSE)&\".\"&VLOOKUP($D28&\"@7\",'中間シート（個人）'!$F$6:$O$100,8,FALSE))","v":""},{"$f":"IF(ISERROR(VLOOKUP($D28&\"@8\",'中間シート（個人）'!$F$6:$O$100,4,FALSE)&VLOOKUP($D28&\"@8\",'中間シート（個人）'!$F$6:$O$100,5,FALSE)),\"\",VLOOKUP($D28&\"@8\",'中間シート（個人）'!$F$6:$O$100,4,FALSE)&VLOOKUP($D28&\"@8\",'中間シート（個人）'!$F$6:$O$100,5,FALSE))","v":""},{"$f":"IF(ISERROR(VLOOKUP($D28&\"@8\",'中間シート（個人）'!$F$6:$O$100,6,FALSE)&VLOOKUP($D28&\"@8\",'中間シート（個人）'!$F$6:$O$100,7,FALSE)&\".\"&VLOOKUP($D28&\"@8\",'中間シート（個人）'!$F$6:$O$100,8,FALSE)),\"\",VLOOKUP($D28&\"@8\",'中間シート（個人）'!$F$6:$O$100,6,FALSE)&VLOOKUP($D28&\"@8\",'中間シート（個人）'!$F$6:$O$100,7,FALSE)&\".\"&VLOOKUP($D28&\"@8\",'中間シート（個人）'!$F$6:$O$100,8,FALSE))","v":""},{"$f":"IF(ISERROR(VLOOKUP($D28&\"@9\",'中間シート（個人）'!$F$6:$O$100,4,FALSE)&VLOOKUP($D28&\"@9\",'中間シート（個人）'!$F$6:$O$100,5,FALSE)),\"\",VLOOKUP($D28&\"@9\",'中間シート（個人）'!$F$6:$O$100,4,FALSE)&VLOOKUP($D28&\"@9\",'中間シート（個人）'!$F$6:$O$100,5,FALSE))","v":""},{"$f":"IF(ISERROR(VLOOKUP($D28&\"@9\",'中間シート（個人）'!$F$6:$O$100,6,FALSE)&VLOOKUP($D28&\"@9\",'中間シート（個人）'!$F$6:$O$100,7,FALSE)&\".\"&VLOOKUP($D28&\"@9\",'中間シート（個人）'!$F$6:$O$100,8,FALSE)),\"\",VLOOKUP($D28&\"@9\",'中間シート（個人）'!$F$6:$O$100,6,FALSE)&VLOOKUP($D28&\"@9\",'中間シート（個人）'!$F$6:$O$100,7,FALSE)&\".\"&VLOOKUP($D28&\"@9\",'中間シート（個人）'!$F$6:$O$100,8,FALSE))","v":""},{"$f":"IF(ISERROR(VLOOKUP($D28&\"@10\",'中間シート（個人）'!$F$6:$O$100,4,FALSE)&VLOOKUP($D28&\"@10\",'中間シート（個人）'!$F$6:$O$100,5,FALSE)),\"\",VLOOKUP($D28&\"@10\",'中間シート（個人）'!$F$6:$O$100,4,FALSE)&VLOOKUP($D28&\"@10\",'中間シート（個人）'!$F$6:$O$100,5,FALSE))","v":""},{"$f":"IF(ISERROR(VLOOKUP($D28&\"@10\",'中間シート（個人）'!$F$6:$O$100,6,FALSE)&VLOOKUP($D28&\"@10\",'中間シート（個人）'!$F$6:$O$100,7,FALSE)&\".\"&VLOOKUP($D28&\"@10\",'中間シート（個人）'!$F$6:$O$100,8,FALSE)),\"\",VLOOKUP($D28&\"@10\",'中間シート（個人）'!$F$6:$O$100,6,FALSE)&VLOOKUP($D28&\"@10\",'中間シート（個人）'!$F$6:$O$100,7,FALSE)&\".\"&VLOOKUP($D28&\"@10\",'中間シート（個人）'!$F$6:$O$100,8,FALSE))","v":""}]
[null,null,{"$f":"IF('中間シート（個人）'!D31=\"○\",\"\",VLOOKUP(個人種目!F31,コード一覧!$A$2:$B$3,2,FALSE))","v":""},{"$f":"IF('中間シート（個人）'!D31=\"○\",\"\",'中間シート（個人）'!C31)","v":""},{"$f":"IF('中間シート（個人）'!D31=\"○\",\"\",ASC(個人種目!D31&\" \"&個人種目!E31))","v":""},{"$f":"IF('中間シート（個人）'!D31=\"○\",\"\",個人種目!G31&IF(LEN(個人種目!H31)=1,\"0\"&個人種目!H31,個人種目!H31)&IF(LEN(個人種目!I31)=1,\"0\"&個人種目!I31,個人種目!I31))","v":""},{"$f":"IF('中間シート（個人）'!D31=\"○\",\"\",VLOOKUP(個人種目!$J31,コード一覧!$C$3:$D$6,2,FALSE))","v":""},{"$f":"IF('中間シート（個人）'!D31=\"○\",\"\",IF(個人種目!$J31=\"一般\",0,個人種目!$K31))","v":""},{"$f":"IF('中間シート（個人）'!D31=\"○\",\"\",'中間シート（個人）'!H31)","v":""},null,{"$f":"IF('中間シート（個人）'!D31=\"○\",\"\",個人種目!$L$1)","v":""},{"$f":"IF('中間シート（個人）'!D31=\"○\",\"\",ASC(申込書_コナミ!$S$9))","v":""},{"$f":"IF('中間シート（個人）'!D31=\"○\",\"\",申込書_コナミ!$E$8)","v":""},null,null,null,{"$f":"IF('中間シート（個人）'!D31=\"○\",\"\",4)","v":""},{"$f":"IF(ISERROR(VLOOKUP($D29&\"@1\",'中間シート（個人）'!$F$6:$O$100,4,FALSE)&VLOOKUP($D29&\"@1\",'中間シート（個人）'!$F$6:$O$100,5,FALSE)),\"\",VLOOKUP($D29&\"@1\",'中間シート（個人）'!$F$6:$O$100,4,FALSE)&VLOOKUP($D29&\"@1\",'中間シート（個人）'!$F$6:$O$100,5,FALSE))","v":""},{"$f":"IF(ISERROR(VLOOKUP($D29&\"@1\",'中間シート（個人）'!$F$6:$O$100,6,FALSE)&VLOOKUP($D29&\"@1\",'中間シート（個人）'!$F$6:$O$100,7,FALSE)&\".\"&VLOOKUP($D29&\"@1\",'中間シート（個人）'!$F$6:$O$100,8,FALSE)),\"\",VLOOKUP($D29&\"@1\",'中間シート（個人）'!$F$6:$O$100,6,FALSE)&VLOOKUP($D29&\"@1\",'中間シート（個人）'!$F$6:$O$100,7,FALSE)&\".\"&VLOOKUP($D29&\"@1\",'中間シート（個人）'!$F$6:$O$100,8,FALSE))","v":""},{"$f":"IF(ISERROR(VLOOKUP($D29&\"@2\",'中間シート（個人）'!$F$6:$O$100,4,FALSE)&VLOOKUP($D29&\"@2\",'中間シート（個人）'!$F$6:$O$100,5,FALSE)),\"\",VLOOKUP($D29&\"@2\",'中間シート（個人）'!$F$6:$O$100,4,FALSE)&VLOOKUP($D29&\"@2\",'中間シート（個人）'!$F$6:$O$100,5,FALSE))","v":""},{"$f":"IF(ISERROR(VLOOKUP($D29&\"@2\",'中間シート（個人）'!$F$6:$O$100,6,FALSE)&VLOOKUP($D29&\"@2\",'中間シート（個人）'!$F$6:$O$100,7,FALSE)&\".\"&VLOOKUP($D29&\"@2\",'中間シート（個人）'!$F$6:$O$100,8,FALSE)),\"\",VLOOKUP($D29&\"@2\",'中間シート（個人）'!$F$6:$O$100,6,FALSE)&VLOOKUP($D29&\"@2\",'中間シート（個人）'!$F$6:$O$100,7,FALSE)&\".\"&VLOOKUP($D29&\"@2\",'中間シート（個人）'!$F$6:$O$100,8,FALSE))","v":""},{"$f":"IF(ISERROR(VLOOKUP($D29&\"@3\",'中間シート（個人）'!$F$6:$O$100,4,FALSE)&VLOOKUP($D29&\"@3\",'中間シート（個人）'!$F$6:$O$100,5,FALSE)),\"\",VLOOKUP($D29&\"@3\",'中間シート（個人）'!$F$6:$O$100,4,FALSE)&VLOOKUP($D29&\"@3\",'中間シート（個人）'!$F$6:$O$100,5,FALSE))","v":""},{"$f":"IF(ISERROR(VLOOKUP($D29&\"@3\",'中間シート（個人）'!$F$6:$O$100,6,FALSE)&VLOOKUP($D29&\"@3\",'中間シート（個人）'!$F$6:$O$100,7,FALSE)&\".\"&VLOOKUP($D29&\"@3\",'中間シート（個人）'!$F$6:$O$100,8,FALSE)),\"\",VLOOKUP($D29&\"@3\",'中間シート（個人）'!$F$6:$O$100,6,FALSE)&VLOOKUP($D29&\"@3\",'中間シート（個人）'!$F$6:$O$100,7,FALSE)&\".\"&VLOOKUP($D29&\"@3\",'中間シート（個人）'!$F$6:$O$100,8,FALSE))","v":""},{"$f":"IF(ISERROR(VLOOKUP($D29&\"@4\",'中間シート（個人）'!$F$6:$O$100,4,FALSE)&VLOOKUP($D29&\"@4\",'中間シート（個人）'!$F$6:$O$100,5,FALSE)),\"\",VLOOKUP($D29&\"@4\",'中間シート（個人）'!$F$6:$O$100,4,FALSE)&VLOOKUP($D29&\"@4\",'中間シート（個人）'!$F$6:$O$100,5,FALSE))","v":""},{"$f":"IF(ISERROR(VLOOKUP($D29&\"@4\",'中間シート（個人）'!$F$6:$O$100,6,FALSE)&VLOOKUP($D29&\"@4\",'中間シート（個人）'!$F$6:$O$100,7,FALSE)&\".\"&VLOOKUP($D29&\"@4\",'中間シート（個人）'!$F$6:$O$100,8,FALSE)),\"\",VLOOKUP($D29&\"@4\",'中間シート（個人）'!$F$6:$O$100,6,FALSE)&VLOOKUP($D29&\"@4\",'中間シート（個人）'!$F$6:$O$100,7,FALSE)&\".\"&VLOOKUP($D29&\"@4\",'中間シート（個人）'!$F$6:$O$100,8,FALSE))","v":""},{"$f":"IF(ISERROR(VLOOKUP($D29&\"@5\",'中間シート（個人）'!$F$6:$O$100,4,FALSE)&VLOOKUP($D29&\"@5\",'中間シート（個人）'!$F$6:$O$100,5,FALSE)),\"\",VLOOKUP($D29&\"@5\",'中間シート（個人）'!$F$6:$O$100,4,FALSE)&VLOOKUP($D29&\"@5\",'中間シート（個人）'!$F$6:$O$100,5,FALSE))","v":""},{"$f":"IF(ISERROR(VLOOKUP($D29&\"@5\",'中間シート（個人）'!$F$6:$O$100,6,FALSE)&VLOOKUP($D29&\"@5\",'中間シート（個人）'!$F$6:$O$100,7,FALSE)&\".\"&VLOOKUP($D29&\"@5\",'中間シート（個人）'!$F$6:$O$100,8,FALSE)),\"\",VLOOKUP($D29&\"@5\",'中間シート（個人）'!$F$6:$O$100,6,FALSE)&VLOOKUP($D29&\"@5\",'中間シート（個人）'!$F$6:$O$100,7,FALSE)&\".\"&VLOOKUP($D29&\"@5\",'中間シート（個人）'!$F$6:$O$100,8,FALSE))","v":""},{"$f":"IF(ISERROR(VLOOKUP($D29&\"@6\",'中間シート（個人）'!$F$6:$O$100,4,FALSE)&VLOOKUP($D29&\"@6\",'中間シート（個人）'!$F$6:$O$100,5,FALSE)),\"\",VLOOKUP($D29&\"@6\",'中間シート（個人）'!$F$6:$O$100,4,FALSE)&VLOOKUP($D29&\"@6\",'中間シート（個人）'!$F$6:$O$100,5,FALSE))","v":""},{"$f":"IF(ISERROR(VLOOKUP($D29&\"@6\",'中間シート（個人）'!$F$6:$O$100,6,FALSE)&VLOOKUP($D29&\"@6\",'中間シート（個人）'!$F$6:$O$100,7,FALSE)&\".\"&VLOOKUP($D29&\"@6\",'中間シート（個人）'!$F$6:$O$100,8,FALSE)),\"\",VLOOKUP($D29&\"@6\",'中間シート（個人）'!$F$6:$O$100,6,FALSE)&VLOOKUP($D29&\"@6\",'中間シート（個人）'!$F$6:$O$100,7,FALSE)&\".\"&VLOOKUP($D29&\"@6\",'中間シート（個人）'!$F$6:$O$100,8,FALSE))","v":""},{"$f":"IF(ISERROR(VLOOKUP($D29&\"@7\",'中間シート（個人）'!$F$6:$O$100,4,FALSE)&VLOOKUP($D29&\"@7\",'中間シート（個人）'!$F$6:$O$100,5,FALSE)),\"\",VLOOKUP($D29&\"@7\",'中間シート（個人）'!$F$6:$O$100,4,FALSE)&VLOOKUP($D29&\"@7\",'中間シート（個人）'!$F$6:$O$100,5,FALSE))","v":""},{"$f":"IF(ISERROR(VLOOKUP($D29&\"@7\",'中間シート（個人）'!$F$6:$O$100,6,FALSE)&VLOOKUP($D29&\"@7\",'中間シート（個人）'!$F$6:$O$100,7,FALSE)&\".\"&VLOOKUP($D29&\"@7\",'中間シート（個人）'!$F$6:$O$100,8,FALSE)),\"\",VLOOKUP($D29&\"@7\",'中間シート（個人）'!$F$6:$O$100,6,FALSE)&VLOOKUP($D29&\"@7\",'中間シート（個人）'!$F$6:$O$100,7,FALSE)&\".\"&VLOOKUP($D29&\"@7\",'中間シート（個人）'!$F$6:$O$100,8,FALSE))","v":""},{"$f":"IF(ISERROR(VLOOKUP($D29&\"@8\",'中間シート（個人）'!$F$6:$O$100,4,FALSE)&VLOOKUP($D29&\"@8\",'中間シート（個人）'!$F$6:$O$100,5,FALSE)),\"\",VLOOKUP($D29&\"@8\",'中間シート（個人）'!$F$6:$O$100,4,FALSE)&VLOOKUP($D29&\"@8\",'中間シート（個人）'!$F$6:$O$100,5,FALSE))","v":""},{"$f":"IF(ISERROR(VLOOKUP($D29&\"@8\",'中間シート（個人）'!$F$6:$O$100,6,FALSE)&VLOOKUP($D29&\"@8\",'中間シート（個人）'!$F$6:$O$100,7,FALSE)&\".\"&VLOOKUP($D29&\"@8\",'中間シート（個人）'!$F$6:$O$100,8,FALSE)),\"\",VLOOKUP($D29&\"@8\",'中間シート（個人）'!$F$6:$O$100,6,FALSE)&VLOOKUP($D29&\"@8\",'中間シート（個人）'!$F$6:$O$100,7,FALSE)&\".\"&VLOOKUP($D29&\"@8\",'中間シート（個人）'!$F$6:$O$100,8,FALSE))","v":""},{"$f":"IF(ISERROR(VLOOKUP($D29&\"@9\",'中間シート（個人）'!$F$6:$O$100,4,FALSE)&VLOOKUP($D29&\"@9\",'中間シート（個人）'!$F$6:$O$100,5,FALSE)),\"\",VLOOKUP($D29&\"@9\",'中間シート（個人）'!$F$6:$O$100,4,FALSE)&VLOOKUP($D29&\"@9\",'中間シート（個人）'!$F$6:$O$100,5,FALSE))","v":""},{"$f":"IF(ISERROR(VLOOKUP($D29&\"@9\",'中間シート（個人）'!$F$6:$O$100,6,FALSE)&VLOOKUP($D29&\"@9\",'中間シート（個人）'!$F$6:$O$100,7,FALSE)&\".\"&VLOOKUP($D29&\"@9\",'中間シート（個人）'!$F$6:$O$100,8,FALSE)),\"\",VLOOKUP($D29&\"@9\",'中間シート（個人）'!$F$6:$O$100,6,FALSE)&VLOOKUP($D29&\"@9\",'中間シート（個人）'!$F$6:$O$100,7,FALSE)&\".\"&VLOOKUP($D29&\"@9\",'中間シート（個人）'!$F$6:$O$100,8,FALSE))","v":""},{"$f":"IF(ISERROR(VLOOKUP($D29&\"@10\",'中間シート（個人）'!$F$6:$O$100,4,FALSE)&VLOOKUP($D29&\"@10\",'中間シート（個人）'!$F$6:$O$100,5,FALSE)),\"\",VLOOKUP($D29&\"@10\",'中間シート（個人）'!$F$6:$O$100,4,FALSE)&VLOOKUP($D29&\"@10\",'中間シート（個人）'!$F$6:$O$100,5,FALSE))","v":""},{"$f":"IF(ISERROR(VLOOKUP($D29&\"@10\",'中間シート（個人）'!$F$6:$O$100,6,FALSE)&VLOOKUP($D29&\"@10\",'中間シート（個人）'!$F$6:$O$100,7,FALSE)&\".\"&VLOOKUP($D29&\"@10\",'中間シート（個人）'!$F$6:$O$100,8,FALSE)),\"\",VLOOKUP($D29&\"@10\",'中間シート（個人）'!$F$6:$O$100,6,FALSE)&VLOOKUP($D29&\"@10\",'中間シート（個人）'!$F$6:$O$100,7,FALSE)&\".\"&VLOOKUP($D29&\"@10\",'中間シート（個人）'!$F$6:$O$100,8,FALSE))","v":""}]
[null,null,{"$f":"IF('中間シート（個人）'!D32=\"○\",\"\",VLOOKUP(個人種目!F32,コード一覧!$A$2:$B$3,2,FALSE))","v":""},{"$f":"IF('中間シート（個人）'!D32=\"○\",\"\",'中間シート（個人）'!C32)","v":""},{"$f":"IF('中間シート（個人）'!D32=\"○\",\"\",ASC(個人種目!D32&\" \"&個人種目!E32))","v":""},{"$f":"IF('中間シート（個人）'!D32=\"○\",\"\",個人種目!G32&IF(LEN(個人種目!H32)=1,\"0\"&個人種目!H32,個人種目!H32)&IF(LEN(個人種目!I32)=1,\"0\"&個人種目!I32,個人種目!I32))","v":""},{"$f":"IF('中間シート（個人）'!D32=\"○\",\"\",VLOOKUP(個人種目!$J32,コード一覧!$C$3:$D$6,2,FALSE))","v":""},{"$f":"IF('中間シート（個人）'!D32=\"○\",\"\",IF(個人種目!$J32=\"一般\",0,個人種目!$K32))","v":""},{"$f":"IF('中間シート（個人）'!D32=\"○\",\"\",'中間シート（個人）'!H32)","v":""},null,{"$f":"IF('中間シート（個人）'!D32=\"○\",\"\",個人種目!$L$1)","v":""},{"$f":"IF('中間シート（個人）'!D32=\"○\",\"\",ASC(申込書_コナミ!$S$9))","v":""},{"$f":"IF('中間シート（個人）'!D32=\"○\",\"\",申込書_コナミ!$E$8)","v":""},null,null,null,{"$f":"IF('中間シート（個人）'!D32=\"○\",\"\",4)","v":""},{"$f":"IF(ISERROR(VLOOKUP($D30&\"@1\",'中間シート（個人）'!$F$6:$O$100,4,FALSE)&VLOOKUP($D30&\"@1\",'中間シート（個人）'!$F$6:$O$100,5,FALSE)),\"\",VLOOKUP($D30&\"@1\",'中間シート（個人）'!$F$6:$O$100,4,FALSE)&VLOOKUP($D30&\"@1\",'中間シート（個人）'!$F$6:$O$100,5,FALSE))","v":""},{"$f":"IF(ISERROR(VLOOKUP($D30&\"@1\",'中間シート（個人）'!$F$6:$O$100,6,FALSE)&VLOOKUP($D30&\"@1\",'中間シート（個人）'!$F$6:$O$100,7,FALSE)&\".\"&VLOOKUP($D30&\"@1\",'中間シート（個人）'!$F$6:$O$100,8,FALSE)),\"\",VLOOKUP($D30&\"@1\",'中間シート（個人）'!$F$6:$O$100,6,FALSE)&VLOOKUP($D30&\"@1\",'中間シート（個人）'!$F$6:$O$100,7,FALSE)&\".\"&VLOOKUP($D30&\"@1\",'中間シート（個人）'!$F$6:$O$100,8,FALSE))","v":""},{"$f":"IF(ISERROR(VLOOKUP($D30&\"@2\",'中間シート（個人）'!$F$6:$O$100,4,FALSE)&VLOOKUP($D30&\"@2\",'中間シート（個人）'!$F$6:$O$100,5,FALSE)),\"\",VLOOKUP($D30&\"@2\",'中間シート（個人）'!$F$6:$O$100,4,FALSE)&VLOOKUP($D30&\"@2\",'中間シート（個人）'!$F$6:$O$100,5,FALSE))","v":""},{"$f":"IF(ISERROR(VLOOKUP($D30&\"@2\",'中間シート（個人）'!$F$6:$O$100,6,FALSE)&VLOOKUP($D30&\"@2\",'中間シート（個人）'!$F$6:$O$100,7,FALSE)&\".\"&VLOOKUP($D30&\"@2\",'中間シート（個人）'!$F$6:$O$100,8,FALSE)),\"\",VLOOKUP($D30&\"@2\",'中間シート（個人）'!$F$6:$O$100,6,FALSE)&VLOOKUP($D30&\"@2\",'中間シート（個人）'!$F$6:$O$100,7,FALSE)&\".\"&VLOOKUP($D30&\"@2\",'中間シート（個人）'!$F$6:$O$100,8,FALSE))","v":""},{"$f":"IF(ISERROR(VLOOKUP($D30&\"@3\",'中間シート（個人）'!$F$6:$O$100,4,FALSE)&VLOOKUP($D30&\"@3\",'中間シート（個人）'!$F$6:$O$100,5,FALSE)),\"\",VLOOKUP($D30&\"@3\",'中間シート（個人）'!$F$6:$O$100,4,FALSE)&VLOOKUP($D30&\"@3\",'中間シート（個人）'!$F$6:$O$100,5,FALSE))","v":""},{"$f":"IF(ISERROR(VLOOKUP($D30&\"@3\",'中間シート（個人）'!$F$6:$O$100,6,FALSE)&VLOOKUP($D30&\"@3\",'中間シート（個人）'!$F$6:$O$100,7,FALSE)&\".\"&VLOOKUP($D30&\"@3\",'中間シート（個人）'!$F$6:$O$100,8,FALSE)),\"\",VLOOKUP($D30&\"@3\",'中間シート（個人）'!$F$6:$O$100,6,FALSE)&VLOOKUP($D30&\"@3\",'中間シート（個人）'!$F$6:$O$100,7,FALSE)&\".\"&VLOOKUP($D30&\"@3\",'中間シート（個人）'!$F$6:$O$100,8,FALSE))","v":""},{"$f":"IF(ISERROR(VLOOKUP($D30&\"@4\",'中間シート（個人）'!$F$6:$O$100,4,FALSE)&VLOOKUP($D30&\"@4\",'中間シート（個人）'!$F$6:$O$100,5,FALSE)),\"\",VLOOKUP($D30&\"@4\",'中間シート（個人）'!$F$6:$O$100,4,FALSE)&VLOOKUP($D30&\"@4\",'中間シート（個人）'!$F$6:$O$100,5,FALSE))","v":""},{"$f":"IF(ISERROR(VLOOKUP($D30&\"@4\",'中間シート（個人）'!$F$6:$O$100,6,FALSE)&VLOOKUP($D30&\"@4\",'中間シート（個人）'!$F$6:$O$100,7,FALSE)&\".\"&VLOOKUP($D30&\"@4\",'中間シート（個人）'!$F$6:$O$100,8,FALSE)),\"\",VLOOKUP($D30&\"@4\",'中間シート（個人）'!$F$6:$O$100,6,FALSE)&VLOOKUP($D30&\"@4\",'中間シート（個人）'!$F$6:$O$100,7,FALSE)&\".\"&VLOOKUP($D30&\"@4\",'中間シート（個人）'!$F$6:$O$100,8,FALSE))","v":""},{"$f":"IF(ISERROR(VLOOKUP($D30&\"@5\",'中間シート（個人）'!$F$6:$O$100,4,FALSE)&VLOOKUP($D30&\"@5\",'中間シート（個人）'!$F$6:$O$100,5,FALSE)),\"\",VLOOKUP($D30&\"@5\",'中間シート（個人）'!$F$6:$O$100,4,FALSE)&VLOOKUP($D30&\"@5\",'中間シート（個人）'!$F$6:$O$100,5,FALSE))","v":""},{"$f":"IF(ISERROR(VLOOKUP($D30&\"@5\",'中間シート（個人）'!$F$6:$O$100,6,FALSE)&VLOOKUP($D30&\"@5\",'中間シート（個人）'!$F$6:$O$100,7,FALSE)&\".\"&VLOOKUP($D30&\"@5\",'中間シート（個人）'!$F$6:$O$100,8,FALSE)),\"\",VLOOKUP($D30&\"@5\",'中間シート（個人）'!$F$6:$O$100,6,FALSE)&VLOOKUP($D30&\"@5\",'中間シート（個人）'!$F$6:$O$100,7,FALSE)&\".\"&VLOOKUP($D30&\"@5\",'中間シート（個人）'!$F$6:$O$100,8,FALSE))","v":""},{"$f":"IF(ISERROR(VLOOKUP($D30&\"@6\",'中間シート（個人）'!$F$6:$O$100,4,FALSE)&VLOOKUP($D30&\"@6\",'中間シート（個人）'!$F$6:$O$100,5,FALSE)),\"\",VLOOKUP($D30&\"@6\",'中間シート（個人）'!$F$6:$O$100,4,FALSE)&VLOOKUP($D30&\"@6\",'中間シート（個人）'!$F$6:$O$100,5,FALSE))","v":""},{"$f":"IF(ISERROR(VLOOKUP($D30&\"@6\",'中間シート（個人）'!$F$6:$O$100,6,FALSE)&VLOOKUP($D30&\"@6\",'中間シート（個人）'!$F$6:$O$100,7,FALSE)&\".\"&VLOOKUP($D30&\"@6\",'中間シート（個人）'!$F$6:$O$100,8,FALSE)),\"\",VLOOKUP($D30&\"@6\",'中間シート（個人）'!$F$6:$O$100,6,FALSE)&VLOOKUP($D30&\"@6\",'中間シート（個人）'!$F$6:$O$100,7,FALSE)&\".\"&VLOOKUP($D30&\"@6\",'中間シート（個人）'!$F$6:$O$100,8,FALSE))","v":""},{"$f":"IF(ISERROR(VLOOKUP($D30&\"@7\",'中間シート（個人）'!$F$6:$O$100,4,FALSE)&VLOOKUP($D30&\"@7\",'中間シート（個人）'!$F$6:$O$100,5,FALSE)),\"\",VLOOKUP($D30&\"@7\",'中間シート（個人）'!$F$6:$O$100,4,FALSE)&VLOOKUP($D30&\"@7\",'中間シート（個人）'!$F$6:$O$100,5,FALSE))","v":""},{"$f":"IF(ISERROR(VLOOKUP($D30&\"@7\",'中間シート（個人）'!$F$6:$O$100,6,FALSE)&VLOOKUP($D30&\"@7\",'中間シート（個人）'!$F$6:$O$100,7,FALSE)&\".\"&VLOOKUP($D30&\"@7\",'中間シート（個人）'!$F$6:$O$100,8,FALSE)),\"\",VLOOKUP($D30&\"@7\",'中間シート（個人）'!$F$6:$O$100,6,FALSE)&VLOOKUP($D30&\"@7\",'中間シート（個人）'!$F$6:$O$100,7,FALSE)&\".\"&VLOOKUP($D30&\"@7\",'中間シート（個人）'!$F$6:$O$100,8,FALSE))","v":""},{"$f":"IF(ISERROR(VLOOKUP($D30&\"@8\",'中間シート（個人）'!$F$6:$O$100,4,FALSE)&VLOOKUP($D30&\"@8\",'中間シート（個人）'!$F$6:$O$100,5,FALSE)),\"\",VLOOKUP($D30&\"@8\",'中間シート（個人）'!$F$6:$O$100,4,FALSE)&VLOOKUP($D30&\"@8\",'中間シート（個人）'!$F$6:$O$100,5,FALSE))","v":""},{"$f":"IF(ISERROR(VLOOKUP($D30&\"@8\",'中間シート（個人）'!$F$6:$O$100,6,FALSE)&VLOOKUP($D30&\"@8\",'中間シート（個人）'!$F$6:$O$100,7,FALSE)&\".\"&VLOOKUP($D30&\"@8\",'中間シート（個人）'!$F$6:$O$100,8,FALSE)),\"\",VLOOKUP($D30&\"@8\",'中間シート（個人）'!$F$6:$O$100,6,FALSE)&VLOOKUP($D30&\"@8\",'中間シート（個人）'!$F$6:$O$100,7,FALSE)&\".\"&VLOOKUP($D30&\"@8\",'中間シート（個人）'!$F$6:$O$100,8,FALSE))","v":""},{"$f":"IF(ISERROR(VLOOKUP($D30&\"@9\",'中間シート（個人）'!$F$6:$O$100,4,FALSE)&VLOOKUP($D30&\"@9\",'中間シート（個人）'!$F$6:$O$100,5,FALSE)),\"\",VLOOKUP($D30&\"@9\",'中間シート（個人）'!$F$6:$O$100,4,FALSE)&VLOOKUP($D30&\"@9\",'中間シート（個人）'!$F$6:$O$100,5,FALSE))","v":""},{"$f":"IF(ISERROR(VLOOKUP($D30&\"@9\",'中間シート（個人）'!$F$6:$O$100,6,FALSE)&VLOOKUP($D30&\"@9\",'中間シート（個人）'!$F$6:$O$100,7,FALSE)&\".\"&VLOOKUP($D30&\"@9\",'中間シート（個人）'!$F$6:$O$100,8,FALSE)),\"\",VLOOKUP($D30&\"@9\",'中間シート（個人）'!$F$6:$O$100,6,FALSE)&VLOOKUP($D30&\"@9\",'中間シート（個人）'!$F$6:$O$100,7,FALSE)&\".\"&VLOOKUP($D30&\"@9\",'中間シート（個人）'!$F$6:$O$100,8,FALSE))","v":""},{"$f":"IF(ISERROR(VLOOKUP($D30&\"@10\",'中間シート（個人）'!$F$6:$O$100,4,FALSE)&VLOOKUP($D30&\"@10\",'中間シート（個人）'!$F$6:$O$100,5,FALSE)),\"\",VLOOKUP($D30&\"@10\",'中間シート（個人）'!$F$6:$O$100,4,FALSE)&VLOOKUP($D30&\"@10\",'中間シート（個人）'!$F$6:$O$100,5,FALSE))","v":""},{"$f":"IF(ISERROR(VLOOKUP($D30&\"@10\",'中間シート（個人）'!$F$6:$O$100,6,FALSE)&VLOOKUP($D30&\"@10\",'中間シート（個人）'!$F$6:$O$100,7,FALSE)&\".\"&VLOOKUP($D30&\"@10\",'中間シート（個人）'!$F$6:$O$100,8,FALSE)),\"\",VLOOKUP($D30&\"@10\",'中間シート（個人）'!$F$6:$O$100,6,FALSE)&VLOOKUP($D30&\"@10\",'中間シート（個人）'!$F$6:$O$100,7,FALSE)&\".\"&VLOOKUP($D30&\"@10\",'中間シート（個人）'!$F$6:$O$100,8,FALSE))","v":""}]
[null,null,{"$f":"IF('中間シート（個人）'!D33=\"○\",\"\",VLOOKUP(個人種目!F33,コード一覧!$A$2:$B$3,2,FALSE))","v":""},{"$f":"IF('中間シート（個人）'!D33=\"○\",\"\",'中間シート（個人）'!C33)","v":""},{"$f":"IF('中間シート（個人）'!D33=\"○\",\"\",ASC(個人種目!D33&\" \"&個人種目!E33))","v":""},{"$f":"IF('中間シート（個人）'!D33=\"○\",\"\",個人種目!G33&IF(LEN(個人種目!H33)=1,\"0\"&個人種目!H33,個人種目!H33)&IF(LEN(個人種目!I33)=1,\"0\"&個人種目!I33,個人種目!I33))","v":""},{"$f":"IF('中間シート（個人）'!D33=\"○\",\"\",VLOOKUP(個人種目!$J33,コード一覧!$C$3:$D$6,2,FALSE))","v":""},{"$f":"IF('中間シート（個人）'!D33=\"○\",\"\",IF(個人種目!$J33=\"一般\",0,個人種目!$K33))","v":""},{"$f":"IF('中間シート（個人）'!D33=\"○\",\"\",'中間シート（個人）'!H33)","v":""},null,{"$f":"IF('中間シート（個人）'!D33=\"○\",\"\",個人種目!$L$1)","v":""},{"$f":"IF('中間シート（個人）'!D33=\"○\",\"\",ASC(申込書_コナミ!$S$9))","v":""},{"$f":"IF('中間シート（個人）'!D33=\"○\",\"\",申込書_コナミ!$E$8)","v":""},null,null,null,{"$f":"IF('中間シート（個人）'!D33=\"○\",\"\",4)","v":""},{"$f":"IF(ISERROR(VLOOKUP($D31&\"@1\",'中間シート（個人）'!$F$6:$O$100,4,FALSE)&VLOOKUP($D31&\"@1\",'中間シート（個人）'!$F$6:$O$100,5,FALSE)),\"\",VLOOKUP($D31&\"@1\",'中間シート（個人）'!$F$6:$O$100,4,FALSE)&VLOOKUP($D31&\"@1\",'中間シート（個人）'!$F$6:$O$100,5,FALSE))","v":""},{"$f":"IF(ISERROR(VLOOKUP($D31&\"@1\",'中間シート（個人）'!$F$6:$O$100,6,FALSE)&VLOOKUP($D31&\"@1\",'中間シート（個人）'!$F$6:$O$100,7,FALSE)&\".\"&VLOOKUP($D31&\"@1\",'中間シート（個人）'!$F$6:$O$100,8,FALSE)),\"\",VLOOKUP($D31&\"@1\",'中間シート（個人）'!$F$6:$O$100,6,FALSE)&VLOOKUP($D31&\"@1\",'中間シート（個人）'!$F$6:$O$100,7,FALSE)&\".\"&VLOOKUP($D31&\"@1\",'中間シート（個人）'!$F$6:$O$100,8,FALSE))","v":""},{"$f":"IF(ISERROR(VLOOKUP($D31&\"@2\",'中間シート（個人）'!$F$6:$O$100,4,FALSE)&VLOOKUP($D31&\"@2\",'中間シート（個人）'!$F$6:$O$100,5,FALSE)),\"\",VLOOKUP($D31&\"@2\",'中間シート（個人）'!$F$6:$O$100,4,FALSE)&VLOOKUP($D31&\"@2\",'中間シート（個人）'!$F$6:$O$100,5,FALSE))","v":""},{"$f":"IF(ISERROR(VLOOKUP($D31&\"@2\",'中間シート（個人）'!$F$6:$O$100,6,FALSE)&VLOOKUP($D31&\"@2\",'中間シート（個人）'!$F$6:$O$100,7,FALSE)&\".\"&VLOOKUP($D31&\"@2\",'中間シート（個人）'!$F$6:$O$100,8,FALSE)),\"\",VLOOKUP($D31&\"@2\",'中間シート（個人）'!$F$6:$O$100,6,FALSE)&VLOOKUP($D31&\"@2\",'中間シート（個人）'!$F$6:$O$100,7,FALSE)&\".\"&VLOOKUP($D31&\"@2\",'中間シート（個人）'!$F$6:$O$100,8,FALSE))","v":""},{"$f":"IF(ISERROR(VLOOKUP($D31&\"@3\",'中間シート（個人）'!$F$6:$O$100,4,FALSE)&VLOOKUP($D31&\"@3\",'中間シート（個人）'!$F$6:$O$100,5,FALSE)),\"\",VLOOKUP($D31&\"@3\",'中間シート（個人）'!$F$6:$O$100,4,FALSE)&VLOOKUP($D31&\"@3\",'中間シート（個人）'!$F$6:$O$100,5,FALSE))","v":""},{"$f":"IF(ISERROR(VLOOKUP($D31&\"@3\",'中間シート（個人）'!$F$6:$O$100,6,FALSE)&VLOOKUP($D31&\"@3\",'中間シート（個人）'!$F$6:$O$100,7,FALSE)&\".\"&VLOOKUP($D31&\"@3\",'中間シート（個人）'!$F$6:$O$100,8,FALSE)),\"\",VLOOKUP($D31&\"@3\",'中間シート（個人）'!$F$6:$O$100,6,FALSE)&VLOOKUP($D31&\"@3\",'中間シート（個人）'!$F$6:$O$100,7,FALSE)&\".\"&VLOOKUP($D31&\"@3\",'中間シート（個人）'!$F$6:$O$100,8,FALSE))","v":""},{"$f":"IF(ISERROR(VLOOKUP($D31&\"@4\",'中間シート（個人）'!$F$6:$O$100,4,FALSE)&VLOOKUP($D31&\"@4\",'中間シート（個人）'!$F$6:$O$100,5,FALSE)),\"\",VLOOKUP($D31&\"@4\",'中間シート（個人）'!$F$6:$O$100,4,FALSE)&VLOOKUP($D31&\"@4\",'中間シート（個人）'!$F$6:$O$100,5,FALSE))","v":""},{"$f":"IF(ISERROR(VLOOKUP($D31&\"@4\",'中間シート（個人）'!$F$6:$O$100,6,FALSE)&VLOOKUP($D31&\"@4\",'中間シート（個人）'!$F$6:$O$100,7,FALSE)&\".\"&VLOOKUP($D31&\"@4\",'中間シート（個人）'!$F$6:$O$100,8,FALSE)),\"\",VLOOKUP($D31&\"@4\",'中間シート（個人）'!$F$6:$O$100,6,FALSE)&VLOOKUP($D31&\"@4\",'中間シート（個人）'!$F$6:$O$100,7,FALSE)&\".\"&VLOOKUP($D31&\"@4\",'中間シート（個人）'!$F$6:$O$100,8,FALSE))","v":""},{"$f":"IF(ISERROR(VLOOKUP($D31&\"@5\",'中間シート（個人）'!$F$6:$O$100,4,FALSE)&VLOOKUP($D31&\"@5\",'中間シート（個人）'!$F$6:$O$100,5,FALSE)),\"\",VLOOKUP($D31&\"@5\",'中間シート（個人）'!$F$6:$O$100,4,FALSE)&VLOOKUP($D31&\"@5\",'中間シート（個人）'!$F$6:$O$100,5,FALSE))","v":""},{"$f":"IF(ISERROR(VLOOKUP($D31&\"@5\",'中間シート（個人）'!$F$6:$O$100,6,FALSE)&VLOOKUP($D31&\"@5\",'中間シート（個人）'!$F$6:$O$100,7,FALSE)&\".\"&VLOOKUP($D31&\"@5\",'中間シート（個人）'!$F$6:$O$100,8,FALSE)),\"\",VLOOKUP($D31&\"@5\",'中間シート（個人）'!$F$6:$O$100,6,FALSE)&VLOOKUP($D31&\"@5\",'中間シート（個人）'!$F$6:$O$100,7,FALSE)&\".\"&VLOOKUP($D31&\"@5\",'中間シート（個人）'!$F$6:$O$100,8,FALSE))","v":""},{"$f":"IF(ISERROR(VLOOKUP($D31&\"@6\",'中間シート（個人）'!$F$6:$O$100,4,FALSE)&VLOOKUP($D31&\"@6\",'中間シート（個人）'!$F$6:$O$100,5,FALSE)),\"\",VLOOKUP($D31&\"@6\",'中間シート（個人）'!$F$6:$O$100,4,FALSE)&VLOOKUP($D31&\"@6\",'中間シート（個人）'!$F$6:$O$100,5,FALSE))","v":""},{"$f":"IF(ISERROR(VLOOKUP($D31&\"@6\",'中間シート（個人）'!$F$6:$O$100,6,FALSE)&VLOOKUP($D31&\"@6\",'中間シート（個人）'!$F$6:$O$100,7,FALSE)&\".\"&VLOOKUP($D31&\"@6\",'中間シート（個人）'!$F$6:$O$100,8,FALSE)),\"\",VLOOKUP($D31&\"@6\",'中間シート（個人）'!$F$6:$O$100,6,FALSE)&VLOOKUP($D31&\"@6\",'中間シート（個人）'!$F$6:$O$100,7,FALSE)&\".\"&VLOOKUP($D31&\"@6\",'中間シート（個人）'!$F$6:$O$100,8,FALSE))","v":""},{"$f":"IF(ISERROR(VLOOKUP($D31&\"@7\",'中間シート（個人）'!$F$6:$O$100,4,FALSE)&VLOOKUP($D31&\"@7\",'中間シート（個人）'!$F$6:$O$100,5,FALSE)),\"\",VLOOKUP($D31&\"@7\",'中間シート（個人）'!$F$6:$O$100,4,FALSE)&VLOOKUP($D31&\"@7\",'中間シート（個人）'!$F$6:$O$100,5,FALSE))","v":""},{"$f":"IF(ISERROR(VLOOKUP($D31&\"@7\",'中間シート（個人）'!$F$6:$O$100,6,FALSE)&VLOOKUP($D31&\"@7\",'中間シート（個人）'!$F$6:$O$100,7,FALSE)&\".\"&VLOOKUP($D31&\"@7\",'中間シート（個人）'!$F$6:$O$100,8,FALSE)),\"\",VLOOKUP($D31&\"@7\",'中間シート（個人）'!$F$6:$O$100,6,FALSE)&VLOOKUP($D31&\"@7\",'中間シート（個人）'!$F$6:$O$100,7,FALSE)&\".\"&VLOOKUP($D31&\"@7\",'中間シート（個人）'!$F$6:$O$100,8,FALSE))","v":""},{"$f":"IF(ISERROR(VLOOKUP($D31&\"@8\",'中間シート（個人）'!$F$6:$O$100,4,FALSE)&VLOOKUP($D31&\"@8\",'中間シート（個人）'!$F$6:$O$100,5,FALSE)),\"\",VLOOKUP($D31&\"@8\",'中間シート（個人）'!$F$6:$O$100,4,FALSE)&VLOOKUP($D31&\"@8\",'中間シート（個人）'!$F$6:$O$100,5,FALSE))","v":""},{"$f":"IF(ISERROR(VLOOKUP($D31&\"@8\",'中間シート（個人）'!$F$6:$O$100,6,FALSE)&VLOOKUP($D31&\"@8\",'中間シート（個人）'!$F$6:$O$100,7,FALSE)&\".\"&VLOOKUP($D31&\"@8\",'中間シート（個人）'!$F$6:$O$100,8,FALSE)),\"\",VLOOKUP($D31&\"@8\",'中間シート（個人）'!$F$6:$O$100,6,FALSE)&VLOOKUP($D31&\"@8\",'中間シート（個人）'!$F$6:$O$100,7,FALSE)&\".\"&VLOOKUP($D31&\"@8\",'中間シート（個人）'!$F$6:$O$100,8,FALSE))","v":""},{"$f":"IF(ISERROR(VLOOKUP($D31&\"@9\",'中間シート（個人）'!$F$6:$O$100,4,FALSE)&VLOOKUP($D31&\"@9\",'中間シート（個人）'!$F$6:$O$100,5,FALSE)),\"\",VLOOKUP($D31&\"@9\",'中間シート（個人）'!$F$6:$O$100,4,FALSE)&VLOOKUP($D31&\"@9\",'中間シート（個人）'!$F$6:$O$100,5,FALSE))","v":""},{"$f":"IF(ISERROR(VLOOKUP($D31&\"@9\",'中間シート（個人）'!$F$6:$O$100,6,FALSE)&VLOOKUP($D31&\"@9\",'中間シート（個人）'!$F$6:$O$100,7,FALSE)&\".\"&VLOOKUP($D31&\"@9\",'中間シート（個人）'!$F$6:$O$100,8,FALSE)),\"\",VLOOKUP($D31&\"@9\",'中間シート（個人）'!$F$6:$O$100,6,FALSE)&VLOOKUP($D31&\"@9\",'中間シート（個人）'!$F$6:$O$100,7,FALSE)&\".\"&VLOOKUP($D31&\"@9\",'中間シート（個人）'!$F$6:$O$100,8,FALSE))","v":""},{"$f":"IF(ISERROR(VLOOKUP($D31&\"@10\",'中間シート（個人）'!$F$6:$O$100,4,FALSE)&VLOOKUP($D31&\"@10\",'中間シート（個人）'!$F$6:$O$100,5,FALSE)),\"\",VLOOKUP($D31&\"@10\",'中間シート（個人）'!$F$6:$O$100,4,FALSE)&VLOOKUP($D31&\"@10\",'中間シート（個人）'!$F$6:$O$100,5,FALSE))","v":""},{"$f":"IF(ISERROR(VLOOKUP($D31&\"@10\",'中間シート（個人）'!$F$6:$O$100,6,FALSE)&VLOOKUP($D31&\"@10\",'中間シート（個人）'!$F$6:$O$100,7,FALSE)&\".\"&VLOOKUP($D31&\"@10\",'中間シート（個人）'!$F$6:$O$100,8,FALSE)),\"\",VLOOKUP($D31&\"@10\",'中間シート（個人）'!$F$6:$O$100,6,FALSE)&VLOOKUP($D31&\"@10\",'中間シート（個人）'!$F$6:$O$100,7,FALSE)&\".\"&VLOOKUP($D31&\"@10\",'中間シート（個人）'!$F$6:$O$100,8,FALSE))","v":""}]
[null,null,{"$f":"IF('中間シート（個人）'!D34=\"○\",\"\",VLOOKUP(個人種目!F34,コード一覧!$A$2:$B$3,2,FALSE))","v":""},{"$f":"IF('中間シート（個人）'!D34=\"○\",\"\",'中間シート（個人）'!C34)","v":""},{"$f":"IF('中間シート（個人）'!D34=\"○\",\"\",ASC(個人種目!D34&\" \"&個人種目!E34))","v":""},{"$f":"IF('中間シート（個人）'!D34=\"○\",\"\",個人種目!G34&IF(LEN(個人種目!H34)=1,\"0\"&個人種目!H34,個人種目!H34)&IF(LEN(個人種目!I34)=1,\"0\"&個人種目!I34,個人種目!I34))","v":""},{"$f":"IF('中間シート（個人）'!D34=\"○\",\"\",VLOOKUP(個人種目!$J34,コード一覧!$C$3:$D$6,2,FALSE))","v":""},{"$f":"IF('中間シート（個人）'!D34=\"○\",\"\",IF(個人種目!$J34=\"一般\",0,個人種目!$K34))","v":""},{"$f":"IF('中間シート（個人）'!D34=\"○\",\"\",'中間シート（個人）'!H34)","v":""},null,{"$f":"IF('中間シート（個人）'!D34=\"○\",\"\",個人種目!$L$1)","v":""},{"$f":"IF('中間シート（個人）'!D34=\"○\",\"\",ASC(申込書_コナミ!$S$9))","v":""},{"$f":"IF('中間シート（個人）'!D34=\"○\",\"\",申込書_コナミ!$E$8)","v":""},null,null,null,{"$f":"IF('中間シート（個人）'!D34=\"○\",\"\",4)","v":""},{"$f":"IF(ISERROR(VLOOKUP($D32&\"@1\",'中間シート（個人）'!$F$6:$O$100,4,FALSE)&VLOOKUP($D32&\"@1\",'中間シート（個人）'!$F$6:$O$100,5,FALSE)),\"\",VLOOKUP($D32&\"@1\",'中間シート（個人）'!$F$6:$O$100,4,FALSE)&VLOOKUP($D32&\"@1\",'中間シート（個人）'!$F$6:$O$100,5,FALSE))","v":""},{"$f":"IF(ISERROR(VLOOKUP($D32&\"@1\",'中間シート（個人）'!$F$6:$O$100,6,FALSE)&VLOOKUP($D32&\"@1\",'中間シート（個人）'!$F$6:$O$100,7,FALSE)&\".\"&VLOOKUP($D32&\"@1\",'中間シート（個人）'!$F$6:$O$100,8,FALSE)),\"\",VLOOKUP($D32&\"@1\",'中間シート（個人）'!$F$6:$O$100,6,FALSE)&VLOOKUP($D32&\"@1\",'中間シート（個人）'!$F$6:$O$100,7,FALSE)&\".\"&VLOOKUP($D32&\"@1\",'中間シート（個人）'!$F$6:$O$100,8,FALSE))","v":""},{"$f":"IF(ISERROR(VLOOKUP($D32&\"@2\",'中間シート（個人）'!$F$6:$O$100,4,FALSE)&VLOOKUP($D32&\"@2\",'中間シート（個人）'!$F$6:$O$100,5,FALSE)),\"\",VLOOKUP($D32&\"@2\",'中間シート（個人）'!$F$6:$O$100,4,FALSE)&VLOOKUP($D32&\"@2\",'中間シート（個人）'!$F$6:$O$100,5,FALSE))","v":""},{"$f":"IF(ISERROR(VLOOKUP($D32&\"@2\",'中間シート（個人）'!$F$6:$O$100,6,FALSE)&VLOOKUP($D32&\"@2\",'中間シート（個人）'!$F$6:$O$100,7,FALSE)&\".\"&VLOOKUP($D32&\"@2\",'中間シート（個人）'!$F$6:$O$100,8,FALSE)),\"\",VLOOKUP($D32&\"@2\",'中間シート（個人）'!$F$6:$O$100,6,FALSE)&VLOOKUP($D32&\"@2\",'中間シート（個人）'!$F$6:$O$100,7,FALSE)&\".\"&VLOOKUP($D32&\"@2\",'中間シート（個人）'!$F$6:$O$100,8,FALSE))","v":""},{"$f":"IF(ISERROR(VLOOKUP($D32&\"@3\",'中間シート（個人）'!$F$6:$O$100,4,FALSE)&VLOOKUP($D32&\"@3\",'中間シート（個人）'!$F$6:$O$100,5,FALSE)),\"\",VLOOKUP($D32&\"@3\",'中間シート（個人）'!$F$6:$O$100,4,FALSE)&VLOOKUP($D32&\"@3\",'中間シート（個人）'!$F$6:$O$100,5,FALSE))","v":""},{"$f":"IF(ISERROR(VLOOKUP($D32&\"@3\",'中間シート（個人）'!$F$6:$O$100,6,FALSE)&VLOOKUP($D32&\"@3\",'中間シート（個人）'!$F$6:$O$100,7,FALSE)&\".\"&VLOOKUP($D32&\"@3\",'中間シート（個人）'!$F$6:$O$100,8,FALSE)),\"\",VLOOKUP($D32&\"@3\",'中間シート（個人）'!$F$6:$O$100,6,FALSE)&VLOOKUP($D32&\"@3\",'中間シート（個人）'!$F$6:$O$100,7,FALSE)&\".\"&VLOOKUP($D32&\"@3\",'中間シート（個人）'!$F$6:$O$100,8,FALSE))","v":""},{"$f":"IF(ISERROR(VLOOKUP($D32&\"@4\",'中間シート（個人）'!$F$6:$O$100,4,FALSE)&VLOOKUP($D32&\"@4\",'中間シート（個人）'!$F$6:$O$100,5,FALSE)),\"\",VLOOKUP($D32&\"@4\",'中間シート（個人）'!$F$6:$O$100,4,FALSE)&VLOOKUP($D32&\"@4\",'中間シート（個人）'!$F$6:$O$100,5,FALSE))","v":""},{"$f":"IF(ISERROR(VLOOKUP($D32&\"@4\",'中間シート（個人）'!$F$6:$O$100,6,FALSE)&VLOOKUP($D32&\"@4\",'中間シート（個人）'!$F$6:$O$100,7,FALSE)&\".\"&VLOOKUP($D32&\"@4\",'中間シート（個人）'!$F$6:$O$100,8,FALSE)),\"\",VLOOKUP($D32&\"@4\",'中間シート（個人）'!$F$6:$O$100,6,FALSE)&VLOOKUP($D32&\"@4\",'中間シート（個人）'!$F$6:$O$100,7,FALSE)&\".\"&VLOOKUP($D32&\"@4\",'中間シート（個人）'!$F$6:$O$100,8,FALSE))","v":""},{"$f":"IF(ISERROR(VLOOKUP($D32&\"@5\",'中間シート（個人）'!$F$6:$O$100,4,FALSE)&VLOOKUP($D32&\"@5\",'中間シート（個人）'!$F$6:$O$100,5,FALSE)),\"\",VLOOKUP($D32&\"@5\",'中間シート（個人）'!$F$6:$O$100,4,FALSE)&VLOOKUP($D32&\"@5\",'中間シート（個人）'!$F$6:$O$100,5,FALSE))","v":""},{"$f":"IF(ISERROR(VLOOKUP($D32&\"@5\",'中間シート（個人）'!$F$6:$O$100,6,FALSE)&VLOOKUP($D32&\"@5\",'中間シート（個人）'!$F$6:$O$100,7,FALSE)&\".\"&VLOOKUP($D32&\"@5\",'中間シート（個人）'!$F$6:$O$100,8,FALSE)),\"\",VLOOKUP($D32&\"@5\",'中間シート（個人）'!$F$6:$O$100,6,FALSE)&VLOOKUP($D32&\"@5\",'中間シート（個人）'!$F$6:$O$100,7,FALSE)&\".\"&VLOOKUP($D32&\"@5\",'中間シート（個人）'!$F$6:$O$100,8,FALSE))","v":""},{"$f":"IF(ISERROR(VLOOKUP($D32&\"@6\",'中間シート（個人）'!$F$6:$O$100,4,FALSE)&VLOOKUP($D32&\"@6\",'中間シート（個人）'!$F$6:$O$100,5,FALSE)),\"\",VLOOKUP($D32&\"@6\",'中間シート（個人）'!$F$6:$O$100,4,FALSE)&VLOOKUP($D32&\"@6\",'中間シート（個人）'!$F$6:$O$100,5,FALSE))","v":""},{"$f":"IF(ISERROR(VLOOKUP($D32&\"@6\",'中間シート（個人）'!$F$6:$O$100,6,FALSE)&VLOOKUP($D32&\"@6\",'中間シート（個人）'!$F$6:$O$100,7,FALSE)&\".\"&VLOOKUP($D32&\"@6\",'中間シート（個人）'!$F$6:$O$100,8,FALSE)),\"\",VLOOKUP($D32&\"@6\",'中間シート（個人）'!$F$6:$O$100,6,FALSE)&VLOOKUP($D32&\"@6\",'中間シート（個人）'!$F$6:$O$100,7,FALSE)&\".\"&VLOOKUP($D32&\"@6\",'中間シート（個人）'!$F$6:$O$100,8,FALSE))","v":""},{"$f":"IF(ISERROR(VLOOKUP($D32&\"@7\",'中間シート（個人）'!$F$6:$O$100,4,FALSE)&VLOOKUP($D32&\"@7\",'中間シート（個人）'!$F$6:$O$100,5,FALSE)),\"\",VLOOKUP($D32&\"@7\",'中間シート（個人）'!$F$6:$O$100,4,FALSE)&VLOOKUP($D32&\"@7\",'中間シート（個人）'!$F$6:$O$100,5,FALSE))","v":""},{"$f":"IF(ISERROR(VLOOKUP($D32&\"@7\",'中間シート（個人）'!$F$6:$O$100,6,FALSE)&VLOOKUP($D32&\"@7\",'中間シート（個人）'!$F$6:$O$100,7,FALSE)&\".\"&VLOOKUP($D32&\"@7\",'中間シート（個人）'!$F$6:$O$100,8,FALSE)),\"\",VLOOKUP($D32&\"@7\",'中間シート（個人）'!$F$6:$O$100,6,FALSE)&VLOOKUP($D32&\"@7\",'中間シート（個人）'!$F$6:$O$100,7,FALSE)&\".\"&VLOOKUP($D32&\"@7\",'中間シート（個人）'!$F$6:$O$100,8,FALSE))","v":""},{"$f":"IF(ISERROR(VLOOKUP($D32&\"@8\",'中間シート（個人）'!$F$6:$O$100,4,FALSE)&VLOOKUP($D32&\"@8\",'中間シート（個人）'!$F$6:$O$100,5,FALSE)),\"\",VLOOKUP($D32&\"@8\",'中間シート（個人）'!$F$6:$O$100,4,FALSE)&VLOOKUP($D32&\"@8\",'中間シート（個人）'!$F$6:$O$100,5,FALSE))","v":""},{"$f":"IF(ISERROR(VLOOKUP($D32&\"@8\",'中間シート（個人）'!$F$6:$O$100,6,FALSE)&VLOOKUP($D32&\"@8\",'中間シート（個人）'!$F$6:$O$100,7,FALSE)&\".\"&VLOOKUP($D32&\"@8\",'中間シート（個人）'!$F$6:$O$100,8,FALSE)),\"\",VLOOKUP($D32&\"@8\",'中間シート（個人）'!$F$6:$O$100,6,FALSE)&VLOOKUP($D32&\"@8\",'中間シート（個人）'!$F$6:$O$100,7,FALSE)&\".\"&VLOOKUP($D32&\"@8\",'中間シート（個人）'!$F$6:$O$100,8,FALSE))","v":""},{"$f":"IF(ISERROR(VLOOKUP($D32&\"@9\",'中間シート（個人）'!$F$6:$O$100,4,FALSE)&VLOOKUP($D32&\"@9\",'中間シート（個人）'!$F$6:$O$100,5,FALSE)),\"\",VLOOKUP($D32&\"@9\",'中間シート（個人）'!$F$6:$O$100,4,FALSE)&VLOOKUP($D32&\"@9\",'中間シート（個人）'!$F$6:$O$100,5,FALSE))","v":""},{"$f":"IF(ISERROR(VLOOKUP($D32&\"@9\",'中間シート（個人）'!$F$6:$O$100,6,FALSE)&VLOOKUP($D32&\"@9\",'中間シート（個人）'!$F$6:$O$100,7,FALSE)&\".\"&VLOOKUP($D32&\"@9\",'中間シート（個人）'!$F$6:$O$100,8,FALSE)),\"\",VLOOKUP($D32&\"@9\",'中間シート（個人）'!$F$6:$O$100,6,FALSE)&VLOOKUP($D32&\"@9\",'中間シート（個人）'!$F$6:$O$100,7,FALSE)&\".\"&VLOOKUP($D32&\"@9\",'中間シート（個人）'!$F$6:$O$100,8,FALSE))","v":""},{"$f":"IF(ISERROR(VLOOKUP($D32&\"@10\",'中間シート（個人）'!$F$6:$O$100,4,FALSE)&VLOOKUP($D32&\"@10\",'中間シート（個人）'!$F$6:$O$100,5,FALSE)),\"\",VLOOKUP($D32&\"@10\",'中間シート（個人）'!$F$6:$O$100,4,FALSE)&VLOOKUP($D32&\"@10\",'中間シート（個人）'!$F$6:$O$100,5,FALSE))","v":""},{"$f":"IF(ISERROR(VLOOKUP($D32&\"@10\",'中間シート（個人）'!$F$6:$O$100,6,FALSE)&VLOOKUP($D32&\"@10\",'中間シート（個人）'!$F$6:$O$100,7,FALSE)&\".\"&VLOOKUP($D32&\"@10\",'中間シート（個人）'!$F$6:$O$100,8,FALSE)),\"\",VLOOKUP($D32&\"@10\",'中間シート（個人）'!$F$6:$O$100,6,FALSE)&VLOOKUP($D32&\"@10\",'中間シート（個人）'!$F$6:$O$100,7,FALSE)&\".\"&VLOOKUP($D32&\"@10\",'中間シート（個人）'!$F$6:$O$100,8,FALSE))","v":""}]
[null,null,{"$f":"IF('中間シート（個人）'!D35=\"○\",\"\",VLOOKUP(個人種目!F35,コード一覧!$A$2:$B$3,2,FALSE))","v":""},{"$f":"IF('中間シート（個人）'!D35=\"○\",\"\",'中間シート（個人）'!C35)","v":""},{"$f":"IF('中間シート（個人）'!D35=\"○\",\"\",ASC(個人種目!D35&\" \"&個人種目!E35))","v":""},{"$f":"IF('中間シート（個人）'!D35=\"○\",\"\",個人種目!G35&IF(LEN(個人種目!H35)=1,\"0\"&個人種目!H35,個人種目!H35)&IF(LEN(個人種目!I35)=1,\"0\"&個人種目!I35,個人種目!I35))","v":""},{"$f":"IF('中間シート（個人）'!D35=\"○\",\"\",VLOOKUP(個人種目!$J35,コード一覧!$C$3:$D$6,2,FALSE))","v":""},{"$f":"IF('中間シート（個人）'!D35=\"○\",\"\",IF(個人種目!$J35=\"一般\",0,個人種目!$K35))","v":""},{"$f":"IF('中間シート（個人）'!D35=\"○\",\"\",'中間シート（個人）'!H35)","v":""},null,{"$f":"IF('中間シート（個人）'!D35=\"○\",\"\",個人種目!$L$1)","v":""},{"$f":"IF('中間シート（個人）'!D35=\"○\",\"\",ASC(申込書_コナミ!$S$9))","v":""},{"$f":"IF('中間シート（個人）'!D35=\"○\",\"\",申込書_コナミ!$E$8)","v":""},null,null,null,{"$f":"IF('中間シート（個人）'!D35=\"○\",\"\",4)","v":""},{"$f":"IF(ISERROR(VLOOKUP($D33&\"@1\",'中間シート（個人）'!$F$6:$O$100,4,FALSE)&VLOOKUP($D33&\"@1\",'中間シート（個人）'!$F$6:$O$100,5,FALSE)),\"\",VLOOKUP($D33&\"@1\",'中間シート（個人）'!$F$6:$O$100,4,FALSE)&VLOOKUP($D33&\"@1\",'中間シート（個人）'!$F$6:$O$100,5,FALSE))","v":""},{"$f":"IF(ISERROR(VLOOKUP($D33&\"@1\",'中間シート（個人）'!$F$6:$O$100,6,FALSE)&VLOOKUP($D33&\"@1\",'中間シート（個人）'!$F$6:$O$100,7,FALSE)&\".\"&VLOOKUP($D33&\"@1\",'中間シート（個人）'!$F$6:$O$100,8,FALSE)),\"\",VLOOKUP($D33&\"@1\",'中間シート（個人）'!$F$6:$O$100,6,FALSE)&VLOOKUP($D33&\"@1\",'中間シート（個人）'!$F$6:$O$100,7,FALSE)&\".\"&VLOOKUP($D33&\"@1\",'中間シート（個人）'!$F$6:$O$100,8,FALSE))","v":""},{"$f":"IF(ISERROR(VLOOKUP($D33&\"@2\",'中間シート（個人）'!$F$6:$O$100,4,FALSE)&VLOOKUP($D33&\"@2\",'中間シート（個人）'!$F$6:$O$100,5,FALSE)),\"\",VLOOKUP($D33&\"@2\",'中間シート（個人）'!$F$6:$O$100,4,FALSE)&VLOOKUP($D33&\"@2\",'中間シート（個人）'!$F$6:$O$100,5,FALSE))","v":""},{"$f":"IF(ISERROR(VLOOKUP($D33&\"@2\",'中間シート（個人）'!$F$6:$O$100,6,FALSE)&VLOOKUP($D33&\"@2\",'中間シート（個人）'!$F$6:$O$100,7,FALSE)&\".\"&VLOOKUP($D33&\"@2\",'中間シート（個人）'!$F$6:$O$100,8,FALSE)),\"\",VLOOKUP($D33&\"@2\",'中間シート（個人）'!$F$6:$O$100,6,FALSE)&VLOOKUP($D33&\"@2\",'中間シート（個人）'!$F$6:$O$100,7,FALSE)&\".\"&VLOOKUP($D33&\"@2\",'中間シート（個人）'!$F$6:$O$100,8,FALSE))","v":""},{"$f":"IF(ISERROR(VLOOKUP($D33&\"@3\",'中間シート（個人）'!$F$6:$O$100,4,FALSE)&VLOOKUP($D33&\"@3\",'中間シート（個人）'!$F$6:$O$100,5,FALSE)),\"\",VLOOKUP($D33&\"@3\",'中間シート（個人）'!$F$6:$O$100,4,FALSE)&VLOOKUP($D33&\"@3\",'中間シート（個人）'!$F$6:$O$100,5,FALSE))","v":""},{"$f":"IF(ISERROR(VLOOKUP($D33&\"@3\",'中間シート（個人）'!$F$6:$O$100,6,FALSE)&VLOOKUP($D33&\"@3\",'中間シート（個人）'!$F$6:$O$100,7,FALSE)&\".\"&VLOOKUP($D33&\"@3\",'中間シート（個人）'!$F$6:$O$100,8,FALSE)),\"\",VLOOKUP($D33&\"@3\",'中間シート（個人）'!$F$6:$O$100,6,FALSE)&VLOOKUP($D33&\"@3\",'中間シート（個人）'!$F$6:$O$100,7,FALSE)&\".\"&VLOOKUP($D33&\"@3\",'中間シート（個人）'!$F$6:$O$100,8,FALSE))","v":""},{"$f":"IF(ISERROR(VLOOKUP($D33&\"@4\",'中間シート（個人）'!$F$6:$O$100,4,FALSE)&VLOOKUP($D33&\"@4\",'中間シート（個人）'!$F$6:$O$100,5,FALSE)),\"\",VLOOKUP($D33&\"@4\",'中間シート（個人）'!$F$6:$O$100,4,FALSE)&VLOOKUP($D33&\"@4\",'中間シート（個人）'!$F$6:$O$100,5,FALSE))","v":""},{"$f":"IF(ISERROR(VLOOKUP($D33&\"@4\",'中間シート（個人）'!$F$6:$O$100,6,FALSE)&VLOOKUP($D33&\"@4\",'中間シート（個人）'!$F$6:$O$100,7,FALSE)&\".\"&VLOOKUP($D33&\"@4\",'中間シート（個人）'!$F$6:$O$100,8,FALSE)),\"\",VLOOKUP($D33&\"@4\",'中間シート（個人）'!$F$6:$O$100,6,FALSE)&VLOOKUP($D33&\"@4\",'中間シート（個人）'!$F$6:$O$100,7,FALSE)&\".\"&VLOOKUP($D33&\"@4\",'中間シート（個人）'!$F$6:$O$100,8,FALSE))","v":""},{"$f":"IF(ISERROR(VLOOKUP($D33&\"@5\",'中間シート（個人）'!$F$6:$O$100,4,FALSE)&VLOOKUP($D33&\"@5\",'中間シート（個人）'!$F$6:$O$100,5,FALSE)),\"\",VLOOKUP($D33&\"@5\",'中間シート（個人）'!$F$6:$O$100,4,FALSE)&VLOOKUP($D33&\"@5\",'中間シート（個人）'!$F$6:$O$100,5,FALSE))","v":""},{"$f":"IF(ISERROR(VLOOKUP($D33&\"@5\",'中間シート（個人）'!$F$6:$O$100,6,FALSE)&VLOOKUP($D33&\"@5\",'中間シート（個人）'!$F$6:$O$100,7,FALSE)&\".\"&VLOOKUP($D33&\"@5\",'中間シート（個人）'!$F$6:$O$100,8,FALSE)),\"\",VLOOKUP($D33&\"@5\",'中間シート（個人）'!$F$6:$O$100,6,FALSE)&VLOOKUP($D33&\"@5\",'中間シート（個人）'!$F$6:$O$100,7,FALSE)&\".\"&VLOOKUP($D33&\"@5\",'中間シート（個人）'!$F$6:$O$100,8,FALSE))","v":""},{"$f":"IF(ISERROR(VLOOKUP($D33&\"@6\",'中間シート（個人）'!$F$6:$O$100,4,FALSE)&VLOOKUP($D33&\"@6\",'中間シート（個人）'!$F$6:$O$100,5,FALSE)),\"\",VLOOKUP($D33&\"@6\",'中間シート（個人）'!$F$6:$O$100,4,FALSE)&VLOOKUP($D33&\"@6\",'中間シート（個人）'!$F$6:$O$100,5,FALSE))","v":""},{"$f":"IF(ISERROR(VLOOKUP($D33&\"@6\",'中間シート（個人）'!$F$6:$O$100,6,FALSE)&VLOOKUP($D33&\"@6\",'中間シート（個人）'!$F$6:$O$100,7,FALSE)&\".\"&VLOOKUP($D33&\"@6\",'中間シート（個人）'!$F$6:$O$100,8,FALSE)),\"\",VLOOKUP($D33&\"@6\",'中間シート（個人）'!$F$6:$O$100,6,FALSE)&VLOOKUP($D33&\"@6\",'中間シート（個人）'!$F$6:$O$100,7,FALSE)&\".\"&VLOOKUP($D33&\"@6\",'中間シート（個人）'!$F$6:$O$100,8,FALSE))","v":""},{"$f":"IF(ISERROR(VLOOKUP($D33&\"@7\",'中間シート（個人）'!$F$6:$O$100,4,FALSE)&VLOOKUP($D33&\"@7\",'中間シート（個人）'!$F$6:$O$100,5,FALSE)),\"\",VLOOKUP($D33&\"@7\",'中間シート（個人）'!$F$6:$O$100,4,FALSE)&VLOOKUP($D33&\"@7\",'中間シート（個人）'!$F$6:$O$100,5,FALSE))","v":""},{"$f":"IF(ISERROR(VLOOKUP($D33&\"@7\",'中間シート（個人）'!$F$6:$O$100,6,FALSE)&VLOOKUP($D33&\"@7\",'中間シート（個人）'!$F$6:$O$100,7,FALSE)&\".\"&VLOOKUP($D33&\"@7\",'中間シート（個人）'!$F$6:$O$100,8,FALSE)),\"\",VLOOKUP($D33&\"@7\",'中間シート（個人）'!$F$6:$O$100,6,FALSE)&VLOOKUP($D33&\"@7\",'中間シート（個人）'!$F$6:$O$100,7,FALSE)&\".\"&VLOOKUP($D33&\"@7\",'中間シート（個人）'!$F$6:$O$100,8,FALSE))","v":""},{"$f":"IF(ISERROR(VLOOKUP($D33&\"@8\",'中間シート（個人）'!$F$6:$O$100,4,FALSE)&VLOOKUP($D33&\"@8\",'中間シート（個人）'!$F$6:$O$100,5,FALSE)),\"\",VLOOKUP($D33&\"@8\",'中間シート（個人）'!$F$6:$O$100,4,FALSE)&VLOOKUP($D33&\"@8\",'中間シート（個人）'!$F$6:$O$100,5,FALSE))","v":""},{"$f":"IF(ISERROR(VLOOKUP($D33&\"@8\",'中間シート（個人）'!$F$6:$O$100,6,FALSE)&VLOOKUP($D33&\"@8\",'中間シート（個人）'!$F$6:$O$100,7,FALSE)&\".\"&VLOOKUP($D33&\"@8\",'中間シート（個人）'!$F$6:$O$100,8,FALSE)),\"\",VLOOKUP($D33&\"@8\",'中間シート（個人）'!$F$6:$O$100,6,FALSE)&VLOOKUP($D33&\"@8\",'中間シート（個人）'!$F$6:$O$100,7,FALSE)&\".\"&VLOOKUP($D33&\"@8\",'中間シート（個人）'!$F$6:$O$100,8,FALSE))","v":""},{"$f":"IF(ISERROR(VLOOKUP($D33&\"@9\",'中間シート（個人）'!$F$6:$O$100,4,FALSE)&VLOOKUP($D33&\"@9\",'中間シート（個人）'!$F$6:$O$100,5,FALSE)),\"\",VLOOKUP($D33&\"@9\",'中間シート（個人）'!$F$6:$O$100,4,FALSE)&VLOOKUP($D33&\"@9\",'中間シート（個人）'!$F$6:$O$100,5,FALSE))","v":""},{"$f":"IF(ISERROR(VLOOKUP($D33&\"@9\",'中間シート（個人）'!$F$6:$O$100,6,FALSE)&VLOOKUP($D33&\"@9\",'中間シート（個人）'!$F$6:$O$100,7,FALSE)&\".\"&VLOOKUP($D33&\"@9\",'中間シート（個人）'!$F$6:$O$100,8,FALSE)),\"\",VLOOKUP($D33&\"@9\",'中間シート（個人）'!$F$6:$O$100,6,FALSE)&VLOOKUP($D33&\"@9\",'中間シート（個人）'!$F$6:$O$100,7,FALSE)&\".\"&VLOOKUP($D33&\"@9\",'中間シート（個人）'!$F$6:$O$100,8,FALSE))","v":""},{"$f":"IF(ISERROR(VLOOKUP($D33&\"@10\",'中間シート（個人）'!$F$6:$O$100,4,FALSE)&VLOOKUP($D33&\"@10\",'中間シート（個人）'!$F$6:$O$100,5,FALSE)),\"\",VLOOKUP($D33&\"@10\",'中間シート（個人）'!$F$6:$O$100,4,FALSE)&VLOOKUP($D33&\"@10\",'中間シート（個人）'!$F$6:$O$100,5,FALSE))","v":""},{"$f":"IF(ISERROR(VLOOKUP($D33&\"@10\",'中間シート（個人）'!$F$6:$O$100,6,FALSE)&VLOOKUP($D33&\"@10\",'中間シート（個人）'!$F$6:$O$100,7,FALSE)&\".\"&VLOOKUP($D33&\"@10\",'中間シート（個人）'!$F$6:$O$100,8,FALSE)),\"\",VLOOKUP($D33&\"@10\",'中間シート（個人）'!$F$6:$O$100,6,FALSE)&VLOOKUP($D33&\"@10\",'中間シート（個人）'!$F$6:$O$100,7,FALSE)&\".\"&VLOOKUP($D33&\"@10\",'中間シート（個人）'!$F$6:$O$100,8,FALSE))","v":""}]
[null,null,{"$f":"IF('中間シート（個人）'!D36=\"○\",\"\",VLOOKUP(個人種目!F36,コード一覧!$A$2:$B$3,2,FALSE))","v":""},{"$f":"IF('中間シート（個人）'!D36=\"○\",\"\",'中間シート（個人）'!C36)","v":""},{"$f":"IF('中間シート（個人）'!D36=\"○\",\"\",ASC(個人種目!D36&\" \"&個人種目!E36))","v":""},{"$f":"IF('中間シート（個人）'!D36=\"○\",\"\",個人種目!G36&IF(LEN(個人種目!H36)=1,\"0\"&個人種目!H36,個人種目!H36)&IF(LEN(個人種目!I36)=1,\"0\"&個人種目!I36,個人種目!I36))","v":""},{"$f":"IF('中間シート（個人）'!D36=\"○\",\"\",VLOOKUP(個人種目!$J36,コード一覧!$C$3:$D$6,2,FALSE))","v":""},{"$f":"IF('中間シート（個人）'!D36=\"○\",\"\",IF(個人種目!$J36=\"一般\",0,個人種目!$K36))","v":""},{"$f":"IF('中間シート（個人）'!D36=\"○\",\"\",'中間シート（個人）'!H36)","v":""},null,{"$f":"IF('中間シート（個人）'!D36=\"○\",\"\",個人種目!$L$1)","v":""},{"$f":"IF('中間シート（個人）'!D36=\"○\",\"\",ASC(申込書_コナミ!$S$9))","v":""},{"$f":"IF('中間シート（個人）'!D36=\"○\",\"\",申込書_コナミ!$E$8)","v":""},null,null,null,{"$f":"IF('中間シート（個人）'!D36=\"○\",\"\",4)","v":""},{"$f":"IF(ISERROR(VLOOKUP($D34&\"@1\",'中間シート（個人）'!$F$6:$O$100,4,FALSE)&VLOOKUP($D34&\"@1\",'中間シート（個人）'!$F$6:$O$100,5,FALSE)),\"\",VLOOKUP($D34&\"@1\",'中間シート（個人）'!$F$6:$O$100,4,FALSE)&VLOOKUP($D34&\"@1\",'中間シート（個人）'!$F$6:$O$100,5,FALSE))","v":""},{"$f":"IF(ISERROR(VLOOKUP($D34&\"@1\",'中間シート（個人）'!$F$6:$O$100,6,FALSE)&VLOOKUP($D34&\"@1\",'中間シート（個人）'!$F$6:$O$100,7,FALSE)&\".\"&VLOOKUP($D34&\"@1\",'中間シート（個人）'!$F$6:$O$100,8,FALSE)),\"\",VLOOKUP($D34&\"@1\",'中間シート（個人）'!$F$6:$O$100,6,FALSE)&VLOOKUP($D34&\"@1\",'中間シート（個人）'!$F$6:$O$100,7,FALSE)&\".\"&VLOOKUP($D34&\"@1\",'中間シート（個人）'!$F$6:$O$100,8,FALSE))","v":""},{"$f":"IF(ISERROR(VLOOKUP($D34&\"@2\",'中間シート（個人）'!$F$6:$O$100,4,FALSE)&VLOOKUP($D34&\"@2\",'中間シート（個人）'!$F$6:$O$100,5,FALSE)),\"\",VLOOKUP($D34&\"@2\",'中間シート（個人）'!$F$6:$O$100,4,FALSE)&VLOOKUP($D34&\"@2\",'中間シート（個人）'!$F$6:$O$100,5,FALSE))","v":""},{"$f":"IF(ISERROR(VLOOKUP($D34&\"@2\",'中間シート（個人）'!$F$6:$O$100,6,FALSE)&VLOOKUP($D34&\"@2\",'中間シート（個人）'!$F$6:$O$100,7,FALSE)&\".\"&VLOOKUP($D34&\"@2\",'中間シート（個人）'!$F$6:$O$100,8,FALSE)),\"\",VLOOKUP($D34&\"@2\",'中間シート（個人）'!$F$6:$O$100,6,FALSE)&VLOOKUP($D34&\"@2\",'中間シート（個人）'!$F$6:$O$100,7,FALSE)&\".\"&VLOOKUP($D34&\"@2\",'中間シート（個人）'!$F$6:$O$100,8,FALSE))","v":""},{"$f":"IF(ISERROR(VLOOKUP($D34&\"@3\",'中間シート（個人）'!$F$6:$O$100,4,FALSE)&VLOOKUP($D34&\"@3\",'中間シート（個人）'!$F$6:$O$100,5,FALSE)),\"\",VLOOKUP($D34&\"@3\",'中間シート（個人）'!$F$6:$O$100,4,FALSE)&VLOOKUP($D34&\"@3\",'中間シート（個人）'!$F$6:$O$100,5,FALSE))","v":""},{"$f":"IF(ISERROR(VLOOKUP($D34&\"@3\",'中間シート（個人）'!$F$6:$O$100,6,FALSE)&VLOOKUP($D34&\"@3\",'中間シート（個人）'!$F$6:$O$100,7,FALSE)&\".\"&VLOOKUP($D34&\"@3\",'中間シート（個人）'!$F$6:$O$100,8,FALSE)),\"\",VLOOKUP($D34&\"@3\",'中間シート（個人）'!$F$6:$O$100,6,FALSE)&VLOOKUP($D34&\"@3\",'中間シート（個人）'!$F$6:$O$100,7,FALSE)&\".\"&VLOOKUP($D34&\"@3\",'中間シート（個人）'!$F$6:$O$100,8,FALSE))","v":""},{"$f":"IF(ISERROR(VLOOKUP($D34&\"@4\",'中間シート（個人）'!$F$6:$O$100,4,FALSE)&VLOOKUP($D34&\"@4\",'中間シート（個人）'!$F$6:$O$100,5,FALSE)),\"\",VLOOKUP($D34&\"@4\",'中間シート（個人）'!$F$6:$O$100,4,FALSE)&VLOOKUP($D34&\"@4\",'中間シート（個人）'!$F$6:$O$100,5,FALSE))","v":""},{"$f":"IF(ISERROR(VLOOKUP($D34&\"@4\",'中間シート（個人）'!$F$6:$O$100,6,FALSE)&VLOOKUP($D34&\"@4\",'中間シート（個人）'!$F$6:$O$100,7,FALSE)&\".\"&VLOOKUP($D34&\"@4\",'中間シート（個人）'!$F$6:$O$100,8,FALSE)),\"\",VLOOKUP($D34&\"@4\",'中間シート（個人）'!$F$6:$O$100,6,FALSE)&VLOOKUP($D34&\"@4\",'中間シート（個人）'!$F$6:$O$100,7,FALSE)&\".\"&VLOOKUP($D34&\"@4\",'中間シート（個人）'!$F$6:$O$100,8,FALSE))","v":""},{"$f":"IF(ISERROR(VLOOKUP($D34&\"@5\",'中間シート（個人）'!$F$6:$O$100,4,FALSE)&VLOOKUP($D34&\"@5\",'中間シート（個人）'!$F$6:$O$100,5,FALSE)),\"\",VLOOKUP($D34&\"@5\",'中間シート（個人）'!$F$6:$O$100,4,FALSE)&VLOOKUP($D34&\"@5\",'中間シート（個人）'!$F$6:$O$100,5,FALSE))","v":""},{"$f":"IF(ISERROR(VLOOKUP($D34&\"@5\",'中間シート（個人）'!$F$6:$O$100,6,FALSE)&VLOOKUP($D34&\"@5\",'中間シート（個人）'!$F$6:$O$100,7,FALSE)&\".\"&VLOOKUP($D34&\"@5\",'中間シート（個人）'!$F$6:$O$100,8,FALSE)),\"\",VLOOKUP($D34&\"@5\",'中間シート（個人）'!$F$6:$O$100,6,FALSE)&VLOOKUP($D34&\"@5\",'中間シート（個人）'!$F$6:$O$100,7,FALSE)&\".\"&VLOOKUP($D34&\"@5\",'中間シート（個人）'!$F$6:$O$100,8,FALSE))","v":""},{"$f":"IF(ISERROR(VLOOKUP($D34&\"@6\",'中間シート（個人）'!$F$6:$O$100,4,FALSE)&VLOOKUP($D34&\"@6\",'中間シート（個人）'!$F$6:$O$100,5,FALSE)),\"\",VLOOKUP($D34&\"@6\",'中間シート（個人）'!$F$6:$O$100,4,FALSE)&VLOOKUP($D34&\"@6\",'中間シート（個人）'!$F$6:$O$100,5,FALSE))","v":""},{"$f":"IF(ISERROR(VLOOKUP($D34&\"@6\",'中間シート（個人）'!$F$6:$O$100,6,FALSE)&VLOOKUP($D34&\"@6\",'中間シート（個人）'!$F$6:$O$100,7,FALSE)&\".\"&VLOOKUP($D34&\"@6\",'中間シート（個人）'!$F$6:$O$100,8,FALSE)),\"\",VLOOKUP($D34&\"@6\",'中間シート（個人）'!$F$6:$O$100,6,FALSE)&VLOOKUP($D34&\"@6\",'中間シート（個人）'!$F$6:$O$100,7,FALSE)&\".\"&VLOOKUP($D34&\"@6\",'中間シート（個人）'!$F$6:$O$100,8,FALSE))","v":""},{"$f":"IF(ISERROR(VLOOKUP($D34&\"@7\",'中間シート（個人）'!$F$6:$O$100,4,FALSE)&VLOOKUP($D34&\"@7\",'中間シート（個人）'!$F$6:$O$100,5,FALSE)),\"\",VLOOKUP($D34&\"@7\",'中間シート（個人）'!$F$6:$O$100,4,FALSE)&VLOOKUP($D34&\"@7\",'中間シート（個人）'!$F$6:$O$100,5,FALSE))","v":""},{"$f":"IF(ISERROR(VLOOKUP($D34&\"@7\",'中間シート（個人）'!$F$6:$O$100,6,FALSE)&VLOOKUP($D34&\"@7\",'中間シート（個人）'!$F$6:$O$100,7,FALSE)&\".\"&VLOOKUP($D34&\"@7\",'中間シート（個人）'!$F$6:$O$100,8,FALSE)),\"\",VLOOKUP($D34&\"@7\",'中間シート（個人）'!$F$6:$O$100,6,FALSE)&VLOOKUP($D34&\"@7\",'中間シート（個人）'!$F$6:$O$100,7,FALSE)&\".\"&VLOOKUP($D34&\"@7\",'中間シート（個人）'!$F$6:$O$100,8,FALSE))","v":""},{"$f":"IF(ISERROR(VLOOKUP($D34&\"@8\",'中間シート（個人）'!$F$6:$O$100,4,FALSE)&VLOOKUP($D34&\"@8\",'中間シート（個人）'!$F$6:$O$100,5,FALSE)),\"\",VLOOKUP($D34&\"@8\",'中間シート（個人）'!$F$6:$O$100,4,FALSE)&VLOOKUP($D34&\"@8\",'中間シート（個人）'!$F$6:$O$100,5,FALSE))","v":""},{"$f":"IF(ISERROR(VLOOKUP($D34&\"@8\",'中間シート（個人）'!$F$6:$O$100,6,FALSE)&VLOOKUP($D34&\"@8\",'中間シート（個人）'!$F$6:$O$100,7,FALSE)&\".\"&VLOOKUP($D34&\"@8\",'中間シート（個人）'!$F$6:$O$100,8,FALSE)),\"\",VLOOKUP($D34&\"@8\",'中間シート（個人）'!$F$6:$O$100,6,FALSE)&VLOOKUP($D34&\"@8\",'中間シート（個人）'!$F$6:$O$100,7,FALSE)&\".\"&VLOOKUP($D34&\"@8\",'中間シート（個人）'!$F$6:$O$100,8,FALSE))","v":""},{"$f":"IF(ISERROR(VLOOKUP($D34&\"@9\",'中間シート（個人）'!$F$6:$O$100,4,FALSE)&VLOOKUP($D34&\"@9\",'中間シート（個人）'!$F$6:$O$100,5,FALSE)),\"\",VLOOKUP($D34&\"@9\",'中間シート（個人）'!$F$6:$O$100,4,FALSE)&VLOOKUP($D34&\"@9\",'中間シート（個人）'!$F$6:$O$100,5,FALSE))","v":""},{"$f":"IF(ISERROR(VLOOKUP($D34&\"@9\",'中間シート（個人）'!$F$6:$O$100,6,FALSE)&VLOOKUP($D34&\"@9\",'中間シート（個人）'!$F$6:$O$100,7,FALSE)&\".\"&VLOOKUP($D34&\"@9\",'中間シート（個人）'!$F$6:$O$100,8,FALSE)),\"\",VLOOKUP($D34&\"@9\",'中間シート（個人）'!$F$6:$O$100,6,FALSE)&VLOOKUP($D34&\"@9\",'中間シート（個人）'!$F$6:$O$100,7,FALSE)&\".\"&VLOOKUP($D34&\"@9\",'中間シート（個人）'!$F$6:$O$100,8,FALSE))","v":""},{"$f":"IF(ISERROR(VLOOKUP($D34&\"@10\",'中間シート（個人）'!$F$6:$O$100,4,FALSE)&VLOOKUP($D34&\"@10\",'中間シート（個人）'!$F$6:$O$100,5,FALSE)),\"\",VLOOKUP($D34&\"@10\",'中間シート（個人）'!$F$6:$O$100,4,FALSE)&VLOOKUP($D34&\"@10\",'中間シート（個人）'!$F$6:$O$100,5,FALSE))","v":""},{"$f":"IF(ISERROR(VLOOKUP($D34&\"@10\",'中間シート（個人）'!$F$6:$O$100,6,FALSE)&VLOOKUP($D34&\"@10\",'中間シート（個人）'!$F$6:$O$100,7,FALSE)&\".\"&VLOOKUP($D34&\"@10\",'中間シート（個人）'!$F$6:$O$100,8,FALSE)),\"\",VLOOKUP($D34&\"@10\",'中間シート（個人）'!$F$6:$O$100,6,FALSE)&VLOOKUP($D34&\"@10\",'中間シート（個人）'!$F$6:$O$100,7,FALSE)&\".\"&VLOOKUP($D34&\"@10\",'中間シート（個人）'!$F$6:$O$100,8,FALSE))","v":""}]
[null,null,{"$f":"IF('中間シート（個人）'!D37=\"○\",\"\",VLOOKUP(個人種目!F37,コード一覧!$A$2:$B$3,2,FALSE))","v":""},{"$f":"IF('中間シート（個人）'!D37=\"○\",\"\",'中間シート（個人）'!C37)","v":""},{"$f":"IF('中間シート（個人）'!D37=\"○\",\"\",ASC(個人種目!D37&\" \"&個人種目!E37))","v":""},{"$f":"IF('中間シート（個人）'!D37=\"○\",\"\",個人種目!G37&IF(LEN(個人種目!H37)=1,\"0\"&個人種目!H37,個人種目!H37)&IF(LEN(個人種目!I37)=1,\"0\"&個人種目!I37,個人種目!I37))","v":""},{"$f":"IF('中間シート（個人）'!D37=\"○\",\"\",VLOOKUP(個人種目!$J37,コード一覧!$C$3:$D$6,2,FALSE))","v":""},{"$f":"IF('中間シート（個人）'!D37=\"○\",\"\",IF(個人種目!$J37=\"一般\",0,個人種目!$K37))","v":""},{"$f":"IF('中間シート（個人）'!D37=\"○\",\"\",'中間シート（個人）'!H37)","v":""},null,{"$f":"IF('中間シート（個人）'!D37=\"○\",\"\",個人種目!$L$1)","v":""},{"$f":"IF('中間シート（個人）'!D37=\"○\",\"\",ASC(申込書_コナミ!$S$9))","v":""},{"$f":"IF('中間シート（個人）'!D37=\"○\",\"\",申込書_コナミ!$E$8)","v":""},null,null,null,{"$f":"IF('中間シート（個人）'!D37=\"○\",\"\",4)","v":""},{"$f":"IF(ISERROR(VLOOKUP($D35&\"@1\",'中間シート（個人）'!$F$6:$O$100,4,FALSE)&VLOOKUP($D35&\"@1\",'中間シート（個人）'!$F$6:$O$100,5,FALSE)),\"\",VLOOKUP($D35&\"@1\",'中間シート（個人）'!$F$6:$O$100,4,FALSE)&VLOOKUP($D35&\"@1\",'中間シート（個人）'!$F$6:$O$100,5,FALSE))","v":""},{"$f":"IF(ISERROR(VLOOKUP($D35&\"@1\",'中間シート（個人）'!$F$6:$O$100,6,FALSE)&VLOOKUP($D35&\"@1\",'中間シート（個人）'!$F$6:$O$100,7,FALSE)&\".\"&VLOOKUP($D35&\"@1\",'中間シート（個人）'!$F$6:$O$100,8,FALSE)),\"\",VLOOKUP($D35&\"@1\",'中間シート（個人）'!$F$6:$O$100,6,FALSE)&VLOOKUP($D35&\"@1\",'中間シート（個人）'!$F$6:$O$100,7,FALSE)&\".\"&VLOOKUP($D35&\"@1\",'中間シート（個人）'!$F$6:$O$100,8,FALSE))","v":""},{"$f":"IF(ISERROR(VLOOKUP($D35&\"@2\",'中間シート（個人）'!$F$6:$O$100,4,FALSE)&VLOOKUP($D35&\"@2\",'中間シート（個人）'!$F$6:$O$100,5,FALSE)),\"\",VLOOKUP($D35&\"@2\",'中間シート（個人）'!$F$6:$O$100,4,FALSE)&VLOOKUP($D35&\"@2\",'中間シート（個人）'!$F$6:$O$100,5,FALSE))","v":""},{"$f":"IF(ISERROR(VLOOKUP($D35&\"@2\",'中間シート（個人）'!$F$6:$O$100,6,FALSE)&VLOOKUP($D35&\"@2\",'中間シート（個人）'!$F$6:$O$100,7,FALSE)&\".\"&VLOOKUP($D35&\"@2\",'中間シート（個人）'!$F$6:$O$100,8,FALSE)),\"\",VLOOKUP($D35&\"@2\",'中間シート（個人）'!$F$6:$O$100,6,FALSE)&VLOOKUP($D35&\"@2\",'中間シート（個人）'!$F$6:$O$100,7,FALSE)&\".\"&VLOOKUP($D35&\"@2\",'中間シート（個人）'!$F$6:$O$100,8,FALSE))","v":""},{"$f":"IF(ISERROR(VLOOKUP($D35&\"@3\",'中間シート（個人）'!$F$6:$O$100,4,FALSE)&VLOOKUP($D35&\"@3\",'中間シート（個人）'!$F$6:$O$100,5,FALSE)),\"\",VLOOKUP($D35&\"@3\",'中間シート（個人）'!$F$6:$O$100,4,FALSE)&VLOOKUP($D35&\"@3\",'中間シート（個人）'!$F$6:$O$100,5,FALSE))","v":""},{"$f":"IF(ISERROR(VLOOKUP($D35&\"@3\",'中間シート（個人）'!$F$6:$O$100,6,FALSE)&VLOOKUP($D35&\"@3\",'中間シート（個人）'!$F$6:$O$100,7,FALSE)&\".\"&VLOOKUP($D35&\"@3\",'中間シート（個人）'!$F$6:$O$100,8,FALSE)),\"\",VLOOKUP($D35&\"@3\",'中間シート（個人）'!$F$6:$O$100,6,FALSE)&VLOOKUP($D35&\"@3\",'中間シート（個人）'!$F$6:$O$100,7,FALSE)&\".\"&VLOOKUP($D35&\"@3\",'中間シート（個人）'!$F$6:$O$100,8,FALSE))","v":""},{"$f":"IF(ISERROR(VLOOKUP($D35&\"@4\",'中間シート（個人）'!$F$6:$O$100,4,FALSE)&VLOOKUP($D35&\"@4\",'中間シート（個人）'!$F$6:$O$100,5,FALSE)),\"\",VLOOKUP($D35&\"@4\",'中間シート（個人）'!$F$6:$O$100,4,FALSE)&VLOOKUP($D35&\"@4\",'中間シート（個人）'!$F$6:$O$100,5,FALSE))","v":""},{"$f":"IF(ISERROR(VLOOKUP($D35&\"@4\",'中間シート（個人）'!$F$6:$O$100,6,FALSE)&VLOOKUP($D35&\"@4\",'中間シート（個人）'!$F$6:$O$100,7,FALSE)&\".\"&VLOOKUP($D35&\"@4\",'中間シート（個人）'!$F$6:$O$100,8,FALSE)),\"\",VLOOKUP($D35&\"@4\",'中間シート（個人）'!$F$6:$O$100,6,FALSE)&VLOOKUP($D35&\"@4\",'中間シート（個人）'!$F$6:$O$100,7,FALSE)&\".\"&VLOOKUP($D35&\"@4\",'中間シート（個人）'!$F$6:$O$100,8,FALSE))","v":""},{"$f":"IF(ISERROR(VLOOKUP($D35&\"@5\",'中間シート（個人）'!$F$6:$O$100,4,FALSE)&VLOOKUP($D35&\"@5\",'中間シート（個人）'!$F$6:$O$100,5,FALSE)),\"\",VLOOKUP($D35&\"@5\",'中間シート（個人）'!$F$6:$O$100,4,FALSE)&VLOOKUP($D35&\"@5\",'中間シート（個人）'!$F$6:$O$100,5,FALSE))","v":""},{"$f":"IF(ISERROR(VLOOKUP($D35&\"@5\",'中間シート（個人）'!$F$6:$O$100,6,FALSE)&VLOOKUP($D35&\"@5\",'中間シート（個人）'!$F$6:$O$100,7,FALSE)&\".\"&VLOOKUP($D35&\"@5\",'中間シート（個人）'!$F$6:$O$100,8,FALSE)),\"\",VLOOKUP($D35&\"@5\",'中間シート（個人）'!$F$6:$O$100,6,FALSE)&VLOOKUP($D35&\"@5\",'中間シート（個人）'!$F$6:$O$100,7,FALSE)&\".\"&VLOOKUP($D35&\"@5\",'中間シート（個人）'!$F$6:$O$100,8,FALSE))","v":""},{"$f":"IF(ISERROR(VLOOKUP($D35&\"@6\",'中間シート（個人）'!$F$6:$O$100,4,FALSE)&VLOOKUP($D35&\"@6\",'中間シート（個人）'!$F$6:$O$100,5,FALSE)),\"\",VLOOKUP($D35&\"@6\",'中間シート（個人）'!$F$6:$O$100,4,FALSE)&VLOOKUP($D35&\"@6\",'中間シート（個人）'!$F$6:$O$100,5,FALSE))","v":""},{"$f":"IF(ISERROR(VLOOKUP($D35&\"@6\",'中間シート（個人）'!$F$6:$O$100,6,FALSE)&VLOOKUP($D35&\"@6\",'中間シート（個人）'!$F$6:$O$100,7,FALSE)&\".\"&VLOOKUP($D35&\"@6\",'中間シート（個人）'!$F$6:$O$100,8,FALSE)),\"\",VLOOKUP($D35&\"@6\",'中間シート（個人）'!$F$6:$O$100,6,FALSE)&VLOOKUP($D35&\"@6\",'中間シート（個人）'!$F$6:$O$100,7,FALSE)&\".\"&VLOOKUP($D35&\"@6\",'中間シート（個人）'!$F$6:$O$100,8,FALSE))","v":""},{"$f":"IF(ISERROR(VLOOKUP($D35&\"@7\",'中間シート（個人）'!$F$6:$O$100,4,FALSE)&VLOOKUP($D35&\"@7\",'中間シート（個人）'!$F$6:$O$100,5,FALSE)),\"\",VLOOKUP($D35&\"@7\",'中間シート（個人）'!$F$6:$O$100,4,FALSE)&VLOOKUP($D35&\"@7\",'中間シート（個人）'!$F$6:$O$100,5,FALSE))","v":""},{"$f":"IF(ISERROR(VLOOKUP($D35&\"@7\",'中間シート（個人）'!$F$6:$O$100,6,FALSE)&VLOOKUP($D35&\"@7\",'中間シート（個人）'!$F$6:$O$100,7,FALSE)&\".\"&VLOOKUP($D35&\"@7\",'中間シート（個人）'!$F$6:$O$100,8,FALSE)),\"\",VLOOKUP($D35&\"@7\",'中間シート（個人）'!$F$6:$O$100,6,FALSE)&VLOOKUP($D35&\"@7\",'中間シート（個人）'!$F$6:$O$100,7,FALSE)&\".\"&VLOOKUP($D35&\"@7\",'中間シート（個人）'!$F$6:$O$100,8,FALSE))","v":""},{"$f":"IF(ISERROR(VLOOKUP($D35&\"@8\",'中間シート（個人）'!$F$6:$O$100,4,FALSE)&VLOOKUP($D35&\"@8\",'中間シート（個人）'!$F$6:$O$100,5,FALSE)),\"\",VLOOKUP($D35&\"@8\",'中間シート（個人）'!$F$6:$O$100,4,FALSE)&VLOOKUP($D35&\"@8\",'中間シート（個人）'!$F$6:$O$100,5,FALSE))","v":""},{"$f":"IF(ISERROR(VLOOKUP($D35&\"@8\",'中間シート（個人）'!$F$6:$O$100,6,FALSE)&VLOOKUP($D35&\"@8\",'中間シート（個人）'!$F$6:$O$100,7,FALSE)&\".\"&VLOOKUP($D35&\"@8\",'中間シート（個人）'!$F$6:$O$100,8,FALSE)),\"\",VLOOKUP($D35&\"@8\",'中間シート（個人）'!$F$6:$O$100,6,FALSE)&VLOOKUP($D35&\"@8\",'中間シート（個人）'!$F$6:$O$100,7,FALSE)&\".\"&VLOOKUP($D35&\"@8\",'中間シート（個人）'!$F$6:$O$100,8,FALSE))","v":""},{"$f":"IF(ISERROR(VLOOKUP($D35&\"@9\",'中間シート（個人）'!$F$6:$O$100,4,FALSE)&VLOOKUP($D35&\"@9\",'中間シート（個人）'!$F$6:$O$100,5,FALSE)),\"\",VLOOKUP($D35&\"@9\",'中間シート（個人）'!$F$6:$O$100,4,FALSE)&VLOOKUP($D35&\"@9\",'中間シート（個人）'!$F$6:$O$100,5,FALSE))","v":""},{"$f":"IF(ISERROR(VLOOKUP($D35&\"@9\",'中間シート（個人）'!$F$6:$O$100,6,FALSE)&VLOOKUP($D35&\"@9\",'中間シート（個人）'!$F$6:$O$100,7,FALSE)&\".\"&VLOOKUP($D35&\"@9\",'中間シート（個人）'!$F$6:$O$100,8,FALSE)),\"\",VLOOKUP($D35&\"@9\",'中間シート（個人）'!$F$6:$O$100,6,FALSE)&VLOOKUP($D35&\"@9\",'中間シート（個人）'!$F$6:$O$100,7,FALSE)&\".\"&VLOOKUP($D35&\"@9\",'中間シート（個人）'!$F$6:$O$100,8,FALSE))","v":""},{"$f":"IF(ISERROR(VLOOKUP($D35&\"@10\",'中間シート（個人）'!$F$6:$O$100,4,FALSE)&VLOOKUP($D35&\"@10\",'中間シート（個人）'!$F$6:$O$100,5,FALSE)),\"\",VLOOKUP($D35&\"@10\",'中間シート（個人）'!$F$6:$O$100,4,FALSE)&VLOOKUP($D35&\"@10\",'中間シート（個人）'!$F$6:$O$100,5,FALSE))","v":""},{"$f":"IF(ISERROR(VLOOKUP($D35&\"@10\",'中間シート（個人）'!$F$6:$O$100,6,FALSE)&VLOOKUP($D35&\"@10\",'中間シート（個人）'!$F$6:$O$100,7,FALSE)&\".\"&VLOOKUP($D35&\"@10\",'中間シート（個人）'!$F$6:$O$100,8,FALSE)),\"\",VLOOKUP($D35&\"@10\",'中間シート（個人）'!$F$6:$O$100,6,FALSE)&VLOOKUP($D35&\"@10\",'中間シート（個人）'!$F$6:$O$100,7,FALSE)&\".\"&VLOOKUP($D35&\"@10\",'中間シート（個人）'!$F$6:$O$100,8,FALSE))","v":""}]
[null,null,{"$f":"IF('中間シート（個人）'!D38=\"○\",\"\",VLOOKUP(個人種目!F38,コード一覧!$A$2:$B$3,2,FALSE))","v":""},{"$f":"IF('中間シート（個人）'!D38=\"○\",\"\",'中間シート（個人）'!C38)","v":""},{"$f":"IF('中間シート（個人）'!D38=\"○\",\"\",ASC(個人種目!D38&\" \"&個人種目!E38))","v":""},{"$f":"IF('中間シート（個人）'!D38=\"○\",\"\",個人種目!G38&IF(LEN(個人種目!H38)=1,\"0\"&個人種目!H38,個人種目!H38)&IF(LEN(個人種目!I38)=1,\"0\"&個人種目!I38,個人種目!I38))","v":""},{"$f":"IF('中間シート（個人）'!D38=\"○\",\"\",VLOOKUP(個人種目!$J38,コード一覧!$C$3:$D$6,2,FALSE))","v":""},{"$f":"IF('中間シート（個人）'!D38=\"○\",\"\",IF(個人種目!$J38=\"一般\",0,個人種目!$K38))","v":""},{"$f":"IF('中間シート（個人）'!D38=\"○\",\"\",'中間シート（個人）'!H38)","v":""},null,{"$f":"IF('中間シート（個人）'!D38=\"○\",\"\",個人種目!$L$1)","v":""},{"$f":"IF('中間シート（個人）'!D38=\"○\",\"\",ASC(申込書_コナミ!$S$9))","v":""},{"$f":"IF('中間シート（個人）'!D38=\"○\",\"\",申込書_コナミ!$E$8)","v":""},null,null,null,{"$f":"IF('中間シート（個人）'!D38=\"○\",\"\",4)","v":""},{"$f":"IF(ISERROR(VLOOKUP($D36&\"@1\",'中間シート（個人）'!$F$6:$O$100,4,FALSE)&VLOOKUP($D36&\"@1\",'中間シート（個人）'!$F$6:$O$100,5,FALSE)),\"\",VLOOKUP($D36&\"@1\",'中間シート（個人）'!$F$6:$O$100,4,FALSE)&VLOOKUP($D36&\"@1\",'中間シート（個人）'!$F$6:$O$100,5,FALSE))","v":""},{"$f":"IF(ISERROR(VLOOKUP($D36&\"@1\",'中間シート（個人）'!$F$6:$O$100,6,FALSE)&VLOOKUP($D36&\"@1\",'中間シート（個人）'!$F$6:$O$100,7,FALSE)&\".\"&VLOOKUP($D36&\"@1\",'中間シート（個人）'!$F$6:$O$100,8,FALSE)),\"\",VLOOKUP($D36&\"@1\",'中間シート（個人）'!$F$6:$O$100,6,FALSE)&VLOOKUP($D36&\"@1\",'中間シート（個人）'!$F$6:$O$100,7,FALSE)&\".\"&VLOOKUP($D36&\"@1\",'中間シート（個人）'!$F$6:$O$100,8,FALSE))","v":""},{"$f":"IF(ISERROR(VLOOKUP($D36&\"@2\",'中間シート（個人）'!$F$6:$O$100,4,FALSE)&VLOOKUP($D36&\"@2\",'中間シート（個人）'!$F$6:$O$100,5,FALSE)),\"\",VLOOKUP($D36&\"@2\",'中間シート（個人）'!$F$6:$O$100,4,FALSE)&VLOOKUP($D36&\"@2\",'中間シート（個人）'!$F$6:$O$100,5,FALSE))","v":""},{"$f":"IF(ISERROR(VLOOKUP($D36&\"@2\",'中間シート（個人）'!$F$6:$O$100,6,FALSE)&VLOOKUP($D36&\"@2\",'中間シート（個人）'!$F$6:$O$100,7,FALSE)&\".\"&VLOOKUP($D36&\"@2\",'中間シート（個人）'!$F$6:$O$100,8,FALSE)),\"\",VLOOKUP($D36&\"@2\",'中間シート（個人）'!$F$6:$O$100,6,FALSE)&VLOOKUP($D36&\"@2\",'中間シート（個人）'!$F$6:$O$100,7,FALSE)&\".\"&VLOOKUP($D36&\"@2\",'中間シート（個人）'!$F$6:$O$100,8,FALSE))","v":""},{"$f":"IF(ISERROR(VLOOKUP($D36&\"@3\",'中間シート（個人）'!$F$6:$O$100,4,FALSE)&VLOOKUP($D36&\"@3\",'中間シート（個人）'!$F$6:$O$100,5,FALSE)),\"\",VLOOKUP($D36&\"@3\",'中間シート（個人）'!$F$6:$O$100,4,FALSE)&VLOOKUP($D36&\"@3\",'中間シート（個人）'!$F$6:$O$100,5,FALSE))","v":""},{"$f":"IF(ISERROR(VLOOKUP($D36&\"@3\",'中間シート（個人）'!$F$6:$O$100,6,FALSE)&VLOOKUP($D36&\"@3\",'中間シート（個人）'!$F$6:$O$100,7,FALSE)&\".\"&VLOOKUP($D36&\"@3\",'中間シート（個人）'!$F$6:$O$100,8,FALSE)),\"\",VLOOKUP($D36&\"@3\",'中間シート（個人）'!$F$6:$O$100,6,FALSE)&VLOOKUP($D36&\"@3\",'中間シート（個人）'!$F$6:$O$100,7,FALSE)&\".\"&VLOOKUP($D36&\"@3\",'中間シート（個人）'!$F$6:$O$100,8,FALSE))","v":""},{"$f":"IF(ISERROR(VLOOKUP($D36&\"@4\",'中間シート（個人）'!$F$6:$O$100,4,FALSE)&VLOOKUP($D36&\"@4\",'中間シート（個人）'!$F$6:$O$100,5,FALSE)),\"\",VLOOKUP($D36&\"@4\",'中間シート（個人）'!$F$6:$O$100,4,FALSE)&VLOOKUP($D36&\"@4\",'中間シート（個人）'!$F$6:$O$100,5,FALSE))","v":""},{"$f":"IF(ISERROR(VLOOKUP($D36&\"@4\",'中間シート（個人）'!$F$6:$O$100,6,FALSE)&VLOOKUP($D36&\"@4\",'中間シート（個人）'!$F$6:$O$100,7,FALSE)&\".\"&VLOOKUP($D36&\"@4\",'中間シート（個人）'!$F$6:$O$100,8,FALSE)),\"\",VLOOKUP($D36&\"@4\",'中間シート（個人）'!$F$6:$O$100,6,FALSE)&VLOOKUP($D36&\"@4\",'中間シート（個人）'!$F$6:$O$100,7,FALSE)&\".\"&VLOOKUP($D36&\"@4\",'中間シート（個人）'!$F$6:$O$100,8,FALSE))","v":""},{"$f":"IF(ISERROR(VLOOKUP($D36&\"@5\",'中間シート（個人）'!$F$6:$O$100,4,FALSE)&VLOOKUP($D36&\"@5\",'中間シート（個人）'!$F$6:$O$100,5,FALSE)),\"\",VLOOKUP($D36&\"@5\",'中間シート（個人）'!$F$6:$O$100,4,FALSE)&VLOOKUP($D36&\"@5\",'中間シート（個人）'!$F$6:$O$100,5,FALSE))","v":""},{"$f":"IF(ISERROR(VLOOKUP($D36&\"@5\",'中間シート（個人）'!$F$6:$O$100,6,FALSE)&VLOOKUP($D36&\"@5\",'中間シート（個人）'!$F$6:$O$100,7,FALSE)&\".\"&VLOOKUP($D36&\"@5\",'中間シート（個人）'!$F$6:$O$100,8,FALSE)),\"\",VLOOKUP($D36&\"@5\",'中間シート（個人）'!$F$6:$O$100,6,FALSE)&VLOOKUP($D36&\"@5\",'中間シート（個人）'!$F$6:$O$100,7,FALSE)&\".\"&VLOOKUP($D36&\"@5\",'中間シート（個人）'!$F$6:$O$100,8,FALSE))","v":""},{"$f":"IF(ISERROR(VLOOKUP($D36&\"@6\",'中間シート（個人）'!$F$6:$O$100,4,FALSE)&VLOOKUP($D36&\"@6\",'中間シート（個人）'!$F$6:$O$100,5,FALSE)),\"\",VLOOKUP($D36&\"@6\",'中間シート（個人）'!$F$6:$O$100,4,FALSE)&VLOOKUP($D36&\"@6\",'中間シート（個人）'!$F$6:$O$100,5,FALSE))","v":""},{"$f":"IF(ISERROR(VLOOKUP($D36&\"@6\",'中間シート（個人）'!$F$6:$O$100,6,FALSE)&VLOOKUP($D36&\"@6\",'中間シート（個人）'!$F$6:$O$100,7,FALSE)&\".\"&VLOOKUP($D36&\"@6\",'中間シート（個人）'!$F$6:$O$100,8,FALSE)),\"\",VLOOKUP($D36&\"@6\",'中間シート（個人）'!$F$6:$O$100,6,FALSE)&VLOOKUP($D36&\"@6\",'中間シート（個人）'!$F$6:$O$100,7,FALSE)&\".\"&VLOOKUP($D36&\"@6\",'中間シート（個人）'!$F$6:$O$100,8,FALSE))","v":""},{"$f":"IF(ISERROR(VLOOKUP($D36&\"@7\",'中間シート（個人）'!$F$6:$O$100,4,FALSE)&VLOOKUP($D36&\"@7\",'中間シート（個人）'!$F$6:$O$100,5,FALSE)),\"\",VLOOKUP($D36&\"@7\",'中間シート（個人）'!$F$6:$O$100,4,FALSE)&VLOOKUP($D36&\"@7\",'中間シート（個人）'!$F$6:$O$100,5,FALSE))","v":""},{"$f":"IF(ISERROR(VLOOKUP($D36&\"@7\",'中間シート（個人）'!$F$6:$O$100,6,FALSE)&VLOOKUP($D36&\"@7\",'中間シート（個人）'!$F$6:$O$100,7,FALSE)&\".\"&VLOOKUP($D36&\"@7\",'中間シート（個人）'!$F$6:$O$100,8,FALSE)),\"\",VLOOKUP($D36&\"@7\",'中間シート（個人）'!$F$6:$O$100,6,FALSE)&VLOOKUP($D36&\"@7\",'中間シート（個人）'!$F$6:$O$100,7,FALSE)&\".\"&VLOOKUP($D36&\"@7\",'中間シート（個人）'!$F$6:$O$100,8,FALSE))","v":""},{"$f":"IF(ISERROR(VLOOKUP($D36&\"@8\",'中間シート（個人）'!$F$6:$O$100,4,FALSE)&VLOOKUP($D36&\"@8\",'中間シート（個人）'!$F$6:$O$100,5,FALSE)),\"\",VLOOKUP($D36&\"@8\",'中間シート（個人）'!$F$6:$O$100,4,FALSE)&VLOOKUP($D36&\"@8\",'中間シート（個人）'!$F$6:$O$100,5,FALSE))","v":""},{"$f":"IF(ISERROR(VLOOKUP($D36&\"@8\",'中間シート（個人）'!$F$6:$O$100,6,FALSE)&VLOOKUP($D36&\"@8\",'中間シート（個人）'!$F$6:$O$100,7,FALSE)&\".\"&VLOOKUP($D36&\"@8\",'中間シート（個人）'!$F$6:$O$100,8,FALSE)),\"\",VLOOKUP($D36&\"@8\",'中間シート（個人）'!$F$6:$O$100,6,FALSE)&VLOOKUP($D36&\"@8\",'中間シート（個人）'!$F$6:$O$100,7,FALSE)&\".\"&VLOOKUP($D36&\"@8\",'中間シート（個人）'!$F$6:$O$100,8,FALSE))","v":""},{"$f":"IF(ISERROR(VLOOKUP($D36&\"@9\",'中間シート（個人）'!$F$6:$O$100,4,FALSE)&VLOOKUP($D36&\"@9\",'中間シート（個人）'!$F$6:$O$100,5,FALSE)),\"\",VLOOKUP($D36&\"@9\",'中間シート（個人）'!$F$6:$O$100,4,FALSE)&VLOOKUP($D36&\"@9\",'中間シート（個人）'!$F$6:$O$100,5,FALSE))","v":""},{"$f":"IF(ISERROR(VLOOKUP($D36&\"@9\",'中間シート（個人）'!$F$6:$O$100,6,FALSE)&VLOOKUP($D36&\"@9\",'中間シート（個人）'!$F$6:$O$100,7,FALSE)&\".\"&VLOOKUP($D36&\"@9\",'中間シート（個人）'!$F$6:$O$100,8,FALSE)),\"\",VLOOKUP($D36&\"@9\",'中間シート（個人）'!$F$6:$O$100,6,FALSE)&VLOOKUP($D36&\"@9\",'中間シート（個人）'!$F$6:$O$100,7,FALSE)&\".\"&VLOOKUP($D36&\"@9\",'中間シート（個人）'!$F$6:$O$100,8,FALSE))","v":""},{"$f":"IF(ISERROR(VLOOKUP($D36&\"@10\",'中間シート（個人）'!$F$6:$O$100,4,FALSE)&VLOOKUP($D36&\"@10\",'中間シート（個人）'!$F$6:$O$100,5,FALSE)),\"\",VLOOKUP($D36&\"@10\",'中間シート（個人）'!$F$6:$O$100,4,FALSE)&VLOOKUP($D36&\"@10\",'中間シート（個人）'!$F$6:$O$100,5,FALSE))","v":""},{"$f":"IF(ISERROR(VLOOKUP($D36&\"@10\",'中間シート（個人）'!$F$6:$O$100,6,FALSE)&VLOOKUP($D36&\"@10\",'中間シート（個人）'!$F$6:$O$100,7,FALSE)&\".\"&VLOOKUP($D36&\"@10\",'中間シート（個人）'!$F$6:$O$100,8,FALSE)),\"\",VLOOKUP($D36&\"@10\",'中間シート（個人）'!$F$6:$O$100,6,FALSE)&VLOOKUP($D36&\"@10\",'中間シート（個人）'!$F$6:$O$100,7,FALSE)&\".\"&VLOOKUP($D36&\"@10\",'中間シート（個人）'!$F$6:$O$100,8,FALSE))","v":""}]
[null,null,{"$f":"IF('中間シート（個人）'!D39=\"○\",\"\",VLOOKUP(個人種目!F39,コード一覧!$A$2:$B$3,2,FALSE))","v":""},{"$f":"IF('中間シート（個人）'!D39=\"○\",\"\",'中間シート（個人）'!C39)","v":""},{"$f":"IF('中間シート（個人）'!D39=\"○\",\"\",ASC(個人種目!D39&\" \"&個人種目!E39))","v":""},{"$f":"IF('中間シート（個人）'!D39=\"○\",\"\",個人種目!G39&IF(LEN(個人種目!H39)=1,\"0\"&個人種目!H39,個人種目!H39)&IF(LEN(個人種目!I39)=1,\"0\"&個人種目!I39,個人種目!I39))","v":""},{"$f":"IF('中間シート（個人）'!D39=\"○\",\"\",VLOOKUP(個人種目!$J39,コード一覧!$C$3:$D$6,2,FALSE))","v":""},{"$f":"IF('中間シート（個人）'!D39=\"○\",\"\",IF(個人種目!$J39=\"一般\",0,個人種目!$K39))","v":""},{"$f":"IF('中間シート（個人）'!D39=\"○\",\"\",'中間シート（個人）'!H39)","v":""},null,{"$f":"IF('中間シート（個人）'!D39=\"○\",\"\",個人種目!$L$1)","v":""},{"$f":"IF('中間シート（個人）'!D39=\"○\",\"\",ASC(申込書_コナミ!$S$9))","v":""},{"$f":"IF('中間シート（個人）'!D39=\"○\",\"\",申込書_コナミ!$E$8)","v":""},null,null,null,{"$f":"IF('中間シート（個人）'!D39=\"○\",\"\",4)","v":""},{"$f":"IF(ISERROR(VLOOKUP($D37&\"@1\",'中間シート（個人）'!$F$6:$O$100,4,FALSE)&VLOOKUP($D37&\"@1\",'中間シート（個人）'!$F$6:$O$100,5,FALSE)),\"\",VLOOKUP($D37&\"@1\",'中間シート（個人）'!$F$6:$O$100,4,FALSE)&VLOOKUP($D37&\"@1\",'中間シート（個人）'!$F$6:$O$100,5,FALSE))","v":""},{"$f":"IF(ISERROR(VLOOKUP($D37&\"@1\",'中間シート（個人）'!$F$6:$O$100,6,FALSE)&VLOOKUP($D37&\"@1\",'中間シート（個人）'!$F$6:$O$100,7,FALSE)&\".\"&VLOOKUP($D37&\"@1\",'中間シート（個人）'!$F$6:$O$100,8,FALSE)),\"\",VLOOKUP($D37&\"@1\",'中間シート（個人）'!$F$6:$O$100,6,FALSE)&VLOOKUP($D37&\"@1\",'中間シート（個人）'!$F$6:$O$100,7,FALSE)&\".\"&VLOOKUP($D37&\"@1\",'中間シート（個人）'!$F$6:$O$100,8,FALSE))","v":""},{"$f":"IF(ISERROR(VLOOKUP($D37&\"@2\",'中間シート（個人）'!$F$6:$O$100,4,FALSE)&VLOOKUP($D37&\"@2\",'中間シート（個人）'!$F$6:$O$100,5,FALSE)),\"\",VLOOKUP($D37&\"@2\",'中間シート（個人）'!$F$6:$O$100,4,FALSE)&VLOOKUP($D37&\"@2\",'中間シート（個人）'!$F$6:$O$100,5,FALSE))","v":""},{"$f":"IF(ISERROR(VLOOKUP($D37&\"@2\",'中間シート（個人）'!$F$6:$O$100,6,FALSE)&VLOOKUP($D37&\"@2\",'中間シート（個人）'!$F$6:$O$100,7,FALSE)&\".\"&VLOOKUP($D37&\"@2\",'中間シート（個人）'!$F$6:$O$100,8,FALSE)),\"\",VLOOKUP($D37&\"@2\",'中間シート（個人）'!$F$6:$O$100,6,FALSE)&VLOOKUP($D37&\"@2\",'中間シート（個人）'!$F$6:$O$100,7,FALSE)&\".\"&VLOOKUP($D37&\"@2\",'中間シート（個人）'!$F$6:$O$100,8,FALSE))","v":""},{"$f":"IF(ISERROR(VLOOKUP($D37&\"@3\",'中間シート（個人）'!$F$6:$O$100,4,FALSE)&VLOOKUP($D37&\"@3\",'中間シート（個人）'!$F$6:$O$100,5,FALSE)),\"\",VLOOKUP($D37&\"@3\",'中間シート（個人）'!$F$6:$O$100,4,FALSE)&VLOOKUP($D37&\"@3\",'中間シート（個人）'!$F$6:$O$100,5,FALSE))","v":""},{"$f":"IF(ISERROR(VLOOKUP($D37&\"@3\",'中間シート（個人）'!$F$6:$O$100,6,FALSE)&VLOOKUP($D37&\"@3\",'中間シート（個人）'!$F$6:$O$100,7,FALSE)&\".\"&VLOOKUP($D37&\"@3\",'中間シート（個人）'!$F$6:$O$100,8,FALSE)),\"\",VLOOKUP($D37&\"@3\",'中間シート（個人）'!$F$6:$O$100,6,FALSE)&VLOOKUP($D37&\"@3\",'中間シート（個人）'!$F$6:$O$100,7,FALSE)&\".\"&VLOOKUP($D37&\"@3\",'中間シート（個人）'!$F$6:$O$100,8,FALSE))","v":""},{"$f":"IF(ISERROR(VLOOKUP($D37&\"@4\",'中間シート（個人）'!$F$6:$O$100,4,FALSE)&VLOOKUP($D37&\"@4\",'中間シート（個人）'!$F$6:$O$100,5,FALSE)),\"\",VLOOKUP($D37&\"@4\",'中間シート（個人）'!$F$6:$O$100,4,FALSE)&VLOOKUP($D37&\"@4\",'中間シート（個人）'!$F$6:$O$100,5,FALSE))","v":""},{"$f":"IF(ISERROR(VLOOKUP($D37&\"@4\",'中間シート（個人）'!$F$6:$O$100,6,FALSE)&VLOOKUP($D37&\"@4\",'中間シート（個人）'!$F$6:$O$100,7,FALSE)&\".\"&VLOOKUP($D37&\"@4\",'中間シート（個人）'!$F$6:$O$100,8,FALSE)),\"\",VLOOKUP($D37&\"@4\",'中間シート（個人）'!$F$6:$O$100,6,FALSE)&VLOOKUP($D37&\"@4\",'中間シート（個人）'!$F$6:$O$100,7,FALSE)&\".\"&VLOOKUP($D37&\"@4\",'中間シート（個人）'!$F$6:$O$100,8,FALSE))","v":""},{"$f":"IF(ISERROR(VLOOKUP($D37&\"@5\",'中間シート（個人）'!$F$6:$O$100,4,FALSE)&VLOOKUP($D37&\"@5\",'中間シート（個人）'!$F$6:$O$100,5,FALSE)),\"\",VLOOKUP($D37&\"@5\",'中間シート（個人）'!$F$6:$O$100,4,FALSE)&VLOOKUP($D37&\"@5\",'中間シート（個人）'!$F$6:$O$100,5,FALSE))","v":""},{"$f":"IF(ISERROR(VLOOKUP($D37&\"@5\",'中間シート（個人）'!$F$6:$O$100,6,FALSE)&VLOOKUP($D37&\"@5\",'中間シート（個人）'!$F$6:$O$100,7,FALSE)&\".\"&VLOOKUP($D37&\"@5\",'中間シート（個人）'!$F$6:$O$100,8,FALSE)),\"\",VLOOKUP($D37&\"@5\",'中間シート（個人）'!$F$6:$O$100,6,FALSE)&VLOOKUP($D37&\"@5\",'中間シート（個人）'!$F$6:$O$100,7,FALSE)&\".\"&VLOOKUP($D37&\"@5\",'中間シート（個人）'!$F$6:$O$100,8,FALSE))","v":""},{"$f":"IF(ISERROR(VLOOKUP($D37&\"@6\",'中間シート（個人）'!$F$6:$O$100,4,FALSE)&VLOOKUP($D37&\"@6\",'中間シート（個人）'!$F$6:$O$100,5,FALSE)),\"\",VLOOKUP($D37&\"@6\",'中間シート（個人）'!$F$6:$O$100,4,FALSE)&VLOOKUP($D37&\"@6\",'中間シート（個人）'!$F$6:$O$100,5,FALSE))","v":""},{"$f":"IF(ISERROR(VLOOKUP($D37&\"@6\",'中間シート（個人）'!$F$6:$O$100,6,FALSE)&VLOOKUP($D37&\"@6\",'中間シート（個人）'!$F$6:$O$100,7,FALSE)&\".\"&VLOOKUP($D37&\"@6\",'中間シート（個人）'!$F$6:$O$100,8,FALSE)),\"\",VLOOKUP($D37&\"@6\",'中間シート（個人）'!$F$6:$O$100,6,FALSE)&VLOOKUP($D37&\"@6\",'中間シート（個人）'!$F$6:$O$100,7,FALSE)&\".\"&VLOOKUP($D37&\"@6\",'中間シート（個人）'!$F$6:$O$100,8,FALSE))","v":""},{"$f":"IF(ISERROR(VLOOKUP($D37&\"@7\",'中間シート（個人）'!$F$6:$O$100,4,FALSE)&VLOOKUP($D37&\"@7\",'中間シート（個人）'!$F$6:$O$100,5,FALSE)),\"\",VLOOKUP($D37&\"@7\",'中間シート（個人）'!$F$6:$O$100,4,FALSE)&VLOOKUP($D37&\"@7\",'中間シート（個人）'!$F$6:$O$100,5,FALSE))","v":""},{"$f":"IF(ISERROR(VLOOKUP($D37&\"@7\",'中間シート（個人）'!$F$6:$O$100,6,FALSE)&VLOOKUP($D37&\"@7\",'中間シート（個人）'!$F$6:$O$100,7,FALSE)&\".\"&VLOOKUP($D37&\"@7\",'中間シート（個人）'!$F$6:$O$100,8,FALSE)),\"\",VLOOKUP($D37&\"@7\",'中間シート（個人）'!$F$6:$O$100,6,FALSE)&VLOOKUP($D37&\"@7\",'中間シート（個人）'!$F$6:$O$100,7,FALSE)&\".\"&VLOOKUP($D37&\"@7\",'中間シート（個人）'!$F$6:$O$100,8,FALSE))","v":""},{"$f":"IF(ISERROR(VLOOKUP($D37&\"@8\",'中間シート（個人）'!$F$6:$O$100,4,FALSE)&VLOOKUP($D37&\"@8\",'中間シート（個人）'!$F$6:$O$100,5,FALSE)),\"\",VLOOKUP($D37&\"@8\",'中間シート（個人）'!$F$6:$O$100,4,FALSE)&VLOOKUP($D37&\"@8\",'中間シート（個人）'!$F$6:$O$100,5,FALSE))","v":""},{"$f":"IF(ISERROR(VLOOKUP($D37&\"@8\",'中間シート（個人）'!$F$6:$O$100,6,FALSE)&VLOOKUP($D37&\"@8\",'中間シート（個人）'!$F$6:$O$100,7,FALSE)&\".\"&VLOOKUP($D37&\"@8\",'中間シート（個人）'!$F$6:$O$100,8,FALSE)),\"\",VLOOKUP($D37&\"@8\",'中間シート（個人）'!$F$6:$O$100,6,FALSE)&VLOOKUP($D37&\"@8\",'中間シート（個人）'!$F$6:$O$100,7,FALSE)&\".\"&VLOOKUP($D37&\"@8\",'中間シート（個人）'!$F$6:$O$100,8,FALSE))","v":""},{"$f":"IF(ISERROR(VLOOKUP($D37&\"@9\",'中間シート（個人）'!$F$6:$O$100,4,FALSE)&VLOOKUP($D37&\"@9\",'中間シート（個人）'!$F$6:$O$100,5,FALSE)),\"\",VLOOKUP($D37&\"@9\",'中間シート（個人）'!$F$6:$O$100,4,FALSE)&VLOOKUP($D37&\"@9\",'中間シート（個人）'!$F$6:$O$100,5,FALSE))","v":""},{"$f":"IF(ISERROR(VLOOKUP($D37&\"@9\",'中間シート（個人）'!$F$6:$O$100,6,FALSE)&VLOOKUP($D37&\"@9\",'中間シート（個人）'!$F$6:$O$100,7,FALSE)&\".\"&VLOOKUP($D37&\"@9\",'中間シート（個人）'!$F$6:$O$100,8,FALSE)),\"\",VLOOKUP($D37&\"@9\",'中間シート（個人）'!$F$6:$O$100,6,FALSE)&VLOOKUP($D37&\"@9\",'中間シート（個人）'!$F$6:$O$100,7,FALSE)&\".\"&VLOOKUP($D37&\"@9\",'中間シート（個人）'!$F$6:$O$100,8,FALSE))","v":""},{"$f":"IF(ISERROR(VLOOKUP($D37&\"@10\",'中間シート（個人）'!$F$6:$O$100,4,FALSE)&VLOOKUP($D37&\"@10\",'中間シート（個人）'!$F$6:$O$100,5,FALSE)),\"\",VLOOKUP($D37&\"@10\",'中間シート（個人）'!$F$6:$O$100,4,FALSE)&VLOOKUP($D37&\"@10\",'中間シート（個人）'!$F$6:$O$100,5,FALSE))","v":""},{"$f":"IF(ISERROR(VLOOKUP($D37&\"@10\",'中間シート（個人）'!$F$6:$O$100,6,FALSE)&VLOOKUP($D37&\"@10\",'中間シート（個人）'!$F$6:$O$100,7,FALSE)&\".\"&VLOOKUP($D37&\"@10\",'中間シート（個人）'!$F$6:$O$100,8,FALSE)),\"\",VLOOKUP($D37&\"@10\",'中間シート（個人）'!$F$6:$O$100,6,FALSE)&VLOOKUP($D37&\"@10\",'中間シート（個人）'!$F$6:$O$100,7,FALSE)&\".\"&VLOOKUP($D37&\"@10\",'中間シート（個人）'!$F$6:$O$100,8,FALSE))","v":""}]
[null,null,{"$f":"IF('中間シート（個人）'!D40=\"○\",\"\",VLOOKUP(個人種目!F40,コード一覧!$A$2:$B$3,2,FALSE))","v":""},{"$f":"IF('中間シート（個人）'!D40=\"○\",\"\",'中間シート（個人）'!C40)","v":""},{"$f":"IF('中間シート（個人）'!D40=\"○\",\"\",ASC(個人種目!D40&\" \"&個人種目!E40))","v":""},{"$f":"IF('中間シート（個人）'!D40=\"○\",\"\",個人種目!G40&IF(LEN(個人種目!H40)=1,\"0\"&個人種目!H40,個人種目!H40)&IF(LEN(個人種目!I40)=1,\"0\"&個人種目!I40,個人種目!I40))","v":""},{"$f":"IF('中間シート（個人）'!D40=\"○\",\"\",VLOOKUP(個人種目!$J40,コード一覧!$C$3:$D$6,2,FALSE))","v":""},{"$f":"IF('中間シート（個人）'!D40=\"○\",\"\",IF(個人種目!$J40=\"一般\",0,個人種目!$K40))","v":""},{"$f":"IF('中間シート（個人）'!D40=\"○\",\"\",'中間シート（個人）'!H40)","v":""},null,{"$f":"IF('中間シート（個人）'!D40=\"○\",\"\",個人種目!$L$1)","v":""},{"$f":"IF('中間シート（個人）'!D40=\"○\",\"\",ASC(申込書_コナミ!$S$9))","v":""},{"$f":"IF('中間シート（個人）'!D40=\"○\",\"\",申込書_コナミ!$E$8)","v":""},null,null,null,{"$f":"IF('中間シート（個人）'!D40=\"○\",\"\",4)","v":""},{"$f":"IF(ISERROR(VLOOKUP($D38&\"@1\",'中間シート（個人）'!$F$6:$O$100,4,FALSE)&VLOOKUP($D38&\"@1\",'中間シート（個人）'!$F$6:$O$100,5,FALSE)),\"\",VLOOKUP($D38&\"@1\",'中間シート（個人）'!$F$6:$O$100,4,FALSE)&VLOOKUP($D38&\"@1\",'中間シート（個人）'!$F$6:$O$100,5,FALSE))","v":""},{"$f":"IF(ISERROR(VLOOKUP($D38&\"@1\",'中間シート（個人）'!$F$6:$O$100,6,FALSE)&VLOOKUP($D38&\"@1\",'中間シート（個人）'!$F$6:$O$100,7,FALSE)&\".\"&VLOOKUP($D38&\"@1\",'中間シート（個人）'!$F$6:$O$100,8,FALSE)),\"\",VLOOKUP($D38&\"@1\",'中間シート（個人）'!$F$6:$O$100,6,FALSE)&VLOOKUP($D38&\"@1\",'中間シート（個人）'!$F$6:$O$100,7,FALSE)&\".\"&VLOOKUP($D38&\"@1\",'中間シート（個人）'!$F$6:$O$100,8,FALSE))","v":""},{"$f":"IF(ISERROR(VLOOKUP($D38&\"@2\",'中間シート（個人）'!$F$6:$O$100,4,FALSE)&VLOOKUP($D38&\"@2\",'中間シート（個人）'!$F$6:$O$100,5,FALSE)),\"\",VLOOKUP($D38&\"@2\",'中間シート（個人）'!$F$6:$O$100,4,FALSE)&VLOOKUP($D38&\"@2\",'中間シート（個人）'!$F$6:$O$100,5,FALSE))","v":""},{"$f":"IF(ISERROR(VLOOKUP($D38&\"@2\",'中間シート（個人）'!$F$6:$O$100,6,FALSE)&VLOOKUP($D38&\"@2\",'中間シート（個人）'!$F$6:$O$100,7,FALSE)&\".\"&VLOOKUP($D38&\"@2\",'中間シート（個人）'!$F$6:$O$100,8,FALSE)),\"\",VLOOKUP($D38&\"@2\",'中間シート（個人）'!$F$6:$O$100,6,FALSE)&VLOOKUP($D38&\"@2\",'中間シート（個人）'!$F$6:$O$100,7,FALSE)&\".\"&VLOOKUP($D38&\"@2\",'中間シート（個人）'!$F$6:$O$100,8,FALSE))","v":""},{"$f":"IF(ISERROR(VLOOKUP($D38&\"@3\",'中間シート（個人）'!$F$6:$O$100,4,FALSE)&VLOOKUP($D38&\"@3\",'中間シート（個人）'!$F$6:$O$100,5,FALSE)),\"\",VLOOKUP($D38&\"@3\",'中間シート（個人）'!$F$6:$O$100,4,FALSE)&VLOOKUP($D38&\"@3\",'中間シート（個人）'!$F$6:$O$100,5,FALSE))","v":""},{"$f":"IF(ISERROR(VLOOKUP($D38&\"@3\",'中間シート（個人）'!$F$6:$O$100,6,FALSE)&VLOOKUP($D38&\"@3\",'中間シート（個人）'!$F$6:$O$100,7,FALSE)&\".\"&VLOOKUP($D38&\"@3\",'中間シート（個人）'!$F$6:$O$100,8,FALSE)),\"\",VLOOKUP($D38&\"@3\",'中間シート（個人）'!$F$6:$O$100,6,FALSE)&VLOOKUP($D38&\"@3\",'中間シート（個人）'!$F$6:$O$100,7,FALSE)&\".\"&VLOOKUP($D38&\"@3\",'中間シート（個人）'!$F$6:$O$100,8,FALSE))","v":""},{"$f":"IF(ISERROR(VLOOKUP($D38&\"@4\",'中間シート（個人）'!$F$6:$O$100,4,FALSE)&VLOOKUP($D38&\"@4\",'中間シート（個人）'!$F$6:$O$100,5,FALSE)),\"\",VLOOKUP($D38&\"@4\",'中間シート（個人）'!$F$6:$O$100,4,FALSE)&VLOOKUP($D38&\"@4\",'中間シート（個人）'!$F$6:$O$100,5,FALSE))","v":""},{"$f":"IF(ISERROR(VLOOKUP($D38&\"@4\",'中間シート（個人）'!$F$6:$O$100,6,FALSE)&VLOOKUP($D38&\"@4\",'中間シート（個人）'!$F$6:$O$100,7,FALSE)&\".\"&VLOOKUP($D38&\"@4\",'中間シート（個人）'!$F$6:$O$100,8,FALSE)),\"\",VLOOKUP($D38&\"@4\",'中間シート（個人）'!$F$6:$O$100,6,FALSE)&VLOOKUP($D38&\"@4\",'中間シート（個人）'!$F$6:$O$100,7,FALSE)&\".\"&VLOOKUP($D38&\"@4\",'中間シート（個人）'!$F$6:$O$100,8,FALSE))","v":""},{"$f":"IF(ISERROR(VLOOKUP($D38&\"@5\",'中間シート（個人）'!$F$6:$O$100,4,FALSE)&VLOOKUP($D38&\"@5\",'中間シート（個人）'!$F$6:$O$100,5,FALSE)),\"\",VLOOKUP($D38&\"@5\",'中間シート（個人）'!$F$6:$O$100,4,FALSE)&VLOOKUP($D38&\"@5\",'中間シート（個人）'!$F$6:$O$100,5,FALSE))","v":""},{"$f":"IF(ISERROR(VLOOKUP($D38&\"@5\",'中間シート（個人）'!$F$6:$O$100,6,FALSE)&VLOOKUP($D38&\"@5\",'中間シート（個人）'!$F$6:$O$100,7,FALSE)&\".\"&VLOOKUP($D38&\"@5\",'中間シート（個人）'!$F$6:$O$100,8,FALSE)),\"\",VLOOKUP($D38&\"@5\",'中間シート（個人）'!$F$6:$O$100,6,FALSE)&VLOOKUP($D38&\"@5\",'中間シート（個人）'!$F$6:$O$100,7,FALSE)&\".\"&VLOOKUP($D38&\"@5\",'中間シート（個人）'!$F$6:$O$100,8,FALSE))","v":""},{"$f":"IF(ISERROR(VLOOKUP($D38&\"@6\",'中間シート（個人）'!$F$6:$O$100,4,FALSE)&VLOOKUP($D38&\"@6\",'中間シート（個人）'!$F$6:$O$100,5,FALSE)),\"\",VLOOKUP($D38&\"@6\",'中間シート（個人）'!$F$6:$O$100,4,FALSE)&VLOOKUP($D38&\"@6\",'中間シート（個人）'!$F$6:$O$100,5,FALSE))","v":""},{"$f":"IF(ISERROR(VLOOKUP($D38&\"@6\",'中間シート（個人）'!$F$6:$O$100,6,FALSE)&VLOOKUP($D38&\"@6\",'中間シート（個人）'!$F$6:$O$100,7,FALSE)&\".\"&VLOOKUP($D38&\"@6\",'中間シート（個人）'!$F$6:$O$100,8,FALSE)),\"\",VLOOKUP($D38&\"@6\",'中間シート（個人）'!$F$6:$O$100,6,FALSE)&VLOOKUP($D38&\"@6\",'中間シート（個人）'!$F$6:$O$100,7,FALSE)&\".\"&VLOOKUP($D38&\"@6\",'中間シート（個人）'!$F$6:$O$100,8,FALSE))","v":""},{"$f":"IF(ISERROR(VLOOKUP($D38&\"@7\",'中間シート（個人）'!$F$6:$O$100,4,FALSE)&VLOOKUP($D38&\"@7\",'中間シート（個人）'!$F$6:$O$100,5,FALSE)),\"\",VLOOKUP($D38&\"@7\",'中間シート（個人）'!$F$6:$O$100,4,FALSE)&VLOOKUP($D38&\"@7\",'中間シート（個人）'!$F$6:$O$100,5,FALSE))","v":""},{"$f":"IF(ISERROR(VLOOKUP($D38&\"@7\",'中間シート（個人）'!$F$6:$O$100,6,FALSE)&VLOOKUP($D38&\"@7\",'中間シート（個人）'!$F$6:$O$100,7,FALSE)&\".\"&VLOOKUP($D38&\"@7\",'中間シート（個人）'!$F$6:$O$100,8,FALSE)),\"\",VLOOKUP($D38&\"@7\",'中間シート（個人）'!$F$6:$O$100,6,FALSE)&VLOOKUP($D38&\"@7\",'中間シート（個人）'!$F$6:$O$100,7,FALSE)&\".\"&VLOOKUP($D38&\"@7\",'中間シート（個人）'!$F$6:$O$100,8,FALSE))","v":""},{"$f":"IF(ISERROR(VLOOKUP($D38&\"@8\",'中間シート（個人）'!$F$6:$O$100,4,FALSE)&VLOOKUP($D38&\"@8\",'中間シート（個人）'!$F$6:$O$100,5,FALSE)),\"\",VLOOKUP($D38&\"@8\",'中間シート（個人）'!$F$6:$O$100,4,FALSE)&VLOOKUP($D38&\"@8\",'中間シート（個人）'!$F$6:$O$100,5,FALSE))","v":""},{"$f":"IF(ISERROR(VLOOKUP($D38&\"@8\",'中間シート（個人）'!$F$6:$O$100,6,FALSE)&VLOOKUP($D38&\"@8\",'中間シート（個人）'!$F$6:$O$100,7,FALSE)&\".\"&VLOOKUP($D38&\"@8\",'中間シート（個人）'!$F$6:$O$100,8,FALSE)),\"\",VLOOKUP($D38&\"@8\",'中間シート（個人）'!$F$6:$O$100,6,FALSE)&VLOOKUP($D38&\"@8\",'中間シート（個人）'!$F$6:$O$100,7,FALSE)&\".\"&VLOOKUP($D38&\"@8\",'中間シート（個人）'!$F$6:$O$100,8,FALSE))","v":""},{"$f":"IF(ISERROR(VLOOKUP($D38&\"@9\",'中間シート（個人）'!$F$6:$O$100,4,FALSE)&VLOOKUP($D38&\"@9\",'中間シート（個人）'!$F$6:$O$100,5,FALSE)),\"\",VLOOKUP($D38&\"@9\",'中間シート（個人）'!$F$6:$O$100,4,FALSE)&VLOOKUP($D38&\"@9\",'中間シート（個人）'!$F$6:$O$100,5,FALSE))","v":""},{"$f":"IF(ISERROR(VLOOKUP($D38&\"@9\",'中間シート（個人）'!$F$6:$O$100,6,FALSE)&VLOOKUP($D38&\"@9\",'中間シート（個人）'!$F$6:$O$100,7,FALSE)&\".\"&VLOOKUP($D38&\"@9\",'中間シート（個人）'!$F$6:$O$100,8,FALSE)),\"\",VLOOKUP($D38&\"@9\",'中間シート（個人）'!$F$6:$O$100,6,FALSE)&VLOOKUP($D38&\"@9\",'中間シート（個人）'!$F$6:$O$100,7,FALSE)&\".\"&VLOOKUP($D38&\"@9\",'中間シート（個人）'!$F$6:$O$100,8,FALSE))","v":""},{"$f":"IF(ISERROR(VLOOKUP($D38&\"@10\",'中間シート（個人）'!$F$6:$O$100,4,FALSE)&VLOOKUP($D38&\"@10\",'中間シート（個人）'!$F$6:$O$100,5,FALSE)),\"\",VLOOKUP($D38&\"@10\",'中間シート（個人）'!$F$6:$O$100,4,FALSE)&VLOOKUP($D38&\"@10\",'中間シート（個人）'!$F$6:$O$100,5,FALSE))","v":""},{"$f":"IF(ISERROR(VLOOKUP($D38&\"@10\",'中間シート（個人）'!$F$6:$O$100,6,FALSE)&VLOOKUP($D38&\"@10\",'中間シート（個人）'!$F$6:$O$100,7,FALSE)&\".\"&VLOOKUP($D38&\"@10\",'中間シート（個人）'!$F$6:$O$100,8,FALSE)),\"\",VLOOKUP($D38&\"@10\",'中間シート（個人）'!$F$6:$O$100,6,FALSE)&VLOOKUP($D38&\"@10\",'中間シート（個人）'!$F$6:$O$100,7,FALSE)&\".\"&VLOOKUP($D38&\"@10\",'中間シート（個人）'!$F$6:$O$100,8,FALSE))","v":""}]
[null,null,{"$f":"IF('中間シート（個人）'!D41=\"○\",\"\",VLOOKUP(個人種目!F41,コード一覧!$A$2:$B$3,2,FALSE))","v":""},{"$f":"IF('中間シート（個人）'!D41=\"○\",\"\",'中間シート（個人）'!C41)","v":""},{"$f":"IF('中間シート（個人）'!D41=\"○\",\"\",ASC(個人種目!D41&\" \"&個人種目!E41))","v":""},{"$f":"IF('中間シート（個人）'!D41=\"○\",\"\",個人種目!G41&IF(LEN(個人種目!H41)=1,\"0\"&個人種目!H41,個人種目!H41)&IF(LEN(個人種目!I41)=1,\"0\"&個人種目!I41,個人種目!I41))","v":""},{"$f":"IF('中間シート（個人）'!D41=\"○\",\"\",VLOOKUP(個人種目!$J41,コード一覧!$C$3:$D$6,2,FALSE))","v":""},{"$f":"IF('中間シート（個人）'!D41=\"○\",\"\",IF(個人種目!$J41=\"一般\",0,個人種目!$K41))","v":""},{"$f":"IF('中間シート（個人）'!D41=\"○\",\"\",'中間シート（個人）'!H41)","v":""},null,{"$f":"IF('中間シート（個人）'!D41=\"○\",\"\",個人種目!$L$1)","v":""},{"$f":"IF('中間シート（個人）'!D41=\"○\",\"\",ASC(申込書_コナミ!$S$9))","v":""},{"$f":"IF('中間シート（個人）'!D41=\"○\",\"\",申込書_コナミ!$E$8)","v":""},null,null,null,{"$f":"IF('中間シート（個人）'!D41=\"○\",\"\",4)","v":""},{"$f":"IF(ISERROR(VLOOKUP($D39&\"@1\",'中間シート（個人）'!$F$6:$O$100,4,FALSE)&VLOOKUP($D39&\"@1\",'中間シート（個人）'!$F$6:$O$100,5,FALSE)),\"\",VLOOKUP($D39&\"@1\",'中間シート（個人）'!$F$6:$O$100,4,FALSE)&VLOOKUP($D39&\"@1\",'中間シート（個人）'!$F$6:$O$100,5,FALSE))","v":""},{"$f":"IF(ISERROR(VLOOKUP($D39&\"@1\",'中間シート（個人）'!$F$6:$O$100,6,FALSE)&VLOOKUP($D39&\"@1\",'中間シート（個人）'!$F$6:$O$100,7,FALSE)&\".\"&VLOOKUP($D39&\"@1\",'中間シート（個人）'!$F$6:$O$100,8,FALSE)),\"\",VLOOKUP($D39&\"@1\",'中間シート（個人）'!$F$6:$O$100,6,FALSE)&VLOOKUP($D39&\"@1\",'中間シート（個人）'!$F$6:$O$100,7,FALSE)&\".\"&VLOOKUP($D39&\"@1\",'中間シート（個人）'!$F$6:$O$100,8,FALSE))","v":""},{"$f":"IF(ISERROR(VLOOKUP($D39&\"@2\",'中間シート（個人）'!$F$6:$O$100,4,FALSE)&VLOOKUP($D39&\"@2\",'中間シート（個人）'!$F$6:$O$100,5,FALSE)),\"\",VLOOKUP($D39&\"@2\",'中間シート（個人）'!$F$6:$O$100,4,FALSE)&VLOOKUP($D39&\"@2\",'中間シート（個人）'!$F$6:$O$100,5,FALSE))","v":""},{"$f":"IF(ISERROR(VLOOKUP($D39&\"@2\",'中間シート（個人）'!$F$6:$O$100,6,FALSE)&VLOOKUP($D39&\"@2\",'中間シート（個人）'!$F$6:$O$100,7,FALSE)&\".\"&VLOOKUP($D39&\"@2\",'中間シート（個人）'!$F$6:$O$100,8,FALSE)),\"\",VLOOKUP($D39&\"@2\",'中間シート（個人）'!$F$6:$O$100,6,FALSE)&VLOOKUP($D39&\"@2\",'中間シート（個人）'!$F$6:$O$100,7,FALSE)&\".\"&VLOOKUP($D39&\"@2\",'中間シート（個人）'!$F$6:$O$100,8,FALSE))","v":""},{"$f":"IF(ISERROR(VLOOKUP($D39&\"@3\",'中間シート（個人）'!$F$6:$O$100,4,FALSE)&VLOOKUP($D39&\"@3\",'中間シート（個人）'!$F$6:$O$100,5,FALSE)),\"\",VLOOKUP($D39&\"@3\",'中間シート（個人）'!$F$6:$O$100,4,FALSE)&VLOOKUP($D39&\"@3\",'中間シート（個人）'!$F$6:$O$100,5,FALSE))","v":""},{"$f":"IF(ISERROR(VLOOKUP($D39&\"@3\",'中間シート（個人）'!$F$6:$O$100,6,FALSE)&VLOOKUP($D39&\"@3\",'中間シート（個人）'!$F$6:$O$100,7,FALSE)&\".\"&VLOOKUP($D39&\"@3\",'中間シート（個人）'!$F$6:$O$100,8,FALSE)),\"\",VLOOKUP($D39&\"@3\",'中間シート（個人）'!$F$6:$O$100,6,FALSE)&VLOOKUP($D39&\"@3\",'中間シート（個人）'!$F$6:$O$100,7,FALSE)&\".\"&VLOOKUP($D39&\"@3\",'中間シート（個人）'!$F$6:$O$100,8,FALSE))","v":""},{"$f":"IF(ISERROR(VLOOKUP($D39&\"@4\",'中間シート（個人）'!$F$6:$O$100,4,FALSE)&VLOOKUP($D39&\"@4\",'中間シート（個人）'!$F$6:$O$100,5,FALSE)),\"\",VLOOKUP($D39&\"@4\",'中間シート（個人）'!$F$6:$O$100,4,FALSE)&VLOOKUP($D39&\"@4\",'中間シート（個人）'!$F$6:$O$100,5,FALSE))","v":""},{"$f":"IF(ISERROR(VLOOKUP($D39&\"@4\",'中間シート（個人）'!$F$6:$O$100,6,FALSE)&VLOOKUP($D39&\"@4\",'中間シート（個人）'!$F$6:$O$100,7,FALSE)&\".\"&VLOOKUP($D39&\"@4\",'中間シート（個人）'!$F$6:$O$100,8,FALSE)),\"\",VLOOKUP($D39&\"@4\",'中間シート（個人）'!$F$6:$O$100,6,FALSE)&VLOOKUP($D39&\"@4\",'中間シート（個人）'!$F$6:$O$100,7,FALSE)&\".\"&VLOOKUP($D39&\"@4\",'中間シート（個人）'!$F$6:$O$100,8,FALSE))","v":""},{"$f":"IF(ISERROR(VLOOKUP($D39&\"@5\",'中間シート（個人）'!$F$6:$O$100,4,FALSE)&VLOOKUP($D39&\"@5\",'中間シート（個人）'!$F$6:$O$100,5,FALSE)),\"\",VLOOKUP($D39&\"@5\",'中間シート（個人）'!$F$6:$O$100,4,FALSE)&VLOOKUP($D39&\"@5\",'中間シート（個人）'!$F$6:$O$100,5,FALSE))","v":""},{"$f":"IF(ISERROR(VLOOKUP($D39&\"@5\",'中間シート（個人）'!$F$6:$O$100,6,FALSE)&VLOOKUP($D39&\"@5\",'中間シート（個人）'!$F$6:$O$100,7,FALSE)&\".\"&VLOOKUP($D39&\"@5\",'中間シート（個人）'!$F$6:$O$100,8,FALSE)),\"\",VLOOKUP($D39&\"@5\",'中間シート（個人）'!$F$6:$O$100,6,FALSE)&VLOOKUP($D39&\"@5\",'中間シート（個人）'!$F$6:$O$100,7,FALSE)&\".\"&VLOOKUP($D39&\"@5\",'中間シート（個人）'!$F$6:$O$100,8,FALSE))","v":""},{"$f":"IF(ISERROR(VLOOKUP($D39&\"@6\",'中間シート（個人）'!$F$6:$O$100,4,FALSE)&VLOOKUP($D39&\"@6\",'中間シート（個人）'!$F$6:$O$100,5,FALSE)),\"\",VLOOKUP($D39&\"@6\",'中間シート（個人）'!$F$6:$O$100,4,FALSE)&VLOOKUP($D39&\"@6\",'中間シート（個人）'!$F$6:$O$100,5,FALSE))","v":""},{"$f":"IF(ISERROR(VLOOKUP($D39&\"@6\",'中間シート（個人）'!$F$6:$O$100,6,FALSE)&VLOOKUP($D39&\"@6\",'中間シート（個人）'!$F$6:$O$100,7,FALSE)&\".\"&VLOOKUP($D39&\"@6\",'中間シート（個人）'!$F$6:$O$100,8,FALSE)),\"\",VLOOKUP($D39&\"@6\",'中間シート（個人）'!$F$6:$O$100,6,FALSE)&VLOOKUP($D39&\"@6\",'中間シート（個人）'!$F$6:$O$100,7,FALSE)&\".\"&VLOOKUP($D39&\"@6\",'中間シート（個人）'!$F$6:$O$100,8,FALSE))","v":""},{"$f":"IF(ISERROR(VLOOKUP($D39&\"@7\",'中間シート（個人）'!$F$6:$O$100,4,FALSE)&VLOOKUP($D39&\"@7\",'中間シート（個人）'!$F$6:$O$100,5,FALSE)),\"\",VLOOKUP($D39&\"@7\",'中間シート（個人）'!$F$6:$O$100,4,FALSE)&VLOOKUP($D39&\"@7\",'中間シート（個人）'!$F$6:$O$100,5,FALSE))","v":""},{"$f":"IF(ISERROR(VLOOKUP($D39&\"@7\",'中間シート（個人）'!$F$6:$O$100,6,FALSE)&VLOOKUP($D39&\"@7\",'中間シート（個人）'!$F$6:$O$100,7,FALSE)&\".\"&VLOOKUP($D39&\"@7\",'中間シート（個人）'!$F$6:$O$100,8,FALSE)),\"\",VLOOKUP($D39&\"@7\",'中間シート（個人）'!$F$6:$O$100,6,FALSE)&VLOOKUP($D39&\"@7\",'中間シート（個人）'!$F$6:$O$100,7,FALSE)&\".\"&VLOOKUP($D39&\"@7\",'中間シート（個人）'!$F$6:$O$100,8,FALSE))","v":""},{"$f":"IF(ISERROR(VLOOKUP($D39&\"@8\",'中間シート（個人）'!$F$6:$O$100,4,FALSE)&VLOOKUP($D39&\"@8\",'中間シート（個人）'!$F$6:$O$100,5,FALSE)),\"\",VLOOKUP($D39&\"@8\",'中間シート（個人）'!$F$6:$O$100,4,FALSE)&VLOOKUP($D39&\"@8\",'中間シート（個人）'!$F$6:$O$100,5,FALSE))","v":""},{"$f":"IF(ISERROR(VLOOKUP($D39&\"@8\",'中間シート（個人）'!$F$6:$O$100,6,FALSE)&VLOOKUP($D39&\"@8\",'中間シート（個人）'!$F$6:$O$100,7,FALSE)&\".\"&VLOOKUP($D39&\"@8\",'中間シート（個人）'!$F$6:$O$100,8,FALSE)),\"\",VLOOKUP($D39&\"@8\",'中間シート（個人）'!$F$6:$O$100,6,FALSE)&VLOOKUP($D39&\"@8\",'中間シート（個人）'!$F$6:$O$100,7,FALSE)&\".\"&VLOOKUP($D39&\"@8\",'中間シート（個人）'!$F$6:$O$100,8,FALSE))","v":""},{"$f":"IF(ISERROR(VLOOKUP($D39&\"@9\",'中間シート（個人）'!$F$6:$O$100,4,FALSE)&VLOOKUP($D39&\"@9\",'中間シート（個人）'!$F$6:$O$100,5,FALSE)),\"\",VLOOKUP($D39&\"@9\",'中間シート（個人）'!$F$6:$O$100,4,FALSE)&VLOOKUP($D39&\"@9\",'中間シート（個人）'!$F$6:$O$100,5,FALSE))","v":""},{"$f":"IF(ISERROR(VLOOKUP($D39&\"@9\",'中間シート（個人）'!$F$6:$O$100,6,FALSE)&VLOOKUP($D39&\"@9\",'中間シート（個人）'!$F$6:$O$100,7,FALSE)&\".\"&VLOOKUP($D39&\"@9\",'中間シート（個人）'!$F$6:$O$100,8,FALSE)),\"\",VLOOKUP($D39&\"@9\",'中間シート（個人）'!$F$6:$O$100,6,FALSE)&VLOOKUP($D39&\"@9\",'中間シート（個人）'!$F$6:$O$100,7,FALSE)&\".\"&VLOOKUP($D39&\"@9\",'中間シート（個人）'!$F$6:$O$100,8,FALSE))","v":""},{"$f":"IF(ISERROR(VLOOKUP($D39&\"@10\",'中間シート（個人）'!$F$6:$O$100,4,FALSE)&VLOOKUP($D39&\"@10\",'中間シート（個人）'!$F$6:$O$100,5,FALSE)),\"\",VLOOKUP($D39&\"@10\",'中間シート（個人）'!$F$6:$O$100,4,FALSE)&VLOOKUP($D39&\"@10\",'中間シート（個人）'!$F$6:$O$100,5,FALSE))","v":""},{"$f":"IF(ISERROR(VLOOKUP($D39&\"@10\",'中間シート（個人）'!$F$6:$O$100,6,FALSE)&VLOOKUP($D39&\"@10\",'中間シート（個人）'!$F$6:$O$100,7,FALSE)&\".\"&VLOOKUP($D39&\"@10\",'中間シート（個人）'!$F$6:$O$100,8,FALSE)),\"\",VLOOKUP($D39&\"@10\",'中間シート（個人）'!$F$6:$O$100,6,FALSE)&VLOOKUP($D39&\"@10\",'中間シート（個人）'!$F$6:$O$100,7,FALSE)&\".\"&VLOOKUP($D39&\"@10\",'中間シート（個人）'!$F$6:$O$100,8,FALSE))","v":""}]
[null,null,{"$f":"IF('中間シート（個人）'!D42=\"○\",\"\",VLOOKUP(個人種目!F42,コード一覧!$A$2:$B$3,2,FALSE))","v":""},{"$f":"IF('中間シート（個人）'!D42=\"○\",\"\",'中間シート（個人）'!C42)","v":""},{"$f":"IF('中間シート（個人）'!D42=\"○\",\"\",ASC(個人種目!D42&\" \"&個人種目!E42))","v":""},{"$f":"IF('中間シート（個人）'!D42=\"○\",\"\",個人種目!G42&IF(LEN(個人種目!H42)=1,\"0\"&個人種目!H42,個人種目!H42)&IF(LEN(個人種目!I42)=1,\"0\"&個人種目!I42,個人種目!I42))","v":""},{"$f":"IF('中間シート（個人）'!D42=\"○\",\"\",VLOOKUP(個人種目!$J42,コード一覧!$C$3:$D$6,2,FALSE))","v":""},{"$f":"IF('中間シート（個人）'!D42=\"○\",\"\",IF(個人種目!$J42=\"一般\",0,個人種目!$K42))","v":""},{"$f":"IF('中間シート（個人）'!D42=\"○\",\"\",'中間シート（個人）'!H42)","v":""},null,{"$f":"IF('中間シート（個人）'!D42=\"○\",\"\",個人種目!$L$1)","v":""},{"$f":"IF('中間シート（個人）'!D42=\"○\",\"\",ASC(申込書_コナミ!$S$9))","v":""},{"$f":"IF('中間シート（個人）'!D42=\"○\",\"\",申込書_コナミ!$E$8)","v":""},null,null,null,{"$f":"IF('中間シート（個人）'!D42=\"○\",\"\",4)","v":""},{"$f":"IF(ISERROR(VLOOKUP($D40&\"@1\",'中間シート（個人）'!$F$6:$O$100,4,FALSE)&VLOOKUP($D40&\"@1\",'中間シート（個人）'!$F$6:$O$100,5,FALSE)),\"\",VLOOKUP($D40&\"@1\",'中間シート（個人）'!$F$6:$O$100,4,FALSE)&VLOOKUP($D40&\"@1\",'中間シート（個人）'!$F$6:$O$100,5,FALSE))","v":""},{"$f":"IF(ISERROR(VLOOKUP($D40&\"@1\",'中間シート（個人）'!$F$6:$O$100,6,FALSE)&VLOOKUP($D40&\"@1\",'中間シート（個人）'!$F$6:$O$100,7,FALSE)&\".\"&VLOOKUP($D40&\"@1\",'中間シート（個人）'!$F$6:$O$100,8,FALSE)),\"\",VLOOKUP($D40&\"@1\",'中間シート（個人）'!$F$6:$O$100,6,FALSE)&VLOOKUP($D40&\"@1\",'中間シート（個人）'!$F$6:$O$100,7,FALSE)&\".\"&VLOOKUP($D40&\"@1\",'中間シート（個人）'!$F$6:$O$100,8,FALSE))","v":""},{"$f":"IF(ISERROR(VLOOKUP($D40&\"@2\",'中間シート（個人）'!$F$6:$O$100,4,FALSE)&VLOOKUP($D40&\"@2\",'中間シート（個人）'!$F$6:$O$100,5,FALSE)),\"\",VLOOKUP($D40&\"@2\",'中間シート（個人）'!$F$6:$O$100,4,FALSE)&VLOOKUP($D40&\"@2\",'中間シート（個人）'!$F$6:$O$100,5,FALSE))","v":""},{"$f":"IF(ISERROR(VLOOKUP($D40&\"@2\",'中間シート（個人）'!$F$6:$O$100,6,FALSE)&VLOOKUP($D40&\"@2\",'中間シート（個人）'!$F$6:$O$100,7,FALSE)&\".\"&VLOOKUP($D40&\"@2\",'中間シート（個人）'!$F$6:$O$100,8,FALSE)),\"\",VLOOKUP($D40&\"@2\",'中間シート（個人）'!$F$6:$O$100,6,FALSE)&VLOOKUP($D40&\"@2\",'中間シート（個人）'!$F$6:$O$100,7,FALSE)&\".\"&VLOOKUP($D40&\"@2\",'中間シート（個人）'!$F$6:$O$100,8,FALSE))","v":""},{"$f":"IF(ISERROR(VLOOKUP($D40&\"@3\",'中間シート（個人）'!$F$6:$O$100,4,FALSE)&VLOOKUP($D40&\"@3\",'中間シート（個人）'!$F$6:$O$100,5,FALSE)),\"\",VLOOKUP($D40&\"@3\",'中間シート（個人）'!$F$6:$O$100,4,FALSE)&VLOOKUP($D40&\"@3\",'中間シート（個人）'!$F$6:$O$100,5,FALSE))","v":""},{"$f":"IF(ISERROR(VLOOKUP($D40&\"@3\",'中間シート（個人）'!$F$6:$O$100,6,FALSE)&VLOOKUP($D40&\"@3\",'中間シート（個人）'!$F$6:$O$100,7,FALSE)&\".\"&VLOOKUP($D40&\"@3\",'中間シート（個人）'!$F$6:$O$100,8,FALSE)),\"\",VLOOKUP($D40&\"@3\",'中間シート（個人）'!$F$6:$O$100,6,FALSE)&VLOOKUP($D40&\"@3\",'中間シート（個人）'!$F$6:$O$100,7,FALSE)&\".\"&VLOOKUP($D40&\"@3\",'中間シート（個人）'!$F$6:$O$100,8,FALSE))","v":""},{"$f":"IF(ISERROR(VLOOKUP($D40&\"@4\",'中間シート（個人）'!$F$6:$O$100,4,FALSE)&VLOOKUP($D40&\"@4\",'中間シート（個人）'!$F$6:$O$100,5,FALSE)),\"\",VLOOKUP($D40&\"@4\",'中間シート（個人）'!$F$6:$O$100,4,FALSE)&VLOOKUP($D40&\"@4\",'中間シート（個人）'!$F$6:$O$100,5,FALSE))","v":""},{"$f":"IF(ISERROR(VLOOKUP($D40&\"@4\",'中間シート（個人）'!$F$6:$O$100,6,FALSE)&VLOOKUP($D40&\"@4\",'中間シート（個人）'!$F$6:$O$100,7,FALSE)&\".\"&VLOOKUP($D40&\"@4\",'中間シート（個人）'!$F$6:$O$100,8,FALSE)),\"\",VLOOKUP($D40&\"@4\",'中間シート（個人）'!$F$6:$O$100,6,FALSE)&VLOOKUP($D40&\"@4\",'中間シート（個人）'!$F$6:$O$100,7,FALSE)&\".\"&VLOOKUP($D40&\"@4\",'中間シート（個人）'!$F$6:$O$100,8,FALSE))","v":""},{"$f":"IF(ISERROR(VLOOKUP($D40&\"@5\",'中間シート（個人）'!$F$6:$O$100,4,FALSE)&VLOOKUP($D40&\"@5\",'中間シート（個人）'!$F$6:$O$100,5,FALSE)),\"\",VLOOKUP($D40&\"@5\",'中間シート（個人）'!$F$6:$O$100,4,FALSE)&VLOOKUP($D40&\"@5\",'中間シート（個人）'!$F$6:$O$100,5,FALSE))","v":""},{"$f":"IF(ISERROR(VLOOKUP($D40&\"@5\",'中間シート（個人）'!$F$6:$O$100,6,FALSE)&VLOOKUP($D40&\"@5\",'中間シート（個人）'!$F$6:$O$100,7,FALSE)&\".\"&VLOOKUP($D40&\"@5\",'中間シート（個人）'!$F$6:$O$100,8,FALSE)),\"\",VLOOKUP($D40&\"@5\",'中間シート（個人）'!$F$6:$O$100,6,FALSE)&VLOOKUP($D40&\"@5\",'中間シート（個人）'!$F$6:$O$100,7,FALSE)&\".\"&VLOOKUP($D40&\"@5\",'中間シート（個人）'!$F$6:$O$100,8,FALSE))","v":""},{"$f":"IF(ISERROR(VLOOKUP($D40&\"@6\",'中間シート（個人）'!$F$6:$O$100,4,FALSE)&VLOOKUP($D40&\"@6\",'中間シート（個人）'!$F$6:$O$100,5,FALSE)),\"\",VLOOKUP($D40&\"@6\",'中間シート（個人）'!$F$6:$O$100,4,FALSE)&VLOOKUP($D40&\"@6\",'中間シート（個人）'!$F$6:$O$100,5,FALSE))","v":""},{"$f":"IF(ISERROR(VLOOKUP($D40&\"@6\",'中間シート（個人）'!$F$6:$O$100,6,FALSE)&VLOOKUP($D40&\"@6\",'中間シート（個人）'!$F$6:$O$100,7,FALSE)&\".\"&VLOOKUP($D40&\"@6\",'中間シート（個人）'!$F$6:$O$100,8,FALSE)),\"\",VLOOKUP($D40&\"@6\",'中間シート（個人）'!$F$6:$O$100,6,FALSE)&VLOOKUP($D40&\"@6\",'中間シート（個人）'!$F$6:$O$100,7,FALSE)&\".\"&VLOOKUP($D40&\"@6\",'中間シート（個人）'!$F$6:$O$100,8,FALSE))","v":""},{"$f":"IF(ISERROR(VLOOKUP($D40&\"@7\",'中間シート（個人）'!$F$6:$O$100,4,FALSE)&VLOOKUP($D40&\"@7\",'中間シート（個人）'!$F$6:$O$100,5,FALSE)),\"\",VLOOKUP($D40&\"@7\",'中間シート（個人）'!$F$6:$O$100,4,FALSE)&VLOOKUP($D40&\"@7\",'中間シート（個人）'!$F$6:$O$100,5,FALSE))","v":""},{"$f":"IF(ISERROR(VLOOKUP($D40&\"@7\",'中間シート（個人）'!$F$6:$O$100,6,FALSE)&VLOOKUP($D40&\"@7\",'中間シート（個人）'!$F$6:$O$100,7,FALSE)&\".\"&VLOOKUP($D40&\"@7\",'中間シート（個人）'!$F$6:$O$100,8,FALSE)),\"\",VLOOKUP($D40&\"@7\",'中間シート（個人）'!$F$6:$O$100,6,FALSE)&VLOOKUP($D40&\"@7\",'中間シート（個人）'!$F$6:$O$100,7,FALSE)&\".\"&VLOOKUP($D40&\"@7\",'中間シート（個人）'!$F$6:$O$100,8,FALSE))","v":""},{"$f":"IF(ISERROR(VLOOKUP($D40&\"@8\",'中間シート（個人）'!$F$6:$O$100,4,FALSE)&VLOOKUP($D40&\"@8\",'中間シート（個人）'!$F$6:$O$100,5,FALSE)),\"\",VLOOKUP($D40&\"@8\",'中間シート（個人）'!$F$6:$O$100,4,FALSE)&VLOOKUP($D40&\"@8\",'中間シート（個人）'!$F$6:$O$100,5,FALSE))","v":""},{"$f":"IF(ISERROR(VLOOKUP($D40&\"@8\",'中間シート（個人）'!$F$6:$O$100,6,FALSE)&VLOOKUP($D40&\"@8\",'中間シート（個人）'!$F$6:$O$100,7,FALSE)&\".\"&VLOOKUP($D40&\"@8\",'中間シート（個人）'!$F$6:$O$100,8,FALSE)),\"\",VLOOKUP($D40&\"@8\",'中間シート（個人）'!$F$6:$O$100,6,FALSE)&VLOOKUP($D40&\"@8\",'中間シート（個人）'!$F$6:$O$100,7,FALSE)&\".\"&VLOOKUP($D40&\"@8\",'中間シート（個人）'!$F$6:$O$100,8,FALSE))","v":""},{"$f":"IF(ISERROR(VLOOKUP($D40&\"@9\",'中間シート（個人）'!$F$6:$O$100,4,FALSE)&VLOOKUP($D40&\"@9\",'中間シート（個人）'!$F$6:$O$100,5,FALSE)),\"\",VLOOKUP($D40&\"@9\",'中間シート（個人）'!$F$6:$O$100,4,FALSE)&VLOOKUP($D40&\"@9\",'中間シート（個人）'!$F$6:$O$100,5,FALSE))","v":""},{"$f":"IF(ISERROR(VLOOKUP($D40&\"@9\",'中間シート（個人）'!$F$6:$O$100,6,FALSE)&VLOOKUP($D40&\"@9\",'中間シート（個人）'!$F$6:$O$100,7,FALSE)&\".\"&VLOOKUP($D40&\"@9\",'中間シート（個人）'!$F$6:$O$100,8,FALSE)),\"\",VLOOKUP($D40&\"@9\",'中間シート（個人）'!$F$6:$O$100,6,FALSE)&VLOOKUP($D40&\"@9\",'中間シート（個人）'!$F$6:$O$100,7,FALSE)&\".\"&VLOOKUP($D40&\"@9\",'中間シート（個人）'!$F$6:$O$100,8,FALSE))","v":""},{"$f":"IF(ISERROR(VLOOKUP($D40&\"@10\",'中間シート（個人）'!$F$6:$O$100,4,FALSE)&VLOOKUP($D40&\"@10\",'中間シート（個人）'!$F$6:$O$100,5,FALSE)),\"\",VLOOKUP($D40&\"@10\",'中間シート（個人）'!$F$6:$O$100,4,FALSE)&VLOOKUP($D40&\"@10\",'中間シート（個人）'!$F$6:$O$100,5,FALSE))","v":""},{"$f":"IF(ISERROR(VLOOKUP($D40&\"@10\",'中間シート（個人）'!$F$6:$O$100,6,FALSE)&VLOOKUP($D40&\"@10\",'中間シート（個人）'!$F$6:$O$100,7,FALSE)&\".\"&VLOOKUP($D40&\"@10\",'中間シート（個人）'!$F$6:$O$100,8,FALSE)),\"\",VLOOKUP($D40&\"@10\",'中間シート（個人）'!$F$6:$O$100,6,FALSE)&VLOOKUP($D40&\"@10\",'中間シート（個人）'!$F$6:$O$100,7,FALSE)&\".\"&VLOOKUP($D40&\"@10\",'中間シート（個人）'!$F$6:$O$100,8,FALSE))","v":""}]
[null,null,{"$f":"IF('中間シート（個人）'!D43=\"○\",\"\",VLOOKUP(個人種目!F43,コード一覧!$A$2:$B$3,2,FALSE))","v":""},{"$f":"IF('中間シート（個人）'!D43=\"○\",\"\",'中間シート（個人）'!C43)","v":""},{"$f":"IF('中間シート（個人）'!D43=\"○\",\"\",ASC(個人種目!D43&\" \"&個人種目!E43))","v":""},{"$f":"IF('中間シート（個人）'!D43=\"○\",\"\",個人種目!G43&IF(LEN(個人種目!H43)=1,\"0\"&個人種目!H43,個人種目!H43)&IF(LEN(個人種目!I43)=1,\"0\"&個人種目!I43,個人種目!I43))","v":""},{"$f":"IF('中間シート（個人）'!D43=\"○\",\"\",VLOOKUP(個人種目!$J43,コード一覧!$C$3:$D$6,2,FALSE))","v":""},{"$f":"IF('中間シート（個人）'!D43=\"○\",\"\",IF(個人種目!$J43=\"一般\",0,個人種目!$K43))","v":""},{"$f":"IF('中間シート（個人）'!D43=\"○\",\"\",'中間シート（個人）'!H43)","v":""},null,{"$f":"IF('中間シート（個人）'!D43=\"○\",\"\",個人種目!$L$1)","v":""},{"$f":"IF('中間シート（個人）'!D43=\"○\",\"\",ASC(申込書_コナミ!$S$9))","v":""},{"$f":"IF('中間シート（個人）'!D43=\"○\",\"\",申込書_コナミ!$E$8)","v":""},null,null,null,{"$f":"IF('中間シート（個人）'!D43=\"○\",\"\",4)","v":""},{"$f":"IF(ISERROR(VLOOKUP($D41&\"@1\",'中間シート（個人）'!$F$6:$O$100,4,FALSE)&VLOOKUP($D41&\"@1\",'中間シート（個人）'!$F$6:$O$100,5,FALSE)),\"\",VLOOKUP($D41&\"@1\",'中間シート（個人）'!$F$6:$O$100,4,FALSE)&VLOOKUP($D41&\"@1\",'中間シート（個人）'!$F$6:$O$100,5,FALSE))","v":""},{"$f":"IF(ISERROR(VLOOKUP($D41&\"@1\",'中間シート（個人）'!$F$6:$O$100,6,FALSE)&VLOOKUP($D41&\"@1\",'中間シート（個人）'!$F$6:$O$100,7,FALSE)&\".\"&VLOOKUP($D41&\"@1\",'中間シート（個人）'!$F$6:$O$100,8,FALSE)),\"\",VLOOKUP($D41&\"@1\",'中間シート（個人）'!$F$6:$O$100,6,FALSE)&VLOOKUP($D41&\"@1\",'中間シート（個人）'!$F$6:$O$100,7,FALSE)&\".\"&VLOOKUP($D41&\"@1\",'中間シート（個人）'!$F$6:$O$100,8,FALSE))","v":""},{"$f":"IF(ISERROR(VLOOKUP($D41&\"@2\",'中間シート（個人）'!$F$6:$O$100,4,FALSE)&VLOOKUP($D41&\"@2\",'中間シート（個人）'!$F$6:$O$100,5,FALSE)),\"\",VLOOKUP($D41&\"@2\",'中間シート（個人）'!$F$6:$O$100,4,FALSE)&VLOOKUP($D41&\"@2\",'中間シート（個人）'!$F$6:$O$100,5,FALSE))","v":""},{"$f":"IF(ISERROR(VLOOKUP($D41&\"@2\",'中間シート（個人）'!$F$6:$O$100,6,FALSE)&VLOOKUP($D41&\"@2\",'中間シート（個人）'!$F$6:$O$100,7,FALSE)&\".\"&VLOOKUP($D41&\"@2\",'中間シート（個人）'!$F$6:$O$100,8,FALSE)),\"\",VLOOKUP($D41&\"@2\",'中間シート（個人）'!$F$6:$O$100,6,FALSE)&VLOOKUP($D41&\"@2\",'中間シート（個人）'!$F$6:$O$100,7,FALSE)&\".\"&VLOOKUP($D41&\"@2\",'中間シート（個人）'!$F$6:$O$100,8,FALSE))","v":""},{"$f":"IF(ISERROR(VLOOKUP($D41&\"@3\",'中間シート（個人）'!$F$6:$O$100,4,FALSE)&VLOOKUP($D41&\"@3\",'中間シート（個人）'!$F$6:$O$100,5,FALSE)),\"\",VLOOKUP($D41&\"@3\",'中間シート（個人）'!$F$6:$O$100,4,FALSE)&VLOOKUP($D41&\"@3\",'中間シート（個人）'!$F$6:$O$100,5,FALSE))","v":""},{"$f":"IF(ISERROR(VLOOKUP($D41&\"@3\",'中間シート（個人）'!$F$6:$O$100,6,FALSE)&VLOOKUP($D41&\"@3\",'中間シート（個人）'!$F$6:$O$100,7,FALSE)&\".\"&VLOOKUP($D41&\"@3\",'中間シート（個人）'!$F$6:$O$100,8,FALSE)),\"\",VLOOKUP($D41&\"@3\",'中間シート（個人）'!$F$6:$O$100,6,FALSE)&VLOOKUP($D41&\"@3\",'中間シート（個人）'!$F$6:$O$100,7,FALSE)&\".\"&VLOOKUP($D41&\"@3\",'中間シート（個人）'!$F$6:$O$100,8,FALSE))","v":""},{"$f":"IF(ISERROR(VLOOKUP($D41&\"@4\",'中間シート（個人）'!$F$6:$O$100,4,FALSE)&VLOOKUP($D41&\"@4\",'中間シート（個人）'!$F$6:$O$100,5,FALSE)),\"\",VLOOKUP($D41&\"@4\",'中間シート（個人）'!$F$6:$O$100,4,FALSE)&VLOOKUP($D41&\"@4\",'中間シート（個人）'!$F$6:$O$100,5,FALSE))","v":""},{"$f":"IF(ISERROR(VLOOKUP($D41&\"@4\",'中間シート（個人）'!$F$6:$O$100,6,FALSE)&VLOOKUP($D41&\"@4\",'中間シート（個人）'!$F$6:$O$100,7,FALSE)&\".\"&VLOOKUP($D41&\"@4\",'中間シート（個人）'!$F$6:$O$100,8,FALSE)),\"\",VLOOKUP($D41&\"@4\",'中間シート（個人）'!$F$6:$O$100,6,FALSE)&VLOOKUP($D41&\"@4\",'中間シート（個人）'!$F$6:$O$100,7,FALSE)&\".\"&VLOOKUP($D41&\"@4\",'中間シート（個人）'!$F$6:$O$100,8,FALSE))","v":""},{"$f":"IF(ISERROR(VLOOKUP($D41&\"@5\",'中間シート（個人）'!$F$6:$O$100,4,FALSE)&VLOOKUP($D41&\"@5\",'中間シート（個人）'!$F$6:$O$100,5,FALSE)),\"\",VLOOKUP($D41&\"@5\",'中間シート（個人）'!$F$6:$O$100,4,FALSE)&VLOOKUP($D41&\"@5\",'中間シート（個人）'!$F$6:$O$100,5,FALSE))","v":""},{"$f":"IF(ISERROR(VLOOKUP($D41&\"@5\",'中間シート（個人）'!$F$6:$O$100,6,FALSE)&VLOOKUP($D41&\"@5\",'中間シート（個人）'!$F$6:$O$100,7,FALSE)&\".\"&VLOOKUP($D41&\"@5\",'中間シート（個人）'!$F$6:$O$100,8,FALSE)),\"\",VLOOKUP($D41&\"@5\",'中間シート（個人）'!$F$6:$O$100,6,FALSE)&VLOOKUP($D41&\"@5\",'中間シート（個人）'!$F$6:$O$100,7,FALSE)&\".\"&VLOOKUP($D41&\"@5\",'中間シート（個人）'!$F$6:$O$100,8,FALSE))","v":""},{"$f":"IF(ISERROR(VLOOKUP($D41&\"@6\",'中間シート（個人）'!$F$6:$O$100,4,FALSE)&VLOOKUP($D41&\"@6\",'中間シート（個人）'!$F$6:$O$100,5,FALSE)),\"\",VLOOKUP($D41&\"@6\",'中間シート（個人）'!$F$6:$O$100,4,FALSE)&VLOOKUP($D41&\"@6\",'中間シート（個人）'!$F$6:$O$100,5,FALSE))","v":""},{"$f":"IF(ISERROR(VLOOKUP($D41&\"@6\",'中間シート（個人）'!$F$6:$O$100,6,FALSE)&VLOOKUP($D41&\"@6\",'中間シート（個人）'!$F$6:$O$100,7,FALSE)&\".\"&VLOOKUP($D41&\"@6\",'中間シート（個人）'!$F$6:$O$100,8,FALSE)),\"\",VLOOKUP($D41&\"@6\",'中間シート（個人）'!$F$6:$O$100,6,FALSE)&VLOOKUP($D41&\"@6\",'中間シート（個人）'!$F$6:$O$100,7,FALSE)&\".\"&VLOOKUP($D41&\"@6\",'中間シート（個人）'!$F$6:$O$100,8,FALSE))","v":""},{"$f":"IF(ISERROR(VLOOKUP($D41&\"@7\",'中間シート（個人）'!$F$6:$O$100,4,FALSE)&VLOOKUP($D41&\"@7\",'中間シート（個人）'!$F$6:$O$100,5,FALSE)),\"\",VLOOKUP($D41&\"@7\",'中間シート（個人）'!$F$6:$O$100,4,FALSE)&VLOOKUP($D41&\"@7\",'中間シート（個人）'!$F$6:$O$100,5,FALSE))","v":""},{"$f":"IF(ISERROR(VLOOKUP($D41&\"@7\",'中間シート（個人）'!$F$6:$O$100,6,FALSE)&VLOOKUP($D41&\"@7\",'中間シート（個人）'!$F$6:$O$100,7,FALSE)&\".\"&VLOOKUP($D41&\"@7\",'中間シート（個人）'!$F$6:$O$100,8,FALSE)),\"\",VLOOKUP($D41&\"@7\",'中間シート（個人）'!$F$6:$O$100,6,FALSE)&VLOOKUP($D41&\"@7\",'中間シート（個人）'!$F$6:$O$100,7,FALSE)&\".\"&VLOOKUP($D41&\"@7\",'中間シート（個人）'!$F$6:$O$100,8,FALSE))","v":""},{"$f":"IF(ISERROR(VLOOKUP($D41&\"@8\",'中間シート（個人）'!$F$6:$O$100,4,FALSE)&VLOOKUP($D41&\"@8\",'中間シート（個人）'!$F$6:$O$100,5,FALSE)),\"\",VLOOKUP($D41&\"@8\",'中間シート（個人）'!$F$6:$O$100,4,FALSE)&VLOOKUP($D41&\"@8\",'中間シート（個人）'!$F$6:$O$100,5,FALSE))","v":""},{"$f":"IF(ISERROR(VLOOKUP($D41&\"@8\",'中間シート（個人）'!$F$6:$O$100,6,FALSE)&VLOOKUP($D41&\"@8\",'中間シート（個人）'!$F$6:$O$100,7,FALSE)&\".\"&VLOOKUP($D41&\"@8\",'中間シート（個人）'!$F$6:$O$100,8,FALSE)),\"\",VLOOKUP($D41&\"@8\",'中間シート（個人）'!$F$6:$O$100,6,FALSE)&VLOOKUP($D41&\"@8\",'中間シート（個人）'!$F$6:$O$100,7,FALSE)&\".\"&VLOOKUP($D41&\"@8\",'中間シート（個人）'!$F$6:$O$100,8,FALSE))","v":""},{"$f":"IF(ISERROR(VLOOKUP($D41&\"@9\",'中間シート（個人）'!$F$6:$O$100,4,FALSE)&VLOOKUP($D41&\"@9\",'中間シート（個人）'!$F$6:$O$100,5,FALSE)),\"\",VLOOKUP($D41&\"@9\",'中間シート（個人）'!$F$6:$O$100,4,FALSE)&VLOOKUP($D41&\"@9\",'中間シート（個人）'!$F$6:$O$100,5,FALSE))","v":""},{"$f":"IF(ISERROR(VLOOKUP($D41&\"@9\",'中間シート（個人）'!$F$6:$O$100,6,FALSE)&VLOOKUP($D41&\"@9\",'中間シート（個人）'!$F$6:$O$100,7,FALSE)&\".\"&VLOOKUP($D41&\"@9\",'中間シート（個人）'!$F$6:$O$100,8,FALSE)),\"\",VLOOKUP($D41&\"@9\",'中間シート（個人）'!$F$6:$O$100,6,FALSE)&VLOOKUP($D41&\"@9\",'中間シート（個人）'!$F$6:$O$100,7,FALSE)&\".\"&VLOOKUP($D41&\"@9\",'中間シート（個人）'!$F$6:$O$100,8,FALSE))","v":""},{"$f":"IF(ISERROR(VLOOKUP($D41&\"@10\",'中間シート（個人）'!$F$6:$O$100,4,FALSE)&VLOOKUP($D41&\"@10\",'中間シート（個人）'!$F$6:$O$100,5,FALSE)),\"\",VLOOKUP($D41&\"@10\",'中間シート（個人）'!$F$6:$O$100,4,FALSE)&VLOOKUP($D41&\"@10\",'中間シート（個人）'!$F$6:$O$100,5,FALSE))","v":""},{"$f":"IF(ISERROR(VLOOKUP($D41&\"@10\",'中間シート（個人）'!$F$6:$O$100,6,FALSE)&VLOOKUP($D41&\"@10\",'中間シート（個人）'!$F$6:$O$100,7,FALSE)&\".\"&VLOOKUP($D41&\"@10\",'中間シート（個人）'!$F$6:$O$100,8,FALSE)),\"\",VLOOKUP($D41&\"@10\",'中間シート（個人）'!$F$6:$O$100,6,FALSE)&VLOOKUP($D41&\"@10\",'中間シート（個人）'!$F$6:$O$100,7,FALSE)&\".\"&VLOOKUP($D41&\"@10\",'中間シート（個人）'!$F$6:$O$100,8,FALSE))","v":""}]
[null,null,{"$f":"IF('中間シート（個人）'!D44=\"○\",\"\",VLOOKUP(個人種目!F44,コード一覧!$A$2:$B$3,2,FALSE))","v":""},{"$f":"IF('中間シート（個人）'!D44=\"○\",\"\",'中間シート（個人）'!C44)","v":""},{"$f":"IF('中間シート（個人）'!D44=\"○\",\"\",ASC(個人種目!D44&\" \"&個人種目!E44))","v":""},{"$f":"IF('中間シート（個人）'!D44=\"○\",\"\",個人種目!G44&IF(LEN(個人種目!H44)=1,\"0\"&個人種目!H44,個人種目!H44)&IF(LEN(個人種目!I44)=1,\"0\"&個人種目!I44,個人種目!I44))","v":""},{"$f":"IF('中間シート（個人）'!D44=\"○\",\"\",VLOOKUP(個人種目!$J44,コード一覧!$C$3:$D$6,2,FALSE))","v":""},{"$f":"IF('中間シート（個人）'!D44=\"○\",\"\",IF(個人種目!$J44=\"一般\",0,個人種目!$K44))","v":""},{"$f":"IF('中間シート（個人）'!D44=\"○\",\"\",'中間シート（個人）'!H44)","v":""},null,{"$f":"IF('中間シート（個人）'!D44=\"○\",\"\",個人種目!$L$1)","v":""},{"$f":"IF('中間シート（個人）'!D44=\"○\",\"\",ASC(申込書_コナミ!$S$9))","v":""},{"$f":"IF('中間シート（個人）'!D44=\"○\",\"\",申込書_コナミ!$E$8)","v":""},null,null,null,{"$f":"IF('中間シート（個人）'!D44=\"○\",\"\",4)","v":""},{"$f":"IF(ISERROR(VLOOKUP($D42&\"@1\",'中間シート（個人）'!$F$6:$O$100,4,FALSE)&VLOOKUP($D42&\"@1\",'中間シート（個人）'!$F$6:$O$100,5,FALSE)),\"\",VLOOKUP($D42&\"@1\",'中間シート（個人）'!$F$6:$O$100,4,FALSE)&VLOOKUP($D42&\"@1\",'中間シート（個人）'!$F$6:$O$100,5,FALSE))","v":""},{"$f":"IF(ISERROR(VLOOKUP($D42&\"@1\",'中間シート（個人）'!$F$6:$O$100,6,FALSE)&VLOOKUP($D42&\"@1\",'中間シート（個人）'!$F$6:$O$100,7,FALSE)&\".\"&VLOOKUP($D42&\"@1\",'中間シート（個人）'!$F$6:$O$100,8,FALSE)),\"\",VLOOKUP($D42&\"@1\",'中間シート（個人）'!$F$6:$O$100,6,FALSE)&VLOOKUP($D42&\"@1\",'中間シート（個人）'!$F$6:$O$100,7,FALSE)&\".\"&VLOOKUP($D42&\"@1\",'中間シート（個人）'!$F$6:$O$100,8,FALSE))","v":""},{"$f":"IF(ISERROR(VLOOKUP($D42&\"@2\",'中間シート（個人）'!$F$6:$O$100,4,FALSE)&VLOOKUP($D42&\"@2\",'中間シート（個人）'!$F$6:$O$100,5,FALSE)),\"\",VLOOKUP($D42&\"@2\",'中間シート（個人）'!$F$6:$O$100,4,FALSE)&VLOOKUP($D42&\"@2\",'中間シート（個人）'!$F$6:$O$100,5,FALSE))","v":""},{"$f":"IF(ISERROR(VLOOKUP($D42&\"@2\",'中間シート（個人）'!$F$6:$O$100,6,FALSE)&VLOOKUP($D42&\"@2\",'中間シート（個人）'!$F$6:$O$100,7,FALSE)&\".\"&VLOOKUP($D42&\"@2\",'中間シート（個人）'!$F$6:$O$100,8,FALSE)),\"\",VLOOKUP($D42&\"@2\",'中間シート（個人）'!$F$6:$O$100,6,FALSE)&VLOOKUP($D42&\"@2\",'中間シート（個人）'!$F$6:$O$100,7,FALSE)&\".\"&VLOOKUP($D42&\"@2\",'中間シート（個人）'!$F$6:$O$100,8,FALSE))","v":""},{"$f":"IF(ISERROR(VLOOKUP($D42&\"@3\",'中間シート（個人）'!$F$6:$O$100,4,FALSE)&VLOOKUP($D42&\"@3\",'中間シート（個人）'!$F$6:$O$100,5,FALSE)),\"\",VLOOKUP($D42&\"@3\",'中間シート（個人）'!$F$6:$O$100,4,FALSE)&VLOOKUP($D42&\"@3\",'中間シート（個人）'!$F$6:$O$100,5,FALSE))","v":""},{"$f":"IF(ISERROR(VLOOKUP($D42&\"@3\",'中間シート（個人）'!$F$6:$O$100,6,FALSE)&VLOOKUP($D42&\"@3\",'中間シート（個人）'!$F$6:$O$100,7,FALSE)&\".\"&VLOOKUP($D42&\"@3\",'中間シート（個人）'!$F$6:$O$100,8,FALSE)),\"\",VLOOKUP($D42&\"@3\",'中間シート（個人）'!$F$6:$O$100,6,FALSE)&VLOOKUP($D42&\"@3\",'中間シート（個人）'!$F$6:$O$100,7,FALSE)&\".\"&VLOOKUP($D42&\"@3\",'中間シート（個人）'!$F$6:$O$100,8,FALSE))","v":""},{"$f":"IF(ISERROR(VLOOKUP($D42&\"@4\",'中間シート（個人）'!$F$6:$O$100,4,FALSE)&VLOOKUP($D42&\"@4\",'中間シート（個人）'!$F$6:$O$100,5,FALSE)),\"\",VLOOKUP($D42&\"@4\",'中間シート（個人）'!$F$6:$O$100,4,FALSE)&VLOOKUP($D42&\"@4\",'中間シート（個人）'!$F$6:$O$100,5,FALSE))","v":""},{"$f":"IF(ISERROR(VLOOKUP($D42&\"@4\",'中間シート（個人）'!$F$6:$O$100,6,FALSE)&VLOOKUP($D42&\"@4\",'中間シート（個人）'!$F$6:$O$100,7,FALSE)&\".\"&VLOOKUP($D42&\"@4\",'中間シート（個人）'!$F$6:$O$100,8,FALSE)),\"\",VLOOKUP($D42&\"@4\",'中間シート（個人）'!$F$6:$O$100,6,FALSE)&VLOOKUP($D42&\"@4\",'中間シート（個人）'!$F$6:$O$100,7,FALSE)&\".\"&VLOOKUP($D42&\"@4\",'中間シート（個人）'!$F$6:$O$100,8,FALSE))","v":""},{"$f":"IF(ISERROR(VLOOKUP($D42&\"@5\",'中間シート（個人）'!$F$6:$O$100,4,FALSE)&VLOOKUP($D42&\"@5\",'中間シート（個人）'!$F$6:$O$100,5,FALSE)),\"\",VLOOKUP($D42&\"@5\",'中間シート（個人）'!$F$6:$O$100,4,FALSE)&VLOOKUP($D42&\"@5\",'中間シート（個人）'!$F$6:$O$100,5,FALSE))","v":""},{"$f":"IF(ISERROR(VLOOKUP($D42&\"@5\",'中間シート（個人）'!$F$6:$O$100,6,FALSE)&VLOOKUP($D42&\"@5\",'中間シート（個人）'!$F$6:$O$100,7,FALSE)&\".\"&VLOOKUP($D42&\"@5\",'中間シート（個人）'!$F$6:$O$100,8,FALSE)),\"\",VLOOKUP($D42&\"@5\",'中間シート（個人）'!$F$6:$O$100,6,FALSE)&VLOOKUP($D42&\"@5\",'中間シート（個人）'!$F$6:$O$100,7,FALSE)&\".\"&VLOOKUP($D42&\"@5\",'中間シート（個人）'!$F$6:$O$100,8,FALSE))","v":""},{"$f":"IF(ISERROR(VLOOKUP($D42&\"@6\",'中間シート（個人）'!$F$6:$O$100,4,FALSE)&VLOOKUP($D42&\"@6\",'中間シート（個人）'!$F$6:$O$100,5,FALSE)),\"\",VLOOKUP($D42&\"@6\",'中間シート（個人）'!$F$6:$O$100,4,FALSE)&VLOOKUP($D42&\"@6\",'中間シート（個人）'!$F$6:$O$100,5,FALSE))","v":""},{"$f":"IF(ISERROR(VLOOKUP($D42&\"@6\",'中間シート（個人）'!$F$6:$O$100,6,FALSE)&VLOOKUP($D42&\"@6\",'中間シート（個人）'!$F$6:$O$100,7,FALSE)&\".\"&VLOOKUP($D42&\"@6\",'中間シート（個人）'!$F$6:$O$100,8,FALSE)),\"\",VLOOKUP($D42&\"@6\",'中間シート（個人）'!$F$6:$O$100,6,FALSE)&VLOOKUP($D42&\"@6\",'中間シート（個人）'!$F$6:$O$100,7,FALSE)&\".\"&VLOOKUP($D42&\"@6\",'中間シート（個人）'!$F$6:$O$100,8,FALSE))","v":""},{"$f":"IF(ISERROR(VLOOKUP($D42&\"@7\",'中間シート（個人）'!$F$6:$O$100,4,FALSE)&VLOOKUP($D42&\"@7\",'中間シート（個人）'!$F$6:$O$100,5,FALSE)),\"\",VLOOKUP($D42&\"@7\",'中間シート（個人）'!$F$6:$O$100,4,FALSE)&VLOOKUP($D42&\"@7\",'中間シート（個人）'!$F$6:$O$100,5,FALSE))","v":""},{"$f":"IF(ISERROR(VLOOKUP($D42&\"@7\",'中間シート（個人）'!$F$6:$O$100,6,FALSE)&VLOOKUP($D42&\"@7\",'中間シート（個人）'!$F$6:$O$100,7,FALSE)&\".\"&VLOOKUP($D42&\"@7\",'中間シート（個人）'!$F$6:$O$100,8,FALSE)),\"\",VLOOKUP($D42&\"@7\",'中間シート（個人）'!$F$6:$O$100,6,FALSE)&VLOOKUP($D42&\"@7\",'中間シート（個人）'!$F$6:$O$100,7,FALSE)&\".\"&VLOOKUP($D42&\"@7\",'中間シート（個人）'!$F$6:$O$100,8,FALSE))","v":""},{"$f":"IF(ISERROR(VLOOKUP($D42&\"@8\",'中間シート（個人）'!$F$6:$O$100,4,FALSE)&VLOOKUP($D42&\"@8\",'中間シート（個人）'!$F$6:$O$100,5,FALSE)),\"\",VLOOKUP($D42&\"@8\",'中間シート（個人）'!$F$6:$O$100,4,FALSE)&VLOOKUP($D42&\"@8\",'中間シート（個人）'!$F$6:$O$100,5,FALSE))","v":""},{"$f":"IF(ISERROR(VLOOKUP($D42&\"@8\",'中間シート（個人）'!$F$6:$O$100,6,FALSE)&VLOOKUP($D42&\"@8\",'中間シート（個人）'!$F$6:$O$100,7,FALSE)&\".\"&VLOOKUP($D42&\"@8\",'中間シート（個人）'!$F$6:$O$100,8,FALSE)),\"\",VLOOKUP($D42&\"@8\",'中間シート（個人）'!$F$6:$O$100,6,FALSE)&VLOOKUP($D42&\"@8\",'中間シート（個人）'!$F$6:$O$100,7,FALSE)&\".\"&VLOOKUP($D42&\"@8\",'中間シート（個人）'!$F$6:$O$100,8,FALSE))","v":""},{"$f":"IF(ISERROR(VLOOKUP($D42&\"@9\",'中間シート（個人）'!$F$6:$O$100,4,FALSE)&VLOOKUP($D42&\"@9\",'中間シート（個人）'!$F$6:$O$100,5,FALSE)),\"\",VLOOKUP($D42&\"@9\",'中間シート（個人）'!$F$6:$O$100,4,FALSE)&VLOOKUP($D42&\"@9\",'中間シート（個人）'!$F$6:$O$100,5,FALSE))","v":""},{"$f":"IF(ISERROR(VLOOKUP($D42&\"@9\",'中間シート（個人）'!$F$6:$O$100,6,FALSE)&VLOOKUP($D42&\"@9\",'中間シート（個人）'!$F$6:$O$100,7,FALSE)&\".\"&VLOOKUP($D42&\"@9\",'中間シート（個人）'!$F$6:$O$100,8,FALSE)),\"\",VLOOKUP($D42&\"@9\",'中間シート（個人）'!$F$6:$O$100,6,FALSE)&VLOOKUP($D42&\"@9\",'中間シート（個人）'!$F$6:$O$100,7,FALSE)&\".\"&VLOOKUP($D42&\"@9\",'中間シート（個人）'!$F$6:$O$100,8,FALSE))","v":""},{"$f":"IF(ISERROR(VLOOKUP($D42&\"@10\",'中間シート（個人）'!$F$6:$O$100,4,FALSE)&VLOOKUP($D42&\"@10\",'中間シート（個人）'!$F$6:$O$100,5,FALSE)),\"\",VLOOKUP($D42&\"@10\",'中間シート（個人）'!$F$6:$O$100,4,FALSE)&VLOOKUP($D42&\"@10\",'中間シート（個人）'!$F$6:$O$100,5,FALSE))","v":""},{"$f":"IF(ISERROR(VLOOKUP($D42&\"@10\",'中間シート（個人）'!$F$6:$O$100,6,FALSE)&VLOOKUP($D42&\"@10\",'中間シート（個人）'!$F$6:$O$100,7,FALSE)&\".\"&VLOOKUP($D42&\"@10\",'中間シート（個人）'!$F$6:$O$100,8,FALSE)),\"\",VLOOKUP($D42&\"@10\",'中間シート（個人）'!$F$6:$O$100,6,FALSE)&VLOOKUP($D42&\"@10\",'中間シート（個人）'!$F$6:$O$100,7,FALSE)&\".\"&VLOOKUP($D42&\"@10\",'中間シート（個人）'!$F$6:$O$100,8,FALSE))","v":""}]
[null,null,{"$f":"IF('中間シート（個人）'!D45=\"○\",\"\",VLOOKUP(個人種目!F45,コード一覧!$A$2:$B$3,2,FALSE))","v":""},{"$f":"IF('中間シート（個人）'!D45=\"○\",\"\",'中間シート（個人）'!C45)","v":""},{"$f":"IF('中間シート（個人）'!D45=\"○\",\"\",ASC(個人種目!D45&\" \"&個人種目!E45))","v":""},{"$f":"IF('中間シート（個人）'!D45=\"○\",\"\",個人種目!G45&IF(LEN(個人種目!H45)=1,\"0\"&個人種目!H45,個人種目!H45)&IF(LEN(個人種目!I45)=1,\"0\"&個人種目!I45,個人種目!I45))","v":""},{"$f":"IF('中間シート（個人）'!D45=\"○\",\"\",VLOOKUP(個人種目!$J45,コード一覧!$C$3:$D$6,2,FALSE))","v":""},{"$f":"IF('中間シート（個人）'!D45=\"○\",\"\",IF(個人種目!$J45=\"一般\",0,個人種目!$K45))","v":""},{"$f":"IF('中間シート（個人）'!D45=\"○\",\"\",'中間シート（個人）'!H45)","v":""},null,{"$f":"IF('中間シート（個人）'!D45=\"○\",\"\",個人種目!$L$1)","v":""},{"$f":"IF('中間シート（個人）'!D45=\"○\",\"\",ASC(申込書_コナミ!$S$9))","v":""},{"$f":"IF('中間シート（個人）'!D45=\"○\",\"\",申込書_コナミ!$E$8)","v":""},null,null,null,{"$f":"IF('中間シート（個人）'!D45=\"○\",\"\",4)","v":""},{"$f":"IF(ISERROR(VLOOKUP($D43&\"@1\",'中間シート（個人）'!$F$6:$O$100,4,FALSE)&VLOOKUP($D43&\"@1\",'中間シート（個人）'!$F$6:$O$100,5,FALSE)),\"\",VLOOKUP($D43&\"@1\",'中間シート（個人）'!$F$6:$O$100,4,FALSE)&VLOOKUP($D43&\"@1\",'中間シート（個人）'!$F$6:$O$100,5,FALSE))","v":""},{"$f":"IF(ISERROR(VLOOKUP($D43&\"@1\",'中間シート（個人）'!$F$6:$O$100,6,FALSE)&VLOOKUP($D43&\"@1\",'中間シート（個人）'!$F$6:$O$100,7,FALSE)&\".\"&VLOOKUP($D43&\"@1\",'中間シート（個人）'!$F$6:$O$100,8,FALSE)),\"\",VLOOKUP($D43&\"@1\",'中間シート（個人）'!$F$6:$O$100,6,FALSE)&VLOOKUP($D43&\"@1\",'中間シート（個人）'!$F$6:$O$100,7,FALSE)&\".\"&VLOOKUP($D43&\"@1\",'中間シート（個人）'!$F$6:$O$100,8,FALSE))","v":""},{"$f":"IF(ISERROR(VLOOKUP($D43&\"@2\",'中間シート（個人）'!$F$6:$O$100,4,FALSE)&VLOOKUP($D43&\"@2\",'中間シート（個人）'!$F$6:$O$100,5,FALSE)),\"\",VLOOKUP($D43&\"@2\",'中間シート（個人）'!$F$6:$O$100,4,FALSE)&VLOOKUP($D43&\"@2\",'中間シート（個人）'!$F$6:$O$100,5,FALSE))","v":""},{"$f":"IF(ISERROR(VLOOKUP($D43&\"@2\",'中間シート（個人）'!$F$6:$O$100,6,FALSE)&VLOOKUP($D43&\"@2\",'中間シート（個人）'!$F$6:$O$100,7,FALSE)&\".\"&VLOOKUP($D43&\"@2\",'中間シート（個人）'!$F$6:$O$100,8,FALSE)),\"\",VLOOKUP($D43&\"@2\",'中間シート（個人）'!$F$6:$O$100,6,FALSE)&VLOOKUP($D43&\"@2\",'中間シート（個人）'!$F$6:$O$100,7,FALSE)&\".\"&VLOOKUP($D43&\"@2\",'中間シート（個人）'!$F$6:$O$100,8,FALSE))","v":""},{"$f":"IF(ISERROR(VLOOKUP($D43&\"@3\",'中間シート（個人）'!$F$6:$O$100,4,FALSE)&VLOOKUP($D43&\"@3\",'中間シート（個人）'!$F$6:$O$100,5,FALSE)),\"\",VLOOKUP($D43&\"@3\",'中間シート（個人）'!$F$6:$O$100,4,FALSE)&VLOOKUP($D43&\"@3\",'中間シート（個人）'!$F$6:$O$100,5,FALSE))","v":""},{"$f":"IF(ISERROR(VLOOKUP($D43&\"@3\",'中間シート（個人）'!$F$6:$O$100,6,FALSE)&VLOOKUP($D43&\"@3\",'中間シート（個人）'!$F$6:$O$100,7,FALSE)&\".\"&VLOOKUP($D43&\"@3\",'中間シート（個人）'!$F$6:$O$100,8,FALSE)),\"\",VLOOKUP($D43&\"@3\",'中間シート（個人）'!$F$6:$O$100,6,FALSE)&VLOOKUP($D43&\"@3\",'中間シート（個人）'!$F$6:$O$100,7,FALSE)&\".\"&VLOOKUP($D43&\"@3\",'中間シート（個人）'!$F$6:$O$100,8,FALSE))","v":""},{"$f":"IF(ISERROR(VLOOKUP($D43&\"@4\",'中間シート（個人）'!$F$6:$O$100,4,FALSE)&VLOOKUP($D43&\"@4\",'中間シート（個人）'!$F$6:$O$100,5,FALSE)),\"\",VLOOKUP($D43&\"@4\",'中間シート（個人）'!$F$6:$O$100,4,FALSE)&VLOOKUP($D43&\"@4\",'中間シート（個人）'!$F$6:$O$100,5,FALSE))","v":""},{"$f":"IF(ISERROR(VLOOKUP($D43&\"@4\",'中間シート（個人）'!$F$6:$O$100,6,FALSE)&VLOOKUP($D43&\"@4\",'中間シート（個人）'!$F$6:$O$100,7,FALSE)&\".\"&VLOOKUP($D43&\"@4\",'中間シート（個人）'!$F$6:$O$100,8,FALSE)),\"\",VLOOKUP($D43&\"@4\",'中間シート（個人）'!$F$6:$O$100,6,FALSE)&VLOOKUP($D43&\"@4\",'中間シート（個人）'!$F$6:$O$100,7,FALSE)&\".\"&VLOOKUP($D43&\"@4\",'中間シート（個人）'!$F$6:$O$100,8,FALSE))","v":""},{"$f":"IF(ISERROR(VLOOKUP($D43&\"@5\",'中間シート（個人）'!$F$6:$O$100,4,FALSE)&VLOOKUP($D43&\"@5\",'中間シート（個人）'!$F$6:$O$100,5,FALSE)),\"\",VLOOKUP($D43&\"@5\",'中間シート（個人）'!$F$6:$O$100,4,FALSE)&VLOOKUP($D43&\"@5\",'中間シート（個人）'!$F$6:$O$100,5,FALSE))","v":""},{"$f":"IF(ISERROR(VLOOKUP($D43&\"@5\",'中間シート（個人）'!$F$6:$O$100,6,FALSE)&VLOOKUP($D43&\"@5\",'中間シート（個人）'!$F$6:$O$100,7,FALSE)&\".\"&VLOOKUP($D43&\"@5\",'中間シート（個人）'!$F$6:$O$100,8,FALSE)),\"\",VLOOKUP($D43&\"@5\",'中間シート（個人）'!$F$6:$O$100,6,FALSE)&VLOOKUP($D43&\"@5\",'中間シート（個人）'!$F$6:$O$100,7,FALSE)&\".\"&VLOOKUP($D43&\"@5\",'中間シート（個人）'!$F$6:$O$100,8,FALSE))","v":""},{"$f":"IF(ISERROR(VLOOKUP($D43&\"@6\",'中間シート（個人）'!$F$6:$O$100,4,FALSE)&VLOOKUP($D43&\"@6\",'中間シート（個人）'!$F$6:$O$100,5,FALSE)),\"\",VLOOKUP($D43&\"@6\",'中間シート（個人）'!$F$6:$O$100,4,FALSE)&VLOOKUP($D43&\"@6\",'中間シート（個人）'!$F$6:$O$100,5,FALSE))","v":""},{"$f":"IF(ISERROR(VLOOKUP($D43&\"@6\",'中間シート（個人）'!$F$6:$O$100,6,FALSE)&VLOOKUP($D43&\"@6\",'中間シート（個人）'!$F$6:$O$100,7,FALSE)&\".\"&VLOOKUP($D43&\"@6\",'中間シート（個人）'!$F$6:$O$100,8,FALSE)),\"\",VLOOKUP($D43&\"@6\",'中間シート（個人）'!$F$6:$O$100,6,FALSE)&VLOOKUP($D43&\"@6\",'中間シート（個人）'!$F$6:$O$100,7,FALSE)&\".\"&VLOOKUP($D43&\"@6\",'中間シート（個人）'!$F$6:$O$100,8,FALSE))","v":""},{"$f":"IF(ISERROR(VLOOKUP($D43&\"@7\",'中間シート（個人）'!$F$6:$O$100,4,FALSE)&VLOOKUP($D43&\"@7\",'中間シート（個人）'!$F$6:$O$100,5,FALSE)),\"\",VLOOKUP($D43&\"@7\",'中間シート（個人）'!$F$6:$O$100,4,FALSE)&VLOOKUP($D43&\"@7\",'中間シート（個人）'!$F$6:$O$100,5,FALSE))","v":""},{"$f":"IF(ISERROR(VLOOKUP($D43&\"@7\",'中間シート（個人）'!$F$6:$O$100,6,FALSE)&VLOOKUP($D43&\"@7\",'中間シート（個人）'!$F$6:$O$100,7,FALSE)&\".\"&VLOOKUP($D43&\"@7\",'中間シート（個人）'!$F$6:$O$100,8,FALSE)),\"\",VLOOKUP($D43&\"@7\",'中間シート（個人）'!$F$6:$O$100,6,FALSE)&VLOOKUP($D43&\"@7\",'中間シート（個人）'!$F$6:$O$100,7,FALSE)&\".\"&VLOOKUP($D43&\"@7\",'中間シート（個人）'!$F$6:$O$100,8,FALSE))","v":""},{"$f":"IF(ISERROR(VLOOKUP($D43&\"@8\",'中間シート（個人）'!$F$6:$O$100,4,FALSE)&VLOOKUP($D43&\"@8\",'中間シート（個人）'!$F$6:$O$100,5,FALSE)),\"\",VLOOKUP($D43&\"@8\",'中間シート（個人）'!$F$6:$O$100,4,FALSE)&VLOOKUP($D43&\"@8\",'中間シート（個人）'!$F$6:$O$100,5,FALSE))","v":""},{"$f":"IF(ISERROR(VLOOKUP($D43&\"@8\",'中間シート（個人）'!$F$6:$O$100,6,FALSE)&VLOOKUP($D43&\"@8\",'中間シート（個人）'!$F$6:$O$100,7,FALSE)&\".\"&VLOOKUP($D43&\"@8\",'中間シート（個人）'!$F$6:$O$100,8,FALSE)),\"\",VLOOKUP($D43&\"@8\",'中間シート（個人）'!$F$6:$O$100,6,FALSE)&VLOOKUP($D43&\"@8\",'中間シート（個人）'!$F$6:$O$100,7,FALSE)&\".\"&VLOOKUP($D43&\"@8\",'中間シート（個人）'!$F$6:$O$100,8,FALSE))","v":""},{"$f":"IF(ISERROR(VLOOKUP($D43&\"@9\",'中間シート（個人）'!$F$6:$O$100,4,FALSE)&VLOOKUP($D43&\"@9\",'中間シート（個人）'!$F$6:$O$100,5,FALSE)),\"\",VLOOKUP($D43&\"@9\",'中間シート（個人）'!$F$6:$O$100,4,FALSE)&VLOOKUP($D43&\"@9\",'中間シート（個人）'!$F$6:$O$100,5,FALSE))","v":""},{"$f":"IF(ISERROR(VLOOKUP($D43&\"@9\",'中間シート（個人）'!$F$6:$O$100,6,FALSE)&VLOOKUP($D43&\"@9\",'中間シート（個人）'!$F$6:$O$100,7,FALSE)&\".\"&VLOOKUP($D43&\"@9\",'中間シート（個人）'!$F$6:$O$100,8,FALSE)),\"\",VLOOKUP($D43&\"@9\",'中間シート（個人）'!$F$6:$O$100,6,FALSE)&VLOOKUP($D43&\"@9\",'中間シート（個人）'!$F$6:$O$100,7,FALSE)&\".\"&VLOOKUP($D43&\"@9\",'中間シート（個人）'!$F$6:$O$100,8,FALSE))","v":""},{"$f":"IF(ISERROR(VLOOKUP($D43&\"@10\",'中間シート（個人）'!$F$6:$O$100,4,FALSE)&VLOOKUP($D43&\"@10\",'中間シート（個人）'!$F$6:$O$100,5,FALSE)),\"\",VLOOKUP($D43&\"@10\",'中間シート（個人）'!$F$6:$O$100,4,FALSE)&VLOOKUP($D43&\"@10\",'中間シート（個人）'!$F$6:$O$100,5,FALSE))","v":""},{"$f":"IF(ISERROR(VLOOKUP($D43&\"@10\",'中間シート（個人）'!$F$6:$O$100,6,FALSE)&VLOOKUP($D43&\"@10\",'中間シート（個人）'!$F$6:$O$100,7,FALSE)&\".\"&VLOOKUP($D43&\"@10\",'中間シート（個人）'!$F$6:$O$100,8,FALSE)),\"\",VLOOKUP($D43&\"@10\",'中間シート（個人）'!$F$6:$O$100,6,FALSE)&VLOOKUP($D43&\"@10\",'中間シート（個人）'!$F$6:$O$100,7,FALSE)&\".\"&VLOOKUP($D43&\"@10\",'中間シート（個人）'!$F$6:$O$100,8,FALSE))","v":""}]
[null,null,{"$f":"IF('中間シート（個人）'!D46=\"○\",\"\",VLOOKUP(個人種目!F46,コード一覧!$A$2:$B$3,2,FALSE))","v":""},{"$f":"IF('中間シート（個人）'!D46=\"○\",\"\",'中間シート（個人）'!C46)","v":""},{"$f":"IF('中間シート（個人）'!D46=\"○\",\"\",ASC(個人種目!D46&\" \"&個人種目!E46))","v":""},{"$f":"IF('中間シート（個人）'!D46=\"○\",\"\",個人種目!G46&IF(LEN(個人種目!H46)=1,\"0\"&個人種目!H46,個人種目!H46)&IF(LEN(個人種目!I46)=1,\"0\"&個人種目!I46,個人種目!I46))","v":""},{"$f":"IF('中間シート（個人）'!D46=\"○\",\"\",VLOOKUP(個人種目!$J46,コード一覧!$C$3:$D$6,2,FALSE))","v":""},{"$f":"IF('中間シート（個人）'!D46=\"○\",\"\",IF(個人種目!$J46=\"一般\",0,個人種目!$K46))","v":""},{"$f":"IF('中間シート（個人）'!D46=\"○\",\"\",'中間シート（個人）'!H46)","v":""},null,{"$f":"IF('中間シート（個人）'!D46=\"○\",\"\",個人種目!$L$1)","v":""},{"$f":"IF('中間シート（個人）'!D46=\"○\",\"\",ASC(申込書_コナミ!$S$9))","v":""},{"$f":"IF('中間シート（個人）'!D46=\"○\",\"\",申込書_コナミ!$E$8)","v":""},null,null,null,{"$f":"IF('中間シート（個人）'!D46=\"○\",\"\",4)","v":""},{"$f":"IF(ISERROR(VLOOKUP($D44&\"@1\",'中間シート（個人）'!$F$6:$O$100,4,FALSE)&VLOOKUP($D44&\"@1\",'中間シート（個人）'!$F$6:$O$100,5,FALSE)),\"\",VLOOKUP($D44&\"@1\",'中間シート（個人）'!$F$6:$O$100,4,FALSE)&VLOOKUP($D44&\"@1\",'中間シート（個人）'!$F$6:$O$100,5,FALSE))","v":""},{"$f":"IF(ISERROR(VLOOKUP($D44&\"@1\",'中間シート（個人）'!$F$6:$O$100,6,FALSE)&VLOOKUP($D44&\"@1\",'中間シート（個人）'!$F$6:$O$100,7,FALSE)&\".\"&VLOOKUP($D44&\"@1\",'中間シート（個人）'!$F$6:$O$100,8,FALSE)),\"\",VLOOKUP($D44&\"@1\",'中間シート（個人）'!$F$6:$O$100,6,FALSE)&VLOOKUP($D44&\"@1\",'中間シート（個人）'!$F$6:$O$100,7,FALSE)&\".\"&VLOOKUP($D44&\"@1\",'中間シート（個人）'!$F$6:$O$100,8,FALSE))","v":""},{"$f":"IF(ISERROR(VLOOKUP($D44&\"@2\",'中間シート（個人）'!$F$6:$O$100,4,FALSE)&VLOOKUP($D44&\"@2\",'中間シート（個人）'!$F$6:$O$100,5,FALSE)),\"\",VLOOKUP($D44&\"@2\",'中間シート（個人）'!$F$6:$O$100,4,FALSE)&VLOOKUP($D44&\"@2\",'中間シート（個人）'!$F$6:$O$100,5,FALSE))","v":""},{"$f":"IF(ISERROR(VLOOKUP($D44&\"@2\",'中間シート（個人）'!$F$6:$O$100,6,FALSE)&VLOOKUP($D44&\"@2\",'中間シート（個人）'!$F$6:$O$100,7,FALSE)&\".\"&VLOOKUP($D44&\"@2\",'中間シート（個人）'!$F$6:$O$100,8,FALSE)),\"\",VLOOKUP($D44&\"@2\",'中間シート（個人）'!$F$6:$O$100,6,FALSE)&VLOOKUP($D44&\"@2\",'中間シート（個人）'!$F$6:$O$100,7,FALSE)&\".\"&VLOOKUP($D44&\"@2\",'中間シート（個人）'!$F$6:$O$100,8,FALSE))","v":""},{"$f":"IF(ISERROR(VLOOKUP($D44&\"@3\",'中間シート（個人）'!$F$6:$O$100,4,FALSE)&VLOOKUP($D44&\"@3\",'中間シート（個人）'!$F$6:$O$100,5,FALSE)),\"\",VLOOKUP($D44&\"@3\",'中間シート（個人）'!$F$6:$O$100,4,FALSE)&VLOOKUP($D44&\"@3\",'中間シート（個人）'!$F$6:$O$100,5,FALSE))","v":""},{"$f":"IF(ISERROR(VLOOKUP($D44&\"@3\",'中間シート（個人）'!$F$6:$O$100,6,FALSE)&VLOOKUP($D44&\"@3\",'中間シート（個人）'!$F$6:$O$100,7,FALSE)&\".\"&VLOOKUP($D44&\"@3\",'中間シート（個人）'!$F$6:$O$100,8,FALSE)),\"\",VLOOKUP($D44&\"@3\",'中間シート（個人）'!$F$6:$O$100,6,FALSE)&VLOOKUP($D44&\"@3\",'中間シート（個人）'!$F$6:$O$100,7,FALSE)&\".\"&VLOOKUP($D44&\"@3\",'中間シート（個人）'!$F$6:$O$100,8,FALSE))","v":""},{"$f":"IF(ISERROR(VLOOKUP($D44&\"@4\",'中間シート（個人）'!$F$6:$O$100,4,FALSE)&VLOOKUP($D44&\"@4\",'中間シート（個人）'!$F$6:$O$100,5,FALSE)),\"\",VLOOKUP($D44&\"@4\",'中間シート（個人）'!$F$6:$O$100,4,FALSE)&VLOOKUP($D44&\"@4\",'中間シート（個人）'!$F$6:$O$100,5,FALSE))","v":""},{"$f":"IF(ISERROR(VLOOKUP($D44&\"@4\",'中間シート（個人）'!$F$6:$O$100,6,FALSE)&VLOOKUP($D44&\"@4\",'中間シート（個人）'!$F$6:$O$100,7,FALSE)&\".\"&VLOOKUP($D44&\"@4\",'中間シート（個人）'!$F$6:$O$100,8,FALSE)),\"\",VLOOKUP($D44&\"@4\",'中間シート（個人）'!$F$6:$O$100,6,FALSE)&VLOOKUP($D44&\"@4\",'中間シート（個人）'!$F$6:$O$100,7,FALSE)&\".\"&VLOOKUP($D44&\"@4\",'中間シート（個人）'!$F$6:$O$100,8,FALSE))","v":""},{"$f":"IF(ISERROR(VLOOKUP($D44&\"@5\",'中間シート（個人）'!$F$6:$O$100,4,FALSE)&VLOOKUP($D44&\"@5\",'中間シート（個人）'!$F$6:$O$100,5,FALSE)),\"\",VLOOKUP($D44&\"@5\",'中間シート（個人）'!$F$6:$O$100,4,FALSE)&VLOOKUP($D44&\"@5\",'中間シート（個人）'!$F$6:$O$100,5,FALSE))","v":""},{"$f":"IF(ISERROR(VLOOKUP($D44&\"@5\",'中間シート（個人）'!$F$6:$O$100,6,FALSE)&VLOOKUP($D44&\"@5\",'中間シート（個人）'!$F$6:$O$100,7,FALSE)&\".\"&VLOOKUP($D44&\"@5\",'中間シート（個人）'!$F$6:$O$100,8,FALSE)),\"\",VLOOKUP($D44&\"@5\",'中間シート（個人）'!$F$6:$O$100,6,FALSE)&VLOOKUP($D44&\"@5\",'中間シート（個人）'!$F$6:$O$100,7,FALSE)&\".\"&VLOOKUP($D44&\"@5\",'中間シート（個人）'!$F$6:$O$100,8,FALSE))","v":""},{"$f":"IF(ISERROR(VLOOKUP($D44&\"@6\",'中間シート（個人）'!$F$6:$O$100,4,FALSE)&VLOOKUP($D44&\"@6\",'中間シート（個人）'!$F$6:$O$100,5,FALSE)),\"\",VLOOKUP($D44&\"@6\",'中間シート（個人）'!$F$6:$O$100,4,FALSE)&VLOOKUP($D44&\"@6\",'中間シート（個人）'!$F$6:$O$100,5,FALSE))","v":""},{"$f":"IF(ISERROR(VLOOKUP($D44&\"@6\",'中間シート（個人）'!$F$6:$O$100,6,FALSE)&VLOOKUP($D44&\"@6\",'中間シート（個人）'!$F$6:$O$100,7,FALSE)&\".\"&VLOOKUP($D44&\"@6\",'中間シート（個人）'!$F$6:$O$100,8,FALSE)),\"\",VLOOKUP($D44&\"@6\",'中間シート（個人）'!$F$6:$O$100,6,FALSE)&VLOOKUP($D44&\"@6\",'中間シート（個人）'!$F$6:$O$100,7,FALSE)&\".\"&VLOOKUP($D44&\"@6\",'中間シート（個人）'!$F$6:$O$100,8,FALSE))","v":""},{"$f":"IF(ISERROR(VLOOKUP($D44&\"@7\",'中間シート（個人）'!$F$6:$O$100,4,FALSE)&VLOOKUP($D44&\"@7\",'中間シート（個人）'!$F$6:$O$100,5,FALSE)),\"\",VLOOKUP($D44&\"@7\",'中間シート（個人）'!$F$6:$O$100,4,FALSE)&VLOOKUP($D44&\"@7\",'中間シート（個人）'!$F$6:$O$100,5,FALSE))","v":""},{"$f":"IF(ISERROR(VLOOKUP($D44&\"@7\",'中間シート（個人）'!$F$6:$O$100,6,FALSE)&VLOOKUP($D44&\"@7\",'中間シート（個人）'!$F$6:$O$100,7,FALSE)&\".\"&VLOOKUP($D44&\"@7\",'中間シート（個人）'!$F$6:$O$100,8,FALSE)),\"\",VLOOKUP($D44&\"@7\",'中間シート（個人）'!$F$6:$O$100,6,FALSE)&VLOOKUP($D44&\"@7\",'中間シート（個人）'!$F$6:$O$100,7,FALSE)&\".\"&VLOOKUP($D44&\"@7\",'中間シート（個人）'!$F$6:$O$100,8,FALSE))","v":""},{"$f":"IF(ISERROR(VLOOKUP($D44&\"@8\",'中間シート（個人）'!$F$6:$O$100,4,FALSE)&VLOOKUP($D44&\"@8\",'中間シート（個人）'!$F$6:$O$100,5,FALSE)),\"\",VLOOKUP($D44&\"@8\",'中間シート（個人）'!$F$6:$O$100,4,FALSE)&VLOOKUP($D44&\"@8\",'中間シート（個人）'!$F$6:$O$100,5,FALSE))","v":""},{"$f":"IF(ISERROR(VLOOKUP($D44&\"@8\",'中間シート（個人）'!$F$6:$O$100,6,FALSE)&VLOOKUP($D44&\"@8\",'中間シート（個人）'!$F$6:$O$100,7,FALSE)&\".\"&VLOOKUP($D44&\"@8\",'中間シート（個人）'!$F$6:$O$100,8,FALSE)),\"\",VLOOKUP($D44&\"@8\",'中間シート（個人）'!$F$6:$O$100,6,FALSE)&VLOOKUP($D44&\"@8\",'中間シート（個人）'!$F$6:$O$100,7,FALSE)&\".\"&VLOOKUP($D44&\"@8\",'中間シート（個人）'!$F$6:$O$100,8,FALSE))","v":""},{"$f":"IF(ISERROR(VLOOKUP($D44&\"@9\",'中間シート（個人）'!$F$6:$O$100,4,FALSE)&VLOOKUP($D44&\"@9\",'中間シート（個人）'!$F$6:$O$100,5,FALSE)),\"\",VLOOKUP($D44&\"@9\",'中間シート（個人）'!$F$6:$O$100,4,FALSE)&VLOOKUP($D44&\"@9\",'中間シート（個人）'!$F$6:$O$100,5,FALSE))","v":""},{"$f":"IF(ISERROR(VLOOKUP($D44&\"@9\",'中間シート（個人）'!$F$6:$O$100,6,FALSE)&VLOOKUP($D44&\"@9\",'中間シート（個人）'!$F$6:$O$100,7,FALSE)&\".\"&VLOOKUP($D44&\"@9\",'中間シート（個人）'!$F$6:$O$100,8,FALSE)),\"\",VLOOKUP($D44&\"@9\",'中間シート（個人）'!$F$6:$O$100,6,FALSE)&VLOOKUP($D44&\"@9\",'中間シート（個人）'!$F$6:$O$100,7,FALSE)&\".\"&VLOOKUP($D44&\"@9\",'中間シート（個人）'!$F$6:$O$100,8,FALSE))","v":""},{"$f":"IF(ISERROR(VLOOKUP($D44&\"@10\",'中間シート（個人）'!$F$6:$O$100,4,FALSE)&VLOOKUP($D44&\"@10\",'中間シート（個人）'!$F$6:$O$100,5,FALSE)),\"\",VLOOKUP($D44&\"@10\",'中間シート（個人）'!$F$6:$O$100,4,FALSE)&VLOOKUP($D44&\"@10\",'中間シート（個人）'!$F$6:$O$100,5,FALSE))","v":""},{"$f":"IF(ISERROR(VLOOKUP($D44&\"@10\",'中間シート（個人）'!$F$6:$O$100,6,FALSE)&VLOOKUP($D44&\"@10\",'中間シート（個人）'!$F$6:$O$100,7,FALSE)&\".\"&VLOOKUP($D44&\"@10\",'中間シート（個人）'!$F$6:$O$100,8,FALSE)),\"\",VLOOKUP($D44&\"@10\",'中間シート（個人）'!$F$6:$O$100,6,FALSE)&VLOOKUP($D44&\"@10\",'中間シート（個人）'!$F$6:$O$100,7,FALSE)&\".\"&VLOOKUP($D44&\"@10\",'中間シート（個人）'!$F$6:$O$100,8,FALSE))","v":""}]
[null,null,{"$f":"IF('中間シート（個人）'!D47=\"○\",\"\",VLOOKUP(個人種目!F47,コード一覧!$A$2:$B$3,2,FALSE))","v":""},{"$f":"IF('中間シート（個人）'!D47=\"○\",\"\",'中間シート（個人）'!C47)","v":""},{"$f":"IF('中間シート（個人）'!D47=\"○\",\"\",ASC(個人種目!D47&\" \"&個人種目!E47))","v":""},{"$f":"IF('中間シート（個人）'!D47=\"○\",\"\",個人種目!G47&IF(LEN(個人種目!H47)=1,\"0\"&個人種目!H47,個人種目!H47)&IF(LEN(個人種目!I47)=1,\"0\"&個人種目!I47,個人種目!I47))","v":""},{"$f":"IF('中間シート（個人）'!D47=\"○\",\"\",VLOOKUP(個人種目!$J47,コード一覧!$C$3:$D$6,2,FALSE))","v":""},{"$f":"IF('中間シート（個人）'!D47=\"○\",\"\",IF(個人種目!$J47=\"一般\",0,個人種目!$K47))","v":""},{"$f":"IF('中間シート（個人）'!D47=\"○\",\"\",'中間シート（個人）'!H47)","v":""},null,{"$f":"IF('中間シート（個人）'!D47=\"○\",\"\",個人種目!$L$1)","v":""},{"$f":"IF('中間シート（個人）'!D47=\"○\",\"\",ASC(申込書_コナミ!$S$9))","v":""},{"$f":"IF('中間シート（個人）'!D47=\"○\",\"\",申込書_コナミ!$E$8)","v":""},null,null,null,{"$f":"IF('中間シート（個人）'!D47=\"○\",\"\",4)","v":""},{"$f":"IF(ISERROR(VLOOKUP($D45&\"@1\",'中間シート（個人）'!$F$6:$O$100,4,FALSE)&VLOOKUP($D45&\"@1\",'中間シート（個人）'!$F$6:$O$100,5,FALSE)),\"\",VLOOKUP($D45&\"@1\",'中間シート（個人）'!$F$6:$O$100,4,FALSE)&VLOOKUP($D45&\"@1\",'中間シート（個人）'!$F$6:$O$100,5,FALSE))","v":""},{"$f":"IF(ISERROR(VLOOKUP($D45&\"@1\",'中間シート（個人）'!$F$6:$O$100,6,FALSE)&VLOOKUP($D45&\"@1\",'中間シート（個人）'!$F$6:$O$100,7,FALSE)&\".\"&VLOOKUP($D45&\"@1\",'中間シート（個人）'!$F$6:$O$100,8,FALSE)),\"\",VLOOKUP($D45&\"@1\",'中間シート（個人）'!$F$6:$O$100,6,FALSE)&VLOOKUP($D45&\"@1\",'中間シート（個人）'!$F$6:$O$100,7,FALSE)&\".\"&VLOOKUP($D45&\"@1\",'中間シート（個人）'!$F$6:$O$100,8,FALSE))","v":""},{"$f":"IF(ISERROR(VLOOKUP($D45&\"@2\",'中間シート（個人）'!$F$6:$O$100,4,FALSE)&VLOOKUP($D45&\"@2\",'中間シート（個人）'!$F$6:$O$100,5,FALSE)),\"\",VLOOKUP($D45&\"@2\",'中間シート（個人）'!$F$6:$O$100,4,FALSE)&VLOOKUP($D45&\"@2\",'中間シート（個人）'!$F$6:$O$100,5,FALSE))","v":""},{"$f":"IF(ISERROR(VLOOKUP($D45&\"@2\",'中間シート（個人）'!$F$6:$O$100,6,FALSE)&VLOOKUP($D45&\"@2\",'中間シート（個人）'!$F$6:$O$100,7,FALSE)&\".\"&VLOOKUP($D45&\"@2\",'中間シート（個人）'!$F$6:$O$100,8,FALSE)),\"\",VLOOKUP($D45&\"@2\",'中間シート（個人）'!$F$6:$O$100,6,FALSE)&VLOOKUP($D45&\"@2\",'中間シート（個人）'!$F$6:$O$100,7,FALSE)&\".\"&VLOOKUP($D45&\"@2\",'中間シート（個人）'!$F$6:$O$100,8,FALSE))","v":""},{"$f":"IF(ISERROR(VLOOKUP($D45&\"@3\",'中間シート（個人）'!$F$6:$O$100,4,FALSE)&VLOOKUP($D45&\"@3\",'中間シート（個人）'!$F$6:$O$100,5,FALSE)),\"\",VLOOKUP($D45&\"@3\",'中間シート（個人）'!$F$6:$O$100,4,FALSE)&VLOOKUP($D45&\"@3\",'中間シート（個人）'!$F$6:$O$100,5,FALSE))","v":""},{"$f":"IF(ISERROR(VLOOKUP($D45&\"@3\",'中間シート（個人）'!$F$6:$O$100,6,FALSE)&VLOOKUP($D45&\"@3\",'中間シート（個人）'!$F$6:$O$100,7,FALSE)&\".\"&VLOOKUP($D45&\"@3\",'中間シート（個人）'!$F$6:$O$100,8,FALSE)),\"\",VLOOKUP($D45&\"@3\",'中間シート（個人）'!$F$6:$O$100,6,FALSE)&VLOOKUP($D45&\"@3\",'中間シート（個人）'!$F$6:$O$100,7,FALSE)&\".\"&VLOOKUP($D45&\"@3\",'中間シート（個人）'!$F$6:$O$100,8,FALSE))","v":""},{"$f":"IF(ISERROR(VLOOKUP($D45&\"@4\",'中間シート（個人）'!$F$6:$O$100,4,FALSE)&VLOOKUP($D45&\"@4\",'中間シート（個人）'!$F$6:$O$100,5,FALSE)),\"\",VLOOKUP($D45&\"@4\",'中間シート（個人）'!$F$6:$O$100,4,FALSE)&VLOOKUP($D45&\"@4\",'中間シート（個人）'!$F$6:$O$100,5,FALSE))","v":""},{"$f":"IF(ISERROR(VLOOKUP($D45&\"@4\",'中間シート（個人）'!$F$6:$O$100,6,FALSE)&VLOOKUP($D45&\"@4\",'中間シート（個人）'!$F$6:$O$100,7,FALSE)&\".\"&VLOOKUP($D45&\"@4\",'中間シート（個人）'!$F$6:$O$100,8,FALSE)),\"\",VLOOKUP($D45&\"@4\",'中間シート（個人）'!$F$6:$O$100,6,FALSE)&VLOOKUP($D45&\"@4\",'中間シート（個人）'!$F$6:$O$100,7,FALSE)&\".\"&VLOOKUP($D45&\"@4\",'中間シート（個人）'!$F$6:$O$100,8,FALSE))","v":""},{"$f":"IF(ISERROR(VLOOKUP($D45&\"@5\",'中間シート（個人）'!$F$6:$O$100,4,FALSE)&VLOOKUP($D45&\"@5\",'中間シート（個人）'!$F$6:$O$100,5,FALSE)),\"\",VLOOKUP($D45&\"@5\",'中間シート（個人）'!$F$6:$O$100,4,FALSE)&VLOOKUP($D45&\"@5\",'中間シート（個人）'!$F$6:$O$100,5,FALSE))","v":""},{"$f":"IF(ISERROR(VLOOKUP($D45&\"@5\",'中間シート（個人）'!$F$6:$O$100,6,FALSE)&VLOOKUP($D45&\"@5\",'中間シート（個人）'!$F$6:$O$100,7,FALSE)&\".\"&VLOOKUP($D45&\"@5\",'中間シート（個人）'!$F$6:$O$100,8,FALSE)),\"\",VLOOKUP($D45&\"@5\",'中間シート（個人）'!$F$6:$O$100,6,FALSE)&VLOOKUP($D45&\"@5\",'中間シート（個人）'!$F$6:$O$100,7,FALSE)&\".\"&VLOOKUP($D45&\"@5\",'中間シート（個人）'!$F$6:$O$100,8,FALSE))","v":""},{"$f":"IF(ISERROR(VLOOKUP($D45&\"@6\",'中間シート（個人）'!$F$6:$O$100,4,FALSE)&VLOOKUP($D45&\"@6\",'中間シート（個人）'!$F$6:$O$100,5,FALSE)),\"\",VLOOKUP($D45&\"@6\",'中間シート（個人）'!$F$6:$O$100,4,FALSE)&VLOOKUP($D45&\"@6\",'中間シート（個人）'!$F$6:$O$100,5,FALSE))","v":""},{"$f":"IF(ISERROR(VLOOKUP($D45&\"@6\",'中間シート（個人）'!$F$6:$O$100,6,FALSE)&VLOOKUP($D45&\"@6\",'中間シート（個人）'!$F$6:$O$100,7,FALSE)&\".\"&VLOOKUP($D45&\"@6\",'中間シート（個人）'!$F$6:$O$100,8,FALSE)),\"\",VLOOKUP($D45&\"@6\",'中間シート（個人）'!$F$6:$O$100,6,FALSE)&VLOOKUP($D45&\"@6\",'中間シート（個人）'!$F$6:$O$100,7,FALSE)&\".\"&VLOOKUP($D45&\"@6\",'中間シート（個人）'!$F$6:$O$100,8,FALSE))","v":""},{"$f":"IF(ISERROR(VLOOKUP($D45&\"@7\",'中間シート（個人）'!$F$6:$O$100,4,FALSE)&VLOOKUP($D45&\"@7\",'中間シート（個人）'!$F$6:$O$100,5,FALSE)),\"\",VLOOKUP($D45&\"@7\",'中間シート（個人）'!$F$6:$O$100,4,FALSE)&VLOOKUP($D45&\"@7\",'中間シート（個人）'!$F$6:$O$100,5,FALSE))","v":""},{"$f":"IF(ISERROR(VLOOKUP($D45&\"@7\",'中間シート（個人）'!$F$6:$O$100,6,FALSE)&VLOOKUP($D45&\"@7\",'中間シート（個人）'!$F$6:$O$100,7,FALSE)&\".\"&VLOOKUP($D45&\"@7\",'中間シート（個人）'!$F$6:$O$100,8,FALSE)),\"\",VLOOKUP($D45&\"@7\",'中間シート（個人）'!$F$6:$O$100,6,FALSE)&VLOOKUP($D45&\"@7\",'中間シート（個人）'!$F$6:$O$100,7,FALSE)&\".\"&VLOOKUP($D45&\"@7\",'中間シート（個人）'!$F$6:$O$100,8,FALSE))","v":""},{"$f":"IF(ISERROR(VLOOKUP($D45&\"@8\",'中間シート（個人）'!$F$6:$O$100,4,FALSE)&VLOOKUP($D45&\"@8\",'中間シート（個人）'!$F$6:$O$100,5,FALSE)),\"\",VLOOKUP($D45&\"@8\",'中間シート（個人）'!$F$6:$O$100,4,FALSE)&VLOOKUP($D45&\"@8\",'中間シート（個人）'!$F$6:$O$100,5,FALSE))","v":""},{"$f":"IF(ISERROR(VLOOKUP($D45&\"@8\",'中間シート（個人）'!$F$6:$O$100,6,FALSE)&VLOOKUP($D45&\"@8\",'中間シート（個人）'!$F$6:$O$100,7,FALSE)&\".\"&VLOOKUP($D45&\"@8\",'中間シート（個人）'!$F$6:$O$100,8,FALSE)),\"\",VLOOKUP($D45&\"@8\",'中間シート（個人）'!$F$6:$O$100,6,FALSE)&VLOOKUP($D45&\"@8\",'中間シート（個人）'!$F$6:$O$100,7,FALSE)&\".\"&VLOOKUP($D45&\"@8\",'中間シート（個人）'!$F$6:$O$100,8,FALSE))","v":""},{"$f":"IF(ISERROR(VLOOKUP($D45&\"@9\",'中間シート（個人）'!$F$6:$O$100,4,FALSE)&VLOOKUP($D45&\"@9\",'中間シート（個人）'!$F$6:$O$100,5,FALSE)),\"\",VLOOKUP($D45&\"@9\",'中間シート（個人）'!$F$6:$O$100,4,FALSE)&VLOOKUP($D45&\"@9\",'中間シート（個人）'!$F$6:$O$100,5,FALSE))","v":""},{"$f":"IF(ISERROR(VLOOKUP($D45&\"@9\",'中間シート（個人）'!$F$6:$O$100,6,FALSE)&VLOOKUP($D45&\"@9\",'中間シート（個人）'!$F$6:$O$100,7,FALSE)&\".\"&VLOOKUP($D45&\"@9\",'中間シート（個人）'!$F$6:$O$100,8,FALSE)),\"\",VLOOKUP($D45&\"@9\",'中間シート（個人）'!$F$6:$O$100,6,FALSE)&VLOOKUP($D45&\"@9\",'中間シート（個人）'!$F$6:$O$100,7,FALSE)&\".\"&VLOOKUP($D45&\"@9\",'中間シート（個人）'!$F$6:$O$100,8,FALSE))","v":""},{"$f":"IF(ISERROR(VLOOKUP($D45&\"@10\",'中間シート（個人）'!$F$6:$O$100,4,FALSE)&VLOOKUP($D45&\"@10\",'中間シート（個人）'!$F$6:$O$100,5,FALSE)),\"\",VLOOKUP($D45&\"@10\",'中間シート（個人）'!$F$6:$O$100,4,FALSE)&VLOOKUP($D45&\"@10\",'中間シート（個人）'!$F$6:$O$100,5,FALSE))","v":""},{"$f":"IF(ISERROR(VLOOKUP($D45&\"@10\",'中間シート（個人）'!$F$6:$O$100,6,FALSE)&VLOOKUP($D45&\"@10\",'中間シート（個人）'!$F$6:$O$100,7,FALSE)&\".\"&VLOOKUP($D45&\"@10\",'中間シート（個人）'!$F$6:$O$100,8,FALSE)),\"\",VLOOKUP($D45&\"@10\",'中間シート（個人）'!$F$6:$O$100,6,FALSE)&VLOOKUP($D45&\"@10\",'中間シート（個人）'!$F$6:$O$100,7,FALSE)&\".\"&VLOOKUP($D45&\"@10\",'中間シート（個人）'!$F$6:$O$100,8,FALSE))","v":""}]
[null,null,{"$f":"IF('中間シート（個人）'!D48=\"○\",\"\",VLOOKUP(個人種目!F48,コード一覧!$A$2:$B$3,2,FALSE))","v":""},{"$f":"IF('中間シート（個人）'!D48=\"○\",\"\",'中間シート（個人）'!C48)","v":""},{"$f":"IF('中間シート（個人）'!D48=\"○\",\"\",ASC(個人種目!D48&\" \"&個人種目!E48))","v":""},{"$f":"IF('中間シート（個人）'!D48=\"○\",\"\",個人種目!G48&IF(LEN(個人種目!H48)=1,\"0\"&個人種目!H48,個人種目!H48)&IF(LEN(個人種目!I48)=1,\"0\"&個人種目!I48,個人種目!I48))","v":""},{"$f":"IF('中間シート（個人）'!D48=\"○\",\"\",VLOOKUP(個人種目!$J48,コード一覧!$C$3:$D$6,2,FALSE))","v":""},{"$f":"IF('中間シート（個人）'!D48=\"○\",\"\",IF(個人種目!$J48=\"一般\",0,個人種目!$K48))","v":""},{"$f":"IF('中間シート（個人）'!D48=\"○\",\"\",'中間シート（個人）'!H48)","v":""},null,{"$f":"IF('中間シート（個人）'!D48=\"○\",\"\",個人種目!$L$1)","v":""},{"$f":"IF('中間シート（個人）'!D48=\"○\",\"\",ASC(申込書_コナミ!$S$9))","v":""},{"$f":"IF('中間シート（個人）'!D48=\"○\",\"\",申込書_コナミ!$E$8)","v":""},null,null,null,{"$f":"IF('中間シート（個人）'!D48=\"○\",\"\",4)","v":""},{"$f":"IF(ISERROR(VLOOKUP($D46&\"@1\",'中間シート（個人）'!$F$6:$O$100,4,FALSE)&VLOOKUP($D46&\"@1\",'中間シート（個人）'!$F$6:$O$100,5,FALSE)),\"\",VLOOKUP($D46&\"@1\",'中間シート（個人）'!$F$6:$O$100,4,FALSE)&VLOOKUP($D46&\"@1\",'中間シート（個人）'!$F$6:$O$100,5,FALSE))","v":""},{"$f":"IF(ISERROR(VLOOKUP($D46&\"@1\",'中間シート（個人）'!$F$6:$O$100,6,FALSE)&VLOOKUP($D46&\"@1\",'中間シート（個人）'!$F$6:$O$100,7,FALSE)&\".\"&VLOOKUP($D46&\"@1\",'中間シート（個人）'!$F$6:$O$100,8,FALSE)),\"\",VLOOKUP($D46&\"@1\",'中間シート（個人）'!$F$6:$O$100,6,FALSE)&VLOOKUP($D46&\"@1\",'中間シート（個人）'!$F$6:$O$100,7,FALSE)&\".\"&VLOOKUP($D46&\"@1\",'中間シート（個人）'!$F$6:$O$100,8,FALSE))","v":""},{"$f":"IF(ISERROR(VLOOKUP($D46&\"@2\",'中間シート（個人）'!$F$6:$O$100,4,FALSE)&VLOOKUP($D46&\"@2\",'中間シート（個人）'!$F$6:$O$100,5,FALSE)),\"\",VLOOKUP($D46&\"@2\",'中間シート（個人）'!$F$6:$O$100,4,FALSE)&VLOOKUP($D46&\"@2\",'中間シート（個人）'!$F$6:$O$100,5,FALSE))","v":""},{"$f":"IF(ISERROR(VLOOKUP($D46&\"@2\",'中間シート（個人）'!$F$6:$O$100,6,FALSE)&VLOOKUP($D46&\"@2\",'中間シート（個人）'!$F$6:$O$100,7,FALSE)&\".\"&VLOOKUP($D46&\"@2\",'中間シート（個人）'!$F$6:$O$100,8,FALSE)),\"\",VLOOKUP($D46&\"@2\",'中間シート（個人）'!$F$6:$O$100,6,FALSE)&VLOOKUP($D46&\"@2\",'中間シート（個人）'!$F$6:$O$100,7,FALSE)&\".\"&VLOOKUP($D46&\"@2\",'中間シート（個人）'!$F$6:$O$100,8,FALSE))","v":""},{"$f":"IF(ISERROR(VLOOKUP($D46&\"@3\",'中間シート（個人）'!$F$6:$O$100,4,FALSE)&VLOOKUP($D46&\"@3\",'中間シート（個人）'!$F$6:$O$100,5,FALSE)),\"\",VLOOKUP($D46&\"@3\",'中間シート（個人）'!$F$6:$O$100,4,FALSE)&VLOOKUP($D46&\"@3\",'中間シート（個人）'!$F$6:$O$100,5,FALSE))","v":""},{"$f":"IF(ISERROR(VLOOKUP($D46&\"@3\",'中間シート（個人）'!$F$6:$O$100,6,FALSE)&VLOOKUP($D46&\"@3\",'中間シート（個人）'!$F$6:$O$100,7,FALSE)&\".\"&VLOOKUP($D46&\"@3\",'中間シート（個人）'!$F$6:$O$100,8,FALSE)),\"\",VLOOKUP($D46&\"@3\",'中間シート（個人）'!$F$6:$O$100,6,FALSE)&VLOOKUP($D46&\"@3\",'中間シート（個人）'!$F$6:$O$100,7,FALSE)&\".\"&VLOOKUP($D46&\"@3\",'中間シート（個人）'!$F$6:$O$100,8,FALSE))","v":""},{"$f":"IF(ISERROR(VLOOKUP($D46&\"@4\",'中間シート（個人）'!$F$6:$O$100,4,FALSE)&VLOOKUP($D46&\"@4\",'中間シート（個人）'!$F$6:$O$100,5,FALSE)),\"\",VLOOKUP($D46&\"@4\",'中間シート（個人）'!$F$6:$O$100,4,FALSE)&VLOOKUP($D46&\"@4\",'中間シート（個人）'!$F$6:$O$100,5,FALSE))","v":""},{"$f":"IF(ISERROR(VLOOKUP($D46&\"@4\",'中間シート（個人）'!$F$6:$O$100,6,FALSE)&VLOOKUP($D46&\"@4\",'中間シート（個人）'!$F$6:$O$100,7,FALSE)&\".\"&VLOOKUP($D46&\"@4\",'中間シート（個人）'!$F$6:$O$100,8,FALSE)),\"\",VLOOKUP($D46&\"@4\",'中間シート（個人）'!$F$6:$O$100,6,FALSE)&VLOOKUP($D46&\"@4\",'中間シート（個人）'!$F$6:$O$100,7,FALSE)&\".\"&VLOOKUP($D46&\"@4\",'中間シート（個人）'!$F$6:$O$100,8,FALSE))","v":""},{"$f":"IF(ISERROR(VLOOKUP($D46&\"@5\",'中間シート（個人）'!$F$6:$O$100,4,FALSE)&VLOOKUP($D46&\"@5\",'中間シート（個人）'!$F$6:$O$100,5,FALSE)),\"\",VLOOKUP($D46&\"@5\",'中間シート（個人）'!$F$6:$O$100,4,FALSE)&VLOOKUP($D46&\"@5\",'中間シート（個人）'!$F$6:$O$100,5,FALSE))","v":""},{"$f":"IF(ISERROR(VLOOKUP($D46&\"@5\",'中間シート（個人）'!$F$6:$O$100,6,FALSE)&VLOOKUP($D46&\"@5\",'中間シート（個人）'!$F$6:$O$100,7,FALSE)&\".\"&VLOOKUP($D46&\"@5\",'中間シート（個人）'!$F$6:$O$100,8,FALSE)),\"\",VLOOKUP($D46&\"@5\",'中間シート（個人）'!$F$6:$O$100,6,FALSE)&VLOOKUP($D46&\"@5\",'中間シート（個人）'!$F$6:$O$100,7,FALSE)&\".\"&VLOOKUP($D46&\"@5\",'中間シート（個人）'!$F$6:$O$100,8,FALSE))","v":""},{"$f":"IF(ISERROR(VLOOKUP($D46&\"@6\",'中間シート（個人）'!$F$6:$O$100,4,FALSE)&VLOOKUP($D46&\"@6\",'中間シート（個人）'!$F$6:$O$100,5,FALSE)),\"\",VLOOKUP($D46&\"@6\",'中間シート（個人）'!$F$6:$O$100,4,FALSE)&VLOOKUP($D46&\"@6\",'中間シート（個人）'!$F$6:$O$100,5,FALSE))","v":""},{"$f":"IF(ISERROR(VLOOKUP($D46&\"@6\",'中間シート（個人）'!$F$6:$O$100,6,FALSE)&VLOOKUP($D46&\"@6\",'中間シート（個人）'!$F$6:$O$100,7,FALSE)&\".\"&VLOOKUP($D46&\"@6\",'中間シート（個人）'!$F$6:$O$100,8,FALSE)),\"\",VLOOKUP($D46&\"@6\",'中間シート（個人）'!$F$6:$O$100,6,FALSE)&VLOOKUP($D46&\"@6\",'中間シート（個人）'!$F$6:$O$100,7,FALSE)&\".\"&VLOOKUP($D46&\"@6\",'中間シート（個人）'!$F$6:$O$100,8,FALSE))","v":""},{"$f":"IF(ISERROR(VLOOKUP($D46&\"@7\",'中間シート（個人）'!$F$6:$O$100,4,FALSE)&VLOOKUP($D46&\"@7\",'中間シート（個人）'!$F$6:$O$100,5,FALSE)),\"\",VLOOKUP($D46&\"@7\",'中間シート（個人）'!$F$6:$O$100,4,FALSE)&VLOOKUP($D46&\"@7\",'中間シート（個人）'!$F$6:$O$100,5,FALSE))","v":""},{"$f":"IF(ISERROR(VLOOKUP($D46&\"@7\",'中間シート（個人）'!$F$6:$O$100,6,FALSE)&VLOOKUP($D46&\"@7\",'中間シート（個人）'!$F$6:$O$100,7,FALSE)&\".\"&VLOOKUP($D46&\"@7\",'中間シート（個人）'!$F$6:$O$100,8,FALSE)),\"\",VLOOKUP($D46&\"@7\",'中間シート（個人）'!$F$6:$O$100,6,FALSE)&VLOOKUP($D46&\"@7\",'中間シート（個人）'!$F$6:$O$100,7,FALSE)&\".\"&VLOOKUP($D46&\"@7\",'中間シート（個人）'!$F$6:$O$100,8,FALSE))","v":""},{"$f":"IF(ISERROR(VLOOKUP($D46&\"@8\",'中間シート（個人）'!$F$6:$O$100,4,FALSE)&VLOOKUP($D46&\"@8\",'中間シート（個人）'!$F$6:$O$100,5,FALSE)),\"\",VLOOKUP($D46&\"@8\",'中間シート（個人）'!$F$6:$O$100,4,FALSE)&VLOOKUP($D46&\"@8\",'中間シート（個人）'!$F$6:$O$100,5,FALSE))","v":""},{"$f":"IF(ISERROR(VLOOKUP($D46&\"@8\",'中間シート（個人）'!$F$6:$O$100,6,FALSE)&VLOOKUP($D46&\"@8\",'中間シート（個人）'!$F$6:$O$100,7,FALSE)&\".\"&VLOOKUP($D46&\"@8\",'中間シート（個人）'!$F$6:$O$100,8,FALSE)),\"\",VLOOKUP($D46&\"@8\",'中間シート（個人）'!$F$6:$O$100,6,FALSE)&VLOOKUP($D46&\"@8\",'中間シート（個人）'!$F$6:$O$100,7,FALSE)&\".\"&VLOOKUP($D46&\"@8\",'中間シート（個人）'!$F$6:$O$100,8,FALSE))","v":""},{"$f":"IF(ISERROR(VLOOKUP($D46&\"@9\",'中間シート（個人）'!$F$6:$O$100,4,FALSE)&VLOOKUP($D46&\"@9\",'中間シート（個人）'!$F$6:$O$100,5,FALSE)),\"\",VLOOKUP($D46&\"@9\",'中間シート（個人）'!$F$6:$O$100,4,FALSE)&VLOOKUP($D46&\"@9\",'中間シート（個人）'!$F$6:$O$100,5,FALSE))","v":""},{"$f":"IF(ISERROR(VLOOKUP($D46&\"@9\",'中間シート（個人）'!$F$6:$O$100,6,FALSE)&VLOOKUP($D46&\"@9\",'中間シート（個人）'!$F$6:$O$100,7,FALSE)&\".\"&VLOOKUP($D46&\"@9\",'中間シート（個人）'!$F$6:$O$100,8,FALSE)),\"\",VLOOKUP($D46&\"@9\",'中間シート（個人）'!$F$6:$O$100,6,FALSE)&VLOOKUP($D46&\"@9\",'中間シート（個人）'!$F$6:$O$100,7,FALSE)&\".\"&VLOOKUP($D46&\"@9\",'中間シート（個人）'!$F$6:$O$100,8,FALSE))","v":""},{"$f":"IF(ISERROR(VLOOKUP($D46&\"@10\",'中間シート（個人）'!$F$6:$O$100,4,FALSE)&VLOOKUP($D46&\"@10\",'中間シート（個人）'!$F$6:$O$100,5,FALSE)),\"\",VLOOKUP($D46&\"@10\",'中間シート（個人）'!$F$6:$O$100,4,FALSE)&VLOOKUP($D46&\"@10\",'中間シート（個人）'!$F$6:$O$100,5,FALSE))","v":""},{"$f":"IF(ISERROR(VLOOKUP($D46&\"@10\",'中間シート（個人）'!$F$6:$O$100,6,FALSE)&VLOOKUP($D46&\"@10\",'中間シート（個人）'!$F$6:$O$100,7,FALSE)&\".\"&VLOOKUP($D46&\"@10\",'中間シート（個人）'!$F$6:$O$100,8,FALSE)),\"\",VLOOKUP($D46&\"@10\",'中間シート（個人）'!$F$6:$O$100,6,FALSE)&VLOOKUP($D46&\"@10\",'中間シート（個人）'!$F$6:$O$100,7,FALSE)&\".\"&VLOOKUP($D46&\"@10\",'中間シート（個人）'!$F$6:$O$100,8,FALSE))","v":""}]
[null,null,{"$f":"IF('中間シート（個人）'!D49=\"○\",\"\",VLOOKUP(個人種目!F49,コード一覧!$A$2:$B$3,2,FALSE))","v":""},{"$f":"IF('中間シート（個人）'!D49=\"○\",\"\",'中間シート（個人）'!C49)","v":""},{"$f":"IF('中間シート（個人）'!D49=\"○\",\"\",ASC(個人種目!D49&\" \"&個人種目!E49))","v":""},{"$f":"IF('中間シート（個人）'!D49=\"○\",\"\",個人種目!G49&IF(LEN(個人種目!H49)=1,\"0\"&個人種目!H49,個人種目!H49)&IF(LEN(個人種目!I49)=1,\"0\"&個人種目!I49,個人種目!I49))","v":""},{"$f":"IF('中間シート（個人）'!D49=\"○\",\"\",VLOOKUP(個人種目!$J49,コード一覧!$C$3:$D$6,2,FALSE))","v":""},{"$f":"IF('中間シート（個人）'!D49=\"○\",\"\",IF(個人種目!$J49=\"一般\",0,個人種目!$K49))","v":""},{"$f":"IF('中間シート（個人）'!D49=\"○\",\"\",'中間シート（個人）'!H49)","v":""},null,{"$f":"IF('中間シート（個人）'!D49=\"○\",\"\",個人種目!$L$1)","v":""},{"$f":"IF('中間シート（個人）'!D49=\"○\",\"\",ASC(申込書_コナミ!$S$9))","v":""},{"$f":"IF('中間シート（個人）'!D49=\"○\",\"\",申込書_コナミ!$E$8)","v":""},null,null,null,{"$f":"IF('中間シート（個人）'!D49=\"○\",\"\",4)","v":""},{"$f":"IF(ISERROR(VLOOKUP($D47&\"@1\",'中間シート（個人）'!$F$6:$O$100,4,FALSE)&VLOOKUP($D47&\"@1\",'中間シート（個人）'!$F$6:$O$100,5,FALSE)),\"\",VLOOKUP($D47&\"@1\",'中間シート（個人）'!$F$6:$O$100,4,FALSE)&VLOOKUP($D47&\"@1\",'中間シート（個人）'!$F$6:$O$100,5,FALSE))","v":""},{"$f":"IF(ISERROR(VLOOKUP($D47&\"@1\",'中間シート（個人）'!$F$6:$O$100,6,FALSE)&VLOOKUP($D47&\"@1\",'中間シート（個人）'!$F$6:$O$100,7,FALSE)&\".\"&VLOOKUP($D47&\"@1\",'中間シート（個人）'!$F$6:$O$100,8,FALSE)),\"\",VLOOKUP($D47&\"@1\",'中間シート（個人）'!$F$6:$O$100,6,FALSE)&VLOOKUP($D47&\"@1\",'中間シート（個人）'!$F$6:$O$100,7,FALSE)&\".\"&VLOOKUP($D47&\"@1\",'中間シート（個人）'!$F$6:$O$100,8,FALSE))","v":""},{"$f":"IF(ISERROR(VLOOKUP($D47&\"@2\",'中間シート（個人）'!$F$6:$O$100,4,FALSE)&VLOOKUP($D47&\"@2\",'中間シート（個人）'!$F$6:$O$100,5,FALSE)),\"\",VLOOKUP($D47&\"@2\",'中間シート（個人）'!$F$6:$O$100,4,FALSE)&VLOOKUP($D47&\"@2\",'中間シート（個人）'!$F$6:$O$100,5,FALSE))","v":""},{"$f":"IF(ISERROR(VLOOKUP($D47&\"@2\",'中間シート（個人）'!$F$6:$O$100,6,FALSE)&VLOOKUP($D47&\"@2\",'中間シート（個人）'!$F$6:$O$100,7,FALSE)&\".\"&VLOOKUP($D47&\"@2\",'中間シート（個人）'!$F$6:$O$100,8,FALSE)),\"\",VLOOKUP($D47&\"@2\",'中間シート（個人）'!$F$6:$O$100,6,FALSE)&VLOOKUP($D47&\"@2\",'中間シート（個人）'!$F$6:$O$100,7,FALSE)&\".\"&VLOOKUP($D47&\"@2\",'中間シート（個人）'!$F$6:$O$100,8,FALSE))","v":""},{"$f":"IF(ISERROR(VLOOKUP($D47&\"@3\",'中間シート（個人）'!$F$6:$O$100,4,FALSE)&VLOOKUP($D47&\"@3\",'中間シート（個人）'!$F$6:$O$100,5,FALSE)),\"\",VLOOKUP($D47&\"@3\",'中間シート（個人）'!$F$6:$O$100,4,FALSE)&VLOOKUP($D47&\"@3\",'中間シート（個人）'!$F$6:$O$100,5,FALSE))","v":""},{"$f":"IF(ISERROR(VLOOKUP($D47&\"@3\",'中間シート（個人）'!$F$6:$O$100,6,FALSE)&VLOOKUP($D47&\"@3\",'中間シート（個人）'!$F$6:$O$100,7,FALSE)&\".\"&VLOOKUP($D47&\"@3\",'中間シート（個人）'!$F$6:$O$100,8,FALSE)),\"\",VLOOKUP($D47&\"@3\",'中間シート（個人）'!$F$6:$O$100,6,FALSE)&VLOOKUP($D47&\"@3\",'中間シート（個人）'!$F$6:$O$100,7,FALSE)&\".\"&VLOOKUP($D47&\"@3\",'中間シート（個人）'!$F$6:$O$100,8,FALSE))","v":""},{"$f":"IF(ISERROR(VLOOKUP($D47&\"@4\",'中間シート（個人）'!$F$6:$O$100,4,FALSE)&VLOOKUP($D47&\"@4\",'中間シート（個人）'!$F$6:$O$100,5,FALSE)),\"\",VLOOKUP($D47&\"@4\",'中間シート（個人）'!$F$6:$O$100,4,FALSE)&VLOOKUP($D47&\"@4\",'中間シート（個人）'!$F$6:$O$100,5,FALSE))","v":""},{"$f":"IF(ISERROR(VLOOKUP($D47&\"@4\",'中間シート（個人）'!$F$6:$O$100,6,FALSE)&VLOOKUP($D47&\"@4\",'中間シート（個人）'!$F$6:$O$100,7,FALSE)&\".\"&VLOOKUP($D47&\"@4\",'中間シート（個人）'!$F$6:$O$100,8,FALSE)),\"\",VLOOKUP($D47&\"@4\",'中間シート（個人）'!$F$6:$O$100,6,FALSE)&VLOOKUP($D47&\"@4\",'中間シート（個人）'!$F$6:$O$100,7,FALSE)&\".\"&VLOOKUP($D47&\"@4\",'中間シート（個人）'!$F$6:$O$100,8,FALSE))","v":""},{"$f":"IF(ISERROR(VLOOKUP($D47&\"@5\",'中間シート（個人）'!$F$6:$O$100,4,FALSE)&VLOOKUP($D47&\"@5\",'中間シート（個人）'!$F$6:$O$100,5,FALSE)),\"\",VLOOKUP($D47&\"@5\",'中間シート（個人）'!$F$6:$O$100,4,FALSE)&VLOOKUP($D47&\"@5\",'中間シート（個人）'!$F$6:$O$100,5,FALSE))","v":""},{"$f":"IF(ISERROR(VLOOKUP($D47&\"@5\",'中間シート（個人）'!$F$6:$O$100,6,FALSE)&VLOOKUP($D47&\"@5\",'中間シート（個人）'!$F$6:$O$100,7,FALSE)&\".\"&VLOOKUP($D47&\"@5\",'中間シート（個人）'!$F$6:$O$100,8,FALSE)),\"\",VLOOKUP($D47&\"@5\",'中間シート（個人）'!$F$6:$O$100,6,FALSE)&VLOOKUP($D47&\"@5\",'中間シート（個人）'!$F$6:$O$100,7,FALSE)&\".\"&VLOOKUP($D47&\"@5\",'中間シート（個人）'!$F$6:$O$100,8,FALSE))","v":""},{"$f":"IF(ISERROR(VLOOKUP($D47&\"@6\",'中間シート（個人）'!$F$6:$O$100,4,FALSE)&VLOOKUP($D47&\"@6\",'中間シート（個人）'!$F$6:$O$100,5,FALSE)),\"\",VLOOKUP($D47&\"@6\",'中間シート（個人）'!$F$6:$O$100,4,FALSE)&VLOOKUP($D47&\"@6\",'中間シート（個人）'!$F$6:$O$100,5,FALSE))","v":""},{"$f":"IF(ISERROR(VLOOKUP($D47&\"@6\",'中間シート（個人）'!$F$6:$O$100,6,FALSE)&VLOOKUP($D47&\"@6\",'中間シート（個人）'!$F$6:$O$100,7,FALSE)&\".\"&VLOOKUP($D47&\"@6\",'中間シート（個人）'!$F$6:$O$100,8,FALSE)),\"\",VLOOKUP($D47&\"@6\",'中間シート（個人）'!$F$6:$O$100,6,FALSE)&VLOOKUP($D47&\"@6\",'中間シート（個人）'!$F$6:$O$100,7,FALSE)&\".\"&VLOOKUP($D47&\"@6\",'中間シート（個人）'!$F$6:$O$100,8,FALSE))","v":""},{"$f":"IF(ISERROR(VLOOKUP($D47&\"@7\",'中間シート（個人）'!$F$6:$O$100,4,FALSE)&VLOOKUP($D47&\"@7\",'中間シート（個人）'!$F$6:$O$100,5,FALSE)),\"\",VLOOKUP($D47&\"@7\",'中間シート（個人）'!$F$6:$O$100,4,FALSE)&VLOOKUP($D47&\"@7\",'中間シート（個人）'!$F$6:$O$100,5,FALSE))","v":""},{"$f":"IF(ISERROR(VLOOKUP($D47&\"@7\",'中間シート（個人）'!$F$6:$O$100,6,FALSE)&VLOOKUP($D47&\"@7\",'中間シート（個人）'!$F$6:$O$100,7,FALSE)&\".\"&VLOOKUP($D47&\"@7\",'中間シート（個人）'!$F$6:$O$100,8,FALSE)),\"\",VLOOKUP($D47&\"@7\",'中間シート（個人）'!$F$6:$O$100,6,FALSE)&VLOOKUP($D47&\"@7\",'中間シート（個人）'!$F$6:$O$100,7,FALSE)&\".\"&VLOOKUP($D47&\"@7\",'中間シート（個人）'!$F$6:$O$100,8,FALSE))","v":""},{"$f":"IF(ISERROR(VLOOKUP($D47&\"@8\",'中間シート（個人）'!$F$6:$O$100,4,FALSE)&VLOOKUP($D47&\"@8\",'中間シート（個人）'!$F$6:$O$100,5,FALSE)),\"\",VLOOKUP($D47&\"@8\",'中間シート（個人）'!$F$6:$O$100,4,FALSE)&VLOOKUP($D47&\"@8\",'中間シート（個人）'!$F$6:$O$100,5,FALSE))","v":""},{"$f":"IF(ISERROR(VLOOKUP($D47&\"@8\",'中間シート（個人）'!$F$6:$O$100,6,FALSE)&VLOOKUP($D47&\"@8\",'中間シート（個人）'!$F$6:$O$100,7,FALSE)&\".\"&VLOOKUP($D47&\"@8\",'中間シート（個人）'!$F$6:$O$100,8,FALSE)),\"\",VLOOKUP($D47&\"@8\",'中間シート（個人）'!$F$6:$O$100,6,FALSE)&VLOOKUP($D47&\"@8\",'中間シート（個人）'!$F$6:$O$100,7,FALSE)&\".\"&VLOOKUP($D47&\"@8\",'中間シート（個人）'!$F$6:$O$100,8,FALSE))","v":""},{"$f":"IF(ISERROR(VLOOKUP($D47&\"@9\",'中間シート（個人）'!$F$6:$O$100,4,FALSE)&VLOOKUP($D47&\"@9\",'中間シート（個人）'!$F$6:$O$100,5,FALSE)),\"\",VLOOKUP($D47&\"@9\",'中間シート（個人）'!$F$6:$O$100,4,FALSE)&VLOOKUP($D47&\"@9\",'中間シート（個人）'!$F$6:$O$100,5,FALSE))","v":""},{"$f":"IF(ISERROR(VLOOKUP($D47&\"@9\",'中間シート（個人）'!$F$6:$O$100,6,FALSE)&VLOOKUP($D47&\"@9\",'中間シート（個人）'!$F$6:$O$100,7,FALSE)&\".\"&VLOOKUP($D47&\"@9\",'中間シート（個人）'!$F$6:$O$100,8,FALSE)),\"\",VLOOKUP($D47&\"@9\",'中間シート（個人）'!$F$6:$O$100,6,FALSE)&VLOOKUP($D47&\"@9\",'中間シート（個人）'!$F$6:$O$100,7,FALSE)&\".\"&VLOOKUP($D47&\"@9\",'中間シート（個人）'!$F$6:$O$100,8,FALSE))","v":""},{"$f":"IF(ISERROR(VLOOKUP($D47&\"@10\",'中間シート（個人）'!$F$6:$O$100,4,FALSE)&VLOOKUP($D47&\"@10\",'中間シート（個人）'!$F$6:$O$100,5,FALSE)),\"\",VLOOKUP($D47&\"@10\",'中間シート（個人）'!$F$6:$O$100,4,FALSE)&VLOOKUP($D47&\"@10\",'中間シート（個人）'!$F$6:$O$100,5,FALSE))","v":""},{"$f":"IF(ISERROR(VLOOKUP($D47&\"@10\",'中間シート（個人）'!$F$6:$O$100,6,FALSE)&VLOOKUP($D47&\"@10\",'中間シート（個人）'!$F$6:$O$100,7,FALSE)&\".\"&VLOOKUP($D47&\"@10\",'中間シート（個人）'!$F$6:$O$100,8,FALSE)),\"\",VLOOKUP($D47&\"@10\",'中間シート（個人）'!$F$6:$O$100,6,FALSE)&VLOOKUP($D47&\"@10\",'中間シート（個人）'!$F$6:$O$100,7,FALSE)&\".\"&VLOOKUP($D47&\"@10\",'中間シート（個人）'!$F$6:$O$100,8,FALSE))","v":""}]
[null,null,{"$f":"IF('中間シート（個人）'!D50=\"○\",\"\",VLOOKUP(個人種目!F50,コード一覧!$A$2:$B$3,2,FALSE))","v":""},{"$f":"IF('中間シート（個人）'!D50=\"○\",\"\",'中間シート（個人）'!C50)","v":""},{"$f":"IF('中間シート（個人）'!D50=\"○\",\"\",ASC(個人種目!D50&\" \"&個人種目!E50))","v":""},{"$f":"IF('中間シート（個人）'!D50=\"○\",\"\",個人種目!G50&IF(LEN(個人種目!H50)=1,\"0\"&個人種目!H50,個人種目!H50)&IF(LEN(個人種目!I50)=1,\"0\"&個人種目!I50,個人種目!I50))","v":""},{"$f":"IF('中間シート（個人）'!D50=\"○\",\"\",VLOOKUP(個人種目!$J50,コード一覧!$C$3:$D$6,2,FALSE))","v":""},{"$f":"IF('中間シート（個人）'!D50=\"○\",\"\",IF(個人種目!$J50=\"一般\",0,個人種目!$K50))","v":""},{"$f":"IF('中間シート（個人）'!D50=\"○\",\"\",'中間シート（個人）'!H50)","v":""},null,{"$f":"IF('中間シート（個人）'!D50=\"○\",\"\",個人種目!$L$1)","v":""},{"$f":"IF('中間シート（個人）'!D50=\"○\",\"\",ASC(申込書_コナミ!$S$9))","v":""},{"$f":"IF('中間シート（個人）'!D50=\"○\",\"\",申込書_コナミ!$E$8)","v":""},null,null,null,{"$f":"IF('中間シート（個人）'!D50=\"○\",\"\",4)","v":""},{"$f":"IF(ISERROR(VLOOKUP($D48&\"@1\",'中間シート（個人）'!$F$6:$O$100,4,FALSE)&VLOOKUP($D48&\"@1\",'中間シート（個人）'!$F$6:$O$100,5,FALSE)),\"\",VLOOKUP($D48&\"@1\",'中間シート（個人）'!$F$6:$O$100,4,FALSE)&VLOOKUP($D48&\"@1\",'中間シート（個人）'!$F$6:$O$100,5,FALSE))","v":""},{"$f":"IF(ISERROR(VLOOKUP($D48&\"@1\",'中間シート（個人）'!$F$6:$O$100,6,FALSE)&VLOOKUP($D48&\"@1\",'中間シート（個人）'!$F$6:$O$100,7,FALSE)&\".\"&VLOOKUP($D48&\"@1\",'中間シート（個人）'!$F$6:$O$100,8,FALSE)),\"\",VLOOKUP($D48&\"@1\",'中間シート（個人）'!$F$6:$O$100,6,FALSE)&VLOOKUP($D48&\"@1\",'中間シート（個人）'!$F$6:$O$100,7,FALSE)&\".\"&VLOOKUP($D48&\"@1\",'中間シート（個人）'!$F$6:$O$100,8,FALSE))","v":""},{"$f":"IF(ISERROR(VLOOKUP($D48&\"@2\",'中間シート（個人）'!$F$6:$O$100,4,FALSE)&VLOOKUP($D48&\"@2\",'中間シート（個人）'!$F$6:$O$100,5,FALSE)),\"\",VLOOKUP($D48&\"@2\",'中間シート（個人）'!$F$6:$O$100,4,FALSE)&VLOOKUP($D48&\"@2\",'中間シート（個人）'!$F$6:$O$100,5,FALSE))","v":""},{"$f":"IF(ISERROR(VLOOKUP($D48&\"@2\",'中間シート（個人）'!$F$6:$O$100,6,FALSE)&VLOOKUP($D48&\"@2\",'中間シート（個人）'!$F$6:$O$100,7,FALSE)&\".\"&VLOOKUP($D48&\"@2\",'中間シート（個人）'!$F$6:$O$100,8,FALSE)),\"\",VLOOKUP($D48&\"@2\",'中間シート（個人）'!$F$6:$O$100,6,FALSE)&VLOOKUP($D48&\"@2\",'中間シート（個人）'!$F$6:$O$100,7,FALSE)&\".\"&VLOOKUP($D48&\"@2\",'中間シート（個人）'!$F$6:$O$100,8,FALSE))","v":""},{"$f":"IF(ISERROR(VLOOKUP($D48&\"@3\",'中間シート（個人）'!$F$6:$O$100,4,FALSE)&VLOOKUP($D48&\"@3\",'中間シート（個人）'!$F$6:$O$100,5,FALSE)),\"\",VLOOKUP($D48&\"@3\",'中間シート（個人）'!$F$6:$O$100,4,FALSE)&VLOOKUP($D48&\"@3\",'中間シート（個人）'!$F$6:$O$100,5,FALSE))","v":""},{"$f":"IF(ISERROR(VLOOKUP($D48&\"@3\",'中間シート（個人）'!$F$6:$O$100,6,FALSE)&VLOOKUP($D48&\"@3\",'中間シート（個人）'!$F$6:$O$100,7,FALSE)&\".\"&VLOOKUP($D48&\"@3\",'中間シート（個人）'!$F$6:$O$100,8,FALSE)),\"\",VLOOKUP($D48&\"@3\",'中間シート（個人）'!$F$6:$O$100,6,FALSE)&VLOOKUP($D48&\"@3\",'中間シート（個人）'!$F$6:$O$100,7,FALSE)&\".\"&VLOOKUP($D48&\"@3\",'中間シート（個人）'!$F$6:$O$100,8,FALSE))","v":""},{"$f":"IF(ISERROR(VLOOKUP($D48&\"@4\",'中間シート（個人）'!$F$6:$O$100,4,FALSE)&VLOOKUP($D48&\"@4\",'中間シート（個人）'!$F$6:$O$100,5,FALSE)),\"\",VLOOKUP($D48&\"@4\",'中間シート（個人）'!$F$6:$O$100,4,FALSE)&VLOOKUP($D48&\"@4\",'中間シート（個人）'!$F$6:$O$100,5,FALSE))","v":""},{"$f":"IF(ISERROR(VLOOKUP($D48&\"@4\",'中間シート（個人）'!$F$6:$O$100,6,FALSE)&VLOOKUP($D48&\"@4\",'中間シート（個人）'!$F$6:$O$100,7,FALSE)&\".\"&VLOOKUP($D48&\"@4\",'中間シート（個人）'!$F$6:$O$100,8,FALSE)),\"\",VLOOKUP($D48&\"@4\",'中間シート（個人）'!$F$6:$O$100,6,FALSE)&VLOOKUP($D48&\"@4\",'中間シート（個人）'!$F$6:$O$100,7,FALSE)&\".\"&VLOOKUP($D48&\"@4\",'中間シート（個人）'!$F$6:$O$100,8,FALSE))","v":""},{"$f":"IF(ISERROR(VLOOKUP($D48&\"@5\",'中間シート（個人）'!$F$6:$O$100,4,FALSE)&VLOOKUP($D48&\"@5\",'中間シート（個人）'!$F$6:$O$100,5,FALSE)),\"\",VLOOKUP($D48&\"@5\",'中間シート（個人）'!$F$6:$O$100,4,FALSE)&VLOOKUP($D48&\"@5\",'中間シート（個人）'!$F$6:$O$100,5,FALSE))","v":""},{"$f":"IF(ISERROR(VLOOKUP($D48&\"@5\",'中間シート（個人）'!$F$6:$O$100,6,FALSE)&VLOOKUP($D48&\"@5\",'中間シート（個人）'!$F$6:$O$100,7,FALSE)&\".\"&VLOOKUP($D48&\"@5\",'中間シート（個人）'!$F$6:$O$100,8,FALSE)),\"\",VLOOKUP($D48&\"@5\",'中間シート（個人）'!$F$6:$O$100,6,FALSE)&VLOOKUP($D48&\"@5\",'中間シート（個人）'!$F$6:$O$100,7,FALSE)&\".\"&VLOOKUP($D48&\"@5\",'中間シート（個人）'!$F$6:$O$100,8,FALSE))","v":""},{"$f":"IF(ISERROR(VLOOKUP($D48&\"@6\",'中間シート（個人）'!$F$6:$O$100,4,FALSE)&VLOOKUP($D48&\"@6\",'中間シート（個人）'!$F$6:$O$100,5,FALSE)),\"\",VLOOKUP($D48&\"@6\",'中間シート（個人）'!$F$6:$O$100,4,FALSE)&VLOOKUP($D48&\"@6\",'中間シート（個人）'!$F$6:$O$100,5,FALSE))","v":""},{"$f":"IF(ISERROR(VLOOKUP($D48&\"@6\",'中間シート（個人）'!$F$6:$O$100,6,FALSE)&VLOOKUP($D48&\"@6\",'中間シート（個人）'!$F$6:$O$100,7,FALSE)&\".\"&VLOOKUP($D48&\"@6\",'中間シート（個人）'!$F$6:$O$100,8,FALSE)),\"\",VLOOKUP($D48&\"@6\",'中間シート（個人）'!$F$6:$O$100,6,FALSE)&VLOOKUP($D48&\"@6\",'中間シート（個人）'!$F$6:$O$100,7,FALSE)&\".\"&VLOOKUP($D48&\"@6\",'中間シート（個人）'!$F$6:$O$100,8,FALSE))","v":""},{"$f":"IF(ISERROR(VLOOKUP($D48&\"@7\",'中間シート（個人）'!$F$6:$O$100,4,FALSE)&VLOOKUP($D48&\"@7\",'中間シート（個人）'!$F$6:$O$100,5,FALSE)),\"\",VLOOKUP($D48&\"@7\",'中間シート（個人）'!$F$6:$O$100,4,FALSE)&VLOOKUP($D48&\"@7\",'中間シート（個人）'!$F$6:$O$100,5,FALSE))","v":""},{"$f":"IF(ISERROR(VLOOKUP($D48&\"@7\",'中間シート（個人）'!$F$6:$O$100,6,FALSE)&VLOOKUP($D48&\"@7\",'中間シート（個人）'!$F$6:$O$100,7,FALSE)&\".\"&VLOOKUP($D48&\"@7\",'中間シート（個人）'!$F$6:$O$100,8,FALSE)),\"\",VLOOKUP($D48&\"@7\",'中間シート（個人）'!$F$6:$O$100,6,FALSE)&VLOOKUP($D48&\"@7\",'中間シート（個人）'!$F$6:$O$100,7,FALSE)&\".\"&VLOOKUP($D48&\"@7\",'中間シート（個人）'!$F$6:$O$100,8,FALSE))","v":""},{"$f":"IF(ISERROR(VLOOKUP($D48&\"@8\",'中間シート（個人）'!$F$6:$O$100,4,FALSE)&VLOOKUP($D48&\"@8\",'中間シート（個人）'!$F$6:$O$100,5,FALSE)),\"\",VLOOKUP($D48&\"@8\",'中間シート（個人）'!$F$6:$O$100,4,FALSE)&VLOOKUP($D48&\"@8\",'中間シート（個人）'!$F$6:$O$100,5,FALSE))","v":""},{"$f":"IF(ISERROR(VLOOKUP($D48&\"@8\",'中間シート（個人）'!$F$6:$O$100,6,FALSE)&VLOOKUP($D48&\"@8\",'中間シート（個人）'!$F$6:$O$100,7,FALSE)&\".\"&VLOOKUP($D48&\"@8\",'中間シート（個人）'!$F$6:$O$100,8,FALSE)),\"\",VLOOKUP($D48&\"@8\",'中間シート（個人）'!$F$6:$O$100,6,FALSE)&VLOOKUP($D48&\"@8\",'中間シート（個人）'!$F$6:$O$100,7,FALSE)&\".\"&VLOOKUP($D48&\"@8\",'中間シート（個人）'!$F$6:$O$100,8,FALSE))","v":""},{"$f":"IF(ISERROR(VLOOKUP($D48&\"@9\",'中間シート（個人）'!$F$6:$O$100,4,FALSE)&VLOOKUP($D48&\"@9\",'中間シート（個人）'!$F$6:$O$100,5,FALSE)),\"\",VLOOKUP($D48&\"@9\",'中間シート（個人）'!$F$6:$O$100,4,FALSE)&VLOOKUP($D48&\"@9\",'中間シート（個人）'!$F$6:$O$100,5,FALSE))","v":""},{"$f":"IF(ISERROR(VLOOKUP($D48&\"@9\",'中間シート（個人）'!$F$6:$O$100,6,FALSE)&VLOOKUP($D48&\"@9\",'中間シート（個人）'!$F$6:$O$100,7,FALSE)&\".\"&VLOOKUP($D48&\"@9\",'中間シート（個人）'!$F$6:$O$100,8,FALSE)),\"\",VLOOKUP($D48&\"@9\",'中間シート（個人）'!$F$6:$O$100,6,FALSE)&VLOOKUP($D48&\"@9\",'中間シート（個人）'!$F$6:$O$100,7,FALSE)&\".\"&VLOOKUP($D48&\"@9\",'中間シート（個人）'!$F$6:$O$100,8,FALSE))","v":""},{"$f":"IF(ISERROR(VLOOKUP($D48&\"@10\",'中間シート（個人）'!$F$6:$O$100,4,FALSE)&VLOOKUP($D48&\"@10\",'中間シート（個人）'!$F$6:$O$100,5,FALSE)),\"\",VLOOKUP($D48&\"@10\",'中間シート（個人）'!$F$6:$O$100,4,FALSE)&VLOOKUP($D48&\"@10\",'中間シート（個人）'!$F$6:$O$100,5,FALSE))","v":""},{"$f":"IF(ISERROR(VLOOKUP($D48&\"@10\",'中間シート（個人）'!$F$6:$O$100,6,FALSE)&VLOOKUP($D48&\"@10\",'中間シート（個人）'!$F$6:$O$100,7,FALSE)&\".\"&VLOOKUP($D48&\"@10\",'中間シート（個人）'!$F$6:$O$100,8,FALSE)),\"\",VLOOKUP($D48&\"@10\",'中間シート（個人）'!$F$6:$O$100,6,FALSE)&VLOOKUP($D48&\"@10\",'中間シート（個人）'!$F$6:$O$100,7,FALSE)&\".\"&VLOOKUP($D48&\"@10\",'中間シート（個人）'!$F$6:$O$100,8,FALSE))","v":""}]
[null,null,{"$f":"IF('中間シート（個人）'!D51=\"○\",\"\",VLOOKUP(個人種目!F51,コード一覧!$A$2:$B$3,2,FALSE))","v":""},{"$f":"IF('中間シート（個人）'!D51=\"○\",\"\",'中間シート（個人）'!C51)","v":""},{"$f":"IF('中間シート（個人）'!D51=\"○\",\"\",ASC(個人種目!D51&\" \"&個人種目!E51))","v":""},{"$f":"IF('中間シート（個人）'!D51=\"○\",\"\",個人種目!G51&IF(LEN(個人種目!H51)=1,\"0\"&個人種目!H51,個人種目!H51)&IF(LEN(個人種目!I51)=1,\"0\"&個人種目!I51,個人種目!I51))","v":""},{"$f":"IF('中間シート（個人）'!D51=\"○\",\"\",VLOOKUP(個人種目!$J51,コード一覧!$C$3:$D$6,2,FALSE))","v":""},{"$f":"IF('中間シート（個人）'!D51=\"○\",\"\",IF(個人種目!$J51=\"一般\",0,個人種目!$K51))","v":""},{"$f":"IF('中間シート（個人）'!D51=\"○\",\"\",'中間シート（個人）'!H51)","v":""},null,{"$f":"IF('中間シート（個人）'!D51=\"○\",\"\",個人種目!$L$1)","v":""},{"$f":"IF('中間シート（個人）'!D51=\"○\",\"\",ASC(申込書_コナミ!$S$9))","v":""},{"$f":"IF('中間シート（個人）'!D51=\"○\",\"\",申込書_コナミ!$E$8)","v":""},null,null,null,{"$f":"IF('中間シート（個人）'!D51=\"○\",\"\",4)","v":""},{"$f":"IF(ISERROR(VLOOKUP($D49&\"@1\",'中間シート（個人）'!$F$6:$O$100,4,FALSE)&VLOOKUP($D49&\"@1\",'中間シート（個人）'!$F$6:$O$100,5,FALSE)),\"\",VLOOKUP($D49&\"@1\",'中間シート（個人）'!$F$6:$O$100,4,FALSE)&VLOOKUP($D49&\"@1\",'中間シート（個人）'!$F$6:$O$100,5,FALSE))","v":""},{"$f":"IF(ISERROR(VLOOKUP($D49&\"@1\",'中間シート（個人）'!$F$6:$O$100,6,FALSE)&VLOOKUP($D49&\"@1\",'中間シート（個人）'!$F$6:$O$100,7,FALSE)&\".\"&VLOOKUP($D49&\"@1\",'中間シート（個人）'!$F$6:$O$100,8,FALSE)),\"\",VLOOKUP($D49&\"@1\",'中間シート（個人）'!$F$6:$O$100,6,FALSE)&VLOOKUP($D49&\"@1\",'中間シート（個人）'!$F$6:$O$100,7,FALSE)&\".\"&VLOOKUP($D49&\"@1\",'中間シート（個人）'!$F$6:$O$100,8,FALSE))","v":""},{"$f":"IF(ISERROR(VLOOKUP($D49&\"@2\",'中間シート（個人）'!$F$6:$O$100,4,FALSE)&VLOOKUP($D49&\"@2\",'中間シート（個人）'!$F$6:$O$100,5,FALSE)),\"\",VLOOKUP($D49&\"@2\",'中間シート（個人）'!$F$6:$O$100,4,FALSE)&VLOOKUP($D49&\"@2\",'中間シート（個人）'!$F$6:$O$100,5,FALSE))","v":""},{"$f":"IF(ISERROR(VLOOKUP($D49&\"@2\",'中間シート（個人）'!$F$6:$O$100,6,FALSE)&VLOOKUP($D49&\"@2\",'中間シート（個人）'!$F$6:$O$100,7,FALSE)&\".\"&VLOOKUP($D49&\"@2\",'中間シート（個人）'!$F$6:$O$100,8,FALSE)),\"\",VLOOKUP($D49&\"@2\",'中間シート（個人）'!$F$6:$O$100,6,FALSE)&VLOOKUP($D49&\"@2\",'中間シート（個人）'!$F$6:$O$100,7,FALSE)&\".\"&VLOOKUP($D49&\"@2\",'中間シート（個人）'!$F$6:$O$100,8,FALSE))","v":""},{"$f":"IF(ISERROR(VLOOKUP($D49&\"@3\",'中間シート（個人）'!$F$6:$O$100,4,FALSE)&VLOOKUP($D49&\"@3\",'中間シート（個人）'!$F$6:$O$100,5,FALSE)),\"\",VLOOKUP($D49&\"@3\",'中間シート（個人）'!$F$6:$O$100,4,FALSE)&VLOOKUP($D49&\"@3\",'中間シート（個人）'!$F$6:$O$100,5,FALSE))","v":""},{"$f":"IF(ISERROR(VLOOKUP($D49&\"@3\",'中間シート（個人）'!$F$6:$O$100,6,FALSE)&VLOOKUP($D49&\"@3\",'中間シート（個人）'!$F$6:$O$100,7,FALSE)&\".\"&VLOOKUP($D49&\"@3\",'中間シート（個人）'!$F$6:$O$100,8,FALSE)),\"\",VLOOKUP($D49&\"@3\",'中間シート（個人）'!$F$6:$O$100,6,FALSE)&VLOOKUP($D49&\"@3\",'中間シート（個人）'!$F$6:$O$100,7,FALSE)&\".\"&VLOOKUP($D49&\"@3\",'中間シート（個人）'!$F$6:$O$100,8,FALSE))","v":""},{"$f":"IF(ISERROR(VLOOKUP($D49&\"@4\",'中間シート（個人）'!$F$6:$O$100,4,FALSE)&VLOOKUP($D49&\"@4\",'中間シート（個人）'!$F$6:$O$100,5,FALSE)),\"\",VLOOKUP($D49&\"@4\",'中間シート（個人）'!$F$6:$O$100,4,FALSE)&VLOOKUP($D49&\"@4\",'中間シート（個人）'!$F$6:$O$100,5,FALSE))","v":""},{"$f":"IF(ISERROR(VLOOKUP($D49&\"@4\",'中間シート（個人）'!$F$6:$O$100,6,FALSE)&VLOOKUP($D49&\"@4\",'中間シート（個人）'!$F$6:$O$100,7,FALSE)&\".\"&VLOOKUP($D49&\"@4\",'中間シート（個人）'!$F$6:$O$100,8,FALSE)),\"\",VLOOKUP($D49&\"@4\",'中間シート（個人）'!$F$6:$O$100,6,FALSE)&VLOOKUP($D49&\"@4\",'中間シート（個人）'!$F$6:$O$100,7,FALSE)&\".\"&VLOOKUP($D49&\"@4\",'中間シート（個人）'!$F$6:$O$100,8,FALSE))","v":""},{"$f":"IF(ISERROR(VLOOKUP($D49&\"@5\",'中間シート（個人）'!$F$6:$O$100,4,FALSE)&VLOOKUP($D49&\"@5\",'中間シート（個人）'!$F$6:$O$100,5,FALSE)),\"\",VLOOKUP($D49&\"@5\",'中間シート（個人）'!$F$6:$O$100,4,FALSE)&VLOOKUP($D49&\"@5\",'中間シート（個人）'!$F$6:$O$100,5,FALSE))","v":""},{"$f":"IF(ISERROR(VLOOKUP($D49&\"@5\",'中間シート（個人）'!$F$6:$O$100,6,FALSE)&VLOOKUP($D49&\"@5\",'中間シート（個人）'!$F$6:$O$100,7,FALSE)&\".\"&VLOOKUP($D49&\"@5\",'中間シート（個人）'!$F$6:$O$100,8,FALSE)),\"\",VLOOKUP($D49&\"@5\",'中間シート（個人）'!$F$6:$O$100,6,FALSE)&VLOOKUP($D49&\"@5\",'中間シート（個人）'!$F$6:$O$100,7,FALSE)&\".\"&VLOOKUP($D49&\"@5\",'中間シート（個人）'!$F$6:$O$100,8,FALSE))","v":""},{"$f":"IF(ISERROR(VLOOKUP($D49&\"@6\",'中間シート（個人）'!$F$6:$O$100,4,FALSE)&VLOOKUP($D49&\"@6\",'中間シート（個人）'!$F$6:$O$100,5,FALSE)),\"\",VLOOKUP($D49&\"@6\",'中間シート（個人）'!$F$6:$O$100,4,FALSE)&VLOOKUP($D49&\"@6\",'中間シート（個人）'!$F$6:$O$100,5,FALSE))","v":""},{"$f":"IF(ISERROR(VLOOKUP($D49&\"@6\",'中間シート（個人）'!$F$6:$O$100,6,FALSE)&VLOOKUP($D49&\"@6\",'中間シート（個人）'!$F$6:$O$100,7,FALSE)&\".\"&VLOOKUP($D49&\"@6\",'中間シート（個人）'!$F$6:$O$100,8,FALSE)),\"\",VLOOKUP($D49&\"@6\",'中間シート（個人）'!$F$6:$O$100,6,FALSE)&VLOOKUP($D49&\"@6\",'中間シート（個人）'!$F$6:$O$100,7,FALSE)&\".\"&VLOOKUP($D49&\"@6\",'中間シート（個人）'!$F$6:$O$100,8,FALSE))","v":""},{"$f":"IF(ISERROR(VLOOKUP($D49&\"@7\",'中間シート（個人）'!$F$6:$O$100,4,FALSE)&VLOOKUP($D49&\"@7\",'中間シート（個人）'!$F$6:$O$100,5,FALSE)),\"\",VLOOKUP($D49&\"@7\",'中間シート（個人）'!$F$6:$O$100,4,FALSE)&VLOOKUP($D49&\"@7\",'中間シート（個人）'!$F$6:$O$100,5,FALSE))","v":""},{"$f":"IF(ISERROR(VLOOKUP($D49&\"@7\",'中間シート（個人）'!$F$6:$O$100,6,FALSE)&VLOOKUP($D49&\"@7\",'中間シート（個人）'!$F$6:$O$100,7,FALSE)&\".\"&VLOOKUP($D49&\"@7\",'中間シート（個人）'!$F$6:$O$100,8,FALSE)),\"\",VLOOKUP($D49&\"@7\",'中間シート（個人）'!$F$6:$O$100,6,FALSE)&VLOOKUP($D49&\"@7\",'中間シート（個人）'!$F$6:$O$100,7,FALSE)&\".\"&VLOOKUP($D49&\"@7\",'中間シート（個人）'!$F$6:$O$100,8,FALSE))","v":""},{"$f":"IF(ISERROR(VLOOKUP($D49&\"@8\",'中間シート（個人）'!$F$6:$O$100,4,FALSE)&VLOOKUP($D49&\"@8\",'中間シート（個人）'!$F$6:$O$100,5,FALSE)),\"\",VLOOKUP($D49&\"@8\",'中間シート（個人）'!$F$6:$O$100,4,FALSE)&VLOOKUP($D49&\"@8\",'中間シート（個人）'!$F$6:$O$100,5,FALSE))","v":""},{"$f":"IF(ISERROR(VLOOKUP($D49&\"@8\",'中間シート（個人）'!$F$6:$O$100,6,FALSE)&VLOOKUP($D49&\"@8\",'中間シート（個人）'!$F$6:$O$100,7,FALSE)&\".\"&VLOOKUP($D49&\"@8\",'中間シート（個人）'!$F$6:$O$100,8,FALSE)),\"\",VLOOKUP($D49&\"@8\",'中間シート（個人）'!$F$6:$O$100,6,FALSE)&VLOOKUP($D49&\"@8\",'中間シート（個人）'!$F$6:$O$100,7,FALSE)&\".\"&VLOOKUP($D49&\"@8\",'中間シート（個人）'!$F$6:$O$100,8,FALSE))","v":""},{"$f":"IF(ISERROR(VLOOKUP($D49&\"@9\",'中間シート（個人）'!$F$6:$O$100,4,FALSE)&VLOOKUP($D49&\"@9\",'中間シート（個人）'!$F$6:$O$100,5,FALSE)),\"\",VLOOKUP($D49&\"@9\",'中間シート（個人）'!$F$6:$O$100,4,FALSE)&VLOOKUP($D49&\"@9\",'中間シート（個人）'!$F$6:$O$100,5,FALSE))","v":""},{"$f":"IF(ISERROR(VLOOKUP($D49&\"@9\",'中間シート（個人）'!$F$6:$O$100,6,FALSE)&VLOOKUP($D49&\"@9\",'中間シート（個人）'!$F$6:$O$100,7,FALSE)&\".\"&VLOOKUP($D49&\"@9\",'中間シート（個人）'!$F$6:$O$100,8,FALSE)),\"\",VLOOKUP($D49&\"@9\",'中間シート（個人）'!$F$6:$O$100,6,FALSE)&VLOOKUP($D49&\"@9\",'中間シート（個人）'!$F$6:$O$100,7,FALSE)&\".\"&VLOOKUP($D49&\"@9\",'中間シート（個人）'!$F$6:$O$100,8,FALSE))","v":""},{"$f":"IF(ISERROR(VLOOKUP($D49&\"@10\",'中間シート（個人）'!$F$6:$O$100,4,FALSE)&VLOOKUP($D49&\"@10\",'中間シート（個人）'!$F$6:$O$100,5,FALSE)),\"\",VLOOKUP($D49&\"@10\",'中間シート（個人）'!$F$6:$O$100,4,FALSE)&VLOOKUP($D49&\"@10\",'中間シート（個人）'!$F$6:$O$100,5,FALSE))","v":""},{"$f":"IF(ISERROR(VLOOKUP($D49&\"@10\",'中間シート（個人）'!$F$6:$O$100,6,FALSE)&VLOOKUP($D49&\"@10\",'中間シート（個人）'!$F$6:$O$100,7,FALSE)&\".\"&VLOOKUP($D49&\"@10\",'中間シート（個人）'!$F$6:$O$100,8,FALSE)),\"\",VLOOKUP($D49&\"@10\",'中間シート（個人）'!$F$6:$O$100,6,FALSE)&VLOOKUP($D49&\"@10\",'中間シート（個人）'!$F$6:$O$100,7,FALSE)&\".\"&VLOOKUP($D49&\"@10\",'中間シート（個人）'!$F$6:$O$100,8,FALSE))","v":""}]
[null,null,{"$f":"IF('中間シート（個人）'!D52=\"○\",\"\",VLOOKUP(個人種目!F52,コード一覧!$A$2:$B$3,2,FALSE))","v":""},{"$f":"IF('中間シート（個人）'!D52=\"○\",\"\",'中間シート（個人）'!C52)","v":""},{"$f":"IF('中間シート（個人）'!D52=\"○\",\"\",ASC(個人種目!D52&\" \"&個人種目!E52))","v":""},{"$f":"IF('中間シート（個人）'!D52=\"○\",\"\",個人種目!G52&IF(LEN(個人種目!H52)=1,\"0\"&個人種目!H52,個人種目!H52)&IF(LEN(個人種目!I52)=1,\"0\"&個人種目!I52,個人種目!I52))","v":""},{"$f":"IF('中間シート（個人）'!D52=\"○\",\"\",VLOOKUP(個人種目!$J52,コード一覧!$C$3:$D$6,2,FALSE))","v":""},{"$f":"IF('中間シート（個人）'!D52=\"○\",\"\",IF(個人種目!$J52=\"一般\",0,個人種目!$K52))","v":""},{"$f":"IF('中間シート（個人）'!D52=\"○\",\"\",'中間シート（個人）'!H52)","v":""},null,{"$f":"IF('中間シート（個人）'!D52=\"○\",\"\",個人種目!$L$1)","v":""},{"$f":"IF('中間シート（個人）'!D52=\"○\",\"\",ASC(申込書_コナミ!$S$9))","v":""},{"$f":"IF('中間シート（個人）'!D52=\"○\",\"\",申込書_コナミ!$E$8)","v":""},null,null,null,{"$f":"IF('中間シート（個人）'!D52=\"○\",\"\",4)","v":""},{"$f":"IF(ISERROR(VLOOKUP($D50&\"@1\",'中間シート（個人）'!$F$6:$O$100,4,FALSE)&VLOOKUP($D50&\"@1\",'中間シート（個人）'!$F$6:$O$100,5,FALSE)),\"\",VLOOKUP($D50&\"@1\",'中間シート（個人）'!$F$6:$O$100,4,FALSE)&VLOOKUP($D50&\"@1\",'中間シート（個人）'!$F$6:$O$100,5,FALSE))","v":""},{"$f":"IF(ISERROR(VLOOKUP($D50&\"@1\",'中間シート（個人）'!$F$6:$O$100,6,FALSE)&VLOOKUP($D50&\"@1\",'中間シート（個人）'!$F$6:$O$100,7,FALSE)&\".\"&VLOOKUP($D50&\"@1\",'中間シート（個人）'!$F$6:$O$100,8,FALSE)),\"\",VLOOKUP($D50&\"@1\",'中間シート（個人）'!$F$6:$O$100,6,FALSE)&VLOOKUP($D50&\"@1\",'中間シート（個人）'!$F$6:$O$100,7,FALSE)&\".\"&VLOOKUP($D50&\"@1\",'中間シート（個人）'!$F$6:$O$100,8,FALSE))","v":""},{"$f":"IF(ISERROR(VLOOKUP($D50&\"@2\",'中間シート（個人）'!$F$6:$O$100,4,FALSE)&VLOOKUP($D50&\"@2\",'中間シート（個人）'!$F$6:$O$100,5,FALSE)),\"\",VLOOKUP($D50&\"@2\",'中間シート（個人）'!$F$6:$O$100,4,FALSE)&VLOOKUP($D50&\"@2\",'中間シート（個人）'!$F$6:$O$100,5,FALSE))","v":""},{"$f":"IF(ISERROR(VLOOKUP($D50&\"@2\",'中間シート（個人）'!$F$6:$O$100,6,FALSE)&VLOOKUP($D50&\"@2\",'中間シート（個人）'!$F$6:$O$100,7,FALSE)&\".\"&VLOOKUP($D50&\"@2\",'中間シート（個人）'!$F$6:$O$100,8,FALSE)),\"\",VLOOKUP($D50&\"@2\",'中間シート（個人）'!$F$6:$O$100,6,FALSE)&VLOOKUP($D50&\"@2\",'中間シート（個人）'!$F$6:$O$100,7,FALSE)&\".\"&VLOOKUP($D50&\"@2\",'中間シート（個人）'!$F$6:$O$100,8,FALSE))","v":""},{"$f":"IF(ISERROR(VLOOKUP($D50&\"@3\",'中間シート（個人）'!$F$6:$O$100,4,FALSE)&VLOOKUP($D50&\"@3\",'中間シート（個人）'!$F$6:$O$100,5,FALSE)),\"\",VLOOKUP($D50&\"@3\",'中間シート（個人）'!$F$6:$O$100,4,FALSE)&VLOOKUP($D50&\"@3\",'中間シート（個人）'!$F$6:$O$100,5,FALSE))","v":""},{"$f":"IF(ISERROR(VLOOKUP($D50&\"@3\",'中間シート（個人）'!$F$6:$O$100,6,FALSE)&VLOOKUP($D50&\"@3\",'中間シート（個人）'!$F$6:$O$100,7,FALSE)&\".\"&VLOOKUP($D50&\"@3\",'中間シート（個人）'!$F$6:$O$100,8,FALSE)),\"\",VLOOKUP($D50&\"@3\",'中間シート（個人）'!$F$6:$O$100,6,FALSE)&VLOOKUP($D50&\"@3\",'中間シート（個人）'!$F$6:$O$100,7,FALSE)&\".\"&VLOOKUP($D50&\"@3\",'中間シート（個人）'!$F$6:$O$100,8,FALSE))","v":""},{"$f":"IF(ISERROR(VLOOKUP($D50&\"@4\",'中間シート（個人）'!$F$6:$O$100,4,FALSE)&VLOOKUP($D50&\"@4\",'中間シート（個人）'!$F$6:$O$100,5,FALSE)),\"\",VLOOKUP($D50&\"@4\",'中間シート（個人）'!$F$6:$O$100,4,FALSE)&VLOOKUP($D50&\"@4\",'中間シート（個人）'!$F$6:$O$100,5,FALSE))","v":""},{"$f":"IF(ISERROR(VLOOKUP($D50&\"@4\",'中間シート（個人）'!$F$6:$O$100,6,FALSE)&VLOOKUP($D50&\"@4\",'中間シート（個人）'!$F$6:$O$100,7,FALSE)&\".\"&VLOOKUP($D50&\"@4\",'中間シート（個人）'!$F$6:$O$100,8,FALSE)),\"\",VLOOKUP($D50&\"@4\",'中間シート（個人）'!$F$6:$O$100,6,FALSE)&VLOOKUP($D50&\"@4\",'中間シート（個人）'!$F$6:$O$100,7,FALSE)&\".\"&VLOOKUP($D50&\"@4\",'中間シート（個人）'!$F$6:$O$100,8,FALSE))","v":""},{"$f":"IF(ISERROR(VLOOKUP($D50&\"@5\",'中間シート（個人）'!$F$6:$O$100,4,FALSE)&VLOOKUP($D50&\"@5\",'中間シート（個人）'!$F$6:$O$100,5,FALSE)),\"\",VLOOKUP($D50&\"@5\",'中間シート（個人）'!$F$6:$O$100,4,FALSE)&VLOOKUP($D50&\"@5\",'中間シート（個人）'!$F$6:$O$100,5,FALSE))","v":""},{"$f":"IF(ISERROR(VLOOKUP($D50&\"@5\",'中間シート（個人）'!$F$6:$O$100,6,FALSE)&VLOOKUP($D50&\"@5\",'中間シート（個人）'!$F$6:$O$100,7,FALSE)&\".\"&VLOOKUP($D50&\"@5\",'中間シート（個人）'!$F$6:$O$100,8,FALSE)),\"\",VLOOKUP($D50&\"@5\",'中間シート（個人）'!$F$6:$O$100,6,FALSE)&VLOOKUP($D50&\"@5\",'中間シート（個人）'!$F$6:$O$100,7,FALSE)&\".\"&VLOOKUP($D50&\"@5\",'中間シート（個人）'!$F$6:$O$100,8,FALSE))","v":""},{"$f":"IF(ISERROR(VLOOKUP($D50&\"@6\",'中間シート（個人）'!$F$6:$O$100,4,FALSE)&VLOOKUP($D50&\"@6\",'中間シート（個人）'!$F$6:$O$100,5,FALSE)),\"\",VLOOKUP($D50&\"@6\",'中間シート（個人）'!$F$6:$O$100,4,FALSE)&VLOOKUP($D50&\"@6\",'中間シート（個人）'!$F$6:$O$100,5,FALSE))","v":""},{"$f":"IF(ISERROR(VLOOKUP($D50&\"@6\",'中間シート（個人）'!$F$6:$O$100,6,FALSE)&VLOOKUP($D50&\"@6\",'中間シート（個人）'!$F$6:$O$100,7,FALSE)&\".\"&VLOOKUP($D50&\"@6\",'中間シート（個人）'!$F$6:$O$100,8,FALSE)),\"\",VLOOKUP($D50&\"@6\",'中間シート（個人）'!$F$6:$O$100,6,FALSE)&VLOOKUP($D50&\"@6\",'中間シート（個人）'!$F$6:$O$100,7,FALSE)&\".\"&VLOOKUP($D50&\"@6\",'中間シート（個人）'!$F$6:$O$100,8,FALSE))","v":""},{"$f":"IF(ISERROR(VLOOKUP($D50&\"@7\",'中間シート（個人）'!$F$6:$O$100,4,FALSE)&VLOOKUP($D50&\"@7\",'中間シート（個人）'!$F$6:$O$100,5,FALSE)),\"\",VLOOKUP($D50&\"@7\",'中間シート（個人）'!$F$6:$O$100,4,FALSE)&VLOOKUP($D50&\"@7\",'中間シート（個人）'!$F$6:$O$100,5,FALSE))","v":""},{"$f":"IF(ISERROR(VLOOKUP($D50&\"@7\",'中間シート（個人）'!$F$6:$O$100,6,FALSE)&VLOOKUP($D50&\"@7\",'中間シート（個人）'!$F$6:$O$100,7,FALSE)&\".\"&VLOOKUP($D50&\"@7\",'中間シート（個人）'!$F$6:$O$100,8,FALSE)),\"\",VLOOKUP($D50&\"@7\",'中間シート（個人）'!$F$6:$O$100,6,FALSE)&VLOOKUP($D50&\"@7\",'中間シート（個人）'!$F$6:$O$100,7,FALSE)&\".\"&VLOOKUP($D50&\"@7\",'中間シート（個人）'!$F$6:$O$100,8,FALSE))","v":""},{"$f":"IF(ISERROR(VLOOKUP($D50&\"@8\",'中間シート（個人）'!$F$6:$O$100,4,FALSE)&VLOOKUP($D50&\"@8\",'中間シート（個人）'!$F$6:$O$100,5,FALSE)),\"\",VLOOKUP($D50&\"@8\",'中間シート（個人）'!$F$6:$O$100,4,FALSE)&VLOOKUP($D50&\"@8\",'中間シート（個人）'!$F$6:$O$100,5,FALSE))","v":""},{"$f":"IF(ISERROR(VLOOKUP($D50&\"@8\",'中間シート（個人）'!$F$6:$O$100,6,FALSE)&VLOOKUP($D50&\"@8\",'中間シート（個人）'!$F$6:$O$100,7,FALSE)&\".\"&VLOOKUP($D50&\"@8\",'中間シート（個人）'!$F$6:$O$100,8,FALSE)),\"\",VLOOKUP($D50&\"@8\",'中間シート（個人）'!$F$6:$O$100,6,FALSE)&VLOOKUP($D50&\"@8\",'中間シート（個人）'!$F$6:$O$100,7,FALSE)&\".\"&VLOOKUP($D50&\"@8\",'中間シート（個人）'!$F$6:$O$100,8,FALSE))","v":""},{"$f":"IF(ISERROR(VLOOKUP($D50&\"@9\",'中間シート（個人）'!$F$6:$O$100,4,FALSE)&VLOOKUP($D50&\"@9\",'中間シート（個人）'!$F$6:$O$100,5,FALSE)),\"\",VLOOKUP($D50&\"@9\",'中間シート（個人）'!$F$6:$O$100,4,FALSE)&VLOOKUP($D50&\"@9\",'中間シート（個人）'!$F$6:$O$100,5,FALSE))","v":""},{"$f":"IF(ISERROR(VLOOKUP($D50&\"@9\",'中間シート（個人）'!$F$6:$O$100,6,FALSE)&VLOOKUP($D50&\"@9\",'中間シート（個人）'!$F$6:$O$100,7,FALSE)&\".\"&VLOOKUP($D50&\"@9\",'中間シート（個人）'!$F$6:$O$100,8,FALSE)),\"\",VLOOKUP($D50&\"@9\",'中間シート（個人）'!$F$6:$O$100,6,FALSE)&VLOOKUP($D50&\"@9\",'中間シート（個人）'!$F$6:$O$100,7,FALSE)&\".\"&VLOOKUP($D50&\"@9\",'中間シート（個人）'!$F$6:$O$100,8,FALSE))","v":""},{"$f":"IF(ISERROR(VLOOKUP($D50&\"@10\",'中間シート（個人）'!$F$6:$O$100,4,FALSE)&VLOOKUP($D50&\"@10\",'中間シート（個人）'!$F$6:$O$100,5,FALSE)),\"\",VLOOKUP($D50&\"@10\",'中間シート（個人）'!$F$6:$O$100,4,FALSE)&VLOOKUP($D50&\"@10\",'中間シート（個人）'!$F$6:$O$100,5,FALSE))","v":""},{"$f":"IF(ISERROR(VLOOKUP($D50&\"@10\",'中間シート（個人）'!$F$6:$O$100,6,FALSE)&VLOOKUP($D50&\"@10\",'中間シート（個人）'!$F$6:$O$100,7,FALSE)&\".\"&VLOOKUP($D50&\"@10\",'中間シート（個人）'!$F$6:$O$100,8,FALSE)),\"\",VLOOKUP($D50&\"@10\",'中間シート（個人）'!$F$6:$O$100,6,FALSE)&VLOOKUP($D50&\"@10\",'中間シート（個人）'!$F$6:$O$100,7,FALSE)&\".\"&VLOOKUP($D50&\"@10\",'中間シート（個人）'!$F$6:$O$100,8,FALSE))","v":""}]
[null,null,{"$f":"IF('中間シート（個人）'!D53=\"○\",\"\",VLOOKUP(個人種目!F53,コード一覧!$A$2:$B$3,2,FALSE))","v":""},{"$f":"IF('中間シート（個人）'!D53=\"○\",\"\",'中間シート（個人）'!C53)","v":""},{"$f":"IF('中間シート（個人）'!D53=\"○\",\"\",ASC(個人種目!D53&\" \"&個人種目!E53))","v":""},{"$f":"IF('中間シート（個人）'!D53=\"○\",\"\",個人種目!G53&IF(LEN(個人種目!H53)=1,\"0\"&個人種目!H53,個人種目!H53)&IF(LEN(個人種目!I53)=1,\"0\"&個人種目!I53,個人種目!I53))","v":""},{"$f":"IF('中間シート（個人）'!D53=\"○\",\"\",VLOOKUP(個人種目!$J53,コード一覧!$C$3:$D$6,2,FALSE))","v":""},{"$f":"IF('中間シート（個人）'!D53=\"○\",\"\",IF(個人種目!$J53=\"一般\",0,個人種目!$K53))","v":""},{"$f":"IF('中間シート（個人）'!D53=\"○\",\"\",'中間シート（個人）'!H53)","v":""},null,{"$f":"IF('中間シート（個人）'!D53=\"○\",\"\",個人種目!$L$1)","v":""},{"$f":"IF('中間シート（個人）'!D53=\"○\",\"\",ASC(申込書_コナミ!$S$9))","v":""},{"$f":"IF('中間シート（個人）'!D53=\"○\",\"\",申込書_コナミ!$E$8)","v":""},null,null,null,{"$f":"IF('中間シート（個人）'!D53=\"○\",\"\",4)","v":""},{"$f":"IF(ISERROR(VLOOKUP($D51&\"@1\",'中間シート（個人）'!$F$6:$O$100,4,FALSE)&VLOOKUP($D51&\"@1\",'中間シート（個人）'!$F$6:$O$100,5,FALSE)),\"\",VLOOKUP($D51&\"@1\",'中間シート（個人）'!$F$6:$O$100,4,FALSE)&VLOOKUP($D51&\"@1\",'中間シート（個人）'!$F$6:$O$100,5,FALSE))","v":""},{"$f":"IF(ISERROR(VLOOKUP($D51&\"@1\",'中間シート（個人）'!$F$6:$O$100,6,FALSE)&VLOOKUP($D51&\"@1\",'中間シート（個人）'!$F$6:$O$100,7,FALSE)&\".\"&VLOOKUP($D51&\"@1\",'中間シート（個人）'!$F$6:$O$100,8,FALSE)),\"\",VLOOKUP($D51&\"@1\",'中間シート（個人）'!$F$6:$O$100,6,FALSE)&VLOOKUP($D51&\"@1\",'中間シート（個人）'!$F$6:$O$100,7,FALSE)&\".\"&VLOOKUP($D51&\"@1\",'中間シート（個人）'!$F$6:$O$100,8,FALSE))","v":""},{"$f":"IF(ISERROR(VLOOKUP($D51&\"@2\",'中間シート（個人）'!$F$6:$O$100,4,FALSE)&VLOOKUP($D51&\"@2\",'中間シート（個人）'!$F$6:$O$100,5,FALSE)),\"\",VLOOKUP($D51&\"@2\",'中間シート（個人）'!$F$6:$O$100,4,FALSE)&VLOOKUP($D51&\"@2\",'中間シート（個人）'!$F$6:$O$100,5,FALSE))","v":""},{"$f":"IF(ISERROR(VLOOKUP($D51&\"@2\",'中間シート（個人）'!$F$6:$O$100,6,FALSE)&VLOOKUP($D51&\"@2\",'中間シート（個人）'!$F$6:$O$100,7,FALSE)&\".\"&VLOOKUP($D51&\"@2\",'中間シート（個人）'!$F$6:$O$100,8,FALSE)),\"\",VLOOKUP($D51&\"@2\",'中間シート（個人）'!$F$6:$O$100,6,FALSE)&VLOOKUP($D51&\"@2\",'中間シート（個人）'!$F$6:$O$100,7,FALSE)&\".\"&VLOOKUP($D51&\"@2\",'中間シート（個人）'!$F$6:$O$100,8,FALSE))","v":""},{"$f":"IF(ISERROR(VLOOKUP($D51&\"@3\",'中間シート（個人）'!$F$6:$O$100,4,FALSE)&VLOOKUP($D51&\"@3\",'中間シート（個人）'!$F$6:$O$100,5,FALSE)),\"\",VLOOKUP($D51&\"@3\",'中間シート（個人）'!$F$6:$O$100,4,FALSE)&VLOOKUP($D51&\"@3\",'中間シート（個人）'!$F$6:$O$100,5,FALSE))","v":""},{"$f":"IF(ISERROR(VLOOKUP($D51&\"@3\",'中間シート（個人）'!$F$6:$O$100,6,FALSE)&VLOOKUP($D51&\"@3\",'中間シート（個人）'!$F$6:$O$100,7,FALSE)&\".\"&VLOOKUP($D51&\"@3\",'中間シート（個人）'!$F$6:$O$100,8,FALSE)),\"\",VLOOKUP($D51&\"@3\",'中間シート（個人）'!$F$6:$O$100,6,FALSE)&VLOOKUP($D51&\"@3\",'中間シート（個人）'!$F$6:$O$100,7,FALSE)&\".\"&VLOOKUP($D51&\"@3\",'中間シート（個人）'!$F$6:$O$100,8,FALSE))","v":""},{"$f":"IF(ISERROR(VLOOKUP($D51&\"@4\",'中間シート（個人）'!$F$6:$O$100,4,FALSE)&VLOOKUP($D51&\"@4\",'中間シート（個人）'!$F$6:$O$100,5,FALSE)),\"\",VLOOKUP($D51&\"@4\",'中間シート（個人）'!$F$6:$O$100,4,FALSE)&VLOOKUP($D51&\"@4\",'中間シート（個人）'!$F$6:$O$100,5,FALSE))","v":""},{"$f":"IF(ISERROR(VLOOKUP($D51&\"@4\",'中間シート（個人）'!$F$6:$O$100,6,FALSE)&VLOOKUP($D51&\"@4\",'中間シート（個人）'!$F$6:$O$100,7,FALSE)&\".\"&VLOOKUP($D51&\"@4\",'中間シート（個人）'!$F$6:$O$100,8,FALSE)),\"\",VLOOKUP($D51&\"@4\",'中間シート（個人）'!$F$6:$O$100,6,FALSE)&VLOOKUP($D51&\"@4\",'中間シート（個人）'!$F$6:$O$100,7,FALSE)&\".\"&VLOOKUP($D51&\"@4\",'中間シート（個人）'!$F$6:$O$100,8,FALSE))","v":""},{"$f":"IF(ISERROR(VLOOKUP($D51&\"@5\",'中間シート（個人）'!$F$6:$O$100,4,FALSE)&VLOOKUP($D51&\"@5\",'中間シート（個人）'!$F$6:$O$100,5,FALSE)),\"\",VLOOKUP($D51&\"@5\",'中間シート（個人）'!$F$6:$O$100,4,FALSE)&VLOOKUP($D51&\"@5\",'中間シート（個人）'!$F$6:$O$100,5,FALSE))","v":""},{"$f":"IF(ISERROR(VLOOKUP($D51&\"@5\",'中間シート（個人）'!$F$6:$O$100,6,FALSE)&VLOOKUP($D51&\"@5\",'中間シート（個人）'!$F$6:$O$100,7,FALSE)&\".\"&VLOOKUP($D51&\"@5\",'中間シート（個人）'!$F$6:$O$100,8,FALSE)),\"\",VLOOKUP($D51&\"@5\",'中間シート（個人）'!$F$6:$O$100,6,FALSE)&VLOOKUP($D51&\"@5\",'中間シート（個人）'!$F$6:$O$100,7,FALSE)&\".\"&VLOOKUP($D51&\"@5\",'中間シート（個人）'!$F$6:$O$100,8,FALSE))","v":""},{"$f":"IF(ISERROR(VLOOKUP($D51&\"@6\",'中間シート（個人）'!$F$6:$O$100,4,FALSE)&VLOOKUP($D51&\"@6\",'中間シート（個人）'!$F$6:$O$100,5,FALSE)),\"\",VLOOKUP($D51&\"@6\",'中間シート（個人）'!$F$6:$O$100,4,FALSE)&VLOOKUP($D51&\"@6\",'中間シート（個人）'!$F$6:$O$100,5,FALSE))","v":""},{"$f":"IF(ISERROR(VLOOKUP($D51&\"@6\",'中間シート（個人）'!$F$6:$O$100,6,FALSE)&VLOOKUP($D51&\"@6\",'中間シート（個人）'!$F$6:$O$100,7,FALSE)&\".\"&VLOOKUP($D51&\"@6\",'中間シート（個人）'!$F$6:$O$100,8,FALSE)),\"\",VLOOKUP($D51&\"@6\",'中間シート（個人）'!$F$6:$O$100,6,FALSE)&VLOOKUP($D51&\"@6\",'中間シート（個人）'!$F$6:$O$100,7,FALSE)&\".\"&VLOOKUP($D51&\"@6\",'中間シート（個人）'!$F$6:$O$100,8,FALSE))","v":""},{"$f":"IF(ISERROR(VLOOKUP($D51&\"@7\",'中間シート（個人）'!$F$6:$O$100,4,FALSE)&VLOOKUP($D51&\"@7\",'中間シート（個人）'!$F$6:$O$100,5,FALSE)),\"\",VLOOKUP($D51&\"@7\",'中間シート（個人）'!$F$6:$O$100,4,FALSE)&VLOOKUP($D51&\"@7\",'中間シート（個人）'!$F$6:$O$100,5,FALSE))","v":""},{"$f":"IF(ISERROR(VLOOKUP($D51&\"@7\",'中間シート（個人）'!$F$6:$O$100,6,FALSE)&VLOOKUP($D51&\"@7\",'中間シート（個人）'!$F$6:$O$100,7,FALSE)&\".\"&VLOOKUP($D51&\"@7\",'中間シート（個人）'!$F$6:$O$100,8,FALSE)),\"\",VLOOKUP($D51&\"@7\",'中間シート（個人）'!$F$6:$O$100,6,FALSE)&VLOOKUP($D51&\"@7\",'中間シート（個人）'!$F$6:$O$100,7,FALSE)&\".\"&VLOOKUP($D51&\"@7\",'中間シート（個人）'!$F$6:$O$100,8,FALSE))","v":""},{"$f":"IF(ISERROR(VLOOKUP($D51&\"@8\",'中間シート（個人）'!$F$6:$O$100,4,FALSE)&VLOOKUP($D51&\"@8\",'中間シート（個人）'!$F$6:$O$100,5,FALSE)),\"\",VLOOKUP($D51&\"@8\",'中間シート（個人）'!$F$6:$O$100,4,FALSE)&VLOOKUP($D51&\"@8\",'中間シート（個人）'!$F$6:$O$100,5,FALSE))","v":""},{"$f":"IF(ISERROR(VLOOKUP($D51&\"@8\",'中間シート（個人）'!$F$6:$O$100,6,FALSE)&VLOOKUP($D51&\"@8\",'中間シート（個人）'!$F$6:$O$100,7,FALSE)&\".\"&VLOOKUP($D51&\"@8\",'中間シート（個人）'!$F$6:$O$100,8,FALSE)),\"\",VLOOKUP($D51&\"@8\",'中間シート（個人）'!$F$6:$O$100,6,FALSE)&VLOOKUP($D51&\"@8\",'中間シート（個人）'!$F$6:$O$100,7,FALSE)&\".\"&VLOOKUP($D51&\"@8\",'中間シート（個人）'!$F$6:$O$100,8,FALSE))","v":""},{"$f":"IF(ISERROR(VLOOKUP($D51&\"@9\",'中間シート（個人）'!$F$6:$O$100,4,FALSE)&VLOOKUP($D51&\"@9\",'中間シート（個人）'!$F$6:$O$100,5,FALSE)),\"\",VLOOKUP($D51&\"@9\",'中間シート（個人）'!$F$6:$O$100,4,FALSE)&VLOOKUP($D51&\"@9\",'中間シート（個人）'!$F$6:$O$100,5,FALSE))","v":""},{"$f":"IF(ISERROR(VLOOKUP($D51&\"@9\",'中間シート（個人）'!$F$6:$O$100,6,FALSE)&VLOOKUP($D51&\"@9\",'中間シート（個人）'!$F$6:$O$100,7,FALSE)&\".\"&VLOOKUP($D51&\"@9\",'中間シート（個人）'!$F$6:$O$100,8,FALSE)),\"\",VLOOKUP($D51&\"@9\",'中間シート（個人）'!$F$6:$O$100,6,FALSE)&VLOOKUP($D51&\"@9\",'中間シート（個人）'!$F$6:$O$100,7,FALSE)&\".\"&VLOOKUP($D51&\"@9\",'中間シート（個人）'!$F$6:$O$100,8,FALSE))","v":""},{"$f":"IF(ISERROR(VLOOKUP($D51&\"@10\",'中間シート（個人）'!$F$6:$O$100,4,FALSE)&VLOOKUP($D51&\"@10\",'中間シート（個人）'!$F$6:$O$100,5,FALSE)),\"\",VLOOKUP($D51&\"@10\",'中間シート（個人）'!$F$6:$O$100,4,FALSE)&VLOOKUP($D51&\"@10\",'中間シート（個人）'!$F$6:$O$100,5,FALSE))","v":""},{"$f":"IF(ISERROR(VLOOKUP($D51&\"@10\",'中間シート（個人）'!$F$6:$O$100,6,FALSE)&VLOOKUP($D51&\"@10\",'中間シート（個人）'!$F$6:$O$100,7,FALSE)&\".\"&VLOOKUP($D51&\"@10\",'中間シート（個人）'!$F$6:$O$100,8,FALSE)),\"\",VLOOKUP($D51&\"@10\",'中間シート（個人）'!$F$6:$O$100,6,FALSE)&VLOOKUP($D51&\"@10\",'中間シート（個人）'!$F$6:$O$100,7,FALSE)&\".\"&VLOOKUP($D51&\"@10\",'中間シート（個人）'!$F$6:$O$100,8,FALSE))","v":""}]
[null,null,{"$f":"IF('中間シート（個人）'!D54=\"○\",\"\",VLOOKUP(個人種目!F54,コード一覧!$A$2:$B$3,2,FALSE))","v":""},{"$f":"IF('中間シート（個人）'!D54=\"○\",\"\",'中間シート（個人）'!C54)","v":""},{"$f":"IF('中間シート（個人）'!D54=\"○\",\"\",ASC(個人種目!D54&\" \"&個人種目!E54))","v":""},{"$f":"IF('中間シート（個人）'!D54=\"○\",\"\",個人種目!G54&IF(LEN(個人種目!H54)=1,\"0\"&個人種目!H54,個人種目!H54)&IF(LEN(個人種目!I54)=1,\"0\"&個人種目!I54,個人種目!I54))","v":""},{"$f":"IF('中間シート（個人）'!D54=\"○\",\"\",VLOOKUP(個人種目!$J54,コード一覧!$C$3:$D$6,2,FALSE))","v":""},{"$f":"IF('中間シート（個人）'!D54=\"○\",\"\",IF(個人種目!$J54=\"一般\",0,個人種目!$K54))","v":""},{"$f":"IF('中間シート（個人）'!D54=\"○\",\"\",'中間シート（個人）'!H54)","v":""},null,{"$f":"IF('中間シート（個人）'!D54=\"○\",\"\",個人種目!$L$1)","v":""},{"$f":"IF('中間シート（個人）'!D54=\"○\",\"\",ASC(申込書_コナミ!$S$9))","v":""},{"$f":"IF('中間シート（個人）'!D54=\"○\",\"\",申込書_コナミ!$E$8)","v":""},null,null,null,{"$f":"IF('中間シート（個人）'!D54=\"○\",\"\",4)","v":""},{"$f":"IF(ISERROR(VLOOKUP($D52&\"@1\",'中間シート（個人）'!$F$6:$O$100,4,FALSE)&VLOOKUP($D52&\"@1\",'中間シート（個人）'!$F$6:$O$100,5,FALSE)),\"\",VLOOKUP($D52&\"@1\",'中間シート（個人）'!$F$6:$O$100,4,FALSE)&VLOOKUP($D52&\"@1\",'中間シート（個人）'!$F$6:$O$100,5,FALSE))","v":""},{"$f":"IF(ISERROR(VLOOKUP($D52&\"@1\",'中間シート（個人）'!$F$6:$O$100,6,FALSE)&VLOOKUP($D52&\"@1\",'中間シート（個人）'!$F$6:$O$100,7,FALSE)&\".\"&VLOOKUP($D52&\"@1\",'中間シート（個人）'!$F$6:$O$100,8,FALSE)),\"\",VLOOKUP($D52&\"@1\",'中間シート（個人）'!$F$6:$O$100,6,FALSE)&VLOOKUP($D52&\"@1\",'中間シート（個人）'!$F$6:$O$100,7,FALSE)&\".\"&VLOOKUP($D52&\"@1\",'中間シート（個人）'!$F$6:$O$100,8,FALSE))","v":""},{"$f":"IF(ISERROR(VLOOKUP($D52&\"@2\",'中間シート（個人）'!$F$6:$O$100,4,FALSE)&VLOOKUP($D52&\"@2\",'中間シート（個人）'!$F$6:$O$100,5,FALSE)),\"\",VLOOKUP($D52&\"@2\",'中間シート（個人）'!$F$6:$O$100,4,FALSE)&VLOOKUP($D52&\"@2\",'中間シート（個人）'!$F$6:$O$100,5,FALSE))","v":""},{"$f":"IF(ISERROR(VLOOKUP($D52&\"@2\",'中間シート（個人）'!$F$6:$O$100,6,FALSE)&VLOOKUP($D52&\"@2\",'中間シート（個人）'!$F$6:$O$100,7,FALSE)&\".\"&VLOOKUP($D52&\"@2\",'中間シート（個人）'!$F$6:$O$100,8,FALSE)),\"\",VLOOKUP($D52&\"@2\",'中間シート（個人）'!$F$6:$O$100,6,FALSE)&VLOOKUP($D52&\"@2\",'中間シート（個人）'!$F$6:$O$100,7,FALSE)&\".\"&VLOOKUP($D52&\"@2\",'中間シート（個人）'!$F$6:$O$100,8,FALSE))","v":""},{"$f":"IF(ISERROR(VLOOKUP($D52&\"@3\",'中間シート（個人）'!$F$6:$O$100,4,FALSE)&VLOOKUP($D52&\"@3\",'中間シート（個人）'!$F$6:$O$100,5,FALSE)),\"\",VLOOKUP($D52&\"@3\",'中間シート（個人）'!$F$6:$O$100,4,FALSE)&VLOOKUP($D52&\"@3\",'中間シート（個人）'!$F$6:$O$100,5,FALSE))","v":""},{"$f":"IF(ISERROR(VLOOKUP($D52&\"@3\",'中間シート（個人）'!$F$6:$O$100,6,FALSE)&VLOOKUP($D52&\"@3\",'中間シート（個人）'!$F$6:$O$100,7,FALSE)&\".\"&VLOOKUP($D52&\"@3\",'中間シート（個人）'!$F$6:$O$100,8,FALSE)),\"\",VLOOKUP($D52&\"@3\",'中間シート（個人）'!$F$6:$O$100,6,FALSE)&VLOOKUP($D52&\"@3\",'中間シート（個人）'!$F$6:$O$100,7,FALSE)&\".\"&VLOOKUP($D52&\"@3\",'中間シート（個人）'!$F$6:$O$100,8,FALSE))","v":""},{"$f":"IF(ISERROR(VLOOKUP($D52&\"@4\",'中間シート（個人）'!$F$6:$O$100,4,FALSE)&VLOOKUP($D52&\"@4\",'中間シート（個人）'!$F$6:$O$100,5,FALSE)),\"\",VLOOKUP($D52&\"@4\",'中間シート（個人）'!$F$6:$O$100,4,FALSE)&VLOOKUP($D52&\"@4\",'中間シート（個人）'!$F$6:$O$100,5,FALSE))","v":""},{"$f":"IF(ISERROR(VLOOKUP($D52&\"@4\",'中間シート（個人）'!$F$6:$O$100,6,FALSE)&VLOOKUP($D52&\"@4\",'中間シート（個人）'!$F$6:$O$100,7,FALSE)&\".\"&VLOOKUP($D52&\"@4\",'中間シート（個人）'!$F$6:$O$100,8,FALSE)),\"\",VLOOKUP($D52&\"@4\",'中間シート（個人）'!$F$6:$O$100,6,FALSE)&VLOOKUP($D52&\"@4\",'中間シート（個人）'!$F$6:$O$100,7,FALSE)&\".\"&VLOOKUP($D52&\"@4\",'中間シート（個人）'!$F$6:$O$100,8,FALSE))","v":""},{"$f":"IF(ISERROR(VLOOKUP($D52&\"@5\",'中間シート（個人）'!$F$6:$O$100,4,FALSE)&VLOOKUP($D52&\"@5\",'中間シート（個人）'!$F$6:$O$100,5,FALSE)),\"\",VLOOKUP($D52&\"@5\",'中間シート（個人）'!$F$6:$O$100,4,FALSE)&VLOOKUP($D52&\"@5\",'中間シート（個人）'!$F$6:$O$100,5,FALSE))","v":""},{"$f":"IF(ISERROR(VLOOKUP($D52&\"@5\",'中間シート（個人）'!$F$6:$O$100,6,FALSE)&VLOOKUP($D52&\"@5\",'中間シート（個人）'!$F$6:$O$100,7,FALSE)&\".\"&VLOOKUP($D52&\"@5\",'中間シート（個人）'!$F$6:$O$100,8,FALSE)),\"\",VLOOKUP($D52&\"@5\",'中間シート（個人）'!$F$6:$O$100,6,FALSE)&VLOOKUP($D52&\"@5\",'中間シート（個人）'!$F$6:$O$100,7,FALSE)&\".\"&VLOOKUP($D52&\"@5\",'中間シート（個人）'!$F$6:$O$100,8,FALSE))","v":""},{"$f":"IF(ISERROR(VLOOKUP($D52&\"@6\",'中間シート（個人）'!$F$6:$O$100,4,FALSE)&VLOOKUP($D52&\"@6\",'中間シート（個人）'!$F$6:$O$100,5,FALSE)),\"\",VLOOKUP($D52&\"@6\",'中間シート（個人）'!$F$6:$O$100,4,FALSE)&VLOOKUP($D52&\"@6\",'中間シート（個人）'!$F$6:$O$100,5,FALSE))","v":""},{"$f":"IF(ISERROR(VLOOKUP($D52&\"@6\",'中間シート（個人）'!$F$6:$O$100,6,FALSE)&VLOOKUP($D52&\"@6\",'中間シート（個人）'!$F$6:$O$100,7,FALSE)&\".\"&VLOOKUP($D52&\"@6\",'中間シート（個人）'!$F$6:$O$100,8,FALSE)),\"\",VLOOKUP($D52&\"@6\",'中間シート（個人）'!$F$6:$O$100,6,FALSE)&VLOOKUP($D52&\"@6\",'中間シート（個人）'!$F$6:$O$100,7,FALSE)&\".\"&VLOOKUP($D52&\"@6\",'中間シート（個人）'!$F$6:$O$100,8,FALSE))","v":""},{"$f":"IF(ISERROR(VLOOKUP($D52&\"@7\",'中間シート（個人）'!$F$6:$O$100,4,FALSE)&VLOOKUP($D52&\"@7\",'中間シート（個人）'!$F$6:$O$100,5,FALSE)),\"\",VLOOKUP($D52&\"@7\",'中間シート（個人）'!$F$6:$O$100,4,FALSE)&VLOOKUP($D52&\"@7\",'中間シート（個人）'!$F$6:$O$100,5,FALSE))","v":""},{"$f":"IF(ISERROR(VLOOKUP($D52&\"@7\",'中間シート（個人）'!$F$6:$O$100,6,FALSE)&VLOOKUP($D52&\"@7\",'中間シート（個人）'!$F$6:$O$100,7,FALSE)&\".\"&VLOOKUP($D52&\"@7\",'中間シート（個人）'!$F$6:$O$100,8,FALSE)),\"\",VLOOKUP($D52&\"@7\",'中間シート（個人）'!$F$6:$O$100,6,FALSE)&VLOOKUP($D52&\"@7\",'中間シート（個人）'!$F$6:$O$100,7,FALSE)&\".\"&VLOOKUP($D52&\"@7\",'中間シート（個人）'!$F$6:$O$100,8,FALSE))","v":""},{"$f":"IF(ISERROR(VLOOKUP($D52&\"@8\",'中間シート（個人）'!$F$6:$O$100,4,FALSE)&VLOOKUP($D52&\"@8\",'中間シート（個人）'!$F$6:$O$100,5,FALSE)),\"\",VLOOKUP($D52&\"@8\",'中間シート（個人）'!$F$6:$O$100,4,FALSE)&VLOOKUP($D52&\"@8\",'中間シート（個人）'!$F$6:$O$100,5,FALSE))","v":""},{"$f":"IF(ISERROR(VLOOKUP($D52&\"@8\",'中間シート（個人）'!$F$6:$O$100,6,FALSE)&VLOOKUP($D52&\"@8\",'中間シート（個人）'!$F$6:$O$100,7,FALSE)&\".\"&VLOOKUP($D52&\"@8\",'中間シート（個人）'!$F$6:$O$100,8,FALSE)),\"\",VLOOKUP($D52&\"@8\",'中間シート（個人）'!$F$6:$O$100,6,FALSE)&VLOOKUP($D52&\"@8\",'中間シート（個人）'!$F$6:$O$100,7,FALSE)&\".\"&VLOOKUP($D52&\"@8\",'中間シート（個人）'!$F$6:$O$100,8,FALSE))","v":""},{"$f":"IF(ISERROR(VLOOKUP($D52&\"@9\",'中間シート（個人）'!$F$6:$O$100,4,FALSE)&VLOOKUP($D52&\"@9\",'中間シート（個人）'!$F$6:$O$100,5,FALSE)),\"\",VLOOKUP($D52&\"@9\",'中間シート（個人）'!$F$6:$O$100,4,FALSE)&VLOOKUP($D52&\"@9\",'中間シート（個人）'!$F$6:$O$100,5,FALSE))","v":""},{"$f":"IF(ISERROR(VLOOKUP($D52&\"@9\",'中間シート（個人）'!$F$6:$O$100,6,FALSE)&VLOOKUP($D52&\"@9\",'中間シート（個人）'!$F$6:$O$100,7,FALSE)&\".\"&VLOOKUP($D52&\"@9\",'中間シート（個人）'!$F$6:$O$100,8,FALSE)),\"\",VLOOKUP($D52&\"@9\",'中間シート（個人）'!$F$6:$O$100,6,FALSE)&VLOOKUP($D52&\"@9\",'中間シート（個人）'!$F$6:$O$100,7,FALSE)&\".\"&VLOOKUP($D52&\"@9\",'中間シート（個人）'!$F$6:$O$100,8,FALSE))","v":""},{"$f":"IF(ISERROR(VLOOKUP($D52&\"@10\",'中間シート（個人）'!$F$6:$O$100,4,FALSE)&VLOOKUP($D52&\"@10\",'中間シート（個人）'!$F$6:$O$100,5,FALSE)),\"\",VLOOKUP($D52&\"@10\",'中間シート（個人）'!$F$6:$O$100,4,FALSE)&VLOOKUP($D52&\"@10\",'中間シート（個人）'!$F$6:$O$100,5,FALSE))","v":""},{"$f":"IF(ISERROR(VLOOKUP($D52&\"@10\",'中間シート（個人）'!$F$6:$O$100,6,FALSE)&VLOOKUP($D52&\"@10\",'中間シート（個人）'!$F$6:$O$100,7,FALSE)&\".\"&VLOOKUP($D52&\"@10\",'中間シート（個人）'!$F$6:$O$100,8,FALSE)),\"\",VLOOKUP($D52&\"@10\",'中間シート（個人）'!$F$6:$O$100,6,FALSE)&VLOOKUP($D52&\"@10\",'中間シート（個人）'!$F$6:$O$100,7,FALSE)&\".\"&VLOOKUP($D52&\"@10\",'中間シート（個人）'!$F$6:$O$100,8,FALSE))","v":""}]
[null,null,{"$f":"IF('中間シート（個人）'!D55=\"○\",\"\",VLOOKUP(個人種目!F55,コード一覧!$A$2:$B$3,2,FALSE))","v":""},{"$f":"IF('中間シート（個人）'!D55=\"○\",\"\",'中間シート（個人）'!C55)","v":""},{"$f":"IF('中間シート（個人）'!D55=\"○\",\"\",ASC(個人種目!D55&\" \"&個人種目!E55))","v":""},{"$f":"IF('中間シート（個人）'!D55=\"○\",\"\",個人種目!G55&IF(LEN(個人種目!H55)=1,\"0\"&個人種目!H55,個人種目!H55)&IF(LEN(個人種目!I55)=1,\"0\"&個人種目!I55,個人種目!I55))","v":""},{"$f":"IF('中間シート（個人）'!D55=\"○\",\"\",VLOOKUP(個人種目!$J55,コード一覧!$C$3:$D$6,2,FALSE))","v":""},{"$f":"IF('中間シート（個人）'!D55=\"○\",\"\",IF(個人種目!$J55=\"一般\",0,個人種目!$K55))","v":""},{"$f":"IF('中間シート（個人）'!D55=\"○\",\"\",'中間シート（個人）'!H55)","v":""},null,{"$f":"IF('中間シート（個人）'!D55=\"○\",\"\",個人種目!$L$1)","v":""},{"$f":"IF('中間シート（個人）'!D55=\"○\",\"\",ASC(申込書_コナミ!$S$9))","v":""},{"$f":"IF('中間シート（個人）'!D55=\"○\",\"\",申込書_コナミ!$E$8)","v":""},null,null,null,{"$f":"IF('中間シート（個人）'!D55=\"○\",\"\",4)","v":""},{"$f":"IF(ISERROR(VLOOKUP($D53&\"@1\",'中間シート（個人）'!$F$6:$O$100,4,FALSE)&VLOOKUP($D53&\"@1\",'中間シート（個人）'!$F$6:$O$100,5,FALSE)),\"\",VLOOKUP($D53&\"@1\",'中間シート（個人）'!$F$6:$O$100,4,FALSE)&VLOOKUP($D53&\"@1\",'中間シート（個人）'!$F$6:$O$100,5,FALSE))","v":""},{"$f":"IF(ISERROR(VLOOKUP($D53&\"@1\",'中間シート（個人）'!$F$6:$O$100,6,FALSE)&VLOOKUP($D53&\"@1\",'中間シート（個人）'!$F$6:$O$100,7,FALSE)&\".\"&VLOOKUP($D53&\"@1\",'中間シート（個人）'!$F$6:$O$100,8,FALSE)),\"\",VLOOKUP($D53&\"@1\",'中間シート（個人）'!$F$6:$O$100,6,FALSE)&VLOOKUP($D53&\"@1\",'中間シート（個人）'!$F$6:$O$100,7,FALSE)&\".\"&VLOOKUP($D53&\"@1\",'中間シート（個人）'!$F$6:$O$100,8,FALSE))","v":""},{"$f":"IF(ISERROR(VLOOKUP($D53&\"@2\",'中間シート（個人）'!$F$6:$O$100,4,FALSE)&VLOOKUP($D53&\"@2\",'中間シート（個人）'!$F$6:$O$100,5,FALSE)),\"\",VLOOKUP($D53&\"@2\",'中間シート（個人）'!$F$6:$O$100,4,FALSE)&VLOOKUP($D53&\"@2\",'中間シート（個人）'!$F$6:$O$100,5,FALSE))","v":""},{"$f":"IF(ISERROR(VLOOKUP($D53&\"@2\",'中間シート（個人）'!$F$6:$O$100,6,FALSE)&VLOOKUP($D53&\"@2\",'中間シート（個人）'!$F$6:$O$100,7,FALSE)&\".\"&VLOOKUP($D53&\"@2\",'中間シート（個人）'!$F$6:$O$100,8,FALSE)),\"\",VLOOKUP($D53&\"@2\",'中間シート（個人）'!$F$6:$O$100,6,FALSE)&VLOOKUP($D53&\"@2\",'中間シート（個人）'!$F$6:$O$100,7,FALSE)&\".\"&VLOOKUP($D53&\"@2\",'中間シート（個人）'!$F$6:$O$100,8,FALSE))","v":""},{"$f":"IF(ISERROR(VLOOKUP($D53&\"@3\",'中間シート（個人）'!$F$6:$O$100,4,FALSE)&VLOOKUP($D53&\"@3\",'中間シート（個人）'!$F$6:$O$100,5,FALSE)),\"\",VLOOKUP($D53&\"@3\",'中間シート（個人）'!$F$6:$O$100,4,FALSE)&VLOOKUP($D53&\"@3\",'中間シート（個人）'!$F$6:$O$100,5,FALSE))","v":""},{"$f":"IF(ISERROR(VLOOKUP($D53&\"@3\",'中間シート（個人）'!$F$6:$O$100,6,FALSE)&VLOOKUP($D53&\"@3\",'中間シート（個人）'!$F$6:$O$100,7,FALSE)&\".\"&VLOOKUP($D53&\"@3\",'中間シート（個人）'!$F$6:$O$100,8,FALSE)),\"\",VLOOKUP($D53&\"@3\",'中間シート（個人）'!$F$6:$O$100,6,FALSE)&VLOOKUP($D53&\"@3\",'中間シート（個人）'!$F$6:$O$100,7,FALSE)&\".\"&VLOOKUP($D53&\"@3\",'中間シート（個人）'!$F$6:$O$100,8,FALSE))","v":""},{"$f":"IF(ISERROR(VLOOKUP($D53&\"@4\",'中間シート（個人）'!$F$6:$O$100,4,FALSE)&VLOOKUP($D53&\"@4\",'中間シート（個人）'!$F$6:$O$100,5,FALSE)),\"\",VLOOKUP($D53&\"@4\",'中間シート（個人）'!$F$6:$O$100,4,FALSE)&VLOOKUP($D53&\"@4\",'中間シート（個人）'!$F$6:$O$100,5,FALSE))","v":""},{"$f":"IF(ISERROR(VLOOKUP($D53&\"@4\",'中間シート（個人）'!$F$6:$O$100,6,FALSE)&VLOOKUP($D53&\"@4\",'中間シート（個人）'!$F$6:$O$100,7,FALSE)&\".\"&VLOOKUP($D53&\"@4\",'中間シート（個人）'!$F$6:$O$100,8,FALSE)),\"\",VLOOKUP($D53&\"@4\",'中間シート（個人）'!$F$6:$O$100,6,FALSE)&VLOOKUP($D53&\"@4\",'中間シート（個人）'!$F$6:$O$100,7,FALSE)&\".\"&VLOOKUP($D53&\"@4\",'中間シート（個人）'!$F$6:$O$100,8,FALSE))","v":""},{"$f":"IF(ISERROR(VLOOKUP($D53&\"@5\",'中間シート（個人）'!$F$6:$O$100,4,FALSE)&VLOOKUP($D53&\"@5\",'中間シート（個人）'!$F$6:$O$100,5,FALSE)),\"\",VLOOKUP($D53&\"@5\",'中間シート（個人）'!$F$6:$O$100,4,FALSE)&VLOOKUP($D53&\"@5\",'中間シート（個人）'!$F$6:$O$100,5,FALSE))","v":""},{"$f":"IF(ISERROR(VLOOKUP($D53&\"@5\",'中間シート（個人）'!$F$6:$O$100,6,FALSE)&VLOOKUP($D53&\"@5\",'中間シート（個人）'!$F$6:$O$100,7,FALSE)&\".\"&VLOOKUP($D53&\"@5\",'中間シート（個人）'!$F$6:$O$100,8,FALSE)),\"\",VLOOKUP($D53&\"@5\",'中間シート（個人）'!$F$6:$O$100,6,FALSE)&VLOOKUP($D53&\"@5\",'中間シート（個人）'!$F$6:$O$100,7,FALSE)&\".\"&VLOOKUP($D53&\"@5\",'中間シート（個人）'!$F$6:$O$100,8,FALSE))","v":""},{"$f":"IF(ISERROR(VLOOKUP($D53&\"@6\",'中間シート（個人）'!$F$6:$O$100,4,FALSE)&VLOOKUP($D53&\"@6\",'中間シート（個人）'!$F$6:$O$100,5,FALSE)),\"\",VLOOKUP($D53&\"@6\",'中間シート（個人）'!$F$6:$O$100,4,FALSE)&VLOOKUP($D53&\"@6\",'中間シート（個人）'!$F$6:$O$100,5,FALSE))","v":""},{"$f":"IF(ISERROR(VLOOKUP($D53&\"@6\",'中間シート（個人）'!$F$6:$O$100,6,FALSE)&VLOOKUP($D53&\"@6\",'中間シート（個人）'!$F$6:$O$100,7,FALSE)&\".\"&VLOOKUP($D53&\"@6\",'中間シート（個人）'!$F$6:$O$100,8,FALSE)),\"\",VLOOKUP($D53&\"@6\",'中間シート（個人）'!$F$6:$O$100,6,FALSE)&VLOOKUP($D53&\"@6\",'中間シート（個人）'!$F$6:$O$100,7,FALSE)&\".\"&VLOOKUP($D53&\"@6\",'中間シート（個人）'!$F$6:$O$100,8,FALSE))","v":""},{"$f":"IF(ISERROR(VLOOKUP($D53&\"@7\",'中間シート（個人）'!$F$6:$O$100,4,FALSE)&VLOOKUP($D53&\"@7\",'中間シート（個人）'!$F$6:$O$100,5,FALSE)),\"\",VLOOKUP($D53&\"@7\",'中間シート（個人）'!$F$6:$O$100,4,FALSE)&VLOOKUP($D53&\"@7\",'中間シート（個人）'!$F$6:$O$100,5,FALSE))","v":""},{"$f":"IF(ISERROR(VLOOKUP($D53&\"@7\",'中間シート（個人）'!$F$6:$O$100,6,FALSE)&VLOOKUP($D53&\"@7\",'中間シート（個人）'!$F$6:$O$100,7,FALSE)&\".\"&VLOOKUP($D53&\"@7\",'中間シート（個人）'!$F$6:$O$100,8,FALSE)),\"\",VLOOKUP($D53&\"@7\",'中間シート（個人）'!$F$6:$O$100,6,FALSE)&VLOOKUP($D53&\"@7\",'中間シート（個人）'!$F$6:$O$100,7,FALSE)&\".\"&VLOOKUP($D53&\"@7\",'中間シート（個人）'!$F$6:$O$100,8,FALSE))","v":""},{"$f":"IF(ISERROR(VLOOKUP($D53&\"@8\",'中間シート（個人）'!$F$6:$O$100,4,FALSE)&VLOOKUP($D53&\"@8\",'中間シート（個人）'!$F$6:$O$100,5,FALSE)),\"\",VLOOKUP($D53&\"@8\",'中間シート（個人）'!$F$6:$O$100,4,FALSE)&VLOOKUP($D53&\"@8\",'中間シート（個人）'!$F$6:$O$100,5,FALSE))","v":""},{"$f":"IF(ISERROR(VLOOKUP($D53&\"@8\",'中間シート（個人）'!$F$6:$O$100,6,FALSE)&VLOOKUP($D53&\"@8\",'中間シート（個人）'!$F$6:$O$100,7,FALSE)&\".\"&VLOOKUP($D53&\"@8\",'中間シート（個人）'!$F$6:$O$100,8,FALSE)),\"\",VLOOKUP($D53&\"@8\",'中間シート（個人）'!$F$6:$O$100,6,FALSE)&VLOOKUP($D53&\"@8\",'中間シート（個人）'!$F$6:$O$100,7,FALSE)&\".\"&VLOOKUP($D53&\"@8\",'中間シート（個人）'!$F$6:$O$100,8,FALSE))","v":""},{"$f":"IF(ISERROR(VLOOKUP($D53&\"@9\",'中間シート（個人）'!$F$6:$O$100,4,FALSE)&VLOOKUP($D53&\"@9\",'中間シート（個人）'!$F$6:$O$100,5,FALSE)),\"\",VLOOKUP($D53&\"@9\",'中間シート（個人）'!$F$6:$O$100,4,FALSE)&VLOOKUP($D53&\"@9\",'中間シート（個人）'!$F$6:$O$100,5,FALSE))","v":""},{"$f":"IF(ISERROR(VLOOKUP($D53&\"@9\",'中間シート（個人）'!$F$6:$O$100,6,FALSE)&VLOOKUP($D53&\"@9\",'中間シート（個人）'!$F$6:$O$100,7,FALSE)&\".\"&VLOOKUP($D53&\"@9\",'中間シート（個人）'!$F$6:$O$100,8,FALSE)),\"\",VLOOKUP($D53&\"@9\",'中間シート（個人）'!$F$6:$O$100,6,FALSE)&VLOOKUP($D53&\"@9\",'中間シート（個人）'!$F$6:$O$100,7,FALSE)&\".\"&VLOOKUP($D53&\"@9\",'中間シート（個人）'!$F$6:$O$100,8,FALSE))","v":""},{"$f":"IF(ISERROR(VLOOKUP($D53&\"@10\",'中間シート（個人）'!$F$6:$O$100,4,FALSE)&VLOOKUP($D53&\"@10\",'中間シート（個人）'!$F$6:$O$100,5,FALSE)),\"\",VLOOKUP($D53&\"@10\",'中間シート（個人）'!$F$6:$O$100,4,FALSE)&VLOOKUP($D53&\"@10\",'中間シート（個人）'!$F$6:$O$100,5,FALSE))","v":""},{"$f":"IF(ISERROR(VLOOKUP($D53&\"@10\",'中間シート（個人）'!$F$6:$O$100,6,FALSE)&VLOOKUP($D53&\"@10\",'中間シート（個人）'!$F$6:$O$100,7,FALSE)&\".\"&VLOOKUP($D53&\"@10\",'中間シート（個人）'!$F$6:$O$100,8,FALSE)),\"\",VLOOKUP($D53&\"@10\",'中間シート（個人）'!$F$6:$O$100,6,FALSE)&VLOOKUP($D53&\"@10\",'中間シート（個人）'!$F$6:$O$100,7,FALSE)&\".\"&VLOOKUP($D53&\"@10\",'中間シート（個人）'!$F$6:$O$100,8,FALSE))","v":""}]
[null,null,{"$f":"IF('中間シート（個人）'!D56=\"○\",\"\",VLOOKUP(個人種目!F56,コード一覧!$A$2:$B$3,2,FALSE))","v":""},{"$f":"IF('中間シート（個人）'!D56=\"○\",\"\",'中間シート（個人）'!C56)","v":""},{"$f":"IF('中間シート（個人）'!D56=\"○\",\"\",ASC(個人種目!D56&\" \"&個人種目!E56))","v":""},{"$f":"IF('中間シート（個人）'!D56=\"○\",\"\",個人種目!G56&IF(LEN(個人種目!H56)=1,\"0\"&個人種目!H56,個人種目!H56)&IF(LEN(個人種目!I56)=1,\"0\"&個人種目!I56,個人種目!I56))","v":""},{"$f":"IF('中間シート（個人）'!D56=\"○\",\"\",VLOOKUP(個人種目!$J56,コード一覧!$C$3:$D$6,2,FALSE))","v":""},{"$f":"IF('中間シート（個人）'!D56=\"○\",\"\",IF(個人種目!$J56=\"一般\",0,個人種目!$K56))","v":""},{"$f":"IF('中間シート（個人）'!D56=\"○\",\"\",'中間シート（個人）'!H56)","v":""},null,{"$f":"IF('中間シート（個人）'!D56=\"○\",\"\",個人種目!$L$1)","v":""},{"$f":"IF('中間シート（個人）'!D56=\"○\",\"\",ASC(申込書_コナミ!$S$9))","v":""},{"$f":"IF('中間シート（個人）'!D56=\"○\",\"\",申込書_コナミ!$E$8)","v":""},null,null,null,{"$f":"IF('中間シート（個人）'!D56=\"○\",\"\",4)","v":""},{"$f":"IF(ISERROR(VLOOKUP($D54&\"@1\",'中間シート（個人）'!$F$6:$O$100,4,FALSE)&VLOOKUP($D54&\"@1\",'中間シート（個人）'!$F$6:$O$100,5,FALSE)),\"\",VLOOKUP($D54&\"@1\",'中間シート（個人）'!$F$6:$O$100,4,FALSE)&VLOOKUP($D54&\"@1\",'中間シート（個人）'!$F$6:$O$100,5,FALSE))","v":""},{"$f":"IF(ISERROR(VLOOKUP($D54&\"@1\",'中間シート（個人）'!$F$6:$O$100,6,FALSE)&VLOOKUP($D54&\"@1\",'中間シート（個人）'!$F$6:$O$100,7,FALSE)&\".\"&VLOOKUP($D54&\"@1\",'中間シート（個人）'!$F$6:$O$100,8,FALSE)),\"\",VLOOKUP($D54&\"@1\",'中間シート（個人）'!$F$6:$O$100,6,FALSE)&VLOOKUP($D54&\"@1\",'中間シート（個人）'!$F$6:$O$100,7,FALSE)&\".\"&VLOOKUP($D54&\"@1\",'中間シート（個人）'!$F$6:$O$100,8,FALSE))","v":""},{"$f":"IF(ISERROR(VLOOKUP($D54&\"@2\",'中間シート（個人）'!$F$6:$O$100,4,FALSE)&VLOOKUP($D54&\"@2\",'中間シート（個人）'!$F$6:$O$100,5,FALSE)),\"\",VLOOKUP($D54&\"@2\",'中間シート（個人）'!$F$6:$O$100,4,FALSE)&VLOOKUP($D54&\"@2\",'中間シート（個人）'!$F$6:$O$100,5,FALSE))","v":""},{"$f":"IF(ISERROR(VLOOKUP($D54&\"@2\",'中間シート（個人）'!$F$6:$O$100,6,FALSE)&VLOOKUP($D54&\"@2\",'中間シート（個人）'!$F$6:$O$100,7,FALSE)&\".\"&VLOOKUP($D54&\"@2\",'中間シート（個人）'!$F$6:$O$100,8,FALSE)),\"\",VLOOKUP($D54&\"@2\",'中間シート（個人）'!$F$6:$O$100,6,FALSE)&VLOOKUP($D54&\"@2\",'中間シート（個人）'!$F$6:$O$100,7,FALSE)&\".\"&VLOOKUP($D54&\"@2\",'中間シート（個人）'!$F$6:$O$100,8,FALSE))","v":""},{"$f":"IF(ISERROR(VLOOKUP($D54&\"@3\",'中間シート（個人）'!$F$6:$O$100,4,FALSE)&VLOOKUP($D54&\"@3\",'中間シート（個人）'!$F$6:$O$100,5,FALSE)),\"\",VLOOKUP($D54&\"@3\",'中間シート（個人）'!$F$6:$O$100,4,FALSE)&VLOOKUP($D54&\"@3\",'中間シート（個人）'!$F$6:$O$100,5,FALSE))","v":""},{"$f":"IF(ISERROR(VLOOKUP($D54&\"@3\",'中間シート（個人）'!$F$6:$O$100,6,FALSE)&VLOOKUP($D54&\"@3\",'中間シート（個人）'!$F$6:$O$100,7,FALSE)&\".\"&VLOOKUP($D54&\"@3\",'中間シート（個人）'!$F$6:$O$100,8,FALSE)),\"\",VLOOKUP($D54&\"@3\",'中間シート（個人）'!$F$6:$O$100,6,FALSE)&VLOOKUP($D54&\"@3\",'中間シート（個人）'!$F$6:$O$100,7,FALSE)&\".\"&VLOOKUP($D54&\"@3\",'中間シート（個人）'!$F$6:$O$100,8,FALSE))","v":""},{"$f":"IF(ISERROR(VLOOKUP($D54&\"@4\",'中間シート（個人）'!$F$6:$O$100,4,FALSE)&VLOOKUP($D54&\"@4\",'中間シート（個人）'!$F$6:$O$100,5,FALSE)),\"\",VLOOKUP($D54&\"@4\",'中間シート（個人）'!$F$6:$O$100,4,FALSE)&VLOOKUP($D54&\"@4\",'中間シート（個人）'!$F$6:$O$100,5,FALSE))","v":""},{"$f":"IF(ISERROR(VLOOKUP($D54&\"@4\",'中間シート（個人）'!$F$6:$O$100,6,FALSE)&VLOOKUP($D54&\"@4\",'中間シート（個人）'!$F$6:$O$100,7,FALSE)&\".\"&VLOOKUP($D54&\"@4\",'中間シート（個人）'!$F$6:$O$100,8,FALSE)),\"\",VLOOKUP($D54&\"@4\",'中間シート（個人）'!$F$6:$O$100,6,FALSE)&VLOOKUP($D54&\"@4\",'中間シート（個人）'!$F$6:$O$100,7,FALSE)&\".\"&VLOOKUP($D54&\"@4\",'中間シート（個人）'!$F$6:$O$100,8,FALSE))","v":""},{"$f":"IF(ISERROR(VLOOKUP($D54&\"@5\",'中間シート（個人）'!$F$6:$O$100,4,FALSE)&VLOOKUP($D54&\"@5\",'中間シート（個人）'!$F$6:$O$100,5,FALSE)),\"\",VLOOKUP($D54&\"@5\",'中間シート（個人）'!$F$6:$O$100,4,FALSE)&VLOOKUP($D54&\"@5\",'中間シート（個人）'!$F$6:$O$100,5,FALSE))","v":""},{"$f":"IF(ISERROR(VLOOKUP($D54&\"@5\",'中間シート（個人）'!$F$6:$O$100,6,FALSE)&VLOOKUP($D54&\"@5\",'中間シート（個人）'!$F$6:$O$100,7,FALSE)&\".\"&VLOOKUP($D54&\"@5\",'中間シート（個人）'!$F$6:$O$100,8,FALSE)),\"\",VLOOKUP($D54&\"@5\",'中間シート（個人）'!$F$6:$O$100,6,FALSE)&VLOOKUP($D54&\"@5\",'中間シート（個人）'!$F$6:$O$100,7,FALSE)&\".\"&VLOOKUP($D54&\"@5\",'中間シート（個人）'!$F$6:$O$100,8,FALSE))","v":""},{"$f":"IF(ISERROR(VLOOKUP($D54&\"@6\",'中間シート（個人）'!$F$6:$O$100,4,FALSE)&VLOOKUP($D54&\"@6\",'中間シート（個人）'!$F$6:$O$100,5,FALSE)),\"\",VLOOKUP($D54&\"@6\",'中間シート（個人）'!$F$6:$O$100,4,FALSE)&VLOOKUP($D54&\"@6\",'中間シート（個人）'!$F$6:$O$100,5,FALSE))","v":""},{"$f":"IF(ISERROR(VLOOKUP($D54&\"@6\",'中間シート（個人）'!$F$6:$O$100,6,FALSE)&VLOOKUP($D54&\"@6\",'中間シート（個人）'!$F$6:$O$100,7,FALSE)&\".\"&VLOOKUP($D54&\"@6\",'中間シート（個人）'!$F$6:$O$100,8,FALSE)),\"\",VLOOKUP($D54&\"@6\",'中間シート（個人）'!$F$6:$O$100,6,FALSE)&VLOOKUP($D54&\"@6\",'中間シート（個人）'!$F$6:$O$100,7,FALSE)&\".\"&VLOOKUP($D54&\"@6\",'中間シート（個人）'!$F$6:$O$100,8,FALSE))","v":""},{"$f":"IF(ISERROR(VLOOKUP($D54&\"@7\",'中間シート（個人）'!$F$6:$O$100,4,FALSE)&VLOOKUP($D54&\"@7\",'中間シート（個人）'!$F$6:$O$100,5,FALSE)),\"\",VLOOKUP($D54&\"@7\",'中間シート（個人）'!$F$6:$O$100,4,FALSE)&VLOOKUP($D54&\"@7\",'中間シート（個人）'!$F$6:$O$100,5,FALSE))","v":""},{"$f":"IF(ISERROR(VLOOKUP($D54&\"@7\",'中間シート（個人）'!$F$6:$O$100,6,FALSE)&VLOOKUP($D54&\"@7\",'中間シート（個人）'!$F$6:$O$100,7,FALSE)&\".\"&VLOOKUP($D54&\"@7\",'中間シート（個人）'!$F$6:$O$100,8,FALSE)),\"\",VLOOKUP($D54&\"@7\",'中間シート（個人）'!$F$6:$O$100,6,FALSE)&VLOOKUP($D54&\"@7\",'中間シート（個人）'!$F$6:$O$100,7,FALSE)&\".\"&VLOOKUP($D54&\"@7\",'中間シート（個人）'!$F$6:$O$100,8,FALSE))","v":""},{"$f":"IF(ISERROR(VLOOKUP($D54&\"@8\",'中間シート（個人）'!$F$6:$O$100,4,FALSE)&VLOOKUP($D54&\"@8\",'中間シート（個人）'!$F$6:$O$100,5,FALSE)),\"\",VLOOKUP($D54&\"@8\",'中間シート（個人）'!$F$6:$O$100,4,FALSE)&VLOOKUP($D54&\"@8\",'中間シート（個人）'!$F$6:$O$100,5,FALSE))","v":""},{"$f":"IF(ISERROR(VLOOKUP($D54&\"@8\",'中間シート（個人）'!$F$6:$O$100,6,FALSE)&VLOOKUP($D54&\"@8\",'中間シート（個人）'!$F$6:$O$100,7,FALSE)&\".\"&VLOOKUP($D54&\"@8\",'中間シート（個人）'!$F$6:$O$100,8,FALSE)),\"\",VLOOKUP($D54&\"@8\",'中間シート（個人）'!$F$6:$O$100,6,FALSE)&VLOOKUP($D54&\"@8\",'中間シート（個人）'!$F$6:$O$100,7,FALSE)&\".\"&VLOOKUP($D54&\"@8\",'中間シート（個人）'!$F$6:$O$100,8,FALSE))","v":""},{"$f":"IF(ISERROR(VLOOKUP($D54&\"@9\",'中間シート（個人）'!$F$6:$O$100,4,FALSE)&VLOOKUP($D54&\"@9\",'中間シート（個人）'!$F$6:$O$100,5,FALSE)),\"\",VLOOKUP($D54&\"@9\",'中間シート（個人）'!$F$6:$O$100,4,FALSE)&VLOOKUP($D54&\"@9\",'中間シート（個人）'!$F$6:$O$100,5,FALSE))","v":""},{"$f":"IF(ISERROR(VLOOKUP($D54&\"@9\",'中間シート（個人）'!$F$6:$O$100,6,FALSE)&VLOOKUP($D54&\"@9\",'中間シート（個人）'!$F$6:$O$100,7,FALSE)&\".\"&VLOOKUP($D54&\"@9\",'中間シート（個人）'!$F$6:$O$100,8,FALSE)),\"\",VLOOKUP($D54&\"@9\",'中間シート（個人）'!$F$6:$O$100,6,FALSE)&VLOOKUP($D54&\"@9\",'中間シート（個人）'!$F$6:$O$100,7,FALSE)&\".\"&VLOOKUP($D54&\"@9\",'中間シート（個人）'!$F$6:$O$100,8,FALSE))","v":""},{"$f":"IF(ISERROR(VLOOKUP($D54&\"@10\",'中間シート（個人）'!$F$6:$O$100,4,FALSE)&VLOOKUP($D54&\"@10\",'中間シート（個人）'!$F$6:$O$100,5,FALSE)),\"\",VLOOKUP($D54&\"@10\",'中間シート（個人）'!$F$6:$O$100,4,FALSE)&VLOOKUP($D54&\"@10\",'中間シート（個人）'!$F$6:$O$100,5,FALSE))","v":""},{"$f":"IF(ISERROR(VLOOKUP($D54&\"@10\",'中間シート（個人）'!$F$6:$O$100,6,FALSE)&VLOOKUP($D54&\"@10\",'中間シート（個人）'!$F$6:$O$100,7,FALSE)&\".\"&VLOOKUP($D54&\"@10\",'中間シート（個人）'!$F$6:$O$100,8,FALSE)),\"\",VLOOKUP($D54&\"@10\",'中間シート（個人）'!$F$6:$O$100,6,FALSE)&VLOOKUP($D54&\"@10\",'中間シート（個人）'!$F$6:$O$100,7,FALSE)&\".\"&VLOOKUP($D54&\"@10\",'中間シート（個人）'!$F$6:$O$100,8,FALSE))","v":""}]
[null,null,{"$f":"IF('中間シート（個人）'!D57=\"○\",\"\",VLOOKUP(個人種目!F57,コード一覧!$A$2:$B$3,2,FALSE))","v":""},{"$f":"IF('中間シート（個人）'!D57=\"○\",\"\",'中間シート（個人）'!C57)","v":""},{"$f":"IF('中間シート（個人）'!D57=\"○\",\"\",ASC(個人種目!D57&\" \"&個人種目!E57))","v":""},{"$f":"IF('中間シート（個人）'!D57=\"○\",\"\",個人種目!G57&IF(LEN(個人種目!H57)=1,\"0\"&個人種目!H57,個人種目!H57)&IF(LEN(個人種目!I57)=1,\"0\"&個人種目!I57,個人種目!I57))","v":""},{"$f":"IF('中間シート（個人）'!D57=\"○\",\"\",VLOOKUP(個人種目!$J57,コード一覧!$C$3:$D$6,2,FALSE))","v":""},{"$f":"IF('中間シート（個人）'!D57=\"○\",\"\",IF(個人種目!$J57=\"一般\",0,個人種目!$K57))","v":""},{"$f":"IF('中間シート（個人）'!D57=\"○\",\"\",'中間シート（個人）'!H57)","v":""},null,{"$f":"IF('中間シート（個人）'!D57=\"○\",\"\",個人種目!$L$1)","v":""},{"$f":"IF('中間シート（個人）'!D57=\"○\",\"\",ASC(申込書_コナミ!$S$9))","v":""},{"$f":"IF('中間シート（個人）'!D57=\"○\",\"\",申込書_コナミ!$E$8)","v":""},null,null,null,{"$f":"IF('中間シート（個人）'!D57=\"○\",\"\",4)","v":""},{"$f":"IF(ISERROR(VLOOKUP($D55&\"@1\",'中間シート（個人）'!$F$6:$O$100,4,FALSE)&VLOOKUP($D55&\"@1\",'中間シート（個人）'!$F$6:$O$100,5,FALSE)),\"\",VLOOKUP($D55&\"@1\",'中間シート（個人）'!$F$6:$O$100,4,FALSE)&VLOOKUP($D55&\"@1\",'中間シート（個人）'!$F$6:$O$100,5,FALSE))","v":""},{"$f":"IF(ISERROR(VLOOKUP($D55&\"@1\",'中間シート（個人）'!$F$6:$O$100,6,FALSE)&VLOOKUP($D55&\"@1\",'中間シート（個人）'!$F$6:$O$100,7,FALSE)&\".\"&VLOOKUP($D55&\"@1\",'中間シート（個人）'!$F$6:$O$100,8,FALSE)),\"\",VLOOKUP($D55&\"@1\",'中間シート（個人）'!$F$6:$O$100,6,FALSE)&VLOOKUP($D55&\"@1\",'中間シート（個人）'!$F$6:$O$100,7,FALSE)&\".\"&VLOOKUP($D55&\"@1\",'中間シート（個人）'!$F$6:$O$100,8,FALSE))","v":""},{"$f":"IF(ISERROR(VLOOKUP($D55&\"@2\",'中間シート（個人）'!$F$6:$O$100,4,FALSE)&VLOOKUP($D55&\"@2\",'中間シート（個人）'!$F$6:$O$100,5,FALSE)),\"\",VLOOKUP($D55&\"@2\",'中間シート（個人）'!$F$6:$O$100,4,FALSE)&VLOOKUP($D55&\"@2\",'中間シート（個人）'!$F$6:$O$100,5,FALSE))","v":""},{"$f":"IF(ISERROR(VLOOKUP($D55&\"@2\",'中間シート（個人）'!$F$6:$O$100,6,FALSE)&VLOOKUP($D55&\"@2\",'中間シート（個人）'!$F$6:$O$100,7,FALSE)&\".\"&VLOOKUP($D55&\"@2\",'中間シート（個人）'!$F$6:$O$100,8,FALSE)),\"\",VLOOKUP($D55&\"@2\",'中間シート（個人）'!$F$6:$O$100,6,FALSE)&VLOOKUP($D55&\"@2\",'中間シート（個人）'!$F$6:$O$100,7,FALSE)&\".\"&VLOOKUP($D55&\"@2\",'中間シート（個人）'!$F$6:$O$100,8,FALSE))","v":""},{"$f":"IF(ISERROR(VLOOKUP($D55&\"@3\",'中間シート（個人）'!$F$6:$O$100,4,FALSE)&VLOOKUP($D55&\"@3\",'中間シート（個人）'!$F$6:$O$100,5,FALSE)),\"\",VLOOKUP($D55&\"@3\",'中間シート（個人）'!$F$6:$O$100,4,FALSE)&VLOOKUP($D55&\"@3\",'中間シート（個人）'!$F$6:$O$100,5,FALSE))","v":""},{"$f":"IF(ISERROR(VLOOKUP($D55&\"@3\",'中間シート（個人）'!$F$6:$O$100,6,FALSE)&VLOOKUP($D55&\"@3\",'中間シート（個人）'!$F$6:$O$100,7,FALSE)&\".\"&VLOOKUP($D55&\"@3\",'中間シート（個人）'!$F$6:$O$100,8,FALSE)),\"\",VLOOKUP($D55&\"@3\",'中間シート（個人）'!$F$6:$O$100,6,FALSE)&VLOOKUP($D55&\"@3\",'中間シート（個人）'!$F$6:$O$100,7,FALSE)&\".\"&VLOOKUP($D55&\"@3\",'中間シート（個人）'!$F$6:$O$100,8,FALSE))","v":""},{"$f":"IF(ISERROR(VLOOKUP($D55&\"@4\",'中間シート（個人）'!$F$6:$O$100,4,FALSE)&VLOOKUP($D55&\"@4\",'中間シート（個人）'!$F$6:$O$100,5,FALSE)),\"\",VLOOKUP($D55&\"@4\",'中間シート（個人）'!$F$6:$O$100,4,FALSE)&VLOOKUP($D55&\"@4\",'中間シート（個人）'!$F$6:$O$100,5,FALSE))","v":""},{"$f":"IF(ISERROR(VLOOKUP($D55&\"@4\",'中間シート（個人）'!$F$6:$O$100,6,FALSE)&VLOOKUP($D55&\"@4\",'中間シート（個人）'!$F$6:$O$100,7,FALSE)&\".\"&VLOOKUP($D55&\"@4\",'中間シート（個人）'!$F$6:$O$100,8,FALSE)),\"\",VLOOKUP($D55&\"@4\",'中間シート（個人）'!$F$6:$O$100,6,FALSE)&VLOOKUP($D55&\"@4\",'中間シート（個人）'!$F$6:$O$100,7,FALSE)&\".\"&VLOOKUP($D55&\"@4\",'中間シート（個人）'!$F$6:$O$100,8,FALSE))","v":""},{"$f":"IF(ISERROR(VLOOKUP($D55&\"@5\",'中間シート（個人）'!$F$6:$O$100,4,FALSE)&VLOOKUP($D55&\"@5\",'中間シート（個人）'!$F$6:$O$100,5,FALSE)),\"\",VLOOKUP($D55&\"@5\",'中間シート（個人）'!$F$6:$O$100,4,FALSE)&VLOOKUP($D55&\"@5\",'中間シート（個人）'!$F$6:$O$100,5,FALSE))","v":""},{"$f":"IF(ISERROR(VLOOKUP($D55&\"@5\",'中間シート（個人）'!$F$6:$O$100,6,FALSE)&VLOOKUP($D55&\"@5\",'中間シート（個人）'!$F$6:$O$100,7,FALSE)&\".\"&VLOOKUP($D55&\"@5\",'中間シート（個人）'!$F$6:$O$100,8,FALSE)),\"\",VLOOKUP($D55&\"@5\",'中間シート（個人）'!$F$6:$O$100,6,FALSE)&VLOOKUP($D55&\"@5\",'中間シート（個人）'!$F$6:$O$100,7,FALSE)&\".\"&VLOOKUP($D55&\"@5\",'中間シート（個人）'!$F$6:$O$100,8,FALSE))","v":""},{"$f":"IF(ISERROR(VLOOKUP($D55&\"@6\",'中間シート（個人）'!$F$6:$O$100,4,FALSE)&VLOOKUP($D55&\"@6\",'中間シート（個人）'!$F$6:$O$100,5,FALSE)),\"\",VLOOKUP($D55&\"@6\",'中間シート（個人）'!$F$6:$O$100,4,FALSE)&VLOOKUP($D55&\"@6\",'中間シート（個人）'!$F$6:$O$100,5,FALSE))","v":""},{"$f":"IF(ISERROR(VLOOKUP($D55&\"@6\",'中間シート（個人）'!$F$6:$O$100,6,FALSE)&VLOOKUP($D55&\"@6\",'中間シート（個人）'!$F$6:$O$100,7,FALSE)&\".\"&VLOOKUP($D55&\"@6\",'中間シート（個人）'!$F$6:$O$100,8,FALSE)),\"\",VLOOKUP($D55&\"@6\",'中間シート（個人）'!$F$6:$O$100,6,FALSE)&VLOOKUP($D55&\"@6\",'中間シート（個人）'!$F$6:$O$100,7,FALSE)&\".\"&VLOOKUP($D55&\"@6\",'中間シート（個人）'!$F$6:$O$100,8,FALSE))","v":""},{"$f":"IF(ISERROR(VLOOKUP($D55&\"@7\",'中間シート（個人）'!$F$6:$O$100,4,FALSE)&VLOOKUP($D55&\"@7\",'中間シート（個人）'!$F$6:$O$100,5,FALSE)),\"\",VLOOKUP($D55&\"@7\",'中間シート（個人）'!$F$6:$O$100,4,FALSE)&VLOOKUP($D55&\"@7\",'中間シート（個人）'!$F$6:$O$100,5,FALSE))","v":""},{"$f":"IF(ISERROR(VLOOKUP($D55&\"@7\",'中間シート（個人）'!$F$6:$O$100,6,FALSE)&VLOOKUP($D55&\"@7\",'中間シート（個人）'!$F$6:$O$100,7,FALSE)&\".\"&VLOOKUP($D55&\"@7\",'中間シート（個人）'!$F$6:$O$100,8,FALSE)),\"\",VLOOKUP($D55&\"@7\",'中間シート（個人）'!$F$6:$O$100,6,FALSE)&VLOOKUP($D55&\"@7\",'中間シート（個人）'!$F$6:$O$100,7,FALSE)&\".\"&VLOOKUP($D55&\"@7\",'中間シート（個人）'!$F$6:$O$100,8,FALSE))","v":""},{"$f":"IF(ISERROR(VLOOKUP($D55&\"@8\",'中間シート（個人）'!$F$6:$O$100,4,FALSE)&VLOOKUP($D55&\"@8\",'中間シート（個人）'!$F$6:$O$100,5,FALSE)),\"\",VLOOKUP($D55&\"@8\",'中間シート（個人）'!$F$6:$O$100,4,FALSE)&VLOOKUP($D55&\"@8\",'中間シート（個人）'!$F$6:$O$100,5,FALSE))","v":""},{"$f":"IF(ISERROR(VLOOKUP($D55&\"@8\",'中間シート（個人）'!$F$6:$O$100,6,FALSE)&VLOOKUP($D55&\"@8\",'中間シート（個人）'!$F$6:$O$100,7,FALSE)&\".\"&VLOOKUP($D55&\"@8\",'中間シート（個人）'!$F$6:$O$100,8,FALSE)),\"\",VLOOKUP($D55&\"@8\",'中間シート（個人）'!$F$6:$O$100,6,FALSE)&VLOOKUP($D55&\"@8\",'中間シート（個人）'!$F$6:$O$100,7,FALSE)&\".\"&VLOOKUP($D55&\"@8\",'中間シート（個人）'!$F$6:$O$100,8,FALSE))","v":""},{"$f":"IF(ISERROR(VLOOKUP($D55&\"@9\",'中間シート（個人）'!$F$6:$O$100,4,FALSE)&VLOOKUP($D55&\"@9\",'中間シート（個人）'!$F$6:$O$100,5,FALSE)),\"\",VLOOKUP($D55&\"@9\",'中間シート（個人）'!$F$6:$O$100,4,FALSE)&VLOOKUP($D55&\"@9\",'中間シート（個人）'!$F$6:$O$100,5,FALSE))","v":""},{"$f":"IF(ISERROR(VLOOKUP($D55&\"@9\",'中間シート（個人）'!$F$6:$O$100,6,FALSE)&VLOOKUP($D55&\"@9\",'中間シート（個人）'!$F$6:$O$100,7,FALSE)&\".\"&VLOOKUP($D55&\"@9\",'中間シート（個人）'!$F$6:$O$100,8,FALSE)),\"\",VLOOKUP($D55&\"@9\",'中間シート（個人）'!$F$6:$O$100,6,FALSE)&VLOOKUP($D55&\"@9\",'中間シート（個人）'!$F$6:$O$100,7,FALSE)&\".\"&VLOOKUP($D55&\"@9\",'中間シート（個人）'!$F$6:$O$100,8,FALSE))","v":""},{"$f":"IF(ISERROR(VLOOKUP($D55&\"@10\",'中間シート（個人）'!$F$6:$O$100,4,FALSE)&VLOOKUP($D55&\"@10\",'中間シート（個人）'!$F$6:$O$100,5,FALSE)),\"\",VLOOKUP($D55&\"@10\",'中間シート（個人）'!$F$6:$O$100,4,FALSE)&VLOOKUP($D55&\"@10\",'中間シート（個人）'!$F$6:$O$100,5,FALSE))","v":""},{"$f":"IF(ISERROR(VLOOKUP($D55&\"@10\",'中間シート（個人）'!$F$6:$O$100,6,FALSE)&VLOOKUP($D55&\"@10\",'中間シート（個人）'!$F$6:$O$100,7,FALSE)&\".\"&VLOOKUP($D55&\"@10\",'中間シート（個人）'!$F$6:$O$100,8,FALSE)),\"\",VLOOKUP($D55&\"@10\",'中間シート（個人）'!$F$6:$O$100,6,FALSE)&VLOOKUP($D55&\"@10\",'中間シート（個人）'!$F$6:$O$100,7,FALSE)&\".\"&VLOOKUP($D55&\"@10\",'中間シート（個人）'!$F$6:$O$100,8,FALSE))","v":""}]
[null,null,{"$f":"IF('中間シート（個人）'!D58=\"○\",\"\",VLOOKUP(個人種目!F58,コード一覧!$A$2:$B$3,2,FALSE))","v":""},{"$f":"IF('中間シート（個人）'!D58=\"○\",\"\",'中間シート（個人）'!C58)","v":""},{"$f":"IF('中間シート（個人）'!D58=\"○\",\"\",ASC(個人種目!D58&\" \"&個人種目!E58))","v":""},{"$f":"IF('中間シート（個人）'!D58=\"○\",\"\",個人種目!G58&IF(LEN(個人種目!H58)=1,\"0\"&個人種目!H58,個人種目!H58)&IF(LEN(個人種目!I58)=1,\"0\"&個人種目!I58,個人種目!I58))","v":""},{"$f":"IF('中間シート（個人）'!D58=\"○\",\"\",VLOOKUP(個人種目!$J58,コード一覧!$C$3:$D$6,2,FALSE))","v":""},{"$f":"IF('中間シート（個人）'!D58=\"○\",\"\",IF(個人種目!$J58=\"一般\",0,個人種目!$K58))","v":""},{"$f":"IF('中間シート（個人）'!D58=\"○\",\"\",'中間シート（個人）'!H58)","v":""},null,{"$f":"IF('中間シート（個人）'!D58=\"○\",\"\",個人種目!$L$1)","v":""},{"$f":"IF('中間シート（個人）'!D58=\"○\",\"\",ASC(申込書_コナミ!$S$9))","v":""},{"$f":"IF('中間シート（個人）'!D58=\"○\",\"\",申込書_コナミ!$E$8)","v":""},null,null,null,{"$f":"IF('中間シート（個人）'!D58=\"○\",\"\",4)","v":""},{"$f":"IF(ISERROR(VLOOKUP($D56&\"@1\",'中間シート（個人）'!$F$6:$O$100,4,FALSE)&VLOOKUP($D56&\"@1\",'中間シート（個人）'!$F$6:$O$100,5,FALSE)),\"\",VLOOKUP($D56&\"@1\",'中間シート（個人）'!$F$6:$O$100,4,FALSE)&VLOOKUP($D56&\"@1\",'中間シート（個人）'!$F$6:$O$100,5,FALSE))","v":""},{"$f":"IF(ISERROR(VLOOKUP($D56&\"@1\",'中間シート（個人）'!$F$6:$O$100,6,FALSE)&VLOOKUP($D56&\"@1\",'中間シート（個人）'!$F$6:$O$100,7,FALSE)&\".\"&VLOOKUP($D56&\"@1\",'中間シート（個人）'!$F$6:$O$100,8,FALSE)),\"\",VLOOKUP($D56&\"@1\",'中間シート（個人）'!$F$6:$O$100,6,FALSE)&VLOOKUP($D56&\"@1\",'中間シート（個人）'!$F$6:$O$100,7,FALSE)&\".\"&VLOOKUP($D56&\"@1\",'中間シート（個人）'!$F$6:$O$100,8,FALSE))","v":""},{"$f":"IF(ISERROR(VLOOKUP($D56&\"@2\",'中間シート（個人）'!$F$6:$O$100,4,FALSE)&VLOOKUP($D56&\"@2\",'中間シート（個人）'!$F$6:$O$100,5,FALSE)),\"\",VLOOKUP($D56&\"@2\",'中間シート（個人）'!$F$6:$O$100,4,FALSE)&VLOOKUP($D56&\"@2\",'中間シート（個人）'!$F$6:$O$100,5,FALSE))","v":""},{"$f":"IF(ISERROR(VLOOKUP($D56&\"@2\",'中間シート（個人）'!$F$6:$O$100,6,FALSE)&VLOOKUP($D56&\"@2\",'中間シート（個人）'!$F$6:$O$100,7,FALSE)&\".\"&VLOOKUP($D56&\"@2\",'中間シート（個人）'!$F$6:$O$100,8,FALSE)),\"\",VLOOKUP($D56&\"@2\",'中間シート（個人）'!$F$6:$O$100,6,FALSE)&VLOOKUP($D56&\"@2\",'中間シート（個人）'!$F$6:$O$100,7,FALSE)&\".\"&VLOOKUP($D56&\"@2\",'中間シート（個人）'!$F$6:$O$100,8,FALSE))","v":""},{"$f":"IF(ISERROR(VLOOKUP($D56&\"@3\",'中間シート（個人）'!$F$6:$O$100,4,FALSE)&VLOOKUP($D56&\"@3\",'中間シート（個人）'!$F$6:$O$100,5,FALSE)),\"\",VLOOKUP($D56&\"@3\",'中間シート（個人）'!$F$6:$O$100,4,FALSE)&VLOOKUP($D56&\"@3\",'中間シート（個人）'!$F$6:$O$100,5,FALSE))","v":""},{"$f":"IF(ISERROR(VLOOKUP($D56&\"@3\",'中間シート（個人）'!$F$6:$O$100,6,FALSE)&VLOOKUP($D56&\"@3\",'中間シート（個人）'!$F$6:$O$100,7,FALSE)&\".\"&VLOOKUP($D56&\"@3\",'中間シート（個人）'!$F$6:$O$100,8,FALSE)),\"\",VLOOKUP($D56&\"@3\",'中間シート（個人）'!$F$6:$O$100,6,FALSE)&VLOOKUP($D56&\"@3\",'中間シート（個人）'!$F$6:$O$100,7,FALSE)&\".\"&VLOOKUP($D56&\"@3\",'中間シート（個人）'!$F$6:$O$100,8,FALSE))","v":""},{"$f":"IF(ISERROR(VLOOKUP($D56&\"@4\",'中間シート（個人）'!$F$6:$O$100,4,FALSE)&VLOOKUP($D56&\"@4\",'中間シート（個人）'!$F$6:$O$100,5,FALSE)),\"\",VLOOKUP($D56&\"@4\",'中間シート（個人）'!$F$6:$O$100,4,FALSE)&VLOOKUP($D56&\"@4\",'中間シート（個人）'!$F$6:$O$100,5,FALSE))","v":""},{"$f":"IF(ISERROR(VLOOKUP($D56&\"@4\",'中間シート（個人）'!$F$6:$O$100,6,FALSE)&VLOOKUP($D56&\"@4\",'中間シート（個人）'!$F$6:$O$100,7,FALSE)&\".\"&VLOOKUP($D56&\"@4\",'中間シート（個人）'!$F$6:$O$100,8,FALSE)),\"\",VLOOKUP($D56&\"@4\",'中間シート（個人）'!$F$6:$O$100,6,FALSE)&VLOOKUP($D56&\"@4\",'中間シート（個人）'!$F$6:$O$100,7,FALSE)&\".\"&VLOOKUP($D56&\"@4\",'中間シート（個人）'!$F$6:$O$100,8,FALSE))","v":""},{"$f":"IF(ISERROR(VLOOKUP($D56&\"@5\",'中間シート（個人）'!$F$6:$O$100,4,FALSE)&VLOOKUP($D56&\"@5\",'中間シート（個人）'!$F$6:$O$100,5,FALSE)),\"\",VLOOKUP($D56&\"@5\",'中間シート（個人）'!$F$6:$O$100,4,FALSE)&VLOOKUP($D56&\"@5\",'中間シート（個人）'!$F$6:$O$100,5,FALSE))","v":""},{"$f":"IF(ISERROR(VLOOKUP($D56&\"@5\",'中間シート（個人）'!$F$6:$O$100,6,FALSE)&VLOOKUP($D56&\"@5\",'中間シート（個人）'!$F$6:$O$100,7,FALSE)&\".\"&VLOOKUP($D56&\"@5\",'中間シート（個人）'!$F$6:$O$100,8,FALSE)),\"\",VLOOKUP($D56&\"@5\",'中間シート（個人）'!$F$6:$O$100,6,FALSE)&VLOOKUP($D56&\"@5\",'中間シート（個人）'!$F$6:$O$100,7,FALSE)&\".\"&VLOOKUP($D56&\"@5\",'中間シート（個人）'!$F$6:$O$100,8,FALSE))","v":""},{"$f":"IF(ISERROR(VLOOKUP($D56&\"@6\",'中間シート（個人）'!$F$6:$O$100,4,FALSE)&VLOOKUP($D56&\"@6\",'中間シート（個人）'!$F$6:$O$100,5,FALSE)),\"\",VLOOKUP($D56&\"@6\",'中間シート（個人）'!$F$6:$O$100,4,FALSE)&VLOOKUP($D56&\"@6\",'中間シート（個人）'!$F$6:$O$100,5,FALSE))","v":""},{"$f":"IF(ISERROR(VLOOKUP($D56&\"@6\",'中間シート（個人）'!$F$6:$O$100,6,FALSE)&VLOOKUP($D56&\"@6\",'中間シート（個人）'!$F$6:$O$100,7,FALSE)&\".\"&VLOOKUP($D56&\"@6\",'中間シート（個人）'!$F$6:$O$100,8,FALSE)),\"\",VLOOKUP($D56&\"@6\",'中間シート（個人）'!$F$6:$O$100,6,FALSE)&VLOOKUP($D56&\"@6\",'中間シート（個人）'!$F$6:$O$100,7,FALSE)&\".\"&VLOOKUP($D56&\"@6\",'中間シート（個人）'!$F$6:$O$100,8,FALSE))","v":""},{"$f":"IF(ISERROR(VLOOKUP($D56&\"@7\",'中間シート（個人）'!$F$6:$O$100,4,FALSE)&VLOOKUP($D56&\"@7\",'中間シート（個人）'!$F$6:$O$100,5,FALSE)),\"\",VLOOKUP($D56&\"@7\",'中間シート（個人）'!$F$6:$O$100,4,FALSE)&VLOOKUP($D56&\"@7\",'中間シート（個人）'!$F$6:$O$100,5,FALSE))","v":""},{"$f":"IF(ISERROR(VLOOKUP($D56&\"@7\",'中間シート（個人）'!$F$6:$O$100,6,FALSE)&VLOOKUP($D56&\"@7\",'中間シート（個人）'!$F$6:$O$100,7,FALSE)&\".\"&VLOOKUP($D56&\"@7\",'中間シート（個人）'!$F$6:$O$100,8,FALSE)),\"\",VLOOKUP($D56&\"@7\",'中間シート（個人）'!$F$6:$O$100,6,FALSE)&VLOOKUP($D56&\"@7\",'中間シート（個人）'!$F$6:$O$100,7,FALSE)&\".\"&VLOOKUP($D56&\"@7\",'中間シート（個人）'!$F$6:$O$100,8,FALSE))","v":""},{"$f":"IF(ISERROR(VLOOKUP($D56&\"@8\",'中間シート（個人）'!$F$6:$O$100,4,FALSE)&VLOOKUP($D56&\"@8\",'中間シート（個人）'!$F$6:$O$100,5,FALSE)),\"\",VLOOKUP($D56&\"@8\",'中間シート（個人）'!$F$6:$O$100,4,FALSE)&VLOOKUP($D56&\"@8\",'中間シート（個人）'!$F$6:$O$100,5,FALSE))","v":""},{"$f":"IF(ISERROR(VLOOKUP($D56&\"@8\",'中間シート（個人）'!$F$6:$O$100,6,FALSE)&VLOOKUP($D56&\"@8\",'中間シート（個人）'!$F$6:$O$100,7,FALSE)&\".\"&VLOOKUP($D56&\"@8\",'中間シート（個人）'!$F$6:$O$100,8,FALSE)),\"\",VLOOKUP($D56&\"@8\",'中間シート（個人）'!$F$6:$O$100,6,FALSE)&VLOOKUP($D56&\"@8\",'中間シート（個人）'!$F$6:$O$100,7,FALSE)&\".\"&VLOOKUP($D56&\"@8\",'中間シート（個人）'!$F$6:$O$100,8,FALSE))","v":""},{"$f":"IF(ISERROR(VLOOKUP($D56&\"@9\",'中間シート（個人）'!$F$6:$O$100,4,FALSE)&VLOOKUP($D56&\"@9\",'中間シート（個人）'!$F$6:$O$100,5,FALSE)),\"\",VLOOKUP($D56&\"@9\",'中間シート（個人）'!$F$6:$O$100,4,FALSE)&VLOOKUP($D56&\"@9\",'中間シート（個人）'!$F$6:$O$100,5,FALSE))","v":""},{"$f":"IF(ISERROR(VLOOKUP($D56&\"@9\",'中間シート（個人）'!$F$6:$O$100,6,FALSE)&VLOOKUP($D56&\"@9\",'中間シート（個人）'!$F$6:$O$100,7,FALSE)&\".\"&VLOOKUP($D56&\"@9\",'中間シート（個人）'!$F$6:$O$100,8,FALSE)),\"\",VLOOKUP($D56&\"@9\",'中間シート（個人）'!$F$6:$O$100,6,FALSE)&VLOOKUP($D56&\"@9\",'中間シート（個人）'!$F$6:$O$100,7,FALSE)&\".\"&VLOOKUP($D56&\"@9\",'中間シート（個人）'!$F$6:$O$100,8,FALSE))","v":""},{"$f":"IF(ISERROR(VLOOKUP($D56&\"@10\",'中間シート（個人）'!$F$6:$O$100,4,FALSE)&VLOOKUP($D56&\"@10\",'中間シート（個人）'!$F$6:$O$100,5,FALSE)),\"\",VLOOKUP($D56&\"@10\",'中間シート（個人）'!$F$6:$O$100,4,FALSE)&VLOOKUP($D56&\"@10\",'中間シート（個人）'!$F$6:$O$100,5,FALSE))","v":""},{"$f":"IF(ISERROR(VLOOKUP($D56&\"@10\",'中間シート（個人）'!$F$6:$O$100,6,FALSE)&VLOOKUP($D56&\"@10\",'中間シート（個人）'!$F$6:$O$100,7,FALSE)&\".\"&VLOOKUP($D56&\"@10\",'中間シート（個人）'!$F$6:$O$100,8,FALSE)),\"\",VLOOKUP($D56&\"@10\",'中間シート（個人）'!$F$6:$O$100,6,FALSE)&VLOOKUP($D56&\"@10\",'中間シート（個人）'!$F$6:$O$100,7,FALSE)&\".\"&VLOOKUP($D56&\"@10\",'中間シート（個人）'!$F$6:$O$100,8,FALSE))","v":""}]
[null,null,{"$f":"IF('中間シート（個人）'!D59=\"○\",\"\",VLOOKUP(個人種目!F59,コード一覧!$A$2:$B$3,2,FALSE))","v":""},{"$f":"IF('中間シート（個人）'!D59=\"○\",\"\",'中間シート（個人）'!C59)","v":""},{"$f":"IF('中間シート（個人）'!D59=\"○\",\"\",ASC(個人種目!D59&\" \"&個人種目!E59))","v":""},{"$f":"IF('中間シート（個人）'!D59=\"○\",\"\",個人種目!G59&IF(LEN(個人種目!H59)=1,\"0\"&個人種目!H59,個人種目!H59)&IF(LEN(個人種目!I59)=1,\"0\"&個人種目!I59,個人種目!I59))","v":""},{"$f":"IF('中間シート（個人）'!D59=\"○\",\"\",VLOOKUP(個人種目!$J59,コード一覧!$C$3:$D$6,2,FALSE))","v":""},{"$f":"IF('中間シート（個人）'!D59=\"○\",\"\",IF(個人種目!$J59=\"一般\",0,個人種目!$K59))","v":""},{"$f":"IF('中間シート（個人）'!D59=\"○\",\"\",'中間シート（個人）'!H59)","v":""},null,{"$f":"IF('中間シート（個人）'!D59=\"○\",\"\",個人種目!$L$1)","v":""},{"$f":"IF('中間シート（個人）'!D59=\"○\",\"\",ASC(申込書_コナミ!$S$9))","v":""},{"$f":"IF('中間シート（個人）'!D59=\"○\",\"\",申込書_コナミ!$E$8)","v":""},null,null,null,{"$f":"IF('中間シート（個人）'!D59=\"○\",\"\",4)","v":""},{"$f":"IF(ISERROR(VLOOKUP($D57&\"@1\",'中間シート（個人）'!$F$6:$O$100,4,FALSE)&VLOOKUP($D57&\"@1\",'中間シート（個人）'!$F$6:$O$100,5,FALSE)),\"\",VLOOKUP($D57&\"@1\",'中間シート（個人）'!$F$6:$O$100,4,FALSE)&VLOOKUP($D57&\"@1\",'中間シート（個人）'!$F$6:$O$100,5,FALSE))","v":""},{"$f":"IF(ISERROR(VLOOKUP($D57&\"@1\",'中間シート（個人）'!$F$6:$O$100,6,FALSE)&VLOOKUP($D57&\"@1\",'中間シート（個人）'!$F$6:$O$100,7,FALSE)&\".\"&VLOOKUP($D57&\"@1\",'中間シート（個人）'!$F$6:$O$100,8,FALSE)),\"\",VLOOKUP($D57&\"@1\",'中間シート（個人）'!$F$6:$O$100,6,FALSE)&VLOOKUP($D57&\"@1\",'中間シート（個人）'!$F$6:$O$100,7,FALSE)&\".\"&VLOOKUP($D57&\"@1\",'中間シート（個人）'!$F$6:$O$100,8,FALSE))","v":""},{"$f":"IF(ISERROR(VLOOKUP($D57&\"@2\",'中間シート（個人）'!$F$6:$O$100,4,FALSE)&VLOOKUP($D57&\"@2\",'中間シート（個人）'!$F$6:$O$100,5,FALSE)),\"\",VLOOKUP($D57&\"@2\",'中間シート（個人）'!$F$6:$O$100,4,FALSE)&VLOOKUP($D57&\"@2\",'中間シート（個人）'!$F$6:$O$100,5,FALSE))","v":""},{"$f":"IF(ISERROR(VLOOKUP($D57&\"@2\",'中間シート（個人）'!$F$6:$O$100,6,FALSE)&VLOOKUP($D57&\"@2\",'中間シート（個人）'!$F$6:$O$100,7,FALSE)&\".\"&VLOOKUP($D57&\"@2\",'中間シート（個人）'!$F$6:$O$100,8,FALSE)),\"\",VLOOKUP($D57&\"@2\",'中間シート（個人）'!$F$6:$O$100,6,FALSE)&VLOOKUP($D57&\"@2\",'中間シート（個人）'!$F$6:$O$100,7,FALSE)&\".\"&VLOOKUP($D57&\"@2\",'中間シート（個人）'!$F$6:$O$100,8,FALSE))","v":""},{"$f":"IF(ISERROR(VLOOKUP($D57&\"@3\",'中間シート（個人）'!$F$6:$O$100,4,FALSE)&VLOOKUP($D57&\"@3\",'中間シート（個人）'!$F$6:$O$100,5,FALSE)),\"\",VLOOKUP($D57&\"@3\",'中間シート（個人）'!$F$6:$O$100,4,FALSE)&VLOOKUP($D57&\"@3\",'中間シート（個人）'!$F$6:$O$100,5,FALSE))","v":""},{"$f":"IF(ISERROR(VLOOKUP($D57&\"@3\",'中間シート（個人）'!$F$6:$O$100,6,FALSE)&VLOOKUP($D57&\"@3\",'中間シート（個人）'!$F$6:$O$100,7,FALSE)&\".\"&VLOOKUP($D57&\"@3\",'中間シート（個人）'!$F$6:$O$100,8,FALSE)),\"\",VLOOKUP($D57&\"@3\",'中間シート（個人）'!$F$6:$O$100,6,FALSE)&VLOOKUP($D57&\"@3\",'中間シート（個人）'!$F$6:$O$100,7,FALSE)&\".\"&VLOOKUP($D57&\"@3\",'中間シート（個人）'!$F$6:$O$100,8,FALSE))","v":""},{"$f":"IF(ISERROR(VLOOKUP($D57&\"@4\",'中間シート（個人）'!$F$6:$O$100,4,FALSE)&VLOOKUP($D57&\"@4\",'中間シート（個人）'!$F$6:$O$100,5,FALSE)),\"\",VLOOKUP($D57&\"@4\",'中間シート（個人）'!$F$6:$O$100,4,FALSE)&VLOOKUP($D57&\"@4\",'中間シート（個人）'!$F$6:$O$100,5,FALSE))","v":""},{"$f":"IF(ISERROR(VLOOKUP($D57&\"@4\",'中間シート（個人）'!$F$6:$O$100,6,FALSE)&VLOOKUP($D57&\"@4\",'中間シート（個人）'!$F$6:$O$100,7,FALSE)&\".\"&VLOOKUP($D57&\"@4\",'中間シート（個人）'!$F$6:$O$100,8,FALSE)),\"\",VLOOKUP($D57&\"@4\",'中間シート（個人）'!$F$6:$O$100,6,FALSE)&VLOOKUP($D57&\"@4\",'中間シート（個人）'!$F$6:$O$100,7,FALSE)&\".\"&VLOOKUP($D57&\"@4\",'中間シート（個人）'!$F$6:$O$100,8,FALSE))","v":""},{"$f":"IF(ISERROR(VLOOKUP($D57&\"@5\",'中間シート（個人）'!$F$6:$O$100,4,FALSE)&VLOOKUP($D57&\"@5\",'中間シート（個人）'!$F$6:$O$100,5,FALSE)),\"\",VLOOKUP($D57&\"@5\",'中間シート（個人）'!$F$6:$O$100,4,FALSE)&VLOOKUP($D57&\"@5\",'中間シート（個人）'!$F$6:$O$100,5,FALSE))","v":""},{"$f":"IF(ISERROR(VLOOKUP($D57&\"@5\",'中間シート（個人）'!$F$6:$O$100,6,FALSE)&VLOOKUP($D57&\"@5\",'中間シート（個人）'!$F$6:$O$100,7,FALSE)&\".\"&VLOOKUP($D57&\"@5\",'中間シート（個人）'!$F$6:$O$100,8,FALSE)),\"\",VLOOKUP($D57&\"@5\",'中間シート（個人）'!$F$6:$O$100,6,FALSE)&VLOOKUP($D57&\"@5\",'中間シート（個人）'!$F$6:$O$100,7,FALSE)&\".\"&VLOOKUP($D57&\"@5\",'中間シート（個人）'!$F$6:$O$100,8,FALSE))","v":""},{"$f":"IF(ISERROR(VLOOKUP($D57&\"@6\",'中間シート（個人）'!$F$6:$O$100,4,FALSE)&VLOOKUP($D57&\"@6\",'中間シート（個人）'!$F$6:$O$100,5,FALSE)),\"\",VLOOKUP($D57&\"@6\",'中間シート（個人）'!$F$6:$O$100,4,FALSE)&VLOOKUP($D57&\"@6\",'中間シート（個人）'!$F$6:$O$100,5,FALSE))","v":""},{"$f":"IF(ISERROR(VLOOKUP($D57&\"@6\",'中間シート（個人）'!$F$6:$O$100,6,FALSE)&VLOOKUP($D57&\"@6\",'中間シート（個人）'!$F$6:$O$100,7,FALSE)&\".\"&VLOOKUP($D57&\"@6\",'中間シート（個人）'!$F$6:$O$100,8,FALSE)),\"\",VLOOKUP($D57&\"@6\",'中間シート（個人）'!$F$6:$O$100,6,FALSE)&VLOOKUP($D57&\"@6\",'中間シート（個人）'!$F$6:$O$100,7,FALSE)&\".\"&VLOOKUP($D57&\"@6\",'中間シート（個人）'!$F$6:$O$100,8,FALSE))","v":""},{"$f":"IF(ISERROR(VLOOKUP($D57&\"@7\",'中間シート（個人）'!$F$6:$O$100,4,FALSE)&VLOOKUP($D57&\"@7\",'中間シート（個人）'!$F$6:$O$100,5,FALSE)),\"\",VLOOKUP($D57&\"@7\",'中間シート（個人）'!$F$6:$O$100,4,FALSE)&VLOOKUP($D57&\"@7\",'中間シート（個人）'!$F$6:$O$100,5,FALSE))","v":""},{"$f":"IF(ISERROR(VLOOKUP($D57&\"@7\",'中間シート（個人）'!$F$6:$O$100,6,FALSE)&VLOOKUP($D57&\"@7\",'中間シート（個人）'!$F$6:$O$100,7,FALSE)&\".\"&VLOOKUP($D57&\"@7\",'中間シート（個人）'!$F$6:$O$100,8,FALSE)),\"\",VLOOKUP($D57&\"@7\",'中間シート（個人）'!$F$6:$O$100,6,FALSE)&VLOOKUP($D57&\"@7\",'中間シート（個人）'!$F$6:$O$100,7,FALSE)&\".\"&VLOOKUP($D57&\"@7\",'中間シート（個人）'!$F$6:$O$100,8,FALSE))","v":""},{"$f":"IF(ISERROR(VLOOKUP($D57&\"@8\",'中間シート（個人）'!$F$6:$O$100,4,FALSE)&VLOOKUP($D57&\"@8\",'中間シート（個人）'!$F$6:$O$100,5,FALSE)),\"\",VLOOKUP($D57&\"@8\",'中間シート（個人）'!$F$6:$O$100,4,FALSE)&VLOOKUP($D57&\"@8\",'中間シート（個人）'!$F$6:$O$100,5,FALSE))","v":""},{"$f":"IF(ISERROR(VLOOKUP($D57&\"@8\",'中間シート（個人）'!$F$6:$O$100,6,FALSE)&VLOOKUP($D57&\"@8\",'中間シート（個人）'!$F$6:$O$100,7,FALSE)&\".\"&VLOOKUP($D57&\"@8\",'中間シート（個人）'!$F$6:$O$100,8,FALSE)),\"\",VLOOKUP($D57&\"@8\",'中間シート（個人）'!$F$6:$O$100,6,FALSE)&VLOOKUP($D57&\"@8\",'中間シート（個人）'!$F$6:$O$100,7,FALSE)&\".\"&VLOOKUP($D57&\"@8\",'中間シート（個人）'!$F$6:$O$100,8,FALSE))","v":""},{"$f":"IF(ISERROR(VLOOKUP($D57&\"@9\",'中間シート（個人）'!$F$6:$O$100,4,FALSE)&VLOOKUP($D57&\"@9\",'中間シート（個人）'!$F$6:$O$100,5,FALSE)),\"\",VLOOKUP($D57&\"@9\",'中間シート（個人）'!$F$6:$O$100,4,FALSE)&VLOOKUP($D57&\"@9\",'中間シート（個人）'!$F$6:$O$100,5,FALSE))","v":""},{"$f":"IF(ISERROR(VLOOKUP($D57&\"@9\",'中間シート（個人）'!$F$6:$O$100,6,FALSE)&VLOOKUP($D57&\"@9\",'中間シート（個人）'!$F$6:$O$100,7,FALSE)&\".\"&VLOOKUP($D57&\"@9\",'中間シート（個人）'!$F$6:$O$100,8,FALSE)),\"\",VLOOKUP($D57&\"@9\",'中間シート（個人）'!$F$6:$O$100,6,FALSE)&VLOOKUP($D57&\"@9\",'中間シート（個人）'!$F$6:$O$100,7,FALSE)&\".\"&VLOOKUP($D57&\"@9\",'中間シート（個人）'!$F$6:$O$100,8,FALSE))","v":""},{"$f":"IF(ISERROR(VLOOKUP($D57&\"@10\",'中間シート（個人）'!$F$6:$O$100,4,FALSE)&VLOOKUP($D57&\"@10\",'中間シート（個人）'!$F$6:$O$100,5,FALSE)),\"\",VLOOKUP($D57&\"@10\",'中間シート（個人）'!$F$6:$O$100,4,FALSE)&VLOOKUP($D57&\"@10\",'中間シート（個人）'!$F$6:$O$100,5,FALSE))","v":""},{"$f":"IF(ISERROR(VLOOKUP($D57&\"@10\",'中間シート（個人）'!$F$6:$O$100,6,FALSE)&VLOOKUP($D57&\"@10\",'中間シート（個人）'!$F$6:$O$100,7,FALSE)&\".\"&VLOOKUP($D57&\"@10\",'中間シート（個人）'!$F$6:$O$100,8,FALSE)),\"\",VLOOKUP($D57&\"@10\",'中間シート（個人）'!$F$6:$O$100,6,FALSE)&VLOOKUP($D57&\"@10\",'中間シート（個人）'!$F$6:$O$100,7,FALSE)&\".\"&VLOOKUP($D57&\"@10\",'中間シート（個人）'!$F$6:$O$100,8,FALSE))","v":""}]
[null,null,{"$f":"IF('中間シート（個人）'!D60=\"○\",\"\",VLOOKUP(個人種目!F60,コード一覧!$A$2:$B$3,2,FALSE))","v":""},{"$f":"IF('中間シート（個人）'!D60=\"○\",\"\",'中間シート（個人）'!C60)","v":""},{"$f":"IF('中間シート（個人）'!D60=\"○\",\"\",ASC(個人種目!D60&\" \"&個人種目!E60))","v":""},{"$f":"IF('中間シート（個人）'!D60=\"○\",\"\",個人種目!G60&IF(LEN(個人種目!H60)=1,\"0\"&個人種目!H60,個人種目!H60)&IF(LEN(個人種目!I60)=1,\"0\"&個人種目!I60,個人種目!I60))","v":""},{"$f":"IF('中間シート（個人）'!D60=\"○\",\"\",VLOOKUP(個人種目!$J60,コード一覧!$C$3:$D$6,2,FALSE))","v":""},{"$f":"IF('中間シート（個人）'!D60=\"○\",\"\",IF(個人種目!$J60=\"一般\",0,個人種目!$K60))","v":""},{"$f":"IF('中間シート（個人）'!D60=\"○\",\"\",'中間シート（個人）'!H60)","v":""},null,{"$f":"IF('中間シート（個人）'!D60=\"○\",\"\",個人種目!$L$1)","v":""},{"$f":"IF('中間シート（個人）'!D60=\"○\",\"\",ASC(申込書_コナミ!$S$9))","v":""},{"$f":"IF('中間シート（個人）'!D60=\"○\",\"\",申込書_コナミ!$E$8)","v":""},null,null,null,{"$f":"IF('中間シート（個人）'!D60=\"○\",\"\",4)","v":""},{"$f":"IF(ISERROR(VLOOKUP($D58&\"@1\",'中間シート（個人）'!$F$6:$O$100,4,FALSE)&VLOOKUP($D58&\"@1\",'中間シート（個人）'!$F$6:$O$100,5,FALSE)),\"\",VLOOKUP($D58&\"@1\",'中間シート（個人）'!$F$6:$O$100,4,FALSE)&VLOOKUP($D58&\"@1\",'中間シート（個人）'!$F$6:$O$100,5,FALSE))","v":""},{"$f":"IF(ISERROR(VLOOKUP($D58&\"@1\",'中間シート（個人）'!$F$6:$O$100,6,FALSE)&VLOOKUP($D58&\"@1\",'中間シート（個人）'!$F$6:$O$100,7,FALSE)&\".\"&VLOOKUP($D58&\"@1\",'中間シート（個人）'!$F$6:$O$100,8,FALSE)),\"\",VLOOKUP($D58&\"@1\",'中間シート（個人）'!$F$6:$O$100,6,FALSE)&VLOOKUP($D58&\"@1\",'中間シート（個人）'!$F$6:$O$100,7,FALSE)&\".\"&VLOOKUP($D58&\"@1\",'中間シート（個人）'!$F$6:$O$100,8,FALSE))","v":""},{"$f":"IF(ISERROR(VLOOKUP($D58&\"@2\",'中間シート（個人）'!$F$6:$O$100,4,FALSE)&VLOOKUP($D58&\"@2\",'中間シート（個人）'!$F$6:$O$100,5,FALSE)),\"\",VLOOKUP($D58&\"@2\",'中間シート（個人）'!$F$6:$O$100,4,FALSE)&VLOOKUP($D58&\"@2\",'中間シート（個人）'!$F$6:$O$100,5,FALSE))","v":""},{"$f":"IF(ISERROR(VLOOKUP($D58&\"@2\",'中間シート（個人）'!$F$6:$O$100,6,FALSE)&VLOOKUP($D58&\"@2\",'中間シート（個人）'!$F$6:$O$100,7,FALSE)&\".\"&VLOOKUP($D58&\"@2\",'中間シート（個人）'!$F$6:$O$100,8,FALSE)),\"\",VLOOKUP($D58&\"@2\",'中間シート（個人）'!$F$6:$O$100,6,FALSE)&VLOOKUP($D58&\"@2\",'中間シート（個人）'!$F$6:$O$100,7,FALSE)&\".\"&VLOOKUP($D58&\"@2\",'中間シート（個人）'!$F$6:$O$100,8,FALSE))","v":""},{"$f":"IF(ISERROR(VLOOKUP($D58&\"@3\",'中間シート（個人）'!$F$6:$O$100,4,FALSE)&VLOOKUP($D58&\"@3\",'中間シート（個人）'!$F$6:$O$100,5,FALSE)),\"\",VLOOKUP($D58&\"@3\",'中間シート（個人）'!$F$6:$O$100,4,FALSE)&VLOOKUP($D58&\"@3\",'中間シート（個人）'!$F$6:$O$100,5,FALSE))","v":""},{"$f":"IF(ISERROR(VLOOKUP($D58&\"@3\",'中間シート（個人）'!$F$6:$O$100,6,FALSE)&VLOOKUP($D58&\"@3\",'中間シート（個人）'!$F$6:$O$100,7,FALSE)&\".\"&VLOOKUP($D58&\"@3\",'中間シート（個人）'!$F$6:$O$100,8,FALSE)),\"\",VLOOKUP($D58&\"@3\",'中間シート（個人）'!$F$6:$O$100,6,FALSE)&VLOOKUP($D58&\"@3\",'中間シート（個人）'!$F$6:$O$100,7,FALSE)&\".\"&VLOOKUP($D58&\"@3\",'中間シート（個人）'!$F$6:$O$100,8,FALSE))","v":""},{"$f":"IF(ISERROR(VLOOKUP($D58&\"@4\",'中間シート（個人）'!$F$6:$O$100,4,FALSE)&VLOOKUP($D58&\"@4\",'中間シート（個人）'!$F$6:$O$100,5,FALSE)),\"\",VLOOKUP($D58&\"@4\",'中間シート（個人）'!$F$6:$O$100,4,FALSE)&VLOOKUP($D58&\"@4\",'中間シート（個人）'!$F$6:$O$100,5,FALSE))","v":""},{"$f":"IF(ISERROR(VLOOKUP($D58&\"@4\",'中間シート（個人）'!$F$6:$O$100,6,FALSE)&VLOOKUP($D58&\"@4\",'中間シート（個人）'!$F$6:$O$100,7,FALSE)&\".\"&VLOOKUP($D58&\"@4\",'中間シート（個人）'!$F$6:$O$100,8,FALSE)),\"\",VLOOKUP($D58&\"@4\",'中間シート（個人）'!$F$6:$O$100,6,FALSE)&VLOOKUP($D58&\"@4\",'中間シート（個人）'!$F$6:$O$100,7,FALSE)&\".\"&VLOOKUP($D58&\"@4\",'中間シート（個人）'!$F$6:$O$100,8,FALSE))","v":""},{"$f":"IF(ISERROR(VLOOKUP($D58&\"@5\",'中間シート（個人）'!$F$6:$O$100,4,FALSE)&VLOOKUP($D58&\"@5\",'中間シート（個人）'!$F$6:$O$100,5,FALSE)),\"\",VLOOKUP($D58&\"@5\",'中間シート（個人）'!$F$6:$O$100,4,FALSE)&VLOOKUP($D58&\"@5\",'中間シート（個人）'!$F$6:$O$100,5,FALSE))","v":""},{"$f":"IF(ISERROR(VLOOKUP($D58&\"@5\",'中間シート（個人）'!$F$6:$O$100,6,FALSE)&VLOOKUP($D58&\"@5\",'中間シート（個人）'!$F$6:$O$100,7,FALSE)&\".\"&VLOOKUP($D58&\"@5\",'中間シート（個人）'!$F$6:$O$100,8,FALSE)),\"\",VLOOKUP($D58&\"@5\",'中間シート（個人）'!$F$6:$O$100,6,FALSE)&VLOOKUP($D58&\"@5\",'中間シート（個人）'!$F$6:$O$100,7,FALSE)&\".\"&VLOOKUP($D58&\"@5\",'中間シート（個人）'!$F$6:$O$100,8,FALSE))","v":""},{"$f":"IF(ISERROR(VLOOKUP($D58&\"@6\",'中間シート（個人）'!$F$6:$O$100,4,FALSE)&VLOOKUP($D58&\"@6\",'中間シート（個人）'!$F$6:$O$100,5,FALSE)),\"\",VLOOKUP($D58&\"@6\",'中間シート（個人）'!$F$6:$O$100,4,FALSE)&VLOOKUP($D58&\"@6\",'中間シート（個人）'!$F$6:$O$100,5,FALSE))","v":""},{"$f":"IF(ISERROR(VLOOKUP($D58&\"@6\",'中間シート（個人）'!$F$6:$O$100,6,FALSE)&VLOOKUP($D58&\"@6\",'中間シート（個人）'!$F$6:$O$100,7,FALSE)&\".\"&VLOOKUP($D58&\"@6\",'中間シート（個人）'!$F$6:$O$100,8,FALSE)),\"\",VLOOKUP($D58&\"@6\",'中間シート（個人）'!$F$6:$O$100,6,FALSE)&VLOOKUP($D58&\"@6\",'中間シート（個人）'!$F$6:$O$100,7,FALSE)&\".\"&VLOOKUP($D58&\"@6\",'中間シート（個人）'!$F$6:$O$100,8,FALSE))","v":""},{"$f":"IF(ISERROR(VLOOKUP($D58&\"@7\",'中間シート（個人）'!$F$6:$O$100,4,FALSE)&VLOOKUP($D58&\"@7\",'中間シート（個人）'!$F$6:$O$100,5,FALSE)),\"\",VLOOKUP($D58&\"@7\",'中間シート（個人）'!$F$6:$O$100,4,FALSE)&VLOOKUP($D58&\"@7\",'中間シート（個人）'!$F$6:$O$100,5,FALSE))","v":""},{"$f":"IF(ISERROR(VLOOKUP($D58&\"@7\",'中間シート（個人）'!$F$6:$O$100,6,FALSE)&VLOOKUP($D58&\"@7\",'中間シート（個人）'!$F$6:$O$100,7,FALSE)&\".\"&VLOOKUP($D58&\"@7\",'中間シート（個人）'!$F$6:$O$100,8,FALSE)),\"\",VLOOKUP($D58&\"@7\",'中間シート（個人）'!$F$6:$O$100,6,FALSE)&VLOOKUP($D58&\"@7\",'中間シート（個人）'!$F$6:$O$100,7,FALSE)&\".\"&VLOOKUP($D58&\"@7\",'中間シート（個人）'!$F$6:$O$100,8,FALSE))","v":""},{"$f":"IF(ISERROR(VLOOKUP($D58&\"@8\",'中間シート（個人）'!$F$6:$O$100,4,FALSE)&VLOOKUP($D58&\"@8\",'中間シート（個人）'!$F$6:$O$100,5,FALSE)),\"\",VLOOKUP($D58&\"@8\",'中間シート（個人）'!$F$6:$O$100,4,FALSE)&VLOOKUP($D58&\"@8\",'中間シート（個人）'!$F$6:$O$100,5,FALSE))","v":""},{"$f":"IF(ISERROR(VLOOKUP($D58&\"@8\",'中間シート（個人）'!$F$6:$O$100,6,FALSE)&VLOOKUP($D58&\"@8\",'中間シート（個人）'!$F$6:$O$100,7,FALSE)&\".\"&VLOOKUP($D58&\"@8\",'中間シート（個人）'!$F$6:$O$100,8,FALSE)),\"\",VLOOKUP($D58&\"@8\",'中間シート（個人）'!$F$6:$O$100,6,FALSE)&VLOOKUP($D58&\"@8\",'中間シート（個人）'!$F$6:$O$100,7,FALSE)&\".\"&VLOOKUP($D58&\"@8\",'中間シート（個人）'!$F$6:$O$100,8,FALSE))","v":""},{"$f":"IF(ISERROR(VLOOKUP($D58&\"@9\",'中間シート（個人）'!$F$6:$O$100,4,FALSE)&VLOOKUP($D58&\"@9\",'中間シート（個人）'!$F$6:$O$100,5,FALSE)),\"\",VLOOKUP($D58&\"@9\",'中間シート（個人）'!$F$6:$O$100,4,FALSE)&VLOOKUP($D58&\"@9\",'中間シート（個人）'!$F$6:$O$100,5,FALSE))","v":""},{"$f":"IF(ISERROR(VLOOKUP($D58&\"@9\",'中間シート（個人）'!$F$6:$O$100,6,FALSE)&VLOOKUP($D58&\"@9\",'中間シート（個人）'!$F$6:$O$100,7,FALSE)&\".\"&VLOOKUP($D58&\"@9\",'中間シート（個人）'!$F$6:$O$100,8,FALSE)),\"\",VLOOKUP($D58&\"@9\",'中間シート（個人）'!$F$6:$O$100,6,FALSE)&VLOOKUP($D58&\"@9\",'中間シート（個人）'!$F$6:$O$100,7,FALSE)&\".\"&VLOOKUP($D58&\"@9\",'中間シート（個人）'!$F$6:$O$100,8,FALSE))","v":""},{"$f":"IF(ISERROR(VLOOKUP($D58&\"@10\",'中間シート（個人）'!$F$6:$O$100,4,FALSE)&VLOOKUP($D58&\"@10\",'中間シート（個人）'!$F$6:$O$100,5,FALSE)),\"\",VLOOKUP($D58&\"@10\",'中間シート（個人）'!$F$6:$O$100,4,FALSE)&VLOOKUP($D58&\"@10\",'中間シート（個人）'!$F$6:$O$100,5,FALSE))","v":""},{"$f":"IF(ISERROR(VLOOKUP($D58&\"@10\",'中間シート（個人）'!$F$6:$O$100,6,FALSE)&VLOOKUP($D58&\"@10\",'中間シート（個人）'!$F$6:$O$100,7,FALSE)&\".\"&VLOOKUP($D58&\"@10\",'中間シート（個人）'!$F$6:$O$100,8,FALSE)),\"\",VLOOKUP($D58&\"@10\",'中間シート（個人）'!$F$6:$O$100,6,FALSE)&VLOOKUP($D58&\"@10\",'中間シート（個人）'!$F$6:$O$100,7,FALSE)&\".\"&VLOOKUP($D58&\"@10\",'中間シート（個人）'!$F$6:$O$100,8,FALSE))","v":""}]
[null,null,{"$f":"IF('中間シート（個人）'!D61=\"○\",\"\",VLOOKUP(個人種目!F61,コード一覧!$A$2:$B$3,2,FALSE))","v":""},{"$f":"IF('中間シート（個人）'!D61=\"○\",\"\",'中間シート（個人）'!C61)","v":""},{"$f":"IF('中間シート（個人）'!D61=\"○\",\"\",ASC(個人種目!D61&\" \"&個人種目!E61))","v":""},{"$f":"IF('中間シート（個人）'!D61=\"○\",\"\",個人種目!G61&IF(LEN(個人種目!H61)=1,\"0\"&個人種目!H61,個人種目!H61)&IF(LEN(個人種目!I61)=1,\"0\"&個人種目!I61,個人種目!I61))","v":""},{"$f":"IF('中間シート（個人）'!D61=\"○\",\"\",VLOOKUP(個人種目!$J61,コード一覧!$C$3:$D$6,2,FALSE))","v":""},{"$f":"IF('中間シート（個人）'!D61=\"○\",\"\",IF(個人種目!$J61=\"一般\",0,個人種目!$K61))","v":""},{"$f":"IF('中間シート（個人）'!D61=\"○\",\"\",'中間シート（個人）'!H61)","v":""},null,{"$f":"IF('中間シート（個人）'!D61=\"○\",\"\",個人種目!$L$1)","v":""},{"$f":"IF('中間シート（個人）'!D61=\"○\",\"\",ASC(申込書_コナミ!$S$9))","v":""},{"$f":"IF('中間シート（個人）'!D61=\"○\",\"\",申込書_コナミ!$E$8)","v":""},null,null,null,{"$f":"IF('中間シート（個人）'!D61=\"○\",\"\",4)","v":""},{"$f":"IF(ISERROR(VLOOKUP($D59&\"@1\",'中間シート（個人）'!$F$6:$O$100,4,FALSE)&VLOOKUP($D59&\"@1\",'中間シート（個人）'!$F$6:$O$100,5,FALSE)),\"\",VLOOKUP($D59&\"@1\",'中間シート（個人）'!$F$6:$O$100,4,FALSE)&VLOOKUP($D59&\"@1\",'中間シート（個人）'!$F$6:$O$100,5,FALSE))","v":""},{"$f":"IF(ISERROR(VLOOKUP($D59&\"@1\",'中間シート（個人）'!$F$6:$O$100,6,FALSE)&VLOOKUP($D59&\"@1\",'中間シート（個人）'!$F$6:$O$100,7,FALSE)&\".\"&VLOOKUP($D59&\"@1\",'中間シート（個人）'!$F$6:$O$100,8,FALSE)),\"\",VLOOKUP($D59&\"@1\",'中間シート（個人）'!$F$6:$O$100,6,FALSE)&VLOOKUP($D59&\"@1\",'中間シート（個人）'!$F$6:$O$100,7,FALSE)&\".\"&VLOOKUP($D59&\"@1\",'中間シート（個人）'!$F$6:$O$100,8,FALSE))","v":""},{"$f":"IF(ISERROR(VLOOKUP($D59&\"@2\",'中間シート（個人）'!$F$6:$O$100,4,FALSE)&VLOOKUP($D59&\"@2\",'中間シート（個人）'!$F$6:$O$100,5,FALSE)),\"\",VLOOKUP($D59&\"@2\",'中間シート（個人）'!$F$6:$O$100,4,FALSE)&VLOOKUP($D59&\"@2\",'中間シート（個人）'!$F$6:$O$100,5,FALSE))","v":""},{"$f":"IF(ISERROR(VLOOKUP($D59&\"@2\",'中間シート（個人）'!$F$6:$O$100,6,FALSE)&VLOOKUP($D59&\"@2\",'中間シート（個人）'!$F$6:$O$100,7,FALSE)&\".\"&VLOOKUP($D59&\"@2\",'中間シート（個人）'!$F$6:$O$100,8,FALSE)),\"\",VLOOKUP($D59&\"@2\",'中間シート（個人）'!$F$6:$O$100,6,FALSE)&VLOOKUP($D59&\"@2\",'中間シート（個人）'!$F$6:$O$100,7,FALSE)&\".\"&VLOOKUP($D59&\"@2\",'中間シート（個人）'!$F$6:$O$100,8,FALSE))","v":""},{"$f":"IF(ISERROR(VLOOKUP($D59&\"@3\",'中間シート（個人）'!$F$6:$O$100,4,FALSE)&VLOOKUP($D59&\"@3\",'中間シート（個人）'!$F$6:$O$100,5,FALSE)),\"\",VLOOKUP($D59&\"@3\",'中間シート（個人）'!$F$6:$O$100,4,FALSE)&VLOOKUP($D59&\"@3\",'中間シート（個人）'!$F$6:$O$100,5,FALSE))","v":""},{"$f":"IF(ISERROR(VLOOKUP($D59&\"@3\",'中間シート（個人）'!$F$6:$O$100,6,FALSE)&VLOOKUP($D59&\"@3\",'中間シート（個人）'!$F$6:$O$100,7,FALSE)&\".\"&VLOOKUP($D59&\"@3\",'中間シート（個人）'!$F$6:$O$100,8,FALSE)),\"\",VLOOKUP($D59&\"@3\",'中間シート（個人）'!$F$6:$O$100,6,FALSE)&VLOOKUP($D59&\"@3\",'中間シート（個人）'!$F$6:$O$100,7,FALSE)&\".\"&VLOOKUP($D59&\"@3\",'中間シート（個人）'!$F$6:$O$100,8,FALSE))","v":""},{"$f":"IF(ISERROR(VLOOKUP($D59&\"@4\",'中間シート（個人）'!$F$6:$O$100,4,FALSE)&VLOOKUP($D59&\"@4\",'中間シート（個人）'!$F$6:$O$100,5,FALSE)),\"\",VLOOKUP($D59&\"@4\",'中間シート（個人）'!$F$6:$O$100,4,FALSE)&VLOOKUP($D59&\"@4\",'中間シート（個人）'!$F$6:$O$100,5,FALSE))","v":""},{"$f":"IF(ISERROR(VLOOKUP($D59&\"@4\",'中間シート（個人）'!$F$6:$O$100,6,FALSE)&VLOOKUP($D59&\"@4\",'中間シート（個人）'!$F$6:$O$100,7,FALSE)&\".\"&VLOOKUP($D59&\"@4\",'中間シート（個人）'!$F$6:$O$100,8,FALSE)),\"\",VLOOKUP($D59&\"@4\",'中間シート（個人）'!$F$6:$O$100,6,FALSE)&VLOOKUP($D59&\"@4\",'中間シート（個人）'!$F$6:$O$100,7,FALSE)&\".\"&VLOOKUP($D59&\"@4\",'中間シート（個人）'!$F$6:$O$100,8,FALSE))","v":""},{"$f":"IF(ISERROR(VLOOKUP($D59&\"@5\",'中間シート（個人）'!$F$6:$O$100,4,FALSE)&VLOOKUP($D59&\"@5\",'中間シート（個人）'!$F$6:$O$100,5,FALSE)),\"\",VLOOKUP($D59&\"@5\",'中間シート（個人）'!$F$6:$O$100,4,FALSE)&VLOOKUP($D59&\"@5\",'中間シート（個人）'!$F$6:$O$100,5,FALSE))","v":""},{"$f":"IF(ISERROR(VLOOKUP($D59&\"@5\",'中間シート（個人）'!$F$6:$O$100,6,FALSE)&VLOOKUP($D59&\"@5\",'中間シート（個人）'!$F$6:$O$100,7,FALSE)&\".\"&VLOOKUP($D59&\"@5\",'中間シート（個人）'!$F$6:$O$100,8,FALSE)),\"\",VLOOKUP($D59&\"@5\",'中間シート（個人）'!$F$6:$O$100,6,FALSE)&VLOOKUP($D59&\"@5\",'中間シート（個人）'!$F$6:$O$100,7,FALSE)&\".\"&VLOOKUP($D59&\"@5\",'中間シート（個人）'!$F$6:$O$100,8,FALSE))","v":""},{"$f":"IF(ISERROR(VLOOKUP($D59&\"@6\",'中間シート（個人）'!$F$6:$O$100,4,FALSE)&VLOOKUP($D59&\"@6\",'中間シート（個人）'!$F$6:$O$100,5,FALSE)),\"\",VLOOKUP($D59&\"@6\",'中間シート（個人）'!$F$6:$O$100,4,FALSE)&VLOOKUP($D59&\"@6\",'中間シート（個人）'!$F$6:$O$100,5,FALSE))","v":""},{"$f":"IF(ISERROR(VLOOKUP($D59&\"@6\",'中間シート（個人）'!$F$6:$O$100,6,FALSE)&VLOOKUP($D59&\"@6\",'中間シート（個人）'!$F$6:$O$100,7,FALSE)&\".\"&VLOOKUP($D59&\"@6\",'中間シート（個人）'!$F$6:$O$100,8,FALSE)),\"\",VLOOKUP($D59&\"@6\",'中間シート（個人）'!$F$6:$O$100,6,FALSE)&VLOOKUP($D59&\"@6\",'中間シート（個人）'!$F$6:$O$100,7,FALSE)&\".\"&VLOOKUP($D59&\"@6\",'中間シート（個人）'!$F$6:$O$100,8,FALSE))","v":""},{"$f":"IF(ISERROR(VLOOKUP($D59&\"@7\",'中間シート（個人）'!$F$6:$O$100,4,FALSE)&VLOOKUP($D59&\"@7\",'中間シート（個人）'!$F$6:$O$100,5,FALSE)),\"\",VLOOKUP($D59&\"@7\",'中間シート（個人）'!$F$6:$O$100,4,FALSE)&VLOOKUP($D59&\"@7\",'中間シート（個人）'!$F$6:$O$100,5,FALSE))","v":""},{"$f":"IF(ISERROR(VLOOKUP($D59&\"@7\",'中間シート（個人）'!$F$6:$O$100,6,FALSE)&VLOOKUP($D59&\"@7\",'中間シート（個人）'!$F$6:$O$100,7,FALSE)&\".\"&VLOOKUP($D59&\"@7\",'中間シート（個人）'!$F$6:$O$100,8,FALSE)),\"\",VLOOKUP($D59&\"@7\",'中間シート（個人）'!$F$6:$O$100,6,FALSE)&VLOOKUP($D59&\"@7\",'中間シート（個人）'!$F$6:$O$100,7,FALSE)&\".\"&VLOOKUP($D59&\"@7\",'中間シート（個人）'!$F$6:$O$100,8,FALSE))","v":""},{"$f":"IF(ISERROR(VLOOKUP($D59&\"@8\",'中間シート（個人）'!$F$6:$O$100,4,FALSE)&VLOOKUP($D59&\"@8\",'中間シート（個人）'!$F$6:$O$100,5,FALSE)),\"\",VLOOKUP($D59&\"@8\",'中間シート（個人）'!$F$6:$O$100,4,FALSE)&VLOOKUP($D59&\"@8\",'中間シート（個人）'!$F$6:$O$100,5,FALSE))","v":""},{"$f":"IF(ISERROR(VLOOKUP($D59&\"@8\",'中間シート（個人）'!$F$6:$O$100,6,FALSE)&VLOOKUP($D59&\"@8\",'中間シート（個人）'!$F$6:$O$100,7,FALSE)&\".\"&VLOOKUP($D59&\"@8\",'中間シート（個人）'!$F$6:$O$100,8,FALSE)),\"\",VLOOKUP($D59&\"@8\",'中間シート（個人）'!$F$6:$O$100,6,FALSE)&VLOOKUP($D59&\"@8\",'中間シート（個人）'!$F$6:$O$100,7,FALSE)&\".\"&VLOOKUP($D59&\"@8\",'中間シート（個人）'!$F$6:$O$100,8,FALSE))","v":""},{"$f":"IF(ISERROR(VLOOKUP($D59&\"@9\",'中間シート（個人）'!$F$6:$O$100,4,FALSE)&VLOOKUP($D59&\"@9\",'中間シート（個人）'!$F$6:$O$100,5,FALSE)),\"\",VLOOKUP($D59&\"@9\",'中間シート（個人）'!$F$6:$O$100,4,FALSE)&VLOOKUP($D59&\"@9\",'中間シート（個人）'!$F$6:$O$100,5,FALSE))","v":""},{"$f":"IF(ISERROR(VLOOKUP($D59&\"@9\",'中間シート（個人）'!$F$6:$O$100,6,FALSE)&VLOOKUP($D59&\"@9\",'中間シート（個人）'!$F$6:$O$100,7,FALSE)&\".\"&VLOOKUP($D59&\"@9\",'中間シート（個人）'!$F$6:$O$100,8,FALSE)),\"\",VLOOKUP($D59&\"@9\",'中間シート（個人）'!$F$6:$O$100,6,FALSE)&VLOOKUP($D59&\"@9\",'中間シート（個人）'!$F$6:$O$100,7,FALSE)&\".\"&VLOOKUP($D59&\"@9\",'中間シート（個人）'!$F$6:$O$100,8,FALSE))","v":""},{"$f":"IF(ISERROR(VLOOKUP($D59&\"@10\",'中間シート（個人）'!$F$6:$O$100,4,FALSE)&VLOOKUP($D59&\"@10\",'中間シート（個人）'!$F$6:$O$100,5,FALSE)),\"\",VLOOKUP($D59&\"@10\",'中間シート（個人）'!$F$6:$O$100,4,FALSE)&VLOOKUP($D59&\"@10\",'中間シート（個人）'!$F$6:$O$100,5,FALSE))","v":""},{"$f":"IF(ISERROR(VLOOKUP($D59&\"@10\",'中間シート（個人）'!$F$6:$O$100,6,FALSE)&VLOOKUP($D59&\"@10\",'中間シート（個人）'!$F$6:$O$100,7,FALSE)&\".\"&VLOOKUP($D59&\"@10\",'中間シート（個人）'!$F$6:$O$100,8,FALSE)),\"\",VLOOKUP($D59&\"@10\",'中間シート（個人）'!$F$6:$O$100,6,FALSE)&VLOOKUP($D59&\"@10\",'中間シート（個人）'!$F$6:$O$100,7,FALSE)&\".\"&VLOOKUP($D59&\"@10\",'中間シート（個人）'!$F$6:$O$100,8,FALSE))","v":""}]
[null,null,{"$f":"IF('中間シート（個人）'!D62=\"○\",\"\",VLOOKUP(個人種目!F62,コード一覧!$A$2:$B$3,2,FALSE))","v":""},{"$f":"IF('中間シート（個人）'!D62=\"○\",\"\",'中間シート（個人）'!C62)","v":""},{"$f":"IF('中間シート（個人）'!D62=\"○\",\"\",ASC(個人種目!D62&\" \"&個人種目!E62))","v":""},{"$f":"IF('中間シート（個人）'!D62=\"○\",\"\",個人種目!G62&IF(LEN(個人種目!H62)=1,\"0\"&個人種目!H62,個人種目!H62)&IF(LEN(個人種目!I62)=1,\"0\"&個人種目!I62,個人種目!I62))","v":""},{"$f":"IF('中間シート（個人）'!D62=\"○\",\"\",VLOOKUP(個人種目!$J62,コード一覧!$C$3:$D$6,2,FALSE))","v":""},{"$f":"IF('中間シート（個人）'!D62=\"○\",\"\",IF(個人種目!$J62=\"一般\",0,個人種目!$K62))","v":""},{"$f":"IF('中間シート（個人）'!D62=\"○\",\"\",'中間シート（個人）'!H62)","v":""},null,{"$f":"IF('中間シート（個人）'!D62=\"○\",\"\",個人種目!$L$1)","v":""},{"$f":"IF('中間シート（個人）'!D62=\"○\",\"\",ASC(申込書_コナミ!$S$9))","v":""},{"$f":"IF('中間シート（個人）'!D62=\"○\",\"\",申込書_コナミ!$E$8)","v":""},null,null,null,{"$f":"IF('中間シート（個人）'!D62=\"○\",\"\",4)","v":""},{"$f":"IF(ISERROR(VLOOKUP($D60&\"@1\",'中間シート（個人）'!$F$6:$O$100,4,FALSE)&VLOOKUP($D60&\"@1\",'中間シート（個人）'!$F$6:$O$100,5,FALSE)),\"\",VLOOKUP($D60&\"@1\",'中間シート（個人）'!$F$6:$O$100,4,FALSE)&VLOOKUP($D60&\"@1\",'中間シート（個人）'!$F$6:$O$100,5,FALSE))","v":""},{"$f":"IF(ISERROR(VLOOKUP($D60&\"@1\",'中間シート（個人）'!$F$6:$O$100,6,FALSE)&VLOOKUP($D60&\"@1\",'中間シート（個人）'!$F$6:$O$100,7,FALSE)&\".\"&VLOOKUP($D60&\"@1\",'中間シート（個人）'!$F$6:$O$100,8,FALSE)),\"\",VLOOKUP($D60&\"@1\",'中間シート（個人）'!$F$6:$O$100,6,FALSE)&VLOOKUP($D60&\"@1\",'中間シート（個人）'!$F$6:$O$100,7,FALSE)&\".\"&VLOOKUP($D60&\"@1\",'中間シート（個人）'!$F$6:$O$100,8,FALSE))","v":""},{"$f":"IF(ISERROR(VLOOKUP($D60&\"@2\",'中間シート（個人）'!$F$6:$O$100,4,FALSE)&VLOOKUP($D60&\"@2\",'中間シート（個人）'!$F$6:$O$100,5,FALSE)),\"\",VLOOKUP($D60&\"@2\",'中間シート（個人）'!$F$6:$O$100,4,FALSE)&VLOOKUP($D60&\"@2\",'中間シート（個人）'!$F$6:$O$100,5,FALSE))","v":""},{"$f":"IF(ISERROR(VLOOKUP($D60&\"@2\",'中間シート（個人）'!$F$6:$O$100,6,FALSE)&VLOOKUP($D60&\"@2\",'中間シート（個人）'!$F$6:$O$100,7,FALSE)&\".\"&VLOOKUP($D60&\"@2\",'中間シート（個人）'!$F$6:$O$100,8,FALSE)),\"\",VLOOKUP($D60&\"@2\",'中間シート（個人）'!$F$6:$O$100,6,FALSE)&VLOOKUP($D60&\"@2\",'中間シート（個人）'!$F$6:$O$100,7,FALSE)&\".\"&VLOOKUP($D60&\"@2\",'中間シート（個人）'!$F$6:$O$100,8,FALSE))","v":""},{"$f":"IF(ISERROR(VLOOKUP($D60&\"@3\",'中間シート（個人）'!$F$6:$O$100,4,FALSE)&VLOOKUP($D60&\"@3\",'中間シート（個人）'!$F$6:$O$100,5,FALSE)),\"\",VLOOKUP($D60&\"@3\",'中間シート（個人）'!$F$6:$O$100,4,FALSE)&VLOOKUP($D60&\"@3\",'中間シート（個人）'!$F$6:$O$100,5,FALSE))","v":""},{"$f":"IF(ISERROR(VLOOKUP($D60&\"@3\",'中間シート（個人）'!$F$6:$O$100,6,FALSE)&VLOOKUP($D60&\"@3\",'中間シート（個人）'!$F$6:$O$100,7,FALSE)&\".\"&VLOOKUP($D60&\"@3\",'中間シート（個人）'!$F$6:$O$100,8,FALSE)),\"\",VLOOKUP($D60&\"@3\",'中間シート（個人）'!$F$6:$O$100,6,FALSE)&VLOOKUP($D60&\"@3\",'中間シート（個人）'!$F$6:$O$100,7,FALSE)&\".\"&VLOOKUP($D60&\"@3\",'中間シート（個人）'!$F$6:$O$100,8,FALSE))","v":""},{"$f":"IF(ISERROR(VLOOKUP($D60&\"@4\",'中間シート（個人）'!$F$6:$O$100,4,FALSE)&VLOOKUP($D60&\"@4\",'中間シート（個人）'!$F$6:$O$100,5,FALSE)),\"\",VLOOKUP($D60&\"@4\",'中間シート（個人）'!$F$6:$O$100,4,FALSE)&VLOOKUP($D60&\"@4\",'中間シート（個人）'!$F$6:$O$100,5,FALSE))","v":""},{"$f":"IF(ISERROR(VLOOKUP($D60&\"@4\",'中間シート（個人）'!$F$6:$O$100,6,FALSE)&VLOOKUP($D60&\"@4\",'中間シート（個人）'!$F$6:$O$100,7,FALSE)&\".\"&VLOOKUP($D60&\"@4\",'中間シート（個人）'!$F$6:$O$100,8,FALSE)),\"\",VLOOKUP($D60&\"@4\",'中間シート（個人）'!$F$6:$O$100,6,FALSE)&VLOOKUP($D60&\"@4\",'中間シート（個人）'!$F$6:$O$100,7,FALSE)&\".\"&VLOOKUP($D60&\"@4\",'中間シート（個人）'!$F$6:$O$100,8,FALSE))","v":""},{"$f":"IF(ISERROR(VLOOKUP($D60&\"@5\",'中間シート（個人）'!$F$6:$O$100,4,FALSE)&VLOOKUP($D60&\"@5\",'中間シート（個人）'!$F$6:$O$100,5,FALSE)),\"\",VLOOKUP($D60&\"@5\",'中間シート（個人）'!$F$6:$O$100,4,FALSE)&VLOOKUP($D60&\"@5\",'中間シート（個人）'!$F$6:$O$100,5,FALSE))","v":""},{"$f":"IF(ISERROR(VLOOKUP($D60&\"@5\",'中間シート（個人）'!$F$6:$O$100,6,FALSE)&VLOOKUP($D60&\"@5\",'中間シート（個人）'!$F$6:$O$100,7,FALSE)&\".\"&VLOOKUP($D60&\"@5\",'中間シート（個人）'!$F$6:$O$100,8,FALSE)),\"\",VLOOKUP($D60&\"@5\",'中間シート（個人）'!$F$6:$O$100,6,FALSE)&VLOOKUP($D60&\"@5\",'中間シート（個人）'!$F$6:$O$100,7,FALSE)&\".\"&VLOOKUP($D60&\"@5\",'中間シート（個人）'!$F$6:$O$100,8,FALSE))","v":""},{"$f":"IF(ISERROR(VLOOKUP($D60&\"@6\",'中間シート（個人）'!$F$6:$O$100,4,FALSE)&VLOOKUP($D60&\"@6\",'中間シート（個人）'!$F$6:$O$100,5,FALSE)),\"\",VLOOKUP($D60&\"@6\",'中間シート（個人）'!$F$6:$O$100,4,FALSE)&VLOOKUP($D60&\"@6\",'中間シート（個人）'!$F$6:$O$100,5,FALSE))","v":""},{"$f":"IF(ISERROR(VLOOKUP($D60&\"@6\",'中間シート（個人）'!$F$6:$O$100,6,FALSE)&VLOOKUP($D60&\"@6\",'中間シート（個人）'!$F$6:$O$100,7,FALSE)&\".\"&VLOOKUP($D60&\"@6\",'中間シート（個人）'!$F$6:$O$100,8,FALSE)),\"\",VLOOKUP($D60&\"@6\",'中間シート（個人）'!$F$6:$O$100,6,FALSE)&VLOOKUP($D60&\"@6\",'中間シート（個人）'!$F$6:$O$100,7,FALSE)&\".\"&VLOOKUP($D60&\"@6\",'中間シート（個人）'!$F$6:$O$100,8,FALSE))","v":""},{"$f":"IF(ISERROR(VLOOKUP($D60&\"@7\",'中間シート（個人）'!$F$6:$O$100,4,FALSE)&VLOOKUP($D60&\"@7\",'中間シート（個人）'!$F$6:$O$100,5,FALSE)),\"\",VLOOKUP($D60&\"@7\",'中間シート（個人）'!$F$6:$O$100,4,FALSE)&VLOOKUP($D60&\"@7\",'中間シート（個人）'!$F$6:$O$100,5,FALSE))","v":""},{"$f":"IF(ISERROR(VLOOKUP($D60&\"@7\",'中間シート（個人）'!$F$6:$O$100,6,FALSE)&VLOOKUP($D60&\"@7\",'中間シート（個人）'!$F$6:$O$100,7,FALSE)&\".\"&VLOOKUP($D60&\"@7\",'中間シート（個人）'!$F$6:$O$100,8,FALSE)),\"\",VLOOKUP($D60&\"@7\",'中間シート（個人）'!$F$6:$O$100,6,FALSE)&VLOOKUP($D60&\"@7\",'中間シート（個人）'!$F$6:$O$100,7,FALSE)&\".\"&VLOOKUP($D60&\"@7\",'中間シート（個人）'!$F$6:$O$100,8,FALSE))","v":""},{"$f":"IF(ISERROR(VLOOKUP($D60&\"@8\",'中間シート（個人）'!$F$6:$O$100,4,FALSE)&VLOOKUP($D60&\"@8\",'中間シート（個人）'!$F$6:$O$100,5,FALSE)),\"\",VLOOKUP($D60&\"@8\",'中間シート（個人）'!$F$6:$O$100,4,FALSE)&VLOOKUP($D60&\"@8\",'中間シート（個人）'!$F$6:$O$100,5,FALSE))","v":""},{"$f":"IF(ISERROR(VLOOKUP($D60&\"@8\",'中間シート（個人）'!$F$6:$O$100,6,FALSE)&VLOOKUP($D60&\"@8\",'中間シート（個人）'!$F$6:$O$100,7,FALSE)&\".\"&VLOOKUP($D60&\"@8\",'中間シート（個人）'!$F$6:$O$100,8,FALSE)),\"\",VLOOKUP($D60&\"@8\",'中間シート（個人）'!$F$6:$O$100,6,FALSE)&VLOOKUP($D60&\"@8\",'中間シート（個人）'!$F$6:$O$100,7,FALSE)&\".\"&VLOOKUP($D60&\"@8\",'中間シート（個人）'!$F$6:$O$100,8,FALSE))","v":""},{"$f":"IF(ISERROR(VLOOKUP($D60&\"@9\",'中間シート（個人）'!$F$6:$O$100,4,FALSE)&VLOOKUP($D60&\"@9\",'中間シート（個人）'!$F$6:$O$100,5,FALSE)),\"\",VLOOKUP($D60&\"@9\",'中間シート（個人）'!$F$6:$O$100,4,FALSE)&VLOOKUP($D60&\"@9\",'中間シート（個人）'!$F$6:$O$100,5,FALSE))","v":""},{"$f":"IF(ISERROR(VLOOKUP($D60&\"@9\",'中間シート（個人）'!$F$6:$O$100,6,FALSE)&VLOOKUP($D60&\"@9\",'中間シート（個人）'!$F$6:$O$100,7,FALSE)&\".\"&VLOOKUP($D60&\"@9\",'中間シート（個人）'!$F$6:$O$100,8,FALSE)),\"\",VLOOKUP($D60&\"@9\",'中間シート（個人）'!$F$6:$O$100,6,FALSE)&VLOOKUP($D60&\"@9\",'中間シート（個人）'!$F$6:$O$100,7,FALSE)&\".\"&VLOOKUP($D60&\"@9\",'中間シート（個人）'!$F$6:$O$100,8,FALSE))","v":""},{"$f":"IF(ISERROR(VLOOKUP($D60&\"@10\",'中間シート（個人）'!$F$6:$O$100,4,FALSE)&VLOOKUP($D60&\"@10\",'中間シート（個人）'!$F$6:$O$100,5,FALSE)),\"\",VLOOKUP($D60&\"@10\",'中間シート（個人）'!$F$6:$O$100,4,FALSE)&VLOOKUP($D60&\"@10\",'中間シート（個人）'!$F$6:$O$100,5,FALSE))","v":""},{"$f":"IF(ISERROR(VLOOKUP($D60&\"@10\",'中間シート（個人）'!$F$6:$O$100,6,FALSE)&VLOOKUP($D60&\"@10\",'中間シート（個人）'!$F$6:$O$100,7,FALSE)&\".\"&VLOOKUP($D60&\"@10\",'中間シート（個人）'!$F$6:$O$100,8,FALSE)),\"\",VLOOKUP($D60&\"@10\",'中間シート（個人）'!$F$6:$O$100,6,FALSE)&VLOOKUP($D60&\"@10\",'中間シート（個人）'!$F$6:$O$100,7,FALSE)&\".\"&VLOOKUP($D60&\"@10\",'中間シート（個人）'!$F$6:$O$100,8,FALSE))","v":""}]
[null,null,{"$f":"IF('中間シート（個人）'!D63=\"○\",\"\",VLOOKUP(個人種目!F63,コード一覧!$A$2:$B$3,2,FALSE))","v":""},{"$f":"IF('中間シート（個人）'!D63=\"○\",\"\",'中間シート（個人）'!C63)","v":""},{"$f":"IF('中間シート（個人）'!D63=\"○\",\"\",ASC(個人種目!D63&\" \"&個人種目!E63))","v":""},{"$f":"IF('中間シート（個人）'!D63=\"○\",\"\",個人種目!G63&IF(LEN(個人種目!H63)=1,\"0\"&個人種目!H63,個人種目!H63)&IF(LEN(個人種目!I63)=1,\"0\"&個人種目!I63,個人種目!I63))","v":""},{"$f":"IF('中間シート（個人）'!D63=\"○\",\"\",VLOOKUP(個人種目!$J63,コード一覧!$C$3:$D$6,2,FALSE))","v":""},{"$f":"IF('中間シート（個人）'!D63=\"○\",\"\",IF(個人種目!$J63=\"一般\",0,個人種目!$K63))","v":""},{"$f":"IF('中間シート（個人）'!D63=\"○\",\"\",'中間シート（個人）'!H63)","v":""},null,{"$f":"IF('中間シート（個人）'!D63=\"○\",\"\",個人種目!$L$1)","v":""},{"$f":"IF('中間シート（個人）'!D63=\"○\",\"\",ASC(申込書_コナミ!$S$9))","v":""},{"$f":"IF('中間シート（個人）'!D63=\"○\",\"\",申込書_コナミ!$E$8)","v":""},null,null,null,{"$f":"IF('中間シート（個人）'!D63=\"○\",\"\",4)","v":""},{"$f":"IF(ISERROR(VLOOKUP($D61&\"@1\",'中間シート（個人）'!$F$6:$O$100,4,FALSE)&VLOOKUP($D61&\"@1\",'中間シート（個人）'!$F$6:$O$100,5,FALSE)),\"\",VLOOKUP($D61&\"@1\",'中間シート（個人）'!$F$6:$O$100,4,FALSE)&VLOOKUP($D61&\"@1\",'中間シート（個人）'!$F$6:$O$100,5,FALSE))","v":""},{"$f":"IF(ISERROR(VLOOKUP($D61&\"@1\",'中間シート（個人）'!$F$6:$O$100,6,FALSE)&VLOOKUP($D61&\"@1\",'中間シート（個人）'!$F$6:$O$100,7,FALSE)&\".\"&VLOOKUP($D61&\"@1\",'中間シート（個人）'!$F$6:$O$100,8,FALSE)),\"\",VLOOKUP($D61&\"@1\",'中間シート（個人）'!$F$6:$O$100,6,FALSE)&VLOOKUP($D61&\"@1\",'中間シート（個人）'!$F$6:$O$100,7,FALSE)&\".\"&VLOOKUP($D61&\"@1\",'中間シート（個人）'!$F$6:$O$100,8,FALSE))","v":""},{"$f":"IF(ISERROR(VLOOKUP($D61&\"@2\",'中間シート（個人）'!$F$6:$O$100,4,FALSE)&VLOOKUP($D61&\"@2\",'中間シート（個人）'!$F$6:$O$100,5,FALSE)),\"\",VLOOKUP($D61&\"@2\",'中間シート（個人）'!$F$6:$O$100,4,FALSE)&VLOOKUP($D61&\"@2\",'中間シート（個人）'!$F$6:$O$100,5,FALSE))","v":""},{"$f":"IF(ISERROR(VLOOKUP($D61&\"@2\",'中間シート（個人）'!$F$6:$O$100,6,FALSE)&VLOOKUP($D61&\"@2\",'中間シート（個人）'!$F$6:$O$100,7,FALSE)&\".\"&VLOOKUP($D61&\"@2\",'中間シート（個人）'!$F$6:$O$100,8,FALSE)),\"\",VLOOKUP($D61&\"@2\",'中間シート（個人）'!$F$6:$O$100,6,FALSE)&VLOOKUP($D61&\"@2\",'中間シート（個人）'!$F$6:$O$100,7,FALSE)&\".\"&VLOOKUP($D61&\"@2\",'中間シート（個人）'!$F$6:$O$100,8,FALSE))","v":""},{"$f":"IF(ISERROR(VLOOKUP($D61&\"@3\",'中間シート（個人）'!$F$6:$O$100,4,FALSE)&VLOOKUP($D61&\"@3\",'中間シート（個人）'!$F$6:$O$100,5,FALSE)),\"\",VLOOKUP($D61&\"@3\",'中間シート（個人）'!$F$6:$O$100,4,FALSE)&VLOOKUP($D61&\"@3\",'中間シート（個人）'!$F$6:$O$100,5,FALSE))","v":""},{"$f":"IF(ISERROR(VLOOKUP($D61&\"@3\",'中間シート（個人）'!$F$6:$O$100,6,FALSE)&VLOOKUP($D61&\"@3\",'中間シート（個人）'!$F$6:$O$100,7,FALSE)&\".\"&VLOOKUP($D61&\"@3\",'中間シート（個人）'!$F$6:$O$100,8,FALSE)),\"\",VLOOKUP($D61&\"@3\",'中間シート（個人）'!$F$6:$O$100,6,FALSE)&VLOOKUP($D61&\"@3\",'中間シート（個人）'!$F$6:$O$100,7,FALSE)&\".\"&VLOOKUP($D61&\"@3\",'中間シート（個人）'!$F$6:$O$100,8,FALSE))","v":""},{"$f":"IF(ISERROR(VLOOKUP($D61&\"@4\",'中間シート（個人）'!$F$6:$O$100,4,FALSE)&VLOOKUP($D61&\"@4\",'中間シート（個人）'!$F$6:$O$100,5,FALSE)),\"\",VLOOKUP($D61&\"@4\",'中間シート（個人）'!$F$6:$O$100,4,FALSE)&VLOOKUP($D61&\"@4\",'中間シート（個人）'!$F$6:$O$100,5,FALSE))","v":""},{"$f":"IF(ISERROR(VLOOKUP($D61&\"@4\",'中間シート（個人）'!$F$6:$O$100,6,FALSE)&VLOOKUP($D61&\"@4\",'中間シート（個人）'!$F$6:$O$100,7,FALSE)&\".\"&VLOOKUP($D61&\"@4\",'中間シート（個人）'!$F$6:$O$100,8,FALSE)),\"\",VLOOKUP($D61&\"@4\",'中間シート（個人）'!$F$6:$O$100,6,FALSE)&VLOOKUP($D61&\"@4\",'中間シート（個人）'!$F$6:$O$100,7,FALSE)&\".\"&VLOOKUP($D61&\"@4\",'中間シート（個人）'!$F$6:$O$100,8,FALSE))","v":""},{"$f":"IF(ISERROR(VLOOKUP($D61&\"@5\",'中間シート（個人）'!$F$6:$O$100,4,FALSE)&VLOOKUP($D61&\"@5\",'中間シート（個人）'!$F$6:$O$100,5,FALSE)),\"\",VLOOKUP($D61&\"@5\",'中間シート（個人）'!$F$6:$O$100,4,FALSE)&VLOOKUP($D61&\"@5\",'中間シート（個人）'!$F$6:$O$100,5,FALSE))","v":""},{"$f":"IF(ISERROR(VLOOKUP($D61&\"@5\",'中間シート（個人）'!$F$6:$O$100,6,FALSE)&VLOOKUP($D61&\"@5\",'中間シート（個人）'!$F$6:$O$100,7,FALSE)&\".\"&VLOOKUP($D61&\"@5\",'中間シート（個人）'!$F$6:$O$100,8,FALSE)),\"\",VLOOKUP($D61&\"@5\",'中間シート（個人）'!$F$6:$O$100,6,FALSE)&VLOOKUP($D61&\"@5\",'中間シート（個人）'!$F$6:$O$100,7,FALSE)&\".\"&VLOOKUP($D61&\"@5\",'中間シート（個人）'!$F$6:$O$100,8,FALSE))","v":""},{"$f":"IF(ISERROR(VLOOKUP($D61&\"@6\",'中間シート（個人）'!$F$6:$O$100,4,FALSE)&VLOOKUP($D61&\"@6\",'中間シート（個人）'!$F$6:$O$100,5,FALSE)),\"\",VLOOKUP($D61&\"@6\",'中間シート（個人）'!$F$6:$O$100,4,FALSE)&VLOOKUP($D61&\"@6\",'中間シート（個人）'!$F$6:$O$100,5,FALSE))","v":""},{"$f":"IF(ISERROR(VLOOKUP($D61&\"@6\",'中間シート（個人）'!$F$6:$O$100,6,FALSE)&VLOOKUP($D61&\"@6\",'中間シート（個人）'!$F$6:$O$100,7,FALSE)&\".\"&VLOOKUP($D61&\"@6\",'中間シート（個人）'!$F$6:$O$100,8,FALSE)),\"\",VLOOKUP($D61&\"@6\",'中間シート（個人）'!$F$6:$O$100,6,FALSE)&VLOOKUP($D61&\"@6\",'中間シート（個人）'!$F$6:$O$100,7,FALSE)&\".\"&VLOOKUP($D61&\"@6\",'中間シート（個人）'!$F$6:$O$100,8,FALSE))","v":""},{"$f":"IF(ISERROR(VLOOKUP($D61&\"@7\",'中間シート（個人）'!$F$6:$O$100,4,FALSE)&VLOOKUP($D61&\"@7\",'中間シート（個人）'!$F$6:$O$100,5,FALSE)),\"\",VLOOKUP($D61&\"@7\",'中間シート（個人）'!$F$6:$O$100,4,FALSE)&VLOOKUP($D61&\"@7\",'中間シート（個人）'!$F$6:$O$100,5,FALSE))","v":""},{"$f":"IF(ISERROR(VLOOKUP($D61&\"@7\",'中間シート（個人）'!$F$6:$O$100,6,FALSE)&VLOOKUP($D61&\"@7\",'中間シート（個人）'!$F$6:$O$100,7,FALSE)&\".\"&VLOOKUP($D61&\"@7\",'中間シート（個人）'!$F$6:$O$100,8,FALSE)),\"\",VLOOKUP($D61&\"@7\",'中間シート（個人）'!$F$6:$O$100,6,FALSE)&VLOOKUP($D61&\"@7\",'中間シート（個人）'!$F$6:$O$100,7,FALSE)&\".\"&VLOOKUP($D61&\"@7\",'中間シート（個人）'!$F$6:$O$100,8,FALSE))","v":""},{"$f":"IF(ISERROR(VLOOKUP($D61&\"@8\",'中間シート（個人）'!$F$6:$O$100,4,FALSE)&VLOOKUP($D61&\"@8\",'中間シート（個人）'!$F$6:$O$100,5,FALSE)),\"\",VLOOKUP($D61&\"@8\",'中間シート（個人）'!$F$6:$O$100,4,FALSE)&VLOOKUP($D61&\"@8\",'中間シート（個人）'!$F$6:$O$100,5,FALSE))","v":""},{"$f":"IF(ISERROR(VLOOKUP($D61&\"@8\",'中間シート（個人）'!$F$6:$O$100,6,FALSE)&VLOOKUP($D61&\"@8\",'中間シート（個人）'!$F$6:$O$100,7,FALSE)&\".\"&VLOOKUP($D61&\"@8\",'中間シート（個人）'!$F$6:$O$100,8,FALSE)),\"\",VLOOKUP($D61&\"@8\",'中間シート（個人）'!$F$6:$O$100,6,FALSE)&VLOOKUP($D61&\"@8\",'中間シート（個人）'!$F$6:$O$100,7,FALSE)&\".\"&VLOOKUP($D61&\"@8\",'中間シート（個人）'!$F$6:$O$100,8,FALSE))","v":""},{"$f":"IF(ISERROR(VLOOKUP($D61&\"@9\",'中間シート（個人）'!$F$6:$O$100,4,FALSE)&VLOOKUP($D61&\"@9\",'中間シート（個人）'!$F$6:$O$100,5,FALSE)),\"\",VLOOKUP($D61&\"@9\",'中間シート（個人）'!$F$6:$O$100,4,FALSE)&VLOOKUP($D61&\"@9\",'中間シート（個人）'!$F$6:$O$100,5,FALSE))","v":""},{"$f":"IF(ISERROR(VLOOKUP($D61&\"@9\",'中間シート（個人）'!$F$6:$O$100,6,FALSE)&VLOOKUP($D61&\"@9\",'中間シート（個人）'!$F$6:$O$100,7,FALSE)&\".\"&VLOOKUP($D61&\"@9\",'中間シート（個人）'!$F$6:$O$100,8,FALSE)),\"\",VLOOKUP($D61&\"@9\",'中間シート（個人）'!$F$6:$O$100,6,FALSE)&VLOOKUP($D61&\"@9\",'中間シート（個人）'!$F$6:$O$100,7,FALSE)&\".\"&VLOOKUP($D61&\"@9\",'中間シート（個人）'!$F$6:$O$100,8,FALSE))","v":""},{"$f":"IF(ISERROR(VLOOKUP($D61&\"@10\",'中間シート（個人）'!$F$6:$O$100,4,FALSE)&VLOOKUP($D61&\"@10\",'中間シート（個人）'!$F$6:$O$100,5,FALSE)),\"\",VLOOKUP($D61&\"@10\",'中間シート（個人）'!$F$6:$O$100,4,FALSE)&VLOOKUP($D61&\"@10\",'中間シート（個人）'!$F$6:$O$100,5,FALSE))","v":""},{"$f":"IF(ISERROR(VLOOKUP($D61&\"@10\",'中間シート（個人）'!$F$6:$O$100,6,FALSE)&VLOOKUP($D61&\"@10\",'中間シート（個人）'!$F$6:$O$100,7,FALSE)&\".\"&VLOOKUP($D61&\"@10\",'中間シート（個人）'!$F$6:$O$100,8,FALSE)),\"\",VLOOKUP($D61&\"@10\",'中間シート（個人）'!$F$6:$O$100,6,FALSE)&VLOOKUP($D61&\"@10\",'中間シート（個人）'!$F$6:$O$100,7,FALSE)&\".\"&VLOOKUP($D61&\"@10\",'中間シート（個人）'!$F$6:$O$100,8,FALSE))","v":""}]
[null,null,{"$f":"IF('中間シート（個人）'!D64=\"○\",\"\",VLOOKUP(個人種目!F64,コード一覧!$A$2:$B$3,2,FALSE))","v":""},{"$f":"IF('中間シート（個人）'!D64=\"○\",\"\",'中間シート（個人）'!C64)","v":""},{"$f":"IF('中間シート（個人）'!D64=\"○\",\"\",ASC(個人種目!D64&\" \"&個人種目!E64))","v":""},{"$f":"IF('中間シート（個人）'!D64=\"○\",\"\",個人種目!G64&IF(LEN(個人種目!H64)=1,\"0\"&個人種目!H64,個人種目!H64)&IF(LEN(個人種目!I64)=1,\"0\"&個人種目!I64,個人種目!I64))","v":""},{"$f":"IF('中間シート（個人）'!D64=\"○\",\"\",VLOOKUP(個人種目!$J64,コード一覧!$C$3:$D$6,2,FALSE))","v":""},{"$f":"IF('中間シート（個人）'!D64=\"○\",\"\",IF(個人種目!$J64=\"一般\",0,個人種目!$K64))","v":""},{"$f":"IF('中間シート（個人）'!D64=\"○\",\"\",'中間シート（個人）'!H64)","v":""},null,{"$f":"IF('中間シート（個人）'!D64=\"○\",\"\",個人種目!$L$1)","v":""},{"$f":"IF('中間シート（個人）'!D64=\"○\",\"\",ASC(申込書_コナミ!$S$9))","v":""},{"$f":"IF('中間シート（個人）'!D64=\"○\",\"\",申込書_コナミ!$E$8)","v":""},null,null,null,{"$f":"IF('中間シート（個人）'!D64=\"○\",\"\",4)","v":""},{"$f":"IF(ISERROR(VLOOKUP($D62&\"@1\",'中間シート（個人）'!$F$6:$O$100,4,FALSE)&VLOOKUP($D62&\"@1\",'中間シート（個人）'!$F$6:$O$100,5,FALSE)),\"\",VLOOKUP($D62&\"@1\",'中間シート（個人）'!$F$6:$O$100,4,FALSE)&VLOOKUP($D62&\"@1\",'中間シート（個人）'!$F$6:$O$100,5,FALSE))","v":""},{"$f":"IF(ISERROR(VLOOKUP($D62&\"@1\",'中間シート（個人）'!$F$6:$O$100,6,FALSE)&VLOOKUP($D62&\"@1\",'中間シート（個人）'!$F$6:$O$100,7,FALSE)&\".\"&VLOOKUP($D62&\"@1\",'中間シート（個人）'!$F$6:$O$100,8,FALSE)),\"\",VLOOKUP($D62&\"@1\",'中間シート（個人）'!$F$6:$O$100,6,FALSE)&VLOOKUP($D62&\"@1\",'中間シート（個人）'!$F$6:$O$100,7,FALSE)&\".\"&VLOOKUP($D62&\"@1\",'中間シート（個人）'!$F$6:$O$100,8,FALSE))","v":""},{"$f":"IF(ISERROR(VLOOKUP($D62&\"@2\",'中間シート（個人）'!$F$6:$O$100,4,FALSE)&VLOOKUP($D62&\"@2\",'中間シート（個人）'!$F$6:$O$100,5,FALSE)),\"\",VLOOKUP($D62&\"@2\",'中間シート（個人）'!$F$6:$O$100,4,FALSE)&VLOOKUP($D62&\"@2\",'中間シート（個人）'!$F$6:$O$100,5,FALSE))","v":""},{"$f":"IF(ISERROR(VLOOKUP($D62&\"@2\",'中間シート（個人）'!$F$6:$O$100,6,FALSE)&VLOOKUP($D62&\"@2\",'中間シート（個人）'!$F$6:$O$100,7,FALSE)&\".\"&VLOOKUP($D62&\"@2\",'中間シート（個人）'!$F$6:$O$100,8,FALSE)),\"\",VLOOKUP($D62&\"@2\",'中間シート（個人）'!$F$6:$O$100,6,FALSE)&VLOOKUP($D62&\"@2\",'中間シート（個人）'!$F$6:$O$100,7,FALSE)&\".\"&VLOOKUP($D62&\"@2\",'中間シート（個人）'!$F$6:$O$100,8,FALSE))","v":""},{"$f":"IF(ISERROR(VLOOKUP($D62&\"@3\",'中間シート（個人）'!$F$6:$O$100,4,FALSE)&VLOOKUP($D62&\"@3\",'中間シート（個人）'!$F$6:$O$100,5,FALSE)),\"\",VLOOKUP($D62&\"@3\",'中間シート（個人）'!$F$6:$O$100,4,FALSE)&VLOOKUP($D62&\"@3\",'中間シート（個人）'!$F$6:$O$100,5,FALSE))","v":""},{"$f":"IF(ISERROR(VLOOKUP($D62&\"@3\",'中間シート（個人）'!$F$6:$O$100,6,FALSE)&VLOOKUP($D62&\"@3\",'中間シート（個人）'!$F$6:$O$100,7,FALSE)&\".\"&VLOOKUP($D62&\"@3\",'中間シート（個人）'!$F$6:$O$100,8,FALSE)),\"\",VLOOKUP($D62&\"@3\",'中間シート（個人）'!$F$6:$O$100,6,FALSE)&VLOOKUP($D62&\"@3\",'中間シート（個人）'!$F$6:$O$100,7,FALSE)&\".\"&VLOOKUP($D62&\"@3\",'中間シート（個人）'!$F$6:$O$100,8,FALSE))","v":""},{"$f":"IF(ISERROR(VLOOKUP($D62&\"@4\",'中間シート（個人）'!$F$6:$O$100,4,FALSE)&VLOOKUP($D62&\"@4\",'中間シート（個人）'!$F$6:$O$100,5,FALSE)),\"\",VLOOKUP($D62&\"@4\",'中間シート（個人）'!$F$6:$O$100,4,FALSE)&VLOOKUP($D62&\"@4\",'中間シート（個人）'!$F$6:$O$100,5,FALSE))","v":""},{"$f":"IF(ISERROR(VLOOKUP($D62&\"@4\",'中間シート（個人）'!$F$6:$O$100,6,FALSE)&VLOOKUP($D62&\"@4\",'中間シート（個人）'!$F$6:$O$100,7,FALSE)&\".\"&VLOOKUP($D62&\"@4\",'中間シート（個人）'!$F$6:$O$100,8,FALSE)),\"\",VLOOKUP($D62&\"@4\",'中間シート（個人）'!$F$6:$O$100,6,FALSE)&VLOOKUP($D62&\"@4\",'中間シート（個人）'!$F$6:$O$100,7,FALSE)&\".\"&VLOOKUP($D62&\"@4\",'中間シート（個人）'!$F$6:$O$100,8,FALSE))","v":""},{"$f":"IF(ISERROR(VLOOKUP($D62&\"@5\",'中間シート（個人）'!$F$6:$O$100,4,FALSE)&VLOOKUP($D62&\"@5\",'中間シート（個人）'!$F$6:$O$100,5,FALSE)),\"\",VLOOKUP($D62&\"@5\",'中間シート（個人）'!$F$6:$O$100,4,FALSE)&VLOOKUP($D62&\"@5\",'中間シート（個人）'!$F$6:$O$100,5,FALSE))","v":""},{"$f":"IF(ISERROR(VLOOKUP($D62&\"@5\",'中間シート（個人）'!$F$6:$O$100,6,FALSE)&VLOOKUP($D62&\"@5\",'中間シート（個人）'!$F$6:$O$100,7,FALSE)&\".\"&VLOOKUP($D62&\"@5\",'中間シート（個人）'!$F$6:$O$100,8,FALSE)),\"\",VLOOKUP($D62&\"@5\",'中間シート（個人）'!$F$6:$O$100,6,FALSE)&VLOOKUP($D62&\"@5\",'中間シート（個人）'!$F$6:$O$100,7,FALSE)&\".\"&VLOOKUP($D62&\"@5\",'中間シート（個人）'!$F$6:$O$100,8,FALSE))","v":""},{"$f":"IF(ISERROR(VLOOKUP($D62&\"@6\",'中間シート（個人）'!$F$6:$O$100,4,FALSE)&VLOOKUP($D62&\"@6\",'中間シート（個人）'!$F$6:$O$100,5,FALSE)),\"\",VLOOKUP($D62&\"@6\",'中間シート（個人）'!$F$6:$O$100,4,FALSE)&VLOOKUP($D62&\"@6\",'中間シート（個人）'!$F$6:$O$100,5,FALSE))","v":""},{"$f":"IF(ISERROR(VLOOKUP($D62&\"@6\",'中間シート（個人）'!$F$6:$O$100,6,FALSE)&VLOOKUP($D62&\"@6\",'中間シート（個人）'!$F$6:$O$100,7,FALSE)&\".\"&VLOOKUP($D62&\"@6\",'中間シート（個人）'!$F$6:$O$100,8,FALSE)),\"\",VLOOKUP($D62&\"@6\",'中間シート（個人）'!$F$6:$O$100,6,FALSE)&VLOOKUP($D62&\"@6\",'中間シート（個人）'!$F$6:$O$100,7,FALSE)&\".\"&VLOOKUP($D62&\"@6\",'中間シート（個人）'!$F$6:$O$100,8,FALSE))","v":""},{"$f":"IF(ISERROR(VLOOKUP($D62&\"@7\",'中間シート（個人）'!$F$6:$O$100,4,FALSE)&VLOOKUP($D62&\"@7\",'中間シート（個人）'!$F$6:$O$100,5,FALSE)),\"\",VLOOKUP($D62&\"@7\",'中間シート（個人）'!$F$6:$O$100,4,FALSE)&VLOOKUP($D62&\"@7\",'中間シート（個人）'!$F$6:$O$100,5,FALSE))","v":""},{"$f":"IF(ISERROR(VLOOKUP($D62&\"@7\",'中間シート（個人）'!$F$6:$O$100,6,FALSE)&VLOOKUP($D62&\"@7\",'中間シート（個人）'!$F$6:$O$100,7,FALSE)&\".\"&VLOOKUP($D62&\"@7\",'中間シート（個人）'!$F$6:$O$100,8,FALSE)),\"\",VLOOKUP($D62&\"@7\",'中間シート（個人）'!$F$6:$O$100,6,FALSE)&VLOOKUP($D62&\"@7\",'中間シート（個人）'!$F$6:$O$100,7,FALSE)&\".\"&VLOOKUP($D62&\"@7\",'中間シート（個人）'!$F$6:$O$100,8,FALSE))","v":""},{"$f":"IF(ISERROR(VLOOKUP($D62&\"@8\",'中間シート（個人）'!$F$6:$O$100,4,FALSE)&VLOOKUP($D62&\"@8\",'中間シート（個人）'!$F$6:$O$100,5,FALSE)),\"\",VLOOKUP($D62&\"@8\",'中間シート（個人）'!$F$6:$O$100,4,FALSE)&VLOOKUP($D62&\"@8\",'中間シート（個人）'!$F$6:$O$100,5,FALSE))","v":""},{"$f":"IF(ISERROR(VLOOKUP($D62&\"@8\",'中間シート（個人）'!$F$6:$O$100,6,FALSE)&VLOOKUP($D62&\"@8\",'中間シート（個人）'!$F$6:$O$100,7,FALSE)&\".\"&VLOOKUP($D62&\"@8\",'中間シート（個人）'!$F$6:$O$100,8,FALSE)),\"\",VLOOKUP($D62&\"@8\",'中間シート（個人）'!$F$6:$O$100,6,FALSE)&VLOOKUP($D62&\"@8\",'中間シート（個人）'!$F$6:$O$100,7,FALSE)&\".\"&VLOOKUP($D62&\"@8\",'中間シート（個人）'!$F$6:$O$100,8,FALSE))","v":""},{"$f":"IF(ISERROR(VLOOKUP($D62&\"@9\",'中間シート（個人）'!$F$6:$O$100,4,FALSE)&VLOOKUP($D62&\"@9\",'中間シート（個人）'!$F$6:$O$100,5,FALSE)),\"\",VLOOKUP($D62&\"@9\",'中間シート（個人）'!$F$6:$O$100,4,FALSE)&VLOOKUP($D62&\"@9\",'中間シート（個人）'!$F$6:$O$100,5,FALSE))","v":""},{"$f":"IF(ISERROR(VLOOKUP($D62&\"@9\",'中間シート（個人）'!$F$6:$O$100,6,FALSE)&VLOOKUP($D62&\"@9\",'中間シート（個人）'!$F$6:$O$100,7,FALSE)&\".\"&VLOOKUP($D62&\"@9\",'中間シート（個人）'!$F$6:$O$100,8,FALSE)),\"\",VLOOKUP($D62&\"@9\",'中間シート（個人）'!$F$6:$O$100,6,FALSE)&VLOOKUP($D62&\"@9\",'中間シート（個人）'!$F$6:$O$100,7,FALSE)&\".\"&VLOOKUP($D62&\"@9\",'中間シート（個人）'!$F$6:$O$100,8,FALSE))","v":""},{"$f":"IF(ISERROR(VLOOKUP($D62&\"@10\",'中間シート（個人）'!$F$6:$O$100,4,FALSE)&VLOOKUP($D62&\"@10\",'中間シート（個人）'!$F$6:$O$100,5,FALSE)),\"\",VLOOKUP($D62&\"@10\",'中間シート（個人）'!$F$6:$O$100,4,FALSE)&VLOOKUP($D62&\"@10\",'中間シート（個人）'!$F$6:$O$100,5,FALSE))","v":""},{"$f":"IF(ISERROR(VLOOKUP($D62&\"@10\",'中間シート（個人）'!$F$6:$O$100,6,FALSE)&VLOOKUP($D62&\"@10\",'中間シート（個人）'!$F$6:$O$100,7,FALSE)&\".\"&VLOOKUP($D62&\"@10\",'中間シート（個人）'!$F$6:$O$100,8,FALSE)),\"\",VLOOKUP($D62&\"@10\",'中間シート（個人）'!$F$6:$O$100,6,FALSE)&VLOOKUP($D62&\"@10\",'中間シート（個人）'!$F$6:$O$100,7,FALSE)&\".\"&VLOOKUP($D62&\"@10\",'中間シート（個人）'!$F$6:$O$100,8,FALSE))","v":""}]
[null,null,{"$f":"IF('中間シート（個人）'!D65=\"○\",\"\",VLOOKUP(個人種目!F65,コード一覧!$A$2:$B$3,2,FALSE))","v":""},{"$f":"IF('中間シート（個人）'!D65=\"○\",\"\",'中間シート（個人）'!C65)","v":""},{"$f":"IF('中間シート（個人）'!D65=\"○\",\"\",ASC(個人種目!D65&\" \"&個人種目!E65))","v":""},{"$f":"IF('中間シート（個人）'!D65=\"○\",\"\",個人種目!G65&IF(LEN(個人種目!H65)=1,\"0\"&個人種目!H65,個人種目!H65)&IF(LEN(個人種目!I65)=1,\"0\"&個人種目!I65,個人種目!I65))","v":""},{"$f":"IF('中間シート（個人）'!D65=\"○\",\"\",VLOOKUP(個人種目!$J65,コード一覧!$C$3:$D$6,2,FALSE))","v":""},{"$f":"IF('中間シート（個人）'!D65=\"○\",\"\",IF(個人種目!$J65=\"一般\",0,個人種目!$K65))","v":""},{"$f":"IF('中間シート（個人）'!D65=\"○\",\"\",'中間シート（個人）'!H65)","v":""},null,{"$f":"IF('中間シート（個人）'!D65=\"○\",\"\",個人種目!$L$1)","v":""},{"$f":"IF('中間シート（個人）'!D65=\"○\",\"\",ASC(申込書_コナミ!$S$9))","v":""},{"$f":"IF('中間シート（個人）'!D65=\"○\",\"\",申込書_コナミ!$E$8)","v":""},null,null,null,{"$f":"IF('中間シート（個人）'!D65=\"○\",\"\",4)","v":""},{"$f":"IF(ISERROR(VLOOKUP($D63&\"@1\",'中間シート（個人）'!$F$6:$O$100,4,FALSE)&VLOOKUP($D63&\"@1\",'中間シート（個人）'!$F$6:$O$100,5,FALSE)),\"\",VLOOKUP($D63&\"@1\",'中間シート（個人）'!$F$6:$O$100,4,FALSE)&VLOOKUP($D63&\"@1\",'中間シート（個人）'!$F$6:$O$100,5,FALSE))","v":""},{"$f":"IF(ISERROR(VLOOKUP($D63&\"@1\",'中間シート（個人）'!$F$6:$O$100,6,FALSE)&VLOOKUP($D63&\"@1\",'中間シート（個人）'!$F$6:$O$100,7,FALSE)&\".\"&VLOOKUP($D63&\"@1\",'中間シート（個人）'!$F$6:$O$100,8,FALSE)),\"\",VLOOKUP($D63&\"@1\",'中間シート（個人）'!$F$6:$O$100,6,FALSE)&VLOOKUP($D63&\"@1\",'中間シート（個人）'!$F$6:$O$100,7,FALSE)&\".\"&VLOOKUP($D63&\"@1\",'中間シート（個人）'!$F$6:$O$100,8,FALSE))","v":""},{"$f":"IF(ISERROR(VLOOKUP($D63&\"@2\",'中間シート（個人）'!$F$6:$O$100,4,FALSE)&VLOOKUP($D63&\"@2\",'中間シート（個人）'!$F$6:$O$100,5,FALSE)),\"\",VLOOKUP($D63&\"@2\",'中間シート（個人）'!$F$6:$O$100,4,FALSE)&VLOOKUP($D63&\"@2\",'中間シート（個人）'!$F$6:$O$100,5,FALSE))","v":""},{"$f":"IF(ISERROR(VLOOKUP($D63&\"@2\",'中間シート（個人）'!$F$6:$O$100,6,FALSE)&VLOOKUP($D63&\"@2\",'中間シート（個人）'!$F$6:$O$100,7,FALSE)&\".\"&VLOOKUP($D63&\"@2\",'中間シート（個人）'!$F$6:$O$100,8,FALSE)),\"\",VLOOKUP($D63&\"@2\",'中間シート（個人）'!$F$6:$O$100,6,FALSE)&VLOOKUP($D63&\"@2\",'中間シート（個人）'!$F$6:$O$100,7,FALSE)&\".\"&VLOOKUP($D63&\"@2\",'中間シート（個人）'!$F$6:$O$100,8,FALSE))","v":""},{"$f":"IF(ISERROR(VLOOKUP($D63&\"@3\",'中間シート（個人）'!$F$6:$O$100,4,FALSE)&VLOOKUP($D63&\"@3\",'中間シート（個人）'!$F$6:$O$100,5,FALSE)),\"\",VLOOKUP($D63&\"@3\",'中間シート（個人）'!$F$6:$O$100,4,FALSE)&VLOOKUP($D63&\"@3\",'中間シート（個人）'!$F$6:$O$100,5,FALSE))","v":""},{"$f":"IF(ISERROR(VLOOKUP($D63&\"@3\",'中間シート（個人）'!$F$6:$O$100,6,FALSE)&VLOOKUP($D63&\"@3\",'中間シート（個人）'!$F$6:$O$100,7,FALSE)&\".\"&VLOOKUP($D63&\"@3\",'中間シート（個人）'!$F$6:$O$100,8,FALSE)),\"\",VLOOKUP($D63&\"@3\",'中間シート（個人）'!$F$6:$O$100,6,FALSE)&VLOOKUP($D63&\"@3\",'中間シート（個人）'!$F$6:$O$100,7,FALSE)&\".\"&VLOOKUP($D63&\"@3\",'中間シート（個人）'!$F$6:$O$100,8,FALSE))","v":""},{"$f":"IF(ISERROR(VLOOKUP($D63&\"@4\",'中間シート（個人）'!$F$6:$O$100,4,FALSE)&VLOOKUP($D63&\"@4\",'中間シート（個人）'!$F$6:$O$100,5,FALSE)),\"\",VLOOKUP($D63&\"@4\",'中間シート（個人）'!$F$6:$O$100,4,FALSE)&VLOOKUP($D63&\"@4\",'中間シート（個人）'!$F$6:$O$100,5,FALSE))","v":""},{"$f":"IF(ISERROR(VLOOKUP($D63&\"@4\",'中間シート（個人）'!$F$6:$O$100,6,FALSE)&VLOOKUP($D63&\"@4\",'中間シート（個人）'!$F$6:$O$100,7,FALSE)&\".\"&VLOOKUP($D63&\"@4\",'中間シート（個人）'!$F$6:$O$100,8,FALSE)),\"\",VLOOKUP($D63&\"@4\",'中間シート（個人）'!$F$6:$O$100,6,FALSE)&VLOOKUP($D63&\"@4\",'中間シート（個人）'!$F$6:$O$100,7,FALSE)&\".\"&VLOOKUP($D63&\"@4\",'中間シート（個人）'!$F$6:$O$100,8,FALSE))","v":""},{"$f":"IF(ISERROR(VLOOKUP($D63&\"@5\",'中間シート（個人）'!$F$6:$O$100,4,FALSE)&VLOOKUP($D63&\"@5\",'中間シート（個人）'!$F$6:$O$100,5,FALSE)),\"\",VLOOKUP($D63&\"@5\",'中間シート（個人）'!$F$6:$O$100,4,FALSE)&VLOOKUP($D63&\"@5\",'中間シート（個人）'!$F$6:$O$100,5,FALSE))","v":""},{"$f":"IF(ISERROR(VLOOKUP($D63&\"@5\",'中間シート（個人）'!$F$6:$O$100,6,FALSE)&VLOOKUP($D63&\"@5\",'中間シート（個人）'!$F$6:$O$100,7,FALSE)&\".\"&VLOOKUP($D63&\"@5\",'中間シート（個人）'!$F$6:$O$100,8,FALSE)),\"\",VLOOKUP($D63&\"@5\",'中間シート（個人）'!$F$6:$O$100,6,FALSE)&VLOOKUP($D63&\"@5\",'中間シート（個人）'!$F$6:$O$100,7,FALSE)&\".\"&VLOOKUP($D63&\"@5\",'中間シート（個人）'!$F$6:$O$100,8,FALSE))","v":""},{"$f":"IF(ISERROR(VLOOKUP($D63&\"@6\",'中間シート（個人）'!$F$6:$O$100,4,FALSE)&VLOOKUP($D63&\"@6\",'中間シート（個人）'!$F$6:$O$100,5,FALSE)),\"\",VLOOKUP($D63&\"@6\",'中間シート（個人）'!$F$6:$O$100,4,FALSE)&VLOOKUP($D63&\"@6\",'中間シート（個人）'!$F$6:$O$100,5,FALSE))","v":""},{"$f":"IF(ISERROR(VLOOKUP($D63&\"@6\",'中間シート（個人）'!$F$6:$O$100,6,FALSE)&VLOOKUP($D63&\"@6\",'中間シート（個人）'!$F$6:$O$100,7,FALSE)&\".\"&VLOOKUP($D63&\"@6\",'中間シート（個人）'!$F$6:$O$100,8,FALSE)),\"\",VLOOKUP($D63&\"@6\",'中間シート（個人）'!$F$6:$O$100,6,FALSE)&VLOOKUP($D63&\"@6\",'中間シート（個人）'!$F$6:$O$100,7,FALSE)&\".\"&VLOOKUP($D63&\"@6\",'中間シート（個人）'!$F$6:$O$100,8,FALSE))","v":""},{"$f":"IF(ISERROR(VLOOKUP($D63&\"@7\",'中間シート（個人）'!$F$6:$O$100,4,FALSE)&VLOOKUP($D63&\"@7\",'中間シート（個人）'!$F$6:$O$100,5,FALSE)),\"\",VLOOKUP($D63&\"@7\",'中間シート（個人）'!$F$6:$O$100,4,FALSE)&VLOOKUP($D63&\"@7\",'中間シート（個人）'!$F$6:$O$100,5,FALSE))","v":""},{"$f":"IF(ISERROR(VLOOKUP($D63&\"@7\",'中間シート（個人）'!$F$6:$O$100,6,FALSE)&VLOOKUP($D63&\"@7\",'中間シート（個人）'!$F$6:$O$100,7,FALSE)&\".\"&VLOOKUP($D63&\"@7\",'中間シート（個人）'!$F$6:$O$100,8,FALSE)),\"\",VLOOKUP($D63&\"@7\",'中間シート（個人）'!$F$6:$O$100,6,FALSE)&VLOOKUP($D63&\"@7\",'中間シート（個人）'!$F$6:$O$100,7,FALSE)&\".\"&VLOOKUP($D63&\"@7\",'中間シート（個人）'!$F$6:$O$100,8,FALSE))","v":""},{"$f":"IF(ISERROR(VLOOKUP($D63&\"@8\",'中間シート（個人）'!$F$6:$O$100,4,FALSE)&VLOOKUP($D63&\"@8\",'中間シート（個人）'!$F$6:$O$100,5,FALSE)),\"\",VLOOKUP($D63&\"@8\",'中間シート（個人）'!$F$6:$O$100,4,FALSE)&VLOOKUP($D63&\"@8\",'中間シート（個人）'!$F$6:$O$100,5,FALSE))","v":""},{"$f":"IF(ISERROR(VLOOKUP($D63&\"@8\",'中間シート（個人）'!$F$6:$O$100,6,FALSE)&VLOOKUP($D63&\"@8\",'中間シート（個人）'!$F$6:$O$100,7,FALSE)&\".\"&VLOOKUP($D63&\"@8\",'中間シート（個人）'!$F$6:$O$100,8,FALSE)),\"\",VLOOKUP($D63&\"@8\",'中間シート（個人）'!$F$6:$O$100,6,FALSE)&VLOOKUP($D63&\"@8\",'中間シート（個人）'!$F$6:$O$100,7,FALSE)&\".\"&VLOOKUP($D63&\"@8\",'中間シート（個人）'!$F$6:$O$100,8,FALSE))","v":""},{"$f":"IF(ISERROR(VLOOKUP($D63&\"@9\",'中間シート（個人）'!$F$6:$O$100,4,FALSE)&VLOOKUP($D63&\"@9\",'中間シート（個人）'!$F$6:$O$100,5,FALSE)),\"\",VLOOKUP($D63&\"@9\",'中間シート（個人）'!$F$6:$O$100,4,FALSE)&VLOOKUP($D63&\"@9\",'中間シート（個人）'!$F$6:$O$100,5,FALSE))","v":""},{"$f":"IF(ISERROR(VLOOKUP($D63&\"@9\",'中間シート（個人）'!$F$6:$O$100,6,FALSE)&VLOOKUP($D63&\"@9\",'中間シート（個人）'!$F$6:$O$100,7,FALSE)&\".\"&VLOOKUP($D63&\"@9\",'中間シート（個人）'!$F$6:$O$100,8,FALSE)),\"\",VLOOKUP($D63&\"@9\",'中間シート（個人）'!$F$6:$O$100,6,FALSE)&VLOOKUP($D63&\"@9\",'中間シート（個人）'!$F$6:$O$100,7,FALSE)&\".\"&VLOOKUP($D63&\"@9\",'中間シート（個人）'!$F$6:$O$100,8,FALSE))","v":""},{"$f":"IF(ISERROR(VLOOKUP($D63&\"@10\",'中間シート（個人）'!$F$6:$O$100,4,FALSE)&VLOOKUP($D63&\"@10\",'中間シート（個人）'!$F$6:$O$100,5,FALSE)),\"\",VLOOKUP($D63&\"@10\",'中間シート（個人）'!$F$6:$O$100,4,FALSE)&VLOOKUP($D63&\"@10\",'中間シート（個人）'!$F$6:$O$100,5,FALSE))","v":""},{"$f":"IF(ISERROR(VLOOKUP($D63&\"@10\",'中間シート（個人）'!$F$6:$O$100,6,FALSE)&VLOOKUP($D63&\"@10\",'中間シート（個人）'!$F$6:$O$100,7,FALSE)&\".\"&VLOOKUP($D63&\"@10\",'中間シート（個人）'!$F$6:$O$100,8,FALSE)),\"\",VLOOKUP($D63&\"@10\",'中間シート（個人）'!$F$6:$O$100,6,FALSE)&VLOOKUP($D63&\"@10\",'中間シート（個人）'!$F$6:$O$100,7,FALSE)&\".\"&VLOOKUP($D63&\"@10\",'中間シート（個人）'!$F$6:$O$100,8,FALSE))","v":""}]
[null,null,{"$f":"IF('中間シート（個人）'!D66=\"○\",\"\",VLOOKUP(個人種目!F66,コード一覧!$A$2:$B$3,2,FALSE))","v":""},{"$f":"IF('中間シート（個人）'!D66=\"○\",\"\",'中間シート（個人）'!C66)","v":""},{"$f":"IF('中間シート（個人）'!D66=\"○\",\"\",ASC(個人種目!D66&\" \"&個人種目!E66))","v":""},{"$f":"IF('中間シート（個人）'!D66=\"○\",\"\",個人種目!G66&IF(LEN(個人種目!H66)=1,\"0\"&個人種目!H66,個人種目!H66)&IF(LEN(個人種目!I66)=1,\"0\"&個人種目!I66,個人種目!I66))","v":""},{"$f":"IF('中間シート（個人）'!D66=\"○\",\"\",VLOOKUP(個人種目!$J66,コード一覧!$C$3:$D$6,2,FALSE))","v":""},{"$f":"IF('中間シート（個人）'!D66=\"○\",\"\",IF(個人種目!$J66=\"一般\",0,個人種目!$K66))","v":""},{"$f":"IF('中間シート（個人）'!D66=\"○\",\"\",'中間シート（個人）'!H66)","v":""},null,{"$f":"IF('中間シート（個人）'!D66=\"○\",\"\",個人種目!$L$1)","v":""},{"$f":"IF('中間シート（個人）'!D66=\"○\",\"\",ASC(申込書_コナミ!$S$9))","v":""},{"$f":"IF('中間シート（個人）'!D66=\"○\",\"\",申込書_コナミ!$E$8)","v":""},null,null,null,{"$f":"IF('中間シート（個人）'!D66=\"○\",\"\",4)","v":""},{"$f":"IF(ISERROR(VLOOKUP($D64&\"@1\",'中間シート（個人）'!$F$6:$O$100,4,FALSE)&VLOOKUP($D64&\"@1\",'中間シート（個人）'!$F$6:$O$100,5,FALSE)),\"\",VLOOKUP($D64&\"@1\",'中間シート（個人）'!$F$6:$O$100,4,FALSE)&VLOOKUP($D64&\"@1\",'中間シート（個人）'!$F$6:$O$100,5,FALSE))","v":""},{"$f":"IF(ISERROR(VLOOKUP($D64&\"@1\",'中間シート（個人）'!$F$6:$O$100,6,FALSE)&VLOOKUP($D64&\"@1\",'中間シート（個人）'!$F$6:$O$100,7,FALSE)&\".\"&VLOOKUP($D64&\"@1\",'中間シート（個人）'!$F$6:$O$100,8,FALSE)),\"\",VLOOKUP($D64&\"@1\",'中間シート（個人）'!$F$6:$O$100,6,FALSE)&VLOOKUP($D64&\"@1\",'中間シート（個人）'!$F$6:$O$100,7,FALSE)&\".\"&VLOOKUP($D64&\"@1\",'中間シート（個人）'!$F$6:$O$100,8,FALSE))","v":""},{"$f":"IF(ISERROR(VLOOKUP($D64&\"@2\",'中間シート（個人）'!$F$6:$O$100,4,FALSE)&VLOOKUP($D64&\"@2\",'中間シート（個人）'!$F$6:$O$100,5,FALSE)),\"\",VLOOKUP($D64&\"@2\",'中間シート（個人）'!$F$6:$O$100,4,FALSE)&VLOOKUP($D64&\"@2\",'中間シート（個人）'!$F$6:$O$100,5,FALSE))","v":""},{"$f":"IF(ISERROR(VLOOKUP($D64&\"@2\",'中間シート（個人）'!$F$6:$O$100,6,FALSE)&VLOOKUP($D64&\"@2\",'中間シート（個人）'!$F$6:$O$100,7,FALSE)&\".\"&VLOOKUP($D64&\"@2\",'中間シート（個人）'!$F$6:$O$100,8,FALSE)),\"\",VLOOKUP($D64&\"@2\",'中間シート（個人）'!$F$6:$O$100,6,FALSE)&VLOOKUP($D64&\"@2\",'中間シート（個人）'!$F$6:$O$100,7,FALSE)&\".\"&VLOOKUP($D64&\"@2\",'中間シート（個人）'!$F$6:$O$100,8,FALSE))","v":""},{"$f":"IF(ISERROR(VLOOKUP($D64&\"@3\",'中間シート（個人）'!$F$6:$O$100,4,FALSE)&VLOOKUP($D64&\"@3\",'中間シート（個人）'!$F$6:$O$100,5,FALSE)),\"\",VLOOKUP($D64&\"@3\",'中間シート（個人）'!$F$6:$O$100,4,FALSE)&VLOOKUP($D64&\"@3\",'中間シート（個人）'!$F$6:$O$100,5,FALSE))","v":""},{"$f":"IF(ISERROR(VLOOKUP($D64&\"@3\",'中間シート（個人）'!$F$6:$O$100,6,FALSE)&VLOOKUP($D64&\"@3\",'中間シート（個人）'!$F$6:$O$100,7,FALSE)&\".\"&VLOOKUP($D64&\"@3\",'中間シート（個人）'!$F$6:$O$100,8,FALSE)),\"\",VLOOKUP($D64&\"@3\",'中間シート（個人）'!$F$6:$O$100,6,FALSE)&VLOOKUP($D64&\"@3\",'中間シート（個人）'!$F$6:$O$100,7,FALSE)&\".\"&VLOOKUP($D64&\"@3\",'中間シート（個人）'!$F$6:$O$100,8,FALSE))","v":""},{"$f":"IF(ISERROR(VLOOKUP($D64&\"@4\",'中間シート（個人）'!$F$6:$O$100,4,FALSE)&VLOOKUP($D64&\"@4\",'中間シート（個人）'!$F$6:$O$100,5,FALSE)),\"\",VLOOKUP($D64&\"@4\",'中間シート（個人）'!$F$6:$O$100,4,FALSE)&VLOOKUP($D64&\"@4\",'中間シート（個人）'!$F$6:$O$100,5,FALSE))","v":""},{"$f":"IF(ISERROR(VLOOKUP($D64&\"@4\",'中間シート（個人）'!$F$6:$O$100,6,FALSE)&VLOOKUP($D64&\"@4\",'中間シート（個人）'!$F$6:$O$100,7,FALSE)&\".\"&VLOOKUP($D64&\"@4\",'中間シート（個人）'!$F$6:$O$100,8,FALSE)),\"\",VLOOKUP($D64&\"@4\",'中間シート（個人）'!$F$6:$O$100,6,FALSE)&VLOOKUP($D64&\"@4\",'中間シート（個人）'!$F$6:$O$100,7,FALSE)&\".\"&VLOOKUP($D64&\"@4\",'中間シート（個人）'!$F$6:$O$100,8,FALSE))","v":""},{"$f":"IF(ISERROR(VLOOKUP($D64&\"@5\",'中間シート（個人）'!$F$6:$O$100,4,FALSE)&VLOOKUP($D64&\"@5\",'中間シート（個人）'!$F$6:$O$100,5,FALSE)),\"\",VLOOKUP($D64&\"@5\",'中間シート（個人）'!$F$6:$O$100,4,FALSE)&VLOOKUP($D64&\"@5\",'中間シート（個人）'!$F$6:$O$100,5,FALSE))","v":""},{"$f":"IF(ISERROR(VLOOKUP($D64&\"@5\",'中間シート（個人）'!$F$6:$O$100,6,FALSE)&VLOOKUP($D64&\"@5\",'中間シート（個人）'!$F$6:$O$100,7,FALSE)&\".\"&VLOOKUP($D64&\"@5\",'中間シート（個人）'!$F$6:$O$100,8,FALSE)),\"\",VLOOKUP($D64&\"@5\",'中間シート（個人）'!$F$6:$O$100,6,FALSE)&VLOOKUP($D64&\"@5\",'中間シート（個人）'!$F$6:$O$100,7,FALSE)&\".\"&VLOOKUP($D64&\"@5\",'中間シート（個人）'!$F$6:$O$100,8,FALSE))","v":""},{"$f":"IF(ISERROR(VLOOKUP($D64&\"@6\",'中間シート（個人）'!$F$6:$O$100,4,FALSE)&VLOOKUP($D64&\"@6\",'中間シート（個人）'!$F$6:$O$100,5,FALSE)),\"\",VLOOKUP($D64&\"@6\",'中間シート（個人）'!$F$6:$O$100,4,FALSE)&VLOOKUP($D64&\"@6\",'中間シート（個人）'!$F$6:$O$100,5,FALSE))","v":""},{"$f":"IF(ISERROR(VLOOKUP($D64&\"@6\",'中間シート（個人）'!$F$6:$O$100,6,FALSE)&VLOOKUP($D64&\"@6\",'中間シート（個人）'!$F$6:$O$100,7,FALSE)&\".\"&VLOOKUP($D64&\"@6\",'中間シート（個人）'!$F$6:$O$100,8,FALSE)),\"\",VLOOKUP($D64&\"@6\",'中間シート（個人）'!$F$6:$O$100,6,FALSE)&VLOOKUP($D64&\"@6\",'中間シート（個人）'!$F$6:$O$100,7,FALSE)&\".\"&VLOOKUP($D64&\"@6\",'中間シート（個人）'!$F$6:$O$100,8,FALSE))","v":""},{"$f":"IF(ISERROR(VLOOKUP($D64&\"@7\",'中間シート（個人）'!$F$6:$O$100,4,FALSE)&VLOOKUP($D64&\"@7\",'中間シート（個人）'!$F$6:$O$100,5,FALSE)),\"\",VLOOKUP($D64&\"@7\",'中間シート（個人）'!$F$6:$O$100,4,FALSE)&VLOOKUP($D64&\"@7\",'中間シート（個人）'!$F$6:$O$100,5,FALSE))","v":""},{"$f":"IF(ISERROR(VLOOKUP($D64&\"@7\",'中間シート（個人）'!$F$6:$O$100,6,FALSE)&VLOOKUP($D64&\"@7\",'中間シート（個人）'!$F$6:$O$100,7,FALSE)&\".\"&VLOOKUP($D64&\"@7\",'中間シート（個人）'!$F$6:$O$100,8,FALSE)),\"\",VLOOKUP($D64&\"@7\",'中間シート（個人）'!$F$6:$O$100,6,FALSE)&VLOOKUP($D64&\"@7\",'中間シート（個人）'!$F$6:$O$100,7,FALSE)&\".\"&VLOOKUP($D64&\"@7\",'中間シート（個人）'!$F$6:$O$100,8,FALSE))","v":""},{"$f":"IF(ISERROR(VLOOKUP($D64&\"@8\",'中間シート（個人）'!$F$6:$O$100,4,FALSE)&VLOOKUP($D64&\"@8\",'中間シート（個人）'!$F$6:$O$100,5,FALSE)),\"\",VLOOKUP($D64&\"@8\",'中間シート（個人）'!$F$6:$O$100,4,FALSE)&VLOOKUP($D64&\"@8\",'中間シート（個人）'!$F$6:$O$100,5,FALSE))","v":""},{"$f":"IF(ISERROR(VLOOKUP($D64&\"@8\",'中間シート（個人）'!$F$6:$O$100,6,FALSE)&VLOOKUP($D64&\"@8\",'中間シート（個人）'!$F$6:$O$100,7,FALSE)&\".\"&VLOOKUP($D64&\"@8\",'中間シート（個人）'!$F$6:$O$100,8,FALSE)),\"\",VLOOKUP($D64&\"@8\",'中間シート（個人）'!$F$6:$O$100,6,FALSE)&VLOOKUP($D64&\"@8\",'中間シート（個人）'!$F$6:$O$100,7,FALSE)&\".\"&VLOOKUP($D64&\"@8\",'中間シート（個人）'!$F$6:$O$100,8,FALSE))","v":""},{"$f":"IF(ISERROR(VLOOKUP($D64&\"@9\",'中間シート（個人）'!$F$6:$O$100,4,FALSE)&VLOOKUP($D64&\"@9\",'中間シート（個人）'!$F$6:$O$100,5,FALSE)),\"\",VLOOKUP($D64&\"@9\",'中間シート（個人）'!$F$6:$O$100,4,FALSE)&VLOOKUP($D64&\"@9\",'中間シート（個人）'!$F$6:$O$100,5,FALSE))","v":""},{"$f":"IF(ISERROR(VLOOKUP($D64&\"@9\",'中間シート（個人）'!$F$6:$O$100,6,FALSE)&VLOOKUP($D64&\"@9\",'中間シート（個人）'!$F$6:$O$100,7,FALSE)&\".\"&VLOOKUP($D64&\"@9\",'中間シート（個人）'!$F$6:$O$100,8,FALSE)),\"\",VLOOKUP($D64&\"@9\",'中間シート（個人）'!$F$6:$O$100,6,FALSE)&VLOOKUP($D64&\"@9\",'中間シート（個人）'!$F$6:$O$100,7,FALSE)&\".\"&VLOOKUP($D64&\"@9\",'中間シート（個人）'!$F$6:$O$100,8,FALSE))","v":""},{"$f":"IF(ISERROR(VLOOKUP($D64&\"@10\",'中間シート（個人）'!$F$6:$O$100,4,FALSE)&VLOOKUP($D64&\"@10\",'中間シート（個人）'!$F$6:$O$100,5,FALSE)),\"\",VLOOKUP($D64&\"@10\",'中間シート（個人）'!$F$6:$O$100,4,FALSE)&VLOOKUP($D64&\"@10\",'中間シート（個人）'!$F$6:$O$100,5,FALSE))","v":""},{"$f":"IF(ISERROR(VLOOKUP($D64&\"@10\",'中間シート（個人）'!$F$6:$O$100,6,FALSE)&VLOOKUP($D64&\"@10\",'中間シート（個人）'!$F$6:$O$100,7,FALSE)&\".\"&VLOOKUP($D64&\"@10\",'中間シート（個人）'!$F$6:$O$100,8,FALSE)),\"\",VLOOKUP($D64&\"@10\",'中間シート（個人）'!$F$6:$O$100,6,FALSE)&VLOOKUP($D64&\"@10\",'中間シート（個人）'!$F$6:$O$100,7,FALSE)&\".\"&VLOOKUP($D64&\"@10\",'中間シート（個人）'!$F$6:$O$100,8,FALSE))","v":""}]
[null,null,{"$f":"IF('中間シート（個人）'!D67=\"○\",\"\",VLOOKUP(個人種目!F67,コード一覧!$A$2:$B$3,2,FALSE))","v":""},{"$f":"IF('中間シート（個人）'!D67=\"○\",\"\",'中間シート（個人）'!C67)","v":""},{"$f":"IF('中間シート（個人）'!D67=\"○\",\"\",ASC(個人種目!D67&\" \"&個人種目!E67))","v":""},{"$f":"IF('中間シート（個人）'!D67=\"○\",\"\",個人種目!G67&IF(LEN(個人種目!H67)=1,\"0\"&個人種目!H67,個人種目!H67)&IF(LEN(個人種目!I67)=1,\"0\"&個人種目!I67,個人種目!I67))","v":""},{"$f":"IF('中間シート（個人）'!D67=\"○\",\"\",VLOOKUP(個人種目!$J67,コード一覧!$C$3:$D$6,2,FALSE))","v":""},{"$f":"IF('中間シート（個人）'!D67=\"○\",\"\",IF(個人種目!$J67=\"一般\",0,個人種目!$K67))","v":""},{"$f":"IF('中間シート（個人）'!D67=\"○\",\"\",'中間シート（個人）'!H67)","v":""},null,{"$f":"IF('中間シート（個人）'!D67=\"○\",\"\",個人種目!$L$1)","v":""},{"$f":"IF('中間シート（個人）'!D67=\"○\",\"\",ASC(申込書_コナミ!$S$9))","v":""},{"$f":"IF('中間シート（個人）'!D67=\"○\",\"\",申込書_コナミ!$E$8)","v":""},null,null,null,{"$f":"IF('中間シート（個人）'!D67=\"○\",\"\",4)","v":""},{"$f":"IF(ISERROR(VLOOKUP($D65&\"@1\",'中間シート（個人）'!$F$6:$O$100,4,FALSE)&VLOOKUP($D65&\"@1\",'中間シート（個人）'!$F$6:$O$100,5,FALSE)),\"\",VLOOKUP($D65&\"@1\",'中間シート（個人）'!$F$6:$O$100,4,FALSE)&VLOOKUP($D65&\"@1\",'中間シート（個人）'!$F$6:$O$100,5,FALSE))","v":""},{"$f":"IF(ISERROR(VLOOKUP($D65&\"@1\",'中間シート（個人）'!$F$6:$O$100,6,FALSE)&VLOOKUP($D65&\"@1\",'中間シート（個人）'!$F$6:$O$100,7,FALSE)&\".\"&VLOOKUP($D65&\"@1\",'中間シート（個人）'!$F$6:$O$100,8,FALSE)),\"\",VLOOKUP($D65&\"@1\",'中間シート（個人）'!$F$6:$O$100,6,FALSE)&VLOOKUP($D65&\"@1\",'中間シート（個人）'!$F$6:$O$100,7,FALSE)&\".\"&VLOOKUP($D65&\"@1\",'中間シート（個人）'!$F$6:$O$100,8,FALSE))","v":""},{"$f":"IF(ISERROR(VLOOKUP($D65&\"@2\",'中間シート（個人）'!$F$6:$O$100,4,FALSE)&VLOOKUP($D65&\"@2\",'中間シート（個人）'!$F$6:$O$100,5,FALSE)),\"\",VLOOKUP($D65&\"@2\",'中間シート（個人）'!$F$6:$O$100,4,FALSE)&VLOOKUP($D65&\"@2\",'中間シート（個人）'!$F$6:$O$100,5,FALSE))","v":""},{"$f":"IF(ISERROR(VLOOKUP($D65&\"@2\",'中間シート（個人）'!$F$6:$O$100,6,FALSE)&VLOOKUP($D65&\"@2\",'中間シート（個人）'!$F$6:$O$100,7,FALSE)&\".\"&VLOOKUP($D65&\"@2\",'中間シート（個人）'!$F$6:$O$100,8,FALSE)),\"\",VLOOKUP($D65&\"@2\",'中間シート（個人）'!$F$6:$O$100,6,FALSE)&VLOOKUP($D65&\"@2\",'中間シート（個人）'!$F$6:$O$100,7,FALSE)&\".\"&VLOOKUP($D65&\"@2\",'中間シート（個人）'!$F$6:$O$100,8,FALSE))","v":""},{"$f":"IF(ISERROR(VLOOKUP($D65&\"@3\",'中間シート（個人）'!$F$6:$O$100,4,FALSE)&VLOOKUP($D65&\"@3\",'中間シート（個人）'!$F$6:$O$100,5,FALSE)),\"\",VLOOKUP($D65&\"@3\",'中間シート（個人）'!$F$6:$O$100,4,FALSE)&VLOOKUP($D65&\"@3\",'中間シート（個人）'!$F$6:$O$100,5,FALSE))","v":""},{"$f":"IF(ISERROR(VLOOKUP($D65&\"@3\",'中間シート（個人）'!$F$6:$O$100,6,FALSE)&VLOOKUP($D65&\"@3\",'中間シート（個人）'!$F$6:$O$100,7,FALSE)&\".\"&VLOOKUP($D65&\"@3\",'中間シート（個人）'!$F$6:$O$100,8,FALSE)),\"\",VLOOKUP($D65&\"@3\",'中間シート（個人）'!$F$6:$O$100,6,FALSE)&VLOOKUP($D65&\"@3\",'中間シート（個人）'!$F$6:$O$100,7,FALSE)&\".\"&VLOOKUP($D65&\"@3\",'中間シート（個人）'!$F$6:$O$100,8,FALSE))","v":""},{"$f":"IF(ISERROR(VLOOKUP($D65&\"@4\",'中間シート（個人）'!$F$6:$O$100,4,FALSE)&VLOOKUP($D65&\"@4\",'中間シート（個人）'!$F$6:$O$100,5,FALSE)),\"\",VLOOKUP($D65&\"@4\",'中間シート（個人）'!$F$6:$O$100,4,FALSE)&VLOOKUP($D65&\"@4\",'中間シート（個人）'!$F$6:$O$100,5,FALSE))","v":""},{"$f":"IF(ISERROR(VLOOKUP($D65&\"@4\",'中間シート（個人）'!$F$6:$O$100,6,FALSE)&VLOOKUP($D65&\"@4\",'中間シート（個人）'!$F$6:$O$100,7,FALSE)&\".\"&VLOOKUP($D65&\"@4\",'中間シート（個人）'!$F$6:$O$100,8,FALSE)),\"\",VLOOKUP($D65&\"@4\",'中間シート（個人）'!$F$6:$O$100,6,FALSE)&VLOOKUP($D65&\"@4\",'中間シート（個人）'!$F$6:$O$100,7,FALSE)&\".\"&VLOOKUP($D65&\"@4\",'中間シート（個人）'!$F$6:$O$100,8,FALSE))","v":""},{"$f":"IF(ISERROR(VLOOKUP($D65&\"@5\",'中間シート（個人）'!$F$6:$O$100,4,FALSE)&VLOOKUP($D65&\"@5\",'中間シート（個人）'!$F$6:$O$100,5,FALSE)),\"\",VLOOKUP($D65&\"@5\",'中間シート（個人）'!$F$6:$O$100,4,FALSE)&VLOOKUP($D65&\"@5\",'中間シート（個人）'!$F$6:$O$100,5,FALSE))","v":""},{"$f":"IF(ISERROR(VLOOKUP($D65&\"@5\",'中間シート（個人）'!$F$6:$O$100,6,FALSE)&VLOOKUP($D65&\"@5\",'中間シート（個人）'!$F$6:$O$100,7,FALSE)&\".\"&VLOOKUP($D65&\"@5\",'中間シート（個人）'!$F$6:$O$100,8,FALSE)),\"\",VLOOKUP($D65&\"@5\",'中間シート（個人）'!$F$6:$O$100,6,FALSE)&VLOOKUP($D65&\"@5\",'中間シート（個人）'!$F$6:$O$100,7,FALSE)&\".\"&VLOOKUP($D65&\"@5\",'中間シート（個人）'!$F$6:$O$100,8,FALSE))","v":""},{"$f":"IF(ISERROR(VLOOKUP($D65&\"@6\",'中間シート（個人）'!$F$6:$O$100,4,FALSE)&VLOOKUP($D65&\"@6\",'中間シート（個人）'!$F$6:$O$100,5,FALSE)),\"\",VLOOKUP($D65&\"@6\",'中間シート（個人）'!$F$6:$O$100,4,FALSE)&VLOOKUP($D65&\"@6\",'中間シート（個人）'!$F$6:$O$100,5,FALSE))","v":""},{"$f":"IF(ISERROR(VLOOKUP($D65&\"@6\",'中間シート（個人）'!$F$6:$O$100,6,FALSE)&VLOOKUP($D65&\"@6\",'中間シート（個人）'!$F$6:$O$100,7,FALSE)&\".\"&VLOOKUP($D65&\"@6\",'中間シート（個人）'!$F$6:$O$100,8,FALSE)),\"\",VLOOKUP($D65&\"@6\",'中間シート（個人）'!$F$6:$O$100,6,FALSE)&VLOOKUP($D65&\"@6\",'中間シート（個人）'!$F$6:$O$100,7,FALSE)&\".\"&VLOOKUP($D65&\"@6\",'中間シート（個人）'!$F$6:$O$100,8,FALSE))","v":""},{"$f":"IF(ISERROR(VLOOKUP($D65&\"@7\",'中間シート（個人）'!$F$6:$O$100,4,FALSE)&VLOOKUP($D65&\"@7\",'中間シート（個人）'!$F$6:$O$100,5,FALSE)),\"\",VLOOKUP($D65&\"@7\",'中間シート（個人）'!$F$6:$O$100,4,FALSE)&VLOOKUP($D65&\"@7\",'中間シート（個人）'!$F$6:$O$100,5,FALSE))","v":""},{"$f":"IF(ISERROR(VLOOKUP($D65&\"@7\",'中間シート（個人）'!$F$6:$O$100,6,FALSE)&VLOOKUP($D65&\"@7\",'中間シート（個人）'!$F$6:$O$100,7,FALSE)&\".\"&VLOOKUP($D65&\"@7\",'中間シート（個人）'!$F$6:$O$100,8,FALSE)),\"\",VLOOKUP($D65&\"@7\",'中間シート（個人）'!$F$6:$O$100,6,FALSE)&VLOOKUP($D65&\"@7\",'中間シート（個人）'!$F$6:$O$100,7,FALSE)&\".\"&VLOOKUP($D65&\"@7\",'中間シート（個人）'!$F$6:$O$100,8,FALSE))","v":""},{"$f":"IF(ISERROR(VLOOKUP($D65&\"@8\",'中間シート（個人）'!$F$6:$O$100,4,FALSE)&VLOOKUP($D65&\"@8\",'中間シート（個人）'!$F$6:$O$100,5,FALSE)),\"\",VLOOKUP($D65&\"@8\",'中間シート（個人）'!$F$6:$O$100,4,FALSE)&VLOOKUP($D65&\"@8\",'中間シート（個人）'!$F$6:$O$100,5,FALSE))","v":""},{"$f":"IF(ISERROR(VLOOKUP($D65&\"@8\",'中間シート（個人）'!$F$6:$O$100,6,FALSE)&VLOOKUP($D65&\"@8\",'中間シート（個人）'!$F$6:$O$100,7,FALSE)&\".\"&VLOOKUP($D65&\"@8\",'中間シート（個人）'!$F$6:$O$100,8,FALSE)),\"\",VLOOKUP($D65&\"@8\",'中間シート（個人）'!$F$6:$O$100,6,FALSE)&VLOOKUP($D65&\"@8\",'中間シート（個人）'!$F$6:$O$100,7,FALSE)&\".\"&VLOOKUP($D65&\"@8\",'中間シート（個人）'!$F$6:$O$100,8,FALSE))","v":""},{"$f":"IF(ISERROR(VLOOKUP($D65&\"@9\",'中間シート（個人）'!$F$6:$O$100,4,FALSE)&VLOOKUP($D65&\"@9\",'中間シート（個人）'!$F$6:$O$100,5,FALSE)),\"\",VLOOKUP($D65&\"@9\",'中間シート（個人）'!$F$6:$O$100,4,FALSE)&VLOOKUP($D65&\"@9\",'中間シート（個人）'!$F$6:$O$100,5,FALSE))","v":""},{"$f":"IF(ISERROR(VLOOKUP($D65&\"@9\",'中間シート（個人）'!$F$6:$O$100,6,FALSE)&VLOOKUP($D65&\"@9\",'中間シート（個人）'!$F$6:$O$100,7,FALSE)&\".\"&VLOOKUP($D65&\"@9\",'中間シート（個人）'!$F$6:$O$100,8,FALSE)),\"\",VLOOKUP($D65&\"@9\",'中間シート（個人）'!$F$6:$O$100,6,FALSE)&VLOOKUP($D65&\"@9\",'中間シート（個人）'!$F$6:$O$100,7,FALSE)&\".\"&VLOOKUP($D65&\"@9\",'中間シート（個人）'!$F$6:$O$100,8,FALSE))","v":""},{"$f":"IF(ISERROR(VLOOKUP($D65&\"@10\",'中間シート（個人）'!$F$6:$O$100,4,FALSE)&VLOOKUP($D65&\"@10\",'中間シート（個人）'!$F$6:$O$100,5,FALSE)),\"\",VLOOKUP($D65&\"@10\",'中間シート（個人）'!$F$6:$O$100,4,FALSE)&VLOOKUP($D65&\"@10\",'中間シート（個人）'!$F$6:$O$100,5,FALSE))","v":""},{"$f":"IF(ISERROR(VLOOKUP($D65&\"@10\",'中間シート（個人）'!$F$6:$O$100,6,FALSE)&VLOOKUP($D65&\"@10\",'中間シート（個人）'!$F$6:$O$100,7,FALSE)&\".\"&VLOOKUP($D65&\"@10\",'中間シート（個人）'!$F$6:$O$100,8,FALSE)),\"\",VLOOKUP($D65&\"@10\",'中間シート（個人）'!$F$6:$O$100,6,FALSE)&VLOOKUP($D65&\"@10\",'中間シート（個人）'!$F$6:$O$100,7,FALSE)&\".\"&VLOOKUP($D65&\"@10\",'中間シート（個人）'!$F$6:$O$100,8,FALSE))","v":""}]
[null,null,{"$f":"IF('中間シート（個人）'!D68=\"○\",\"\",VLOOKUP(個人種目!F68,コード一覧!$A$2:$B$3,2,FALSE))","v":""},{"$f":"IF('中間シート（個人）'!D68=\"○\",\"\",'中間シート（個人）'!C68)","v":""},{"$f":"IF('中間シート（個人）'!D68=\"○\",\"\",ASC(個人種目!D68&\" \"&個人種目!E68))","v":""},{"$f":"IF('中間シート（個人）'!D68=\"○\",\"\",個人種目!G68&IF(LEN(個人種目!H68)=1,\"0\"&個人種目!H68,個人種目!H68)&IF(LEN(個人種目!I68)=1,\"0\"&個人種目!I68,個人種目!I68))","v":""},{"$f":"IF('中間シート（個人）'!D68=\"○\",\"\",VLOOKUP(個人種目!$J68,コード一覧!$C$3:$D$6,2,FALSE))","v":""},{"$f":"IF('中間シート（個人）'!D68=\"○\",\"\",IF(個人種目!$J68=\"一般\",0,個人種目!$K68))","v":""},{"$f":"IF('中間シート（個人）'!D68=\"○\",\"\",'中間シート（個人）'!H68)","v":""},null,{"$f":"IF('中間シート（個人）'!D68=\"○\",\"\",個人種目!$L$1)","v":""},{"$f":"IF('中間シート（個人）'!D68=\"○\",\"\",ASC(申込書_コナミ!$S$9))","v":""},{"$f":"IF('中間シート（個人）'!D68=\"○\",\"\",申込書_コナミ!$E$8)","v":""},null,null,null,{"$f":"IF('中間シート（個人）'!D68=\"○\",\"\",4)","v":""},{"$f":"IF(ISERROR(VLOOKUP($D66&\"@1\",'中間シート（個人）'!$F$6:$O$100,4,FALSE)&VLOOKUP($D66&\"@1\",'中間シート（個人）'!$F$6:$O$100,5,FALSE)),\"\",VLOOKUP($D66&\"@1\",'中間シート（個人）'!$F$6:$O$100,4,FALSE)&VLOOKUP($D66&\"@1\",'中間シート（個人）'!$F$6:$O$100,5,FALSE))","v":""},{"$f":"IF(ISERROR(VLOOKUP($D66&\"@1\",'中間シート（個人）'!$F$6:$O$100,6,FALSE)&VLOOKUP($D66&\"@1\",'中間シート（個人）'!$F$6:$O$100,7,FALSE)&\".\"&VLOOKUP($D66&\"@1\",'中間シート（個人）'!$F$6:$O$100,8,FALSE)),\"\",VLOOKUP($D66&\"@1\",'中間シート（個人）'!$F$6:$O$100,6,FALSE)&VLOOKUP($D66&\"@1\",'中間シート（個人）'!$F$6:$O$100,7,FALSE)&\".\"&VLOOKUP($D66&\"@1\",'中間シート（個人）'!$F$6:$O$100,8,FALSE))","v":""},{"$f":"IF(ISERROR(VLOOKUP($D66&\"@2\",'中間シート（個人）'!$F$6:$O$100,4,FALSE)&VLOOKUP($D66&\"@2\",'中間シート（個人）'!$F$6:$O$100,5,FALSE)),\"\",VLOOKUP($D66&\"@2\",'中間シート（個人）'!$F$6:$O$100,4,FALSE)&VLOOKUP($D66&\"@2\",'中間シート（個人）'!$F$6:$O$100,5,FALSE))","v":""},{"$f":"IF(ISERROR(VLOOKUP($D66&\"@2\",'中間シート（個人）'!$F$6:$O$100,6,FALSE)&VLOOKUP($D66&\"@2\",'中間シート（個人）'!$F$6:$O$100,7,FALSE)&\".\"&VLOOKUP($D66&\"@2\",'中間シート（個人）'!$F$6:$O$100,8,FALSE)),\"\",VLOOKUP($D66&\"@2\",'中間シート（個人）'!$F$6:$O$100,6,FALSE)&VLOOKUP($D66&\"@2\",'中間シート（個人）'!$F$6:$O$100,7,FALSE)&\".\"&VLOOKUP($D66&\"@2\",'中間シート（個人）'!$F$6:$O$100,8,FALSE))","v":""},{"$f":"IF(ISERROR(VLOOKUP($D66&\"@3\",'中間シート（個人）'!$F$6:$O$100,4,FALSE)&VLOOKUP($D66&\"@3\",'中間シート（個人）'!$F$6:$O$100,5,FALSE)),\"\",VLOOKUP($D66&\"@3\",'中間シート（個人）'!$F$6:$O$100,4,FALSE)&VLOOKUP($D66&\"@3\",'中間シート（個人）'!$F$6:$O$100,5,FALSE))","v":""},{"$f":"IF(ISERROR(VLOOKUP($D66&\"@3\",'中間シート（個人）'!$F$6:$O$100,6,FALSE)&VLOOKUP($D66&\"@3\",'中間シート（個人）'!$F$6:$O$100,7,FALSE)&\".\"&VLOOKUP($D66&\"@3\",'中間シート（個人）'!$F$6:$O$100,8,FALSE)),\"\",VLOOKUP($D66&\"@3\",'中間シート（個人）'!$F$6:$O$100,6,FALSE)&VLOOKUP($D66&\"@3\",'中間シート（個人）'!$F$6:$O$100,7,FALSE)&\".\"&VLOOKUP($D66&\"@3\",'中間シート（個人）'!$F$6:$O$100,8,FALSE))","v":""},{"$f":"IF(ISERROR(VLOOKUP($D66&\"@4\",'中間シート（個人）'!$F$6:$O$100,4,FALSE)&VLOOKUP($D66&\"@4\",'中間シート（個人）'!$F$6:$O$100,5,FALSE)),\"\",VLOOKUP($D66&\"@4\",'中間シート（個人）'!$F$6:$O$100,4,FALSE)&VLOOKUP($D66&\"@4\",'中間シート（個人）'!$F$6:$O$100,5,FALSE))","v":""},{"$f":"IF(ISERROR(VLOOKUP($D66&\"@4\",'中間シート（個人）'!$F$6:$O$100,6,FALSE)&VLOOKUP($D66&\"@4\",'中間シート（個人）'!$F$6:$O$100,7,FALSE)&\".\"&VLOOKUP($D66&\"@4\",'中間シート（個人）'!$F$6:$O$100,8,FALSE)),\"\",VLOOKUP($D66&\"@4\",'中間シート（個人）'!$F$6:$O$100,6,FALSE)&VLOOKUP($D66&\"@4\",'中間シート（個人）'!$F$6:$O$100,7,FALSE)&\".\"&VLOOKUP($D66&\"@4\",'中間シート（個人）'!$F$6:$O$100,8,FALSE))","v":""},{"$f":"IF(ISERROR(VLOOKUP($D66&\"@5\",'中間シート（個人）'!$F$6:$O$100,4,FALSE)&VLOOKUP($D66&\"@5\",'中間シート（個人）'!$F$6:$O$100,5,FALSE)),\"\",VLOOKUP($D66&\"@5\",'中間シート（個人）'!$F$6:$O$100,4,FALSE)&VLOOKUP($D66&\"@5\",'中間シート（個人）'!$F$6:$O$100,5,FALSE))","v":""},{"$f":"IF(ISERROR(VLOOKUP($D66&\"@5\",'中間シート（個人）'!$F$6:$O$100,6,FALSE)&VLOOKUP($D66&\"@5\",'中間シート（個人）'!$F$6:$O$100,7,FALSE)&\".\"&VLOOKUP($D66&\"@5\",'中間シート（個人）'!$F$6:$O$100,8,FALSE)),\"\",VLOOKUP($D66&\"@5\",'中間シート（個人）'!$F$6:$O$100,6,FALSE)&VLOOKUP($D66&\"@5\",'中間シート（個人）'!$F$6:$O$100,7,FALSE)&\".\"&VLOOKUP($D66&\"@5\",'中間シート（個人）'!$F$6:$O$100,8,FALSE))","v":""},{"$f":"IF(ISERROR(VLOOKUP($D66&\"@6\",'中間シート（個人）'!$F$6:$O$100,4,FALSE)&VLOOKUP($D66&\"@6\",'中間シート（個人）'!$F$6:$O$100,5,FALSE)),\"\",VLOOKUP($D66&\"@6\",'中間シート（個人）'!$F$6:$O$100,4,FALSE)&VLOOKUP($D66&\"@6\",'中間シート（個人）'!$F$6:$O$100,5,FALSE))","v":""},{"$f":"IF(ISERROR(VLOOKUP($D66&\"@6\",'中間シート（個人）'!$F$6:$O$100,6,FALSE)&VLOOKUP($D66&\"@6\",'中間シート（個人）'!$F$6:$O$100,7,FALSE)&\".\"&VLOOKUP($D66&\"@6\",'中間シート（個人）'!$F$6:$O$100,8,FALSE)),\"\",VLOOKUP($D66&\"@6\",'中間シート（個人）'!$F$6:$O$100,6,FALSE)&VLOOKUP($D66&\"@6\",'中間シート（個人）'!$F$6:$O$100,7,FALSE)&\".\"&VLOOKUP($D66&\"@6\",'中間シート（個人）'!$F$6:$O$100,8,FALSE))","v":""},{"$f":"IF(ISERROR(VLOOKUP($D66&\"@7\",'中間シート（個人）'!$F$6:$O$100,4,FALSE)&VLOOKUP($D66&\"@7\",'中間シート（個人）'!$F$6:$O$100,5,FALSE)),\"\",VLOOKUP($D66&\"@7\",'中間シート（個人）'!$F$6:$O$100,4,FALSE)&VLOOKUP($D66&\"@7\",'中間シート（個人）'!$F$6:$O$100,5,FALSE))","v":""},{"$f":"IF(ISERROR(VLOOKUP($D66&\"@7\",'中間シート（個人）'!$F$6:$O$100,6,FALSE)&VLOOKUP($D66&\"@7\",'中間シート（個人）'!$F$6:$O$100,7,FALSE)&\".\"&VLOOKUP($D66&\"@7\",'中間シート（個人）'!$F$6:$O$100,8,FALSE)),\"\",VLOOKUP($D66&\"@7\",'中間シート（個人）'!$F$6:$O$100,6,FALSE)&VLOOKUP($D66&\"@7\",'中間シート（個人）'!$F$6:$O$100,7,FALSE)&\".\"&VLOOKUP($D66&\"@7\",'中間シート（個人）'!$F$6:$O$100,8,FALSE))","v":""},{"$f":"IF(ISERROR(VLOOKUP($D66&\"@8\",'中間シート（個人）'!$F$6:$O$100,4,FALSE)&VLOOKUP($D66&\"@8\",'中間シート（個人）'!$F$6:$O$100,5,FALSE)),\"\",VLOOKUP($D66&\"@8\",'中間シート（個人）'!$F$6:$O$100,4,FALSE)&VLOOKUP($D66&\"@8\",'中間シート（個人）'!$F$6:$O$100,5,FALSE))","v":""},{"$f":"IF(ISERROR(VLOOKUP($D66&\"@8\",'中間シート（個人）'!$F$6:$O$100,6,FALSE)&VLOOKUP($D66&\"@8\",'中間シート（個人）'!$F$6:$O$100,7,FALSE)&\".\"&VLOOKUP($D66&\"@8\",'中間シート（個人）'!$F$6:$O$100,8,FALSE)),\"\",VLOOKUP($D66&\"@8\",'中間シート（個人）'!$F$6:$O$100,6,FALSE)&VLOOKUP($D66&\"@8\",'中間シート（個人）'!$F$6:$O$100,7,FALSE)&\".\"&VLOOKUP($D66&\"@8\",'中間シート（個人）'!$F$6:$O$100,8,FALSE))","v":""},{"$f":"IF(ISERROR(VLOOKUP($D66&\"@9\",'中間シート（個人）'!$F$6:$O$100,4,FALSE)&VLOOKUP($D66&\"@9\",'中間シート（個人）'!$F$6:$O$100,5,FALSE)),\"\",VLOOKUP($D66&\"@9\",'中間シート（個人）'!$F$6:$O$100,4,FALSE)&VLOOKUP($D66&\"@9\",'中間シート（個人）'!$F$6:$O$100,5,FALSE))","v":""},{"$f":"IF(ISERROR(VLOOKUP($D66&\"@9\",'中間シート（個人）'!$F$6:$O$100,6,FALSE)&VLOOKUP($D66&\"@9\",'中間シート（個人）'!$F$6:$O$100,7,FALSE)&\".\"&VLOOKUP($D66&\"@9\",'中間シート（個人）'!$F$6:$O$100,8,FALSE)),\"\",VLOOKUP($D66&\"@9\",'中間シート（個人）'!$F$6:$O$100,6,FALSE)&VLOOKUP($D66&\"@9\",'中間シート（個人）'!$F$6:$O$100,7,FALSE)&\".\"&VLOOKUP($D66&\"@9\",'中間シート（個人）'!$F$6:$O$100,8,FALSE))","v":""},{"$f":"IF(ISERROR(VLOOKUP($D66&\"@10\",'中間シート（個人）'!$F$6:$O$100,4,FALSE)&VLOOKUP($D66&\"@10\",'中間シート（個人）'!$F$6:$O$100,5,FALSE)),\"\",VLOOKUP($D66&\"@10\",'中間シート（個人）'!$F$6:$O$100,4,FALSE)&VLOOKUP($D66&\"@10\",'中間シート（個人）'!$F$6:$O$100,5,FALSE))","v":""},{"$f":"IF(ISERROR(VLOOKUP($D66&\"@10\",'中間シート（個人）'!$F$6:$O$100,6,FALSE)&VLOOKUP($D66&\"@10\",'中間シート（個人）'!$F$6:$O$100,7,FALSE)&\".\"&VLOOKUP($D66&\"@10\",'中間シート（個人）'!$F$6:$O$100,8,FALSE)),\"\",VLOOKUP($D66&\"@10\",'中間シート（個人）'!$F$6:$O$100,6,FALSE)&VLOOKUP($D66&\"@10\",'中間シート（個人）'!$F$6:$O$100,7,FALSE)&\".\"&VLOOKUP($D66&\"@10\",'中間シート（個人）'!$F$6:$O$100,8,FALSE))","v":""}]
[null,null,{"$f":"IF('中間シート（個人）'!D69=\"○\",\"\",VLOOKUP(個人種目!F69,コード一覧!$A$2:$B$3,2,FALSE))","v":""},{"$f":"IF('中間シート（個人）'!D69=\"○\",\"\",'中間シート（個人）'!C69)","v":""},{"$f":"IF('中間シート（個人）'!D69=\"○\",\"\",ASC(個人種目!D69&\" \"&個人種目!E69))","v":""},{"$f":"IF('中間シート（個人）'!D69=\"○\",\"\",個人種目!G69&IF(LEN(個人種目!H69)=1,\"0\"&個人種目!H69,個人種目!H69)&IF(LEN(個人種目!I69)=1,\"0\"&個人種目!I69,個人種目!I69))","v":""},{"$f":"IF('中間シート（個人）'!D69=\"○\",\"\",VLOOKUP(個人種目!$J69,コード一覧!$C$3:$D$6,2,FALSE))","v":""},{"$f":"IF('中間シート（個人）'!D69=\"○\",\"\",IF(個人種目!$J69=\"一般\",0,個人種目!$K69))","v":""},{"$f":"IF('中間シート（個人）'!D69=\"○\",\"\",'中間シート（個人）'!H69)","v":""},null,{"$f":"IF('中間シート（個人）'!D69=\"○\",\"\",個人種目!$L$1)","v":""},{"$f":"IF('中間シート（個人）'!D69=\"○\",\"\",ASC(申込書_コナミ!$S$9))","v":""},{"$f":"IF('中間シート（個人）'!D69=\"○\",\"\",申込書_コナミ!$E$8)","v":""},null,null,null,{"$f":"IF('中間シート（個人）'!D69=\"○\",\"\",4)","v":""},{"$f":"IF(ISERROR(VLOOKUP($D67&\"@1\",'中間シート（個人）'!$F$6:$O$100,4,FALSE)&VLOOKUP($D67&\"@1\",'中間シート（個人）'!$F$6:$O$100,5,FALSE)),\"\",VLOOKUP($D67&\"@1\",'中間シート（個人）'!$F$6:$O$100,4,FALSE)&VLOOKUP($D67&\"@1\",'中間シート（個人）'!$F$6:$O$100,5,FALSE))","v":""},{"$f":"IF(ISERROR(VLOOKUP($D67&\"@1\",'中間シート（個人）'!$F$6:$O$100,6,FALSE)&VLOOKUP($D67&\"@1\",'中間シート（個人）'!$F$6:$O$100,7,FALSE)&\".\"&VLOOKUP($D67&\"@1\",'中間シート（個人）'!$F$6:$O$100,8,FALSE)),\"\",VLOOKUP($D67&\"@1\",'中間シート（個人）'!$F$6:$O$100,6,FALSE)&VLOOKUP($D67&\"@1\",'中間シート（個人）'!$F$6:$O$100,7,FALSE)&\".\"&VLOOKUP($D67&\"@1\",'中間シート（個人）'!$F$6:$O$100,8,FALSE))","v":""},{"$f":"IF(ISERROR(VLOOKUP($D67&\"@2\",'中間シート（個人）'!$F$6:$O$100,4,FALSE)&VLOOKUP($D67&\"@2\",'中間シート（個人）'!$F$6:$O$100,5,FALSE)),\"\",VLOOKUP($D67&\"@2\",'中間シート（個人）'!$F$6:$O$100,4,FALSE)&VLOOKUP($D67&\"@2\",'中間シート（個人）'!$F$6:$O$100,5,FALSE))","v":""},{"$f":"IF(ISERROR(VLOOKUP($D67&\"@2\",'中間シート（個人）'!$F$6:$O$100,6,FALSE)&VLOOKUP($D67&\"@2\",'中間シート（個人）'!$F$6:$O$100,7,FALSE)&\".\"&VLOOKUP($D67&\"@2\",'中間シート（個人）'!$F$6:$O$100,8,FALSE)),\"\",VLOOKUP($D67&\"@2\",'中間シート（個人）'!$F$6:$O$100,6,FALSE)&VLOOKUP($D67&\"@2\",'中間シート（個人）'!$F$6:$O$100,7,FALSE)&\".\"&VLOOKUP($D67&\"@2\",'中間シート（個人）'!$F$6:$O$100,8,FALSE))","v":""},{"$f":"IF(ISERROR(VLOOKUP($D67&\"@3\",'中間シート（個人）'!$F$6:$O$100,4,FALSE)&VLOOKUP($D67&\"@3\",'中間シート（個人）'!$F$6:$O$100,5,FALSE)),\"\",VLOOKUP($D67&\"@3\",'中間シート（個人）'!$F$6:$O$100,4,FALSE)&VLOOKUP($D67&\"@3\",'中間シート（個人）'!$F$6:$O$100,5,FALSE))","v":""},{"$f":"IF(ISERROR(VLOOKUP($D67&\"@3\",'中間シート（個人）'!$F$6:$O$100,6,FALSE)&VLOOKUP($D67&\"@3\",'中間シート（個人）'!$F$6:$O$100,7,FALSE)&\".\"&VLOOKUP($D67&\"@3\",'中間シート（個人）'!$F$6:$O$100,8,FALSE)),\"\",VLOOKUP($D67&\"@3\",'中間シート（個人）'!$F$6:$O$100,6,FALSE)&VLOOKUP($D67&\"@3\",'中間シート（個人）'!$F$6:$O$100,7,FALSE)&\".\"&VLOOKUP($D67&\"@3\",'中間シート（個人）'!$F$6:$O$100,8,FALSE))","v":""},{"$f":"IF(ISERROR(VLOOKUP($D67&\"@4\",'中間シート（個人）'!$F$6:$O$100,4,FALSE)&VLOOKUP($D67&\"@4\",'中間シート（個人）'!$F$6:$O$100,5,FALSE)),\"\",VLOOKUP($D67&\"@4\",'中間シート（個人）'!$F$6:$O$100,4,FALSE)&VLOOKUP($D67&\"@4\",'中間シート（個人）'!$F$6:$O$100,5,FALSE))","v":""},{"$f":"IF(ISERROR(VLOOKUP($D67&\"@4\",'中間シート（個人）'!$F$6:$O$100,6,FALSE)&VLOOKUP($D67&\"@4\",'中間シート（個人）'!$F$6:$O$100,7,FALSE)&\".\"&VLOOKUP($D67&\"@4\",'中間シート（個人）'!$F$6:$O$100,8,FALSE)),\"\",VLOOKUP($D67&\"@4\",'中間シート（個人）'!$F$6:$O$100,6,FALSE)&VLOOKUP($D67&\"@4\",'中間シート（個人）'!$F$6:$O$100,7,FALSE)&\".\"&VLOOKUP($D67&\"@4\",'中間シート（個人）'!$F$6:$O$100,8,FALSE))","v":""},{"$f":"IF(ISERROR(VLOOKUP($D67&\"@5\",'中間シート（個人）'!$F$6:$O$100,4,FALSE)&VLOOKUP($D67&\"@5\",'中間シート（個人）'!$F$6:$O$100,5,FALSE)),\"\",VLOOKUP($D67&\"@5\",'中間シート（個人）'!$F$6:$O$100,4,FALSE)&VLOOKUP($D67&\"@5\",'中間シート（個人）'!$F$6:$O$100,5,FALSE))","v":""},{"$f":"IF(ISERROR(VLOOKUP($D67&\"@5\",'中間シート（個人）'!$F$6:$O$100,6,FALSE)&VLOOKUP($D67&\"@5\",'中間シート（個人）'!$F$6:$O$100,7,FALSE)&\".\"&VLOOKUP($D67&\"@5\",'中間シート（個人）'!$F$6:$O$100,8,FALSE)),\"\",VLOOKUP($D67&\"@5\",'中間シート（個人）'!$F$6:$O$100,6,FALSE)&VLOOKUP($D67&\"@5\",'中間シート（個人）'!$F$6:$O$100,7,FALSE)&\".\"&VLOOKUP($D67&\"@5\",'中間シート（個人）'!$F$6:$O$100,8,FALSE))","v":""},{"$f":"IF(ISERROR(VLOOKUP($D67&\"@6\",'中間シート（個人）'!$F$6:$O$100,4,FALSE)&VLOOKUP($D67&\"@6\",'中間シート（個人）'!$F$6:$O$100,5,FALSE)),\"\",VLOOKUP($D67&\"@6\",'中間シート（個人）'!$F$6:$O$100,4,FALSE)&VLOOKUP($D67&\"@6\",'中間シート（個人）'!$F$6:$O$100,5,FALSE))","v":""},{"$f":"IF(ISERROR(VLOOKUP($D67&\"@6\",'中間シート（個人）'!$F$6:$O$100,6,FALSE)&VLOOKUP($D67&\"@6\",'中間シート（個人）'!$F$6:$O$100,7,FALSE)&\".\"&VLOOKUP($D67&\"@6\",'中間シート（個人）'!$F$6:$O$100,8,FALSE)),\"\",VLOOKUP($D67&\"@6\",'中間シート（個人）'!$F$6:$O$100,6,FALSE)&VLOOKUP($D67&\"@6\",'中間シート（個人）'!$F$6:$O$100,7,FALSE)&\".\"&VLOOKUP($D67&\"@6\",'中間シート（個人）'!$F$6:$O$100,8,FALSE))","v":""},{"$f":"IF(ISERROR(VLOOKUP($D67&\"@7\",'中間シート（個人）'!$F$6:$O$100,4,FALSE)&VLOOKUP($D67&\"@7\",'中間シート（個人）'!$F$6:$O$100,5,FALSE)),\"\",VLOOKUP($D67&\"@7\",'中間シート（個人）'!$F$6:$O$100,4,FALSE)&VLOOKUP($D67&\"@7\",'中間シート（個人）'!$F$6:$O$100,5,FALSE))","v":""},{"$f":"IF(ISERROR(VLOOKUP($D67&\"@7\",'中間シート（個人）'!$F$6:$O$100,6,FALSE)&VLOOKUP($D67&\"@7\",'中間シート（個人）'!$F$6:$O$100,7,FALSE)&\".\"&VLOOKUP($D67&\"@7\",'中間シート（個人）'!$F$6:$O$100,8,FALSE)),\"\",VLOOKUP($D67&\"@7\",'中間シート（個人）'!$F$6:$O$100,6,FALSE)&VLOOKUP($D67&\"@7\",'中間シート（個人）'!$F$6:$O$100,7,FALSE)&\".\"&VLOOKUP($D67&\"@7\",'中間シート（個人）'!$F$6:$O$100,8,FALSE))","v":""},{"$f":"IF(ISERROR(VLOOKUP($D67&\"@8\",'中間シート（個人）'!$F$6:$O$100,4,FALSE)&VLOOKUP($D67&\"@8\",'中間シート（個人）'!$F$6:$O$100,5,FALSE)),\"\",VLOOKUP($D67&\"@8\",'中間シート（個人）'!$F$6:$O$100,4,FALSE)&VLOOKUP($D67&\"@8\",'中間シート（個人）'!$F$6:$O$100,5,FALSE))","v":""},{"$f":"IF(ISERROR(VLOOKUP($D67&\"@8\",'中間シート（個人）'!$F$6:$O$100,6,FALSE)&VLOOKUP($D67&\"@8\",'中間シート（個人）'!$F$6:$O$100,7,FALSE)&\".\"&VLOOKUP($D67&\"@8\",'中間シート（個人）'!$F$6:$O$100,8,FALSE)),\"\",VLOOKUP($D67&\"@8\",'中間シート（個人）'!$F$6:$O$100,6,FALSE)&VLOOKUP($D67&\"@8\",'中間シート（個人）'!$F$6:$O$100,7,FALSE)&\".\"&VLOOKUP($D67&\"@8\",'中間シート（個人）'!$F$6:$O$100,8,FALSE))","v":""},{"$f":"IF(ISERROR(VLOOKUP($D67&\"@9\",'中間シート（個人）'!$F$6:$O$100,4,FALSE)&VLOOKUP($D67&\"@9\",'中間シート（個人）'!$F$6:$O$100,5,FALSE)),\"\",VLOOKUP($D67&\"@9\",'中間シート（個人）'!$F$6:$O$100,4,FALSE)&VLOOKUP($D67&\"@9\",'中間シート（個人）'!$F$6:$O$100,5,FALSE))","v":""},{"$f":"IF(ISERROR(VLOOKUP($D67&\"@9\",'中間シート（個人）'!$F$6:$O$100,6,FALSE)&VLOOKUP($D67&\"@9\",'中間シート（個人）'!$F$6:$O$100,7,FALSE)&\".\"&VLOOKUP($D67&\"@9\",'中間シート（個人）'!$F$6:$O$100,8,FALSE)),\"\",VLOOKUP($D67&\"@9\",'中間シート（個人）'!$F$6:$O$100,6,FALSE)&VLOOKUP($D67&\"@9\",'中間シート（個人）'!$F$6:$O$100,7,FALSE)&\".\"&VLOOKUP($D67&\"@9\",'中間シート（個人）'!$F$6:$O$100,8,FALSE))","v":""},{"$f":"IF(ISERROR(VLOOKUP($D67&\"@10\",'中間シート（個人）'!$F$6:$O$100,4,FALSE)&VLOOKUP($D67&\"@10\",'中間シート（個人）'!$F$6:$O$100,5,FALSE)),\"\",VLOOKUP($D67&\"@10\",'中間シート（個人）'!$F$6:$O$100,4,FALSE)&VLOOKUP($D67&\"@10\",'中間シート（個人）'!$F$6:$O$100,5,FALSE))","v":""},{"$f":"IF(ISERROR(VLOOKUP($D67&\"@10\",'中間シート（個人）'!$F$6:$O$100,6,FALSE)&VLOOKUP($D67&\"@10\",'中間シート（個人）'!$F$6:$O$100,7,FALSE)&\".\"&VLOOKUP($D67&\"@10\",'中間シート（個人）'!$F$6:$O$100,8,FALSE)),\"\",VLOOKUP($D67&\"@10\",'中間シート（個人）'!$F$6:$O$100,6,FALSE)&VLOOKUP($D67&\"@10\",'中間シート（個人）'!$F$6:$O$100,7,FALSE)&\".\"&VLOOKUP($D67&\"@10\",'中間シート（個人）'!$F$6:$O$100,8,FALSE))","v":""}]
[null,null,{"$f":"IF('中間シート（個人）'!D70=\"○\",\"\",VLOOKUP(個人種目!F70,コード一覧!$A$2:$B$3,2,FALSE))","v":""},{"$f":"IF('中間シート（個人）'!D70=\"○\",\"\",'中間シート（個人）'!C70)","v":""},{"$f":"IF('中間シート（個人）'!D70=\"○\",\"\",ASC(個人種目!D70&\" \"&個人種目!E70))","v":""},{"$f":"IF('中間シート（個人）'!D70=\"○\",\"\",個人種目!G70&IF(LEN(個人種目!H70)=1,\"0\"&個人種目!H70,個人種目!H70)&IF(LEN(個人種目!I70)=1,\"0\"&個人種目!I70,個人種目!I70))","v":""},{"$f":"IF('中間シート（個人）'!D70=\"○\",\"\",VLOOKUP(個人種目!$J70,コード一覧!$C$3:$D$6,2,FALSE))","v":""},{"$f":"IF('中間シート（個人）'!D70=\"○\",\"\",IF(個人種目!$J70=\"一般\",0,個人種目!$K70))","v":""},{"$f":"IF('中間シート（個人）'!D70=\"○\",\"\",'中間シート（個人）'!H70)","v":""},null,{"$f":"IF('中間シート（個人）'!D70=\"○\",\"\",個人種目!$L$1)","v":""},{"$f":"IF('中間シート（個人）'!D70=\"○\",\"\",ASC(申込書_コナミ!$S$9))","v":""},{"$f":"IF('中間シート（個人）'!D70=\"○\",\"\",申込書_コナミ!$E$8)","v":""},null,null,null,{"$f":"IF('中間シート（個人）'!D70=\"○\",\"\",4)","v":""},{"$f":"IF(ISERROR(VLOOKUP($D68&\"@1\",'中間シート（個人）'!$F$6:$O$100,4,FALSE)&VLOOKUP($D68&\"@1\",'中間シート（個人）'!$F$6:$O$100,5,FALSE)),\"\",VLOOKUP($D68&\"@1\",'中間シート（個人）'!$F$6:$O$100,4,FALSE)&VLOOKUP($D68&\"@1\",'中間シート（個人）'!$F$6:$O$100,5,FALSE))","v":""},{"$f":"IF(ISERROR(VLOOKUP($D68&\"@1\",'中間シート（個人）'!$F$6:$O$100,6,FALSE)&VLOOKUP($D68&\"@1\",'中間シート（個人）'!$F$6:$O$100,7,FALSE)&\".\"&VLOOKUP($D68&\"@1\",'中間シート（個人）'!$F$6:$O$100,8,FALSE)),\"\",VLOOKUP($D68&\"@1\",'中間シート（個人）'!$F$6:$O$100,6,FALSE)&VLOOKUP($D68&\"@1\",'中間シート（個人）'!$F$6:$O$100,7,FALSE)&\".\"&VLOOKUP($D68&\"@1\",'中間シート（個人）'!$F$6:$O$100,8,FALSE))","v":""},{"$f":"IF(ISERROR(VLOOKUP($D68&\"@2\",'中間シート（個人）'!$F$6:$O$100,4,FALSE)&VLOOKUP($D68&\"@2\",'中間シート（個人）'!$F$6:$O$100,5,FALSE)),\"\",VLOOKUP($D68&\"@2\",'中間シート（個人）'!$F$6:$O$100,4,FALSE)&VLOOKUP($D68&\"@2\",'中間シート（個人）'!$F$6:$O$100,5,FALSE))","v":""},{"$f":"IF(ISERROR(VLOOKUP($D68&\"@2\",'中間シート（個人）'!$F$6:$O$100,6,FALSE)&VLOOKUP($D68&\"@2\",'中間シート（個人）'!$F$6:$O$100,7,FALSE)&\".\"&VLOOKUP($D68&\"@2\",'中間シート（個人）'!$F$6:$O$100,8,FALSE)),\"\",VLOOKUP($D68&\"@2\",'中間シート（個人）'!$F$6:$O$100,6,FALSE)&VLOOKUP($D68&\"@2\",'中間シート（個人）'!$F$6:$O$100,7,FALSE)&\".\"&VLOOKUP($D68&\"@2\",'中間シート（個人）'!$F$6:$O$100,8,FALSE))","v":""},{"$f":"IF(ISERROR(VLOOKUP($D68&\"@3\",'中間シート（個人）'!$F$6:$O$100,4,FALSE)&VLOOKUP($D68&\"@3\",'中間シート（個人）'!$F$6:$O$100,5,FALSE)),\"\",VLOOKUP($D68&\"@3\",'中間シート（個人）'!$F$6:$O$100,4,FALSE)&VLOOKUP($D68&\"@3\",'中間シート（個人）'!$F$6:$O$100,5,FALSE))","v":""},{"$f":"IF(ISERROR(VLOOKUP($D68&\"@3\",'中間シート（個人）'!$F$6:$O$100,6,FALSE)&VLOOKUP($D68&\"@3\",'中間シート（個人）'!$F$6:$O$100,7,FALSE)&\".\"&VLOOKUP($D68&\"@3\",'中間シート（個人）'!$F$6:$O$100,8,FALSE)),\"\",VLOOKUP($D68&\"@3\",'中間シート（個人）'!$F$6:$O$100,6,FALSE)&VLOOKUP($D68&\"@3\",'中間シート（個人）'!$F$6:$O$100,7,FALSE)&\".\"&VLOOKUP($D68&\"@3\",'中間シート（個人）'!$F$6:$O$100,8,FALSE))","v":""},{"$f":"IF(ISERROR(VLOOKUP($D68&\"@4\",'中間シート（個人）'!$F$6:$O$100,4,FALSE)&VLOOKUP($D68&\"@4\",'中間シート（個人）'!$F$6:$O$100,5,FALSE)),\"\",VLOOKUP($D68&\"@4\",'中間シート（個人）'!$F$6:$O$100,4,FALSE)&VLOOKUP($D68&\"@4\",'中間シート（個人）'!$F$6:$O$100,5,FALSE))","v":""},{"$f":"IF(ISERROR(VLOOKUP($D68&\"@4\",'中間シート（個人）'!$F$6:$O$100,6,FALSE)&VLOOKUP($D68&\"@4\",'中間シート（個人）'!$F$6:$O$100,7,FALSE)&\".\"&VLOOKUP($D68&\"@4\",'中間シート（個人）'!$F$6:$O$100,8,FALSE)),\"\",VLOOKUP($D68&\"@4\",'中間シート（個人）'!$F$6:$O$100,6,FALSE)&VLOOKUP($D68&\"@4\",'中間シート（個人）'!$F$6:$O$100,7,FALSE)&\".\"&VLOOKUP($D68&\"@4\",'中間シート（個人）'!$F$6:$O$100,8,FALSE))","v":""},{"$f":"IF(ISERROR(VLOOKUP($D68&\"@5\",'中間シート（個人）'!$F$6:$O$100,4,FALSE)&VLOOKUP($D68&\"@5\",'中間シート（個人）'!$F$6:$O$100,5,FALSE)),\"\",VLOOKUP($D68&\"@5\",'中間シート（個人）'!$F$6:$O$100,4,FALSE)&VLOOKUP($D68&\"@5\",'中間シート（個人）'!$F$6:$O$100,5,FALSE))","v":""},{"$f":"IF(ISERROR(VLOOKUP($D68&\"@5\",'中間シート（個人）'!$F$6:$O$100,6,FALSE)&VLOOKUP($D68&\"@5\",'中間シート（個人）'!$F$6:$O$100,7,FALSE)&\".\"&VLOOKUP($D68&\"@5\",'中間シート（個人）'!$F$6:$O$100,8,FALSE)),\"\",VLOOKUP($D68&\"@5\",'中間シート（個人）'!$F$6:$O$100,6,FALSE)&VLOOKUP($D68&\"@5\",'中間シート（個人）'!$F$6:$O$100,7,FALSE)&\".\"&VLOOKUP($D68&\"@5\",'中間シート（個人）'!$F$6:$O$100,8,FALSE))","v":""},{"$f":"IF(ISERROR(VLOOKUP($D68&\"@6\",'中間シート（個人）'!$F$6:$O$100,4,FALSE)&VLOOKUP($D68&\"@6\",'中間シート（個人）'!$F$6:$O$100,5,FALSE)),\"\",VLOOKUP($D68&\"@6\",'中間シート（個人）'!$F$6:$O$100,4,FALSE)&VLOOKUP($D68&\"@6\",'中間シート（個人）'!$F$6:$O$100,5,FALSE))","v":""},{"$f":"IF(ISERROR(VLOOKUP($D68&\"@6\",'中間シート（個人）'!$F$6:$O$100,6,FALSE)&VLOOKUP($D68&\"@6\",'中間シート（個人）'!$F$6:$O$100,7,FALSE)&\".\"&VLOOKUP($D68&\"@6\",'中間シート（個人）'!$F$6:$O$100,8,FALSE)),\"\",VLOOKUP($D68&\"@6\",'中間シート（個人）'!$F$6:$O$100,6,FALSE)&VLOOKUP($D68&\"@6\",'中間シート（個人）'!$F$6:$O$100,7,FALSE)&\".\"&VLOOKUP($D68&\"@6\",'中間シート（個人）'!$F$6:$O$100,8,FALSE))","v":""},{"$f":"IF(ISERROR(VLOOKUP($D68&\"@7\",'中間シート（個人）'!$F$6:$O$100,4,FALSE)&VLOOKUP($D68&\"@7\",'中間シート（個人）'!$F$6:$O$100,5,FALSE)),\"\",VLOOKUP($D68&\"@7\",'中間シート（個人）'!$F$6:$O$100,4,FALSE)&VLOOKUP($D68&\"@7\",'中間シート（個人）'!$F$6:$O$100,5,FALSE))","v":""},{"$f":"IF(ISERROR(VLOOKUP($D68&\"@7\",'中間シート（個人）'!$F$6:$O$100,6,FALSE)&VLOOKUP($D68&\"@7\",'中間シート（個人）'!$F$6:$O$100,7,FALSE)&\".\"&VLOOKUP($D68&\"@7\",'中間シート（個人）'!$F$6:$O$100,8,FALSE)),\"\",VLOOKUP($D68&\"@7\",'中間シート（個人）'!$F$6:$O$100,6,FALSE)&VLOOKUP($D68&\"@7\",'中間シート（個人）'!$F$6:$O$100,7,FALSE)&\".\"&VLOOKUP($D68&\"@7\",'中間シート（個人）'!$F$6:$O$100,8,FALSE))","v":""},{"$f":"IF(ISERROR(VLOOKUP($D68&\"@8\",'中間シート（個人）'!$F$6:$O$100,4,FALSE)&VLOOKUP($D68&\"@8\",'中間シート（個人）'!$F$6:$O$100,5,FALSE)),\"\",VLOOKUP($D68&\"@8\",'中間シート（個人）'!$F$6:$O$100,4,FALSE)&VLOOKUP($D68&\"@8\",'中間シート（個人）'!$F$6:$O$100,5,FALSE))","v":""},{"$f":"IF(ISERROR(VLOOKUP($D68&\"@8\",'中間シート（個人）'!$F$6:$O$100,6,FALSE)&VLOOKUP($D68&\"@8\",'中間シート（個人）'!$F$6:$O$100,7,FALSE)&\".\"&VLOOKUP($D68&\"@8\",'中間シート（個人）'!$F$6:$O$100,8,FALSE)),\"\",VLOOKUP($D68&\"@8\",'中間シート（個人）'!$F$6:$O$100,6,FALSE)&VLOOKUP($D68&\"@8\",'中間シート（個人）'!$F$6:$O$100,7,FALSE)&\".\"&VLOOKUP($D68&\"@8\",'中間シート（個人）'!$F$6:$O$100,8,FALSE))","v":""},{"$f":"IF(ISERROR(VLOOKUP($D68&\"@9\",'中間シート（個人）'!$F$6:$O$100,4,FALSE)&VLOOKUP($D68&\"@9\",'中間シート（個人）'!$F$6:$O$100,5,FALSE)),\"\",VLOOKUP($D68&\"@9\",'中間シート（個人）'!$F$6:$O$100,4,FALSE)&VLOOKUP($D68&\"@9\",'中間シート（個人）'!$F$6:$O$100,5,FALSE))","v":""},{"$f":"IF(ISERROR(VLOOKUP($D68&\"@9\",'中間シート（個人）'!$F$6:$O$100,6,FALSE)&VLOOKUP($D68&\"@9\",'中間シート（個人）'!$F$6:$O$100,7,FALSE)&\".\"&VLOOKUP($D68&\"@9\",'中間シート（個人）'!$F$6:$O$100,8,FALSE)),\"\",VLOOKUP($D68&\"@9\",'中間シート（個人）'!$F$6:$O$100,6,FALSE)&VLOOKUP($D68&\"@9\",'中間シート（個人）'!$F$6:$O$100,7,FALSE)&\".\"&VLOOKUP($D68&\"@9\",'中間シート（個人）'!$F$6:$O$100,8,FALSE))","v":""},{"$f":"IF(ISERROR(VLOOKUP($D68&\"@10\",'中間シート（個人）'!$F$6:$O$100,4,FALSE)&VLOOKUP($D68&\"@10\",'中間シート（個人）'!$F$6:$O$100,5,FALSE)),\"\",VLOOKUP($D68&\"@10\",'中間シート（個人）'!$F$6:$O$100,4,FALSE)&VLOOKUP($D68&\"@10\",'中間シート（個人）'!$F$6:$O$100,5,FALSE))","v":""},{"$f":"IF(ISERROR(VLOOKUP($D68&\"@10\",'中間シート（個人）'!$F$6:$O$100,6,FALSE)&VLOOKUP($D68&\"@10\",'中間シート（個人）'!$F$6:$O$100,7,FALSE)&\".\"&VLOOKUP($D68&\"@10\",'中間シート（個人）'!$F$6:$O$100,8,FALSE)),\"\",VLOOKUP($D68&\"@10\",'中間シート（個人）'!$F$6:$O$100,6,FALSE)&VLOOKUP($D68&\"@10\",'中間シート（個人）'!$F$6:$O$100,7,FALSE)&\".\"&VLOOKUP($D68&\"@10\",'中間シート（個人）'!$F$6:$O$100,8,FALSE))","v":""}]
[null,null,{"$f":"IF('中間シート（個人）'!D71=\"○\",\"\",VLOOKUP(個人種目!F71,コード一覧!$A$2:$B$3,2,FALSE))","v":""},{"$f":"IF('中間シート（個人）'!D71=\"○\",\"\",'中間シート（個人）'!C71)","v":""},{"$f":"IF('中間シート（個人）'!D71=\"○\",\"\",ASC(個人種目!D71&\" \"&個人種目!E71))","v":""},{"$f":"IF('中間シート（個人）'!D71=\"○\",\"\",個人種目!G71&IF(LEN(個人種目!H71)=1,\"0\"&個人種目!H71,個人種目!H71)&IF(LEN(個人種目!I71)=1,\"0\"&個人種目!I71,個人種目!I71))","v":""},{"$f":"IF('中間シート（個人）'!D71=\"○\",\"\",VLOOKUP(個人種目!$J71,コード一覧!$C$3:$D$6,2,FALSE))","v":""},{"$f":"IF('中間シート（個人）'!D71=\"○\",\"\",IF(個人種目!$J71=\"一般\",0,個人種目!$K71))","v":""},{"$f":"IF('中間シート（個人）'!D71=\"○\",\"\",'中間シート（個人）'!H71)","v":""},null,{"$f":"IF('中間シート（個人）'!D71=\"○\",\"\",個人種目!$L$1)","v":""},{"$f":"IF('中間シート（個人）'!D71=\"○\",\"\",ASC(申込書_コナミ!$S$9))","v":""},{"$f":"IF('中間シート（個人）'!D71=\"○\",\"\",申込書_コナミ!$E$8)","v":""},null,null,null,{"$f":"IF('中間シート（個人）'!D71=\"○\",\"\",4)","v":""},{"$f":"IF(ISERROR(VLOOKUP($D69&\"@1\",'中間シート（個人）'!$F$6:$O$100,4,FALSE)&VLOOKUP($D69&\"@1\",'中間シート（個人）'!$F$6:$O$100,5,FALSE)),\"\",VLOOKUP($D69&\"@1\",'中間シート（個人）'!$F$6:$O$100,4,FALSE)&VLOOKUP($D69&\"@1\",'中間シート（個人）'!$F$6:$O$100,5,FALSE))","v":""},{"$f":"IF(ISERROR(VLOOKUP($D69&\"@1\",'中間シート（個人）'!$F$6:$O$100,6,FALSE)&VLOOKUP($D69&\"@1\",'中間シート（個人）'!$F$6:$O$100,7,FALSE)&\".\"&VLOOKUP($D69&\"@1\",'中間シート（個人）'!$F$6:$O$100,8,FALSE)),\"\",VLOOKUP($D69&\"@1\",'中間シート（個人）'!$F$6:$O$100,6,FALSE)&VLOOKUP($D69&\"@1\",'中間シート（個人）'!$F$6:$O$100,7,FALSE)&\".\"&VLOOKUP($D69&\"@1\",'中間シート（個人）'!$F$6:$O$100,8,FALSE))","v":""},{"$f":"IF(ISERROR(VLOOKUP($D69&\"@2\",'中間シート（個人）'!$F$6:$O$100,4,FALSE)&VLOOKUP($D69&\"@2\",'中間シート（個人）'!$F$6:$O$100,5,FALSE)),\"\",VLOOKUP($D69&\"@2\",'中間シート（個人）'!$F$6:$O$100,4,FALSE)&VLOOKUP($D69&\"@2\",'中間シート（個人）'!$F$6:$O$100,5,FALSE))","v":""},{"$f":"IF(ISERROR(VLOOKUP($D69&\"@2\",'中間シート（個人）'!$F$6:$O$100,6,FALSE)&VLOOKUP($D69&\"@2\",'中間シート（個人）'!$F$6:$O$100,7,FALSE)&\".\"&VLOOKUP($D69&\"@2\",'中間シート（個人）'!$F$6:$O$100,8,FALSE)),\"\",VLOOKUP($D69&\"@2\",'中間シート（個人）'!$F$6:$O$100,6,FALSE)&VLOOKUP($D69&\"@2\",'中間シート（個人）'!$F$6:$O$100,7,FALSE)&\".\"&VLOOKUP($D69&\"@2\",'中間シート（個人）'!$F$6:$O$100,8,FALSE))","v":""},{"$f":"IF(ISERROR(VLOOKUP($D69&\"@3\",'中間シート（個人）'!$F$6:$O$100,4,FALSE)&VLOOKUP($D69&\"@3\",'中間シート（個人）'!$F$6:$O$100,5,FALSE)),\"\",VLOOKUP($D69&\"@3\",'中間シート（個人）'!$F$6:$O$100,4,FALSE)&VLOOKUP($D69&\"@3\",'中間シート（個人）'!$F$6:$O$100,5,FALSE))","v":""},{"$f":"IF(ISERROR(VLOOKUP($D69&\"@3\",'中間シート（個人）'!$F$6:$O$100,6,FALSE)&VLOOKUP($D69&\"@3\",'中間シート（個人）'!$F$6:$O$100,7,FALSE)&\".\"&VLOOKUP($D69&\"@3\",'中間シート（個人）'!$F$6:$O$100,8,FALSE)),\"\",VLOOKUP($D69&\"@3\",'中間シート（個人）'!$F$6:$O$100,6,FALSE)&VLOOKUP($D69&\"@3\",'中間シート（個人）'!$F$6:$O$100,7,FALSE)&\".\"&VLOOKUP($D69&\"@3\",'中間シート（個人）'!$F$6:$O$100,8,FALSE))","v":""},{"$f":"IF(ISERROR(VLOOKUP($D69&\"@4\",'中間シート（個人）'!$F$6:$O$100,4,FALSE)&VLOOKUP($D69&\"@4\",'中間シート（個人）'!$F$6:$O$100,5,FALSE)),\"\",VLOOKUP($D69&\"@4\",'中間シート（個人）'!$F$6:$O$100,4,FALSE)&VLOOKUP($D69&\"@4\",'中間シート（個人）'!$F$6:$O$100,5,FALSE))","v":""},{"$f":"IF(ISERROR(VLOOKUP($D69&\"@4\",'中間シート（個人）'!$F$6:$O$100,6,FALSE)&VLOOKUP($D69&\"@4\",'中間シート（個人）'!$F$6:$O$100,7,FALSE)&\".\"&VLOOKUP($D69&\"@4\",'中間シート（個人）'!$F$6:$O$100,8,FALSE)),\"\",VLOOKUP($D69&\"@4\",'中間シート（個人）'!$F$6:$O$100,6,FALSE)&VLOOKUP($D69&\"@4\",'中間シート（個人）'!$F$6:$O$100,7,FALSE)&\".\"&VLOOKUP($D69&\"@4\",'中間シート（個人）'!$F$6:$O$100,8,FALSE))","v":""},{"$f":"IF(ISERROR(VLOOKUP($D69&\"@5\",'中間シート（個人）'!$F$6:$O$100,4,FALSE)&VLOOKUP($D69&\"@5\",'中間シート（個人）'!$F$6:$O$100,5,FALSE)),\"\",VLOOKUP($D69&\"@5\",'中間シート（個人）'!$F$6:$O$100,4,FALSE)&VLOOKUP($D69&\"@5\",'中間シート（個人）'!$F$6:$O$100,5,FALSE))","v":""},{"$f":"IF(ISERROR(VLOOKUP($D69&\"@5\",'中間シート（個人）'!$F$6:$O$100,6,FALSE)&VLOOKUP($D69&\"@5\",'中間シート（個人）'!$F$6:$O$100,7,FALSE)&\".\"&VLOOKUP($D69&\"@5\",'中間シート（個人）'!$F$6:$O$100,8,FALSE)),\"\",VLOOKUP($D69&\"@5\",'中間シート（個人）'!$F$6:$O$100,6,FALSE)&VLOOKUP($D69&\"@5\",'中間シート（個人）'!$F$6:$O$100,7,FALSE)&\".\"&VLOOKUP($D69&\"@5\",'中間シート（個人）'!$F$6:$O$100,8,FALSE))","v":""},{"$f":"IF(ISERROR(VLOOKUP($D69&\"@6\",'中間シート（個人）'!$F$6:$O$100,4,FALSE)&VLOOKUP($D69&\"@6\",'中間シート（個人）'!$F$6:$O$100,5,FALSE)),\"\",VLOOKUP($D69&\"@6\",'中間シート（個人）'!$F$6:$O$100,4,FALSE)&VLOOKUP($D69&\"@6\",'中間シート（個人）'!$F$6:$O$100,5,FALSE))","v":""},{"$f":"IF(ISERROR(VLOOKUP($D69&\"@6\",'中間シート（個人）'!$F$6:$O$100,6,FALSE)&VLOOKUP($D69&\"@6\",'中間シート（個人）'!$F$6:$O$100,7,FALSE)&\".\"&VLOOKUP($D69&\"@6\",'中間シート（個人）'!$F$6:$O$100,8,FALSE)),\"\",VLOOKUP($D69&\"@6\",'中間シート（個人）'!$F$6:$O$100,6,FALSE)&VLOOKUP($D69&\"@6\",'中間シート（個人）'!$F$6:$O$100,7,FALSE)&\".\"&VLOOKUP($D69&\"@6\",'中間シート（個人）'!$F$6:$O$100,8,FALSE))","v":""},{"$f":"IF(ISERROR(VLOOKUP($D69&\"@7\",'中間シート（個人）'!$F$6:$O$100,4,FALSE)&VLOOKUP($D69&\"@7\",'中間シート（個人）'!$F$6:$O$100,5,FALSE)),\"\",VLOOKUP($D69&\"@7\",'中間シート（個人）'!$F$6:$O$100,4,FALSE)&VLOOKUP($D69&\"@7\",'中間シート（個人）'!$F$6:$O$100,5,FALSE))","v":""},{"$f":"IF(ISERROR(VLOOKUP($D69&\"@7\",'中間シート（個人）'!$F$6:$O$100,6,FALSE)&VLOOKUP($D69&\"@7\",'中間シート（個人）'!$F$6:$O$100,7,FALSE)&\".\"&VLOOKUP($D69&\"@7\",'中間シート（個人）'!$F$6:$O$100,8,FALSE)),\"\",VLOOKUP($D69&\"@7\",'中間シート（個人）'!$F$6:$O$100,6,FALSE)&VLOOKUP($D69&\"@7\",'中間シート（個人）'!$F$6:$O$100,7,FALSE)&\".\"&VLOOKUP($D69&\"@7\",'中間シート（個人）'!$F$6:$O$100,8,FALSE))","v":""},{"$f":"IF(ISERROR(VLOOKUP($D69&\"@8\",'中間シート（個人）'!$F$6:$O$100,4,FALSE)&VLOOKUP($D69&\"@8\",'中間シート（個人）'!$F$6:$O$100,5,FALSE)),\"\",VLOOKUP($D69&\"@8\",'中間シート（個人）'!$F$6:$O$100,4,FALSE)&VLOOKUP($D69&\"@8\",'中間シート（個人）'!$F$6:$O$100,5,FALSE))","v":""},{"$f":"IF(ISERROR(VLOOKUP($D69&\"@8\",'中間シート（個人）'!$F$6:$O$100,6,FALSE)&VLOOKUP($D69&\"@8\",'中間シート（個人）'!$F$6:$O$100,7,FALSE)&\".\"&VLOOKUP($D69&\"@8\",'中間シート（個人）'!$F$6:$O$100,8,FALSE)),\"\",VLOOKUP($D69&\"@8\",'中間シート（個人）'!$F$6:$O$100,6,FALSE)&VLOOKUP($D69&\"@8\",'中間シート（個人）'!$F$6:$O$100,7,FALSE)&\".\"&VLOOKUP($D69&\"@8\",'中間シート（個人）'!$F$6:$O$100,8,FALSE))","v":""},{"$f":"IF(ISERROR(VLOOKUP($D69&\"@9\",'中間シート（個人）'!$F$6:$O$100,4,FALSE)&VLOOKUP($D69&\"@9\",'中間シート（個人）'!$F$6:$O$100,5,FALSE)),\"\",VLOOKUP($D69&\"@9\",'中間シート（個人）'!$F$6:$O$100,4,FALSE)&VLOOKUP($D69&\"@9\",'中間シート（個人）'!$F$6:$O$100,5,FALSE))","v":""},{"$f":"IF(ISERROR(VLOOKUP($D69&\"@9\",'中間シート（個人）'!$F$6:$O$100,6,FALSE)&VLOOKUP($D69&\"@9\",'中間シート（個人）'!$F$6:$O$100,7,FALSE)&\".\"&VLOOKUP($D69&\"@9\",'中間シート（個人）'!$F$6:$O$100,8,FALSE)),\"\",VLOOKUP($D69&\"@9\",'中間シート（個人）'!$F$6:$O$100,6,FALSE)&VLOOKUP($D69&\"@9\",'中間シート（個人）'!$F$6:$O$100,7,FALSE)&\".\"&VLOOKUP($D69&\"@9\",'中間シート（個人）'!$F$6:$O$100,8,FALSE))","v":""},{"$f":"IF(ISERROR(VLOOKUP($D69&\"@10\",'中間シート（個人）'!$F$6:$O$100,4,FALSE)&VLOOKUP($D69&\"@10\",'中間シート（個人）'!$F$6:$O$100,5,FALSE)),\"\",VLOOKUP($D69&\"@10\",'中間シート（個人）'!$F$6:$O$100,4,FALSE)&VLOOKUP($D69&\"@10\",'中間シート（個人）'!$F$6:$O$100,5,FALSE))","v":""},{"$f":"IF(ISERROR(VLOOKUP($D69&\"@10\",'中間シート（個人）'!$F$6:$O$100,6,FALSE)&VLOOKUP($D69&\"@10\",'中間シート（個人）'!$F$6:$O$100,7,FALSE)&\".\"&VLOOKUP($D69&\"@10\",'中間シート（個人）'!$F$6:$O$100,8,FALSE)),\"\",VLOOKUP($D69&\"@10\",'中間シート（個人）'!$F$6:$O$100,6,FALSE)&VLOOKUP($D69&\"@10\",'中間シート（個人）'!$F$6:$O$100,7,FALSE)&\".\"&VLOOKUP($D69&\"@10\",'中間シート（個人）'!$F$6:$O$100,8,FALSE))","v":""}]
[null,null,{"$f":"IF('中間シート（個人）'!D72=\"○\",\"\",VLOOKUP(個人種目!F72,コード一覧!$A$2:$B$3,2,FALSE))","v":""},{"$f":"IF('中間シート（個人）'!D72=\"○\",\"\",'中間シート（個人）'!C72)","v":""},{"$f":"IF('中間シート（個人）'!D72=\"○\",\"\",ASC(個人種目!D72&\" \"&個人種目!E72))","v":""},{"$f":"IF('中間シート（個人）'!D72=\"○\",\"\",個人種目!G72&IF(LEN(個人種目!H72)=1,\"0\"&個人種目!H72,個人種目!H72)&IF(LEN(個人種目!I72)=1,\"0\"&個人種目!I72,個人種目!I72))","v":""},{"$f":"IF('中間シート（個人）'!D72=\"○\",\"\",VLOOKUP(個人種目!$J72,コード一覧!$C$3:$D$6,2,FALSE))","v":""},{"$f":"IF('中間シート（個人）'!D72=\"○\",\"\",IF(個人種目!$J72=\"一般\",0,個人種目!$K72))","v":""},{"$f":"IF('中間シート（個人）'!D72=\"○\",\"\",'中間シート（個人）'!H72)","v":""},null,{"$f":"IF('中間シート（個人）'!D72=\"○\",\"\",個人種目!$L$1)","v":""},{"$f":"IF('中間シート（個人）'!D72=\"○\",\"\",ASC(申込書_コナミ!$S$9))","v":""},{"$f":"IF('中間シート（個人）'!D72=\"○\",\"\",申込書_コナミ!$E$8)","v":""},null,null,null,{"$f":"IF('中間シート（個人）'!D72=\"○\",\"\",4)","v":""},{"$f":"IF(ISERROR(VLOOKUP($D70&\"@1\",'中間シート（個人）'!$F$6:$O$100,4,FALSE)&VLOOKUP($D70&\"@1\",'中間シート（個人）'!$F$6:$O$100,5,FALSE)),\"\",VLOOKUP($D70&\"@1\",'中間シート（個人）'!$F$6:$O$100,4,FALSE)&VLOOKUP($D70&\"@1\",'中間シート（個人）'!$F$6:$O$100,5,FALSE))","v":""},{"$f":"IF(ISERROR(VLOOKUP($D70&\"@1\",'中間シート（個人）'!$F$6:$O$100,6,FALSE)&VLOOKUP($D70&\"@1\",'中間シート（個人）'!$F$6:$O$100,7,FALSE)&\".\"&VLOOKUP($D70&\"@1\",'中間シート（個人）'!$F$6:$O$100,8,FALSE)),\"\",VLOOKUP($D70&\"@1\",'中間シート（個人）'!$F$6:$O$100,6,FALSE)&VLOOKUP($D70&\"@1\",'中間シート（個人）'!$F$6:$O$100,7,FALSE)&\".\"&VLOOKUP($D70&\"@1\",'中間シート（個人）'!$F$6:$O$100,8,FALSE))","v":""},{"$f":"IF(ISERROR(VLOOKUP($D70&\"@2\",'中間シート（個人）'!$F$6:$O$100,4,FALSE)&VLOOKUP($D70&\"@2\",'中間シート（個人）'!$F$6:$O$100,5,FALSE)),\"\",VLOOKUP($D70&\"@2\",'中間シート（個人）'!$F$6:$O$100,4,FALSE)&VLOOKUP($D70&\"@2\",'中間シート（個人）'!$F$6:$O$100,5,FALSE))","v":""},{"$f":"IF(ISERROR(VLOOKUP($D70&\"@2\",'中間シート（個人）'!$F$6:$O$100,6,FALSE)&VLOOKUP($D70&\"@2\",'中間シート（個人）'!$F$6:$O$100,7,FALSE)&\".\"&VLOOKUP($D70&\"@2\",'中間シート（個人）'!$F$6:$O$100,8,FALSE)),\"\",VLOOKUP($D70&\"@2\",'中間シート（個人）'!$F$6:$O$100,6,FALSE)&VLOOKUP($D70&\"@2\",'中間シート（個人）'!$F$6:$O$100,7,FALSE)&\".\"&VLOOKUP($D70&\"@2\",'中間シート（個人）'!$F$6:$O$100,8,FALSE))","v":""},{"$f":"IF(ISERROR(VLOOKUP($D70&\"@3\",'中間シート（個人）'!$F$6:$O$100,4,FALSE)&VLOOKUP($D70&\"@3\",'中間シート（個人）'!$F$6:$O$100,5,FALSE)),\"\",VLOOKUP($D70&\"@3\",'中間シート（個人）'!$F$6:$O$100,4,FALSE)&VLOOKUP($D70&\"@3\",'中間シート（個人）'!$F$6:$O$100,5,FALSE))","v":""},{"$f":"IF(ISERROR(VLOOKUP($D70&\"@3\",'中間シート（個人）'!$F$6:$O$100,6,FALSE)&VLOOKUP($D70&\"@3\",'中間シート（個人）'!$F$6:$O$100,7,FALSE)&\".\"&VLOOKUP($D70&\"@3\",'中間シート（個人）'!$F$6:$O$100,8,FALSE)),\"\",VLOOKUP($D70&\"@3\",'中間シート（個人）'!$F$6:$O$100,6,FALSE)&VLOOKUP($D70&\"@3\",'中間シート（個人）'!$F$6:$O$100,7,FALSE)&\".\"&VLOOKUP($D70&\"@3\",'中間シート（個人）'!$F$6:$O$100,8,FALSE))","v":""},{"$f":"IF(ISERROR(VLOOKUP($D70&\"@4\",'中間シート（個人）'!$F$6:$O$100,4,FALSE)&VLOOKUP($D70&\"@4\",'中間シート（個人）'!$F$6:$O$100,5,FALSE)),\"\",VLOOKUP($D70&\"@4\",'中間シート（個人）'!$F$6:$O$100,4,FALSE)&VLOOKUP($D70&\"@4\",'中間シート（個人）'!$F$6:$O$100,5,FALSE))","v":""},{"$f":"IF(ISERROR(VLOOKUP($D70&\"@4\",'中間シート（個人）'!$F$6:$O$100,6,FALSE)&VLOOKUP($D70&\"@4\",'中間シート（個人）'!$F$6:$O$100,7,FALSE)&\".\"&VLOOKUP($D70&\"@4\",'中間シート（個人）'!$F$6:$O$100,8,FALSE)),\"\",VLOOKUP($D70&\"@4\",'中間シート（個人）'!$F$6:$O$100,6,FALSE)&VLOOKUP($D70&\"@4\",'中間シート（個人）'!$F$6:$O$100,7,FALSE)&\".\"&VLOOKUP($D70&\"@4\",'中間シート（個人）'!$F$6:$O$100,8,FALSE))","v":""},{"$f":"IF(ISERROR(VLOOKUP($D70&\"@5\",'中間シート（個人）'!$F$6:$O$100,4,FALSE)&VLOOKUP($D70&\"@5\",'中間シート（個人）'!$F$6:$O$100,5,FALSE)),\"\",VLOOKUP($D70&\"@5\",'中間シート（個人）'!$F$6:$O$100,4,FALSE)&VLOOKUP($D70&\"@5\",'中間シート（個人）'!$F$6:$O$100,5,FALSE))","v":""},{"$f":"IF(ISERROR(VLOOKUP($D70&\"@5\",'中間シート（個人）'!$F$6:$O$100,6,FALSE)&VLOOKUP($D70&\"@5\",'中間シート（個人）'!$F$6:$O$100,7,FALSE)&\".\"&VLOOKUP($D70&\"@5\",'中間シート（個人）'!$F$6:$O$100,8,FALSE)),\"\",VLOOKUP($D70&\"@5\",'中間シート（個人）'!$F$6:$O$100,6,FALSE)&VLOOKUP($D70&\"@5\",'中間シート（個人）'!$F$6:$O$100,7,FALSE)&\".\"&VLOOKUP($D70&\"@5\",'中間シート（個人）'!$F$6:$O$100,8,FALSE))","v":""},{"$f":"IF(ISERROR(VLOOKUP($D70&\"@6\",'中間シート（個人）'!$F$6:$O$100,4,FALSE)&VLOOKUP($D70&\"@6\",'中間シート（個人）'!$F$6:$O$100,5,FALSE)),\"\",VLOOKUP($D70&\"@6\",'中間シート（個人）'!$F$6:$O$100,4,FALSE)&VLOOKUP($D70&\"@6\",'中間シート（個人）'!$F$6:$O$100,5,FALSE))","v":""},{"$f":"IF(ISERROR(VLOOKUP($D70&\"@6\",'中間シート（個人）'!$F$6:$O$100,6,FALSE)&VLOOKUP($D70&\"@6\",'中間シート（個人）'!$F$6:$O$100,7,FALSE)&\".\"&VLOOKUP($D70&\"@6\",'中間シート（個人）'!$F$6:$O$100,8,FALSE)),\"\",VLOOKUP($D70&\"@6\",'中間シート（個人）'!$F$6:$O$100,6,FALSE)&VLOOKUP($D70&\"@6\",'中間シート（個人）'!$F$6:$O$100,7,FALSE)&\".\"&VLOOKUP($D70&\"@6\",'中間シート（個人）'!$F$6:$O$100,8,FALSE))","v":""},{"$f":"IF(ISERROR(VLOOKUP($D70&\"@7\",'中間シート（個人）'!$F$6:$O$100,4,FALSE)&VLOOKUP($D70&\"@7\",'中間シート（個人）'!$F$6:$O$100,5,FALSE)),\"\",VLOOKUP($D70&\"@7\",'中間シート（個人）'!$F$6:$O$100,4,FALSE)&VLOOKUP($D70&\"@7\",'中間シート（個人）'!$F$6:$O$100,5,FALSE))","v":""},{"$f":"IF(ISERROR(VLOOKUP($D70&\"@7\",'中間シート（個人）'!$F$6:$O$100,6,FALSE)&VLOOKUP($D70&\"@7\",'中間シート（個人）'!$F$6:$O$100,7,FALSE)&\".\"&VLOOKUP($D70&\"@7\",'中間シート（個人）'!$F$6:$O$100,8,FALSE)),\"\",VLOOKUP($D70&\"@7\",'中間シート（個人）'!$F$6:$O$100,6,FALSE)&VLOOKUP($D70&\"@7\",'中間シート（個人）'!$F$6:$O$100,7,FALSE)&\".\"&VLOOKUP($D70&\"@7\",'中間シート（個人）'!$F$6:$O$100,8,FALSE))","v":""},{"$f":"IF(ISERROR(VLOOKUP($D70&\"@8\",'中間シート（個人）'!$F$6:$O$100,4,FALSE)&VLOOKUP($D70&\"@8\",'中間シート（個人）'!$F$6:$O$100,5,FALSE)),\"\",VLOOKUP($D70&\"@8\",'中間シート（個人）'!$F$6:$O$100,4,FALSE)&VLOOKUP($D70&\"@8\",'中間シート（個人）'!$F$6:$O$100,5,FALSE))","v":""},{"$f":"IF(ISERROR(VLOOKUP($D70&\"@8\",'中間シート（個人）'!$F$6:$O$100,6,FALSE)&VLOOKUP($D70&\"@8\",'中間シート（個人）'!$F$6:$O$100,7,FALSE)&\".\"&VLOOKUP($D70&\"@8\",'中間シート（個人）'!$F$6:$O$100,8,FALSE)),\"\",VLOOKUP($D70&\"@8\",'中間シート（個人）'!$F$6:$O$100,6,FALSE)&VLOOKUP($D70&\"@8\",'中間シート（個人）'!$F$6:$O$100,7,FALSE)&\".\"&VLOOKUP($D70&\"@8\",'中間シート（個人）'!$F$6:$O$100,8,FALSE))","v":""},{"$f":"IF(ISERROR(VLOOKUP($D70&\"@9\",'中間シート（個人）'!$F$6:$O$100,4,FALSE)&VLOOKUP($D70&\"@9\",'中間シート（個人）'!$F$6:$O$100,5,FALSE)),\"\",VLOOKUP($D70&\"@9\",'中間シート（個人）'!$F$6:$O$100,4,FALSE)&VLOOKUP($D70&\"@9\",'中間シート（個人）'!$F$6:$O$100,5,FALSE))","v":""},{"$f":"IF(ISERROR(VLOOKUP($D70&\"@9\",'中間シート（個人）'!$F$6:$O$100,6,FALSE)&VLOOKUP($D70&\"@9\",'中間シート（個人）'!$F$6:$O$100,7,FALSE)&\".\"&VLOOKUP($D70&\"@9\",'中間シート（個人）'!$F$6:$O$100,8,FALSE)),\"\",VLOOKUP($D70&\"@9\",'中間シート（個人）'!$F$6:$O$100,6,FALSE)&VLOOKUP($D70&\"@9\",'中間シート（個人）'!$F$6:$O$100,7,FALSE)&\".\"&VLOOKUP($D70&\"@9\",'中間シート（個人）'!$F$6:$O$100,8,FALSE))","v":""},{"$f":"IF(ISERROR(VLOOKUP($D70&\"@10\",'中間シート（個人）'!$F$6:$O$100,4,FALSE)&VLOOKUP($D70&\"@10\",'中間シート（個人）'!$F$6:$O$100,5,FALSE)),\"\",VLOOKUP($D70&\"@10\",'中間シート（個人）'!$F$6:$O$100,4,FALSE)&VLOOKUP($D70&\"@10\",'中間シート（個人）'!$F$6:$O$100,5,FALSE))","v":""},{"$f":"IF(ISERROR(VLOOKUP($D70&\"@10\",'中間シート（個人）'!$F$6:$O$100,6,FALSE)&VLOOKUP($D70&\"@10\",'中間シート（個人）'!$F$6:$O$100,7,FALSE)&\".\"&VLOOKUP($D70&\"@10\",'中間シート（個人）'!$F$6:$O$100,8,FALSE)),\"\",VLOOKUP($D70&\"@10\",'中間シート（個人）'!$F$6:$O$100,6,FALSE)&VLOOKUP($D70&\"@10\",'中間シート（個人）'!$F$6:$O$100,7,FALSE)&\".\"&VLOOKUP($D70&\"@10\",'中間シート（個人）'!$F$6:$O$100,8,FALSE))","v":""}]
[null,null,{"$f":"IF('中間シート（個人）'!D73=\"○\",\"\",VLOOKUP(個人種目!F73,コード一覧!$A$2:$B$3,2,FALSE))","v":""},{"$f":"IF('中間シート（個人）'!D73=\"○\",\"\",'中間シート（個人）'!C73)","v":""},{"$f":"IF('中間シート（個人）'!D73=\"○\",\"\",ASC(個人種目!D73&\" \"&個人種目!E73))","v":""},{"$f":"IF('中間シート（個人）'!D73=\"○\",\"\",個人種目!G73&IF(LEN(個人種目!H73)=1,\"0\"&個人種目!H73,個人種目!H73)&IF(LEN(個人種目!I73)=1,\"0\"&個人種目!I73,個人種目!I73))","v":""},{"$f":"IF('中間シート（個人）'!D73=\"○\",\"\",VLOOKUP(個人種目!$J73,コード一覧!$C$3:$D$6,2,FALSE))","v":""},{"$f":"IF('中間シート（個人）'!D73=\"○\",\"\",IF(個人種目!$J73=\"一般\",0,個人種目!$K73))","v":""},{"$f":"IF('中間シート（個人）'!D73=\"○\",\"\",'中間シート（個人）'!H73)","v":""},null,{"$f":"IF('中間シート（個人）'!D73=\"○\",\"\",個人種目!$L$1)","v":""},{"$f":"IF('中間シート（個人）'!D73=\"○\",\"\",ASC(申込書_コナミ!$S$9))","v":""},{"$f":"IF('中間シート（個人）'!D73=\"○\",\"\",申込書_コナミ!$E$8)","v":""},null,null,null,{"$f":"IF('中間シート（個人）'!D73=\"○\",\"\",4)","v":""},{"$f":"IF(ISERROR(VLOOKUP($D71&\"@1\",'中間シート（個人）'!$F$6:$O$100,4,FALSE)&VLOOKUP($D71&\"@1\",'中間シート（個人）'!$F$6:$O$100,5,FALSE)),\"\",VLOOKUP($D71&\"@1\",'中間シート（個人）'!$F$6:$O$100,4,FALSE)&VLOOKUP($D71&\"@1\",'中間シート（個人）'!$F$6:$O$100,5,FALSE))","v":""},{"$f":"IF(ISERROR(VLOOKUP($D71&\"@1\",'中間シート（個人）'!$F$6:$O$100,6,FALSE)&VLOOKUP($D71&\"@1\",'中間シート（個人）'!$F$6:$O$100,7,FALSE)&\".\"&VLOOKUP($D71&\"@1\",'中間シート（個人）'!$F$6:$O$100,8,FALSE)),\"\",VLOOKUP($D71&\"@1\",'中間シート（個人）'!$F$6:$O$100,6,FALSE)&VLOOKUP($D71&\"@1\",'中間シート（個人）'!$F$6:$O$100,7,FALSE)&\".\"&VLOOKUP($D71&\"@1\",'中間シート（個人）'!$F$6:$O$100,8,FALSE))","v":""},{"$f":"IF(ISERROR(VLOOKUP($D71&\"@2\",'中間シート（個人）'!$F$6:$O$100,4,FALSE)&VLOOKUP($D71&\"@2\",'中間シート（個人）'!$F$6:$O$100,5,FALSE)),\"\",VLOOKUP($D71&\"@2\",'中間シート（個人）'!$F$6:$O$100,4,FALSE)&VLOOKUP($D71&\"@2\",'中間シート（個人）'!$F$6:$O$100,5,FALSE))","v":""},{"$f":"IF(ISERROR(VLOOKUP($D71&\"@2\",'中間シート（個人）'!$F$6:$O$100,6,FALSE)&VLOOKUP($D71&\"@2\",'中間シート（個人）'!$F$6:$O$100,7,FALSE)&\".\"&VLOOKUP($D71&\"@2\",'中間シート（個人）'!$F$6:$O$100,8,FALSE)),\"\",VLOOKUP($D71&\"@2\",'中間シート（個人）'!$F$6:$O$100,6,FALSE)&VLOOKUP($D71&\"@2\",'中間シート（個人）'!$F$6:$O$100,7,FALSE)&\".\"&VLOOKUP($D71&\"@2\",'中間シート（個人）'!$F$6:$O$100,8,FALSE))","v":""},{"$f":"IF(ISERROR(VLOOKUP($D71&\"@3\",'中間シート（個人）'!$F$6:$O$100,4,FALSE)&VLOOKUP($D71&\"@3\",'中間シート（個人）'!$F$6:$O$100,5,FALSE)),\"\",VLOOKUP($D71&\"@3\",'中間シート（個人）'!$F$6:$O$100,4,FALSE)&VLOOKUP($D71&\"@3\",'中間シート（個人）'!$F$6:$O$100,5,FALSE))","v":""},{"$f":"IF(ISERROR(VLOOKUP($D71&\"@3\",'中間シート（個人）'!$F$6:$O$100,6,FALSE)&VLOOKUP($D71&\"@3\",'中間シート（個人）'!$F$6:$O$100,7,FALSE)&\".\"&VLOOKUP($D71&\"@3\",'中間シート（個人）'!$F$6:$O$100,8,FALSE)),\"\",VLOOKUP($D71&\"@3\",'中間シート（個人）'!$F$6:$O$100,6,FALSE)&VLOOKUP($D71&\"@3\",'中間シート（個人）'!$F$6:$O$100,7,FALSE)&\".\"&VLOOKUP($D71&\"@3\",'中間シート（個人）'!$F$6:$O$100,8,FALSE))","v":""},{"$f":"IF(ISERROR(VLOOKUP($D71&\"@4\",'中間シート（個人）'!$F$6:$O$100,4,FALSE)&VLOOKUP($D71&\"@4\",'中間シート（個人）'!$F$6:$O$100,5,FALSE)),\"\",VLOOKUP($D71&\"@4\",'中間シート（個人）'!$F$6:$O$100,4,FALSE)&VLOOKUP($D71&\"@4\",'中間シート（個人）'!$F$6:$O$100,5,FALSE))","v":""},{"$f":"IF(ISERROR(VLOOKUP($D71&\"@4\",'中間シート（個人）'!$F$6:$O$100,6,FALSE)&VLOOKUP($D71&\"@4\",'中間シート（個人）'!$F$6:$O$100,7,FALSE)&\".\"&VLOOKUP($D71&\"@4\",'中間シート（個人）'!$F$6:$O$100,8,FALSE)),\"\",VLOOKUP($D71&\"@4\",'中間シート（個人）'!$F$6:$O$100,6,FALSE)&VLOOKUP($D71&\"@4\",'中間シート（個人）'!$F$6:$O$100,7,FALSE)&\".\"&VLOOKUP($D71&\"@4\",'中間シート（個人）'!$F$6:$O$100,8,FALSE))","v":""},{"$f":"IF(ISERROR(VLOOKUP($D71&\"@5\",'中間シート（個人）'!$F$6:$O$100,4,FALSE)&VLOOKUP($D71&\"@5\",'中間シート（個人）'!$F$6:$O$100,5,FALSE)),\"\",VLOOKUP($D71&\"@5\",'中間シート（個人）'!$F$6:$O$100,4,FALSE)&VLOOKUP($D71&\"@5\",'中間シート（個人）'!$F$6:$O$100,5,FALSE))","v":""},{"$f":"IF(ISERROR(VLOOKUP($D71&\"@5\",'中間シート（個人）'!$F$6:$O$100,6,FALSE)&VLOOKUP($D71&\"@5\",'中間シート（個人）'!$F$6:$O$100,7,FALSE)&\".\"&VLOOKUP($D71&\"@5\",'中間シート（個人）'!$F$6:$O$100,8,FALSE)),\"\",VLOOKUP($D71&\"@5\",'中間シート（個人）'!$F$6:$O$100,6,FALSE)&VLOOKUP($D71&\"@5\",'中間シート（個人）'!$F$6:$O$100,7,FALSE)&\".\"&VLOOKUP($D71&\"@5\",'中間シート（個人）'!$F$6:$O$100,8,FALSE))","v":""},{"$f":"IF(ISERROR(VLOOKUP($D71&\"@6\",'中間シート（個人）'!$F$6:$O$100,4,FALSE)&VLOOKUP($D71&\"@6\",'中間シート（個人）'!$F$6:$O$100,5,FALSE)),\"\",VLOOKUP($D71&\"@6\",'中間シート（個人）'!$F$6:$O$100,4,FALSE)&VLOOKUP($D71&\"@6\",'中間シート（個人）'!$F$6:$O$100,5,FALSE))","v":""},{"$f":"IF(ISERROR(VLOOKUP($D71&\"@6\",'中間シート（個人）'!$F$6:$O$100,6,FALSE)&VLOOKUP($D71&\"@6\",'中間シート（個人）'!$F$6:$O$100,7,FALSE)&\".\"&VLOOKUP($D71&\"@6\",'中間シート（個人）'!$F$6:$O$100,8,FALSE)),\"\",VLOOKUP($D71&\"@6\",'中間シート（個人）'!$F$6:$O$100,6,FALSE)&VLOOKUP($D71&\"@6\",'中間シート（個人）'!$F$6:$O$100,7,FALSE)&\".\"&VLOOKUP($D71&\"@6\",'中間シート（個人）'!$F$6:$O$100,8,FALSE))","v":""},{"$f":"IF(ISERROR(VLOOKUP($D71&\"@7\",'中間シート（個人）'!$F$6:$O$100,4,FALSE)&VLOOKUP($D71&\"@7\",'中間シート（個人）'!$F$6:$O$100,5,FALSE)),\"\",VLOOKUP($D71&\"@7\",'中間シート（個人）'!$F$6:$O$100,4,FALSE)&VLOOKUP($D71&\"@7\",'中間シート（個人）'!$F$6:$O$100,5,FALSE))","v":""},{"$f":"IF(ISERROR(VLOOKUP($D71&\"@7\",'中間シート（個人）'!$F$6:$O$100,6,FALSE)&VLOOKUP($D71&\"@7\",'中間シート（個人）'!$F$6:$O$100,7,FALSE)&\".\"&VLOOKUP($D71&\"@7\",'中間シート（個人）'!$F$6:$O$100,8,FALSE)),\"\",VLOOKUP($D71&\"@7\",'中間シート（個人）'!$F$6:$O$100,6,FALSE)&VLOOKUP($D71&\"@7\",'中間シート（個人）'!$F$6:$O$100,7,FALSE)&\".\"&VLOOKUP($D71&\"@7\",'中間シート（個人）'!$F$6:$O$100,8,FALSE))","v":""},{"$f":"IF(ISERROR(VLOOKUP($D71&\"@8\",'中間シート（個人）'!$F$6:$O$100,4,FALSE)&VLOOKUP($D71&\"@8\",'中間シート（個人）'!$F$6:$O$100,5,FALSE)),\"\",VLOOKUP($D71&\"@8\",'中間シート（個人）'!$F$6:$O$100,4,FALSE)&VLOOKUP($D71&\"@8\",'中間シート（個人）'!$F$6:$O$100,5,FALSE))","v":""},{"$f":"IF(ISERROR(VLOOKUP($D71&\"@8\",'中間シート（個人）'!$F$6:$O$100,6,FALSE)&VLOOKUP($D71&\"@8\",'中間シート（個人）'!$F$6:$O$100,7,FALSE)&\".\"&VLOOKUP($D71&\"@8\",'中間シート（個人）'!$F$6:$O$100,8,FALSE)),\"\",VLOOKUP($D71&\"@8\",'中間シート（個人）'!$F$6:$O$100,6,FALSE)&VLOOKUP($D71&\"@8\",'中間シート（個人）'!$F$6:$O$100,7,FALSE)&\".\"&VLOOKUP($D71&\"@8\",'中間シート（個人）'!$F$6:$O$100,8,FALSE))","v":""},{"$f":"IF(ISERROR(VLOOKUP($D71&\"@9\",'中間シート（個人）'!$F$6:$O$100,4,FALSE)&VLOOKUP($D71&\"@9\",'中間シート（個人）'!$F$6:$O$100,5,FALSE)),\"\",VLOOKUP($D71&\"@9\",'中間シート（個人）'!$F$6:$O$100,4,FALSE)&VLOOKUP($D71&\"@9\",'中間シート（個人）'!$F$6:$O$100,5,FALSE))","v":""},{"$f":"IF(ISERROR(VLOOKUP($D71&\"@9\",'中間シート（個人）'!$F$6:$O$100,6,FALSE)&VLOOKUP($D71&\"@9\",'中間シート（個人）'!$F$6:$O$100,7,FALSE)&\".\"&VLOOKUP($D71&\"@9\",'中間シート（個人）'!$F$6:$O$100,8,FALSE)),\"\",VLOOKUP($D71&\"@9\",'中間シート（個人）'!$F$6:$O$100,6,FALSE)&VLOOKUP($D71&\"@9\",'中間シート（個人）'!$F$6:$O$100,7,FALSE)&\".\"&VLOOKUP($D71&\"@9\",'中間シート（個人）'!$F$6:$O$100,8,FALSE))","v":""},{"$f":"IF(ISERROR(VLOOKUP($D71&\"@10\",'中間シート（個人）'!$F$6:$O$100,4,FALSE)&VLOOKUP($D71&\"@10\",'中間シート（個人）'!$F$6:$O$100,5,FALSE)),\"\",VLOOKUP($D71&\"@10\",'中間シート（個人）'!$F$6:$O$100,4,FALSE)&VLOOKUP($D71&\"@10\",'中間シート（個人）'!$F$6:$O$100,5,FALSE))","v":""},{"$f":"IF(ISERROR(VLOOKUP($D71&\"@10\",'中間シート（個人）'!$F$6:$O$100,6,FALSE)&VLOOKUP($D71&\"@10\",'中間シート（個人）'!$F$6:$O$100,7,FALSE)&\".\"&VLOOKUP($D71&\"@10\",'中間シート（個人）'!$F$6:$O$100,8,FALSE)),\"\",VLOOKUP($D71&\"@10\",'中間シート（個人）'!$F$6:$O$100,6,FALSE)&VLOOKUP($D71&\"@10\",'中間シート（個人）'!$F$6:$O$100,7,FALSE)&\".\"&VLOOKUP($D71&\"@10\",'中間シート（個人）'!$F$6:$O$100,8,FALSE))","v":""}]
[null,null,{"$f":"IF('中間シート（個人）'!D74=\"○\",\"\",VLOOKUP(個人種目!F74,コード一覧!$A$2:$B$3,2,FALSE))","v":""},{"$f":"IF('中間シート（個人）'!D74=\"○\",\"\",'中間シート（個人）'!C74)","v":""},{"$f":"IF('中間シート（個人）'!D74=\"○\",\"\",ASC(個人種目!D74&\" \"&個人種目!E74))","v":""},{"$f":"IF('中間シート（個人）'!D74=\"○\",\"\",個人種目!G74&IF(LEN(個人種目!H74)=1,\"0\"&個人種目!H74,個人種目!H74)&IF(LEN(個人種目!I74)=1,\"0\"&個人種目!I74,個人種目!I74))","v":""},{"$f":"IF('中間シート（個人）'!D74=\"○\",\"\",VLOOKUP(個人種目!$J74,コード一覧!$C$3:$D$6,2,FALSE))","v":""},{"$f":"IF('中間シート（個人）'!D74=\"○\",\"\",IF(個人種目!$J74=\"一般\",0,個人種目!$K74))","v":""},{"$f":"IF('中間シート（個人）'!D74=\"○\",\"\",'中間シート（個人）'!H74)","v":""},null,{"$f":"IF('中間シート（個人）'!D74=\"○\",\"\",個人種目!$L$1)","v":""},{"$f":"IF('中間シート（個人）'!D74=\"○\",\"\",ASC(申込書_コナミ!$S$9))","v":""},{"$f":"IF('中間シート（個人）'!D74=\"○\",\"\",申込書_コナミ!$E$8)","v":""},null,null,null,{"$f":"IF('中間シート（個人）'!D74=\"○\",\"\",4)","v":""},{"$f":"IF(ISERROR(VLOOKUP($D72&\"@1\",'中間シート（個人）'!$F$6:$O$100,4,FALSE)&VLOOKUP($D72&\"@1\",'中間シート（個人）'!$F$6:$O$100,5,FALSE)),\"\",VLOOKUP($D72&\"@1\",'中間シート（個人）'!$F$6:$O$100,4,FALSE)&VLOOKUP($D72&\"@1\",'中間シート（個人）'!$F$6:$O$100,5,FALSE))","v":""},{"$f":"IF(ISERROR(VLOOKUP($D72&\"@1\",'中間シート（個人）'!$F$6:$O$100,6,FALSE)&VLOOKUP($D72&\"@1\",'中間シート（個人）'!$F$6:$O$100,7,FALSE)&\".\"&VLOOKUP($D72&\"@1\",'中間シート（個人）'!$F$6:$O$100,8,FALSE)),\"\",VLOOKUP($D72&\"@1\",'中間シート（個人）'!$F$6:$O$100,6,FALSE)&VLOOKUP($D72&\"@1\",'中間シート（個人）'!$F$6:$O$100,7,FALSE)&\".\"&VLOOKUP($D72&\"@1\",'中間シート（個人）'!$F$6:$O$100,8,FALSE))","v":""},{"$f":"IF(ISERROR(VLOOKUP($D72&\"@2\",'中間シート（個人）'!$F$6:$O$100,4,FALSE)&VLOOKUP($D72&\"@2\",'中間シート（個人）'!$F$6:$O$100,5,FALSE)),\"\",VLOOKUP($D72&\"@2\",'中間シート（個人）'!$F$6:$O$100,4,FALSE)&VLOOKUP($D72&\"@2\",'中間シート（個人）'!$F$6:$O$100,5,FALSE))","v":""},{"$f":"IF(ISERROR(VLOOKUP($D72&\"@2\",'中間シート（個人）'!$F$6:$O$100,6,FALSE)&VLOOKUP($D72&\"@2\",'中間シート（個人）'!$F$6:$O$100,7,FALSE)&\".\"&VLOOKUP($D72&\"@2\",'中間シート（個人）'!$F$6:$O$100,8,FALSE)),\"\",VLOOKUP($D72&\"@2\",'中間シート（個人）'!$F$6:$O$100,6,FALSE)&VLOOKUP($D72&\"@2\",'中間シート（個人）'!$F$6:$O$100,7,FALSE)&\".\"&VLOOKUP($D72&\"@2\",'中間シート（個人）'!$F$6:$O$100,8,FALSE))","v":""},{"$f":"IF(ISERROR(VLOOKUP($D72&\"@3\",'中間シート（個人）'!$F$6:$O$100,4,FALSE)&VLOOKUP($D72&\"@3\",'中間シート（個人）'!$F$6:$O$100,5,FALSE)),\"\",VLOOKUP($D72&\"@3\",'中間シート（個人）'!$F$6:$O$100,4,FALSE)&VLOOKUP($D72&\"@3\",'中間シート（個人）'!$F$6:$O$100,5,FALSE))","v":""},{"$f":"IF(ISERROR(VLOOKUP($D72&\"@3\",'中間シート（個人）'!$F$6:$O$100,6,FALSE)&VLOOKUP($D72&\"@3\",'中間シート（個人）'!$F$6:$O$100,7,FALSE)&\".\"&VLOOKUP($D72&\"@3\",'中間シート（個人）'!$F$6:$O$100,8,FALSE)),\"\",VLOOKUP($D72&\"@3\",'中間シート（個人）'!$F$6:$O$100,6,FALSE)&VLOOKUP($D72&\"@3\",'中間シート（個人）'!$F$6:$O$100,7,FALSE)&\".\"&VLOOKUP($D72&\"@3\",'中間シート（個人）'!$F$6:$O$100,8,FALSE))","v":""},{"$f":"IF(ISERROR(VLOOKUP($D72&\"@4\",'中間シート（個人）'!$F$6:$O$100,4,FALSE)&VLOOKUP($D72&\"@4\",'中間シート（個人）'!$F$6:$O$100,5,FALSE)),\"\",VLOOKUP($D72&\"@4\",'中間シート（個人）'!$F$6:$O$100,4,FALSE)&VLOOKUP($D72&\"@4\",'中間シート（個人）'!$F$6:$O$100,5,FALSE))","v":""},{"$f":"IF(ISERROR(VLOOKUP($D72&\"@4\",'中間シート（個人）'!$F$6:$O$100,6,FALSE)&VLOOKUP($D72&\"@4\",'中間シート（個人）'!$F$6:$O$100,7,FALSE)&\".\"&VLOOKUP($D72&\"@4\",'中間シート（個人）'!$F$6:$O$100,8,FALSE)),\"\",VLOOKUP($D72&\"@4\",'中間シート（個人）'!$F$6:$O$100,6,FALSE)&VLOOKUP($D72&\"@4\",'中間シート（個人）'!$F$6:$O$100,7,FALSE)&\".\"&VLOOKUP($D72&\"@4\",'中間シート（個人）'!$F$6:$O$100,8,FALSE))","v":""},{"$f":"IF(ISERROR(VLOOKUP($D72&\"@5\",'中間シート（個人）'!$F$6:$O$100,4,FALSE)&VLOOKUP($D72&\"@5\",'中間シート（個人）'!$F$6:$O$100,5,FALSE)),\"\",VLOOKUP($D72&\"@5\",'中間シート（個人）'!$F$6:$O$100,4,FALSE)&VLOOKUP($D72&\"@5\",'中間シート（個人）'!$F$6:$O$100,5,FALSE))","v":""},{"$f":"IF(ISERROR(VLOOKUP($D72&\"@5\",'中間シート（個人）'!$F$6:$O$100,6,FALSE)&VLOOKUP($D72&\"@5\",'中間シート（個人）'!$F$6:$O$100,7,FALSE)&\".\"&VLOOKUP($D72&\"@5\",'中間シート（個人）'!$F$6:$O$100,8,FALSE)),\"\",VLOOKUP($D72&\"@5\",'中間シート（個人）'!$F$6:$O$100,6,FALSE)&VLOOKUP($D72&\"@5\",'中間シート（個人）'!$F$6:$O$100,7,FALSE)&\".\"&VLOOKUP($D72&\"@5\",'中間シート（個人）'!$F$6:$O$100,8,FALSE))","v":""},{"$f":"IF(ISERROR(VLOOKUP($D72&\"@6\",'中間シート（個人）'!$F$6:$O$100,4,FALSE)&VLOOKUP($D72&\"@6\",'中間シート（個人）'!$F$6:$O$100,5,FALSE)),\"\",VLOOKUP($D72&\"@6\",'中間シート（個人）'!$F$6:$O$100,4,FALSE)&VLOOKUP($D72&\"@6\",'中間シート（個人）'!$F$6:$O$100,5,FALSE))","v":""},{"$f":"IF(ISERROR(VLOOKUP($D72&\"@6\",'中間シート（個人）'!$F$6:$O$100,6,FALSE)&VLOOKUP($D72&\"@6\",'中間シート（個人）'!$F$6:$O$100,7,FALSE)&\".\"&VLOOKUP($D72&\"@6\",'中間シート（個人）'!$F$6:$O$100,8,FALSE)),\"\",VLOOKUP($D72&\"@6\",'中間シート（個人）'!$F$6:$O$100,6,FALSE)&VLOOKUP($D72&\"@6\",'中間シート（個人）'!$F$6:$O$100,7,FALSE)&\".\"&VLOOKUP($D72&\"@6\",'中間シート（個人）'!$F$6:$O$100,8,FALSE))","v":""},{"$f":"IF(ISERROR(VLOOKUP($D72&\"@7\",'中間シート（個人）'!$F$6:$O$100,4,FALSE)&VLOOKUP($D72&\"@7\",'中間シート（個人）'!$F$6:$O$100,5,FALSE)),\"\",VLOOKUP($D72&\"@7\",'中間シート（個人）'!$F$6:$O$100,4,FALSE)&VLOOKUP($D72&\"@7\",'中間シート（個人）'!$F$6:$O$100,5,FALSE))","v":""},{"$f":"IF(ISERROR(VLOOKUP($D72&\"@7\",'中間シート（個人）'!$F$6:$O$100,6,FALSE)&VLOOKUP($D72&\"@7\",'中間シート（個人）'!$F$6:$O$100,7,FALSE)&\".\"&VLOOKUP($D72&\"@7\",'中間シート（個人）'!$F$6:$O$100,8,FALSE)),\"\",VLOOKUP($D72&\"@7\",'中間シート（個人）'!$F$6:$O$100,6,FALSE)&VLOOKUP($D72&\"@7\",'中間シート（個人）'!$F$6:$O$100,7,FALSE)&\".\"&VLOOKUP($D72&\"@7\",'中間シート（個人）'!$F$6:$O$100,8,FALSE))","v":""},{"$f":"IF(ISERROR(VLOOKUP($D72&\"@8\",'中間シート（個人）'!$F$6:$O$100,4,FALSE)&VLOOKUP($D72&\"@8\",'中間シート（個人）'!$F$6:$O$100,5,FALSE)),\"\",VLOOKUP($D72&\"@8\",'中間シート（個人）'!$F$6:$O$100,4,FALSE)&VLOOKUP($D72&\"@8\",'中間シート（個人）'!$F$6:$O$100,5,FALSE))","v":""},{"$f":"IF(ISERROR(VLOOKUP($D72&\"@8\",'中間シート（個人）'!$F$6:$O$100,6,FALSE)&VLOOKUP($D72&\"@8\",'中間シート（個人）'!$F$6:$O$100,7,FALSE)&\".\"&VLOOKUP($D72&\"@8\",'中間シート（個人）'!$F$6:$O$100,8,FALSE)),\"\",VLOOKUP($D72&\"@8\",'中間シート（個人）'!$F$6:$O$100,6,FALSE)&VLOOKUP($D72&\"@8\",'中間シート（個人）'!$F$6:$O$100,7,FALSE)&\".\"&VLOOKUP($D72&\"@8\",'中間シート（個人）'!$F$6:$O$100,8,FALSE))","v":""},{"$f":"IF(ISERROR(VLOOKUP($D72&\"@9\",'中間シート（個人）'!$F$6:$O$100,4,FALSE)&VLOOKUP($D72&\"@9\",'中間シート（個人）'!$F$6:$O$100,5,FALSE)),\"\",VLOOKUP($D72&\"@9\",'中間シート（個人）'!$F$6:$O$100,4,FALSE)&VLOOKUP($D72&\"@9\",'中間シート（個人）'!$F$6:$O$100,5,FALSE))","v":""},{"$f":"IF(ISERROR(VLOOKUP($D72&\"@9\",'中間シート（個人）'!$F$6:$O$100,6,FALSE)&VLOOKUP($D72&\"@9\",'中間シート（個人）'!$F$6:$O$100,7,FALSE)&\".\"&VLOOKUP($D72&\"@9\",'中間シート（個人）'!$F$6:$O$100,8,FALSE)),\"\",VLOOKUP($D72&\"@9\",'中間シート（個人）'!$F$6:$O$100,6,FALSE)&VLOOKUP($D72&\"@9\",'中間シート（個人）'!$F$6:$O$100,7,FALSE)&\".\"&VLOOKUP($D72&\"@9\",'中間シート（個人）'!$F$6:$O$100,8,FALSE))","v":""},{"$f":"IF(ISERROR(VLOOKUP($D72&\"@10\",'中間シート（個人）'!$F$6:$O$100,4,FALSE)&VLOOKUP($D72&\"@10\",'中間シート（個人）'!$F$6:$O$100,5,FALSE)),\"\",VLOOKUP($D72&\"@10\",'中間シート（個人）'!$F$6:$O$100,4,FALSE)&VLOOKUP($D72&\"@10\",'中間シート（個人）'!$F$6:$O$100,5,FALSE))","v":""},{"$f":"IF(ISERROR(VLOOKUP($D72&\"@10\",'中間シート（個人）'!$F$6:$O$100,6,FALSE)&VLOOKUP($D72&\"@10\",'中間シート（個人）'!$F$6:$O$100,7,FALSE)&\".\"&VLOOKUP($D72&\"@10\",'中間シート（個人）'!$F$6:$O$100,8,FALSE)),\"\",VLOOKUP($D72&\"@10\",'中間シート（個人）'!$F$6:$O$100,6,FALSE)&VLOOKUP($D72&\"@10\",'中間シート（個人）'!$F$6:$O$100,7,FALSE)&\".\"&VLOOKUP($D72&\"@10\",'中間シート（個人）'!$F$6:$O$100,8,FALSE))","v":""}]
[null,null,{"$f":"IF('中間シート（個人）'!D75=\"○\",\"\",VLOOKUP(個人種目!F75,コード一覧!$A$2:$B$3,2,FALSE))","v":""},{"$f":"IF('中間シート（個人）'!D75=\"○\",\"\",'中間シート（個人）'!C75)","v":""},{"$f":"IF('中間シート（個人）'!D75=\"○\",\"\",ASC(個人種目!D75&\" \"&個人種目!E75))","v":""},{"$f":"IF('中間シート（個人）'!D75=\"○\",\"\",個人種目!G75&IF(LEN(個人種目!H75)=1,\"0\"&個人種目!H75,個人種目!H75)&IF(LEN(個人種目!I75)=1,\"0\"&個人種目!I75,個人種目!I75))","v":""},{"$f":"IF('中間シート（個人）'!D75=\"○\",\"\",VLOOKUP(個人種目!$J75,コード一覧!$C$3:$D$6,2,FALSE))","v":""},{"$f":"IF('中間シート（個人）'!D75=\"○\",\"\",IF(個人種目!$J75=\"一般\",0,個人種目!$K75))","v":""},{"$f":"IF('中間シート（個人）'!D75=\"○\",\"\",'中間シート（個人）'!H75)","v":""},null,{"$f":"IF('中間シート（個人）'!D75=\"○\",\"\",個人種目!$L$1)","v":""},{"$f":"IF('中間シート（個人）'!D75=\"○\",\"\",ASC(申込書_コナミ!$S$9))","v":""},{"$f":"IF('中間シート（個人）'!D75=\"○\",\"\",申込書_コナミ!$E$8)","v":""},null,null,null,{"$f":"IF('中間シート（個人）'!D75=\"○\",\"\",4)","v":""},{"$f":"IF(ISERROR(VLOOKUP($D73&\"@1\",'中間シート（個人）'!$F$6:$O$100,4,FALSE)&VLOOKUP($D73&\"@1\",'中間シート（個人）'!$F$6:$O$100,5,FALSE)),\"\",VLOOKUP($D73&\"@1\",'中間シート（個人）'!$F$6:$O$100,4,FALSE)&VLOOKUP($D73&\"@1\",'中間シート（個人）'!$F$6:$O$100,5,FALSE))","v":""},{"$f":"IF(ISERROR(VLOOKUP($D73&\"@1\",'中間シート（個人）'!$F$6:$O$100,6,FALSE)&VLOOKUP($D73&\"@1\",'中間シート（個人）'!$F$6:$O$100,7,FALSE)&\".\"&VLOOKUP($D73&\"@1\",'中間シート（個人）'!$F$6:$O$100,8,FALSE)),\"\",VLOOKUP($D73&\"@1\",'中間シート（個人）'!$F$6:$O$100,6,FALSE)&VLOOKUP($D73&\"@1\",'中間シート（個人）'!$F$6:$O$100,7,FALSE)&\".\"&VLOOKUP($D73&\"@1\",'中間シート（個人）'!$F$6:$O$100,8,FALSE))","v":""},{"$f":"IF(ISERROR(VLOOKUP($D73&\"@2\",'中間シート（個人）'!$F$6:$O$100,4,FALSE)&VLOOKUP($D73&\"@2\",'中間シート（個人）'!$F$6:$O$100,5,FALSE)),\"\",VLOOKUP($D73&\"@2\",'中間シート（個人）'!$F$6:$O$100,4,FALSE)&VLOOKUP($D73&\"@2\",'中間シート（個人）'!$F$6:$O$100,5,FALSE))","v":""},{"$f":"IF(ISERROR(VLOOKUP($D73&\"@2\",'中間シート（個人）'!$F$6:$O$100,6,FALSE)&VLOOKUP($D73&\"@2\",'中間シート（個人）'!$F$6:$O$100,7,FALSE)&\".\"&VLOOKUP($D73&\"@2\",'中間シート（個人）'!$F$6:$O$100,8,FALSE)),\"\",VLOOKUP($D73&\"@2\",'中間シート（個人）'!$F$6:$O$100,6,FALSE)&VLOOKUP($D73&\"@2\",'中間シート（個人）'!$F$6:$O$100,7,FALSE)&\".\"&VLOOKUP($D73&\"@2\",'中間シート（個人）'!$F$6:$O$100,8,FALSE))","v":""},{"$f":"IF(ISERROR(VLOOKUP($D73&\"@3\",'中間シート（個人）'!$F$6:$O$100,4,FALSE)&VLOOKUP($D73&\"@3\",'中間シート（個人）'!$F$6:$O$100,5,FALSE)),\"\",VLOOKUP($D73&\"@3\",'中間シート（個人）'!$F$6:$O$100,4,FALSE)&VLOOKUP($D73&\"@3\",'中間シート（個人）'!$F$6:$O$100,5,FALSE))","v":""},{"$f":"IF(ISERROR(VLOOKUP($D73&\"@3\",'中間シート（個人）'!$F$6:$O$100,6,FALSE)&VLOOKUP($D73&\"@3\",'中間シート（個人）'!$F$6:$O$100,7,FALSE)&\".\"&VLOOKUP($D73&\"@3\",'中間シート（個人）'!$F$6:$O$100,8,FALSE)),\"\",VLOOKUP($D73&\"@3\",'中間シート（個人）'!$F$6:$O$100,6,FALSE)&VLOOKUP($D73&\"@3\",'中間シート（個人）'!$F$6:$O$100,7,FALSE)&\".\"&VLOOKUP($D73&\"@3\",'中間シート（個人）'!$F$6:$O$100,8,FALSE))","v":""},{"$f":"IF(ISERROR(VLOOKUP($D73&\"@4\",'中間シート（個人）'!$F$6:$O$100,4,FALSE)&VLOOKUP($D73&\"@4\",'中間シート（個人）'!$F$6:$O$100,5,FALSE)),\"\",VLOOKUP($D73&\"@4\",'中間シート（個人）'!$F$6:$O$100,4,FALSE)&VLOOKUP($D73&\"@4\",'中間シート（個人）'!$F$6:$O$100,5,FALSE))","v":""},{"$f":"IF(ISERROR(VLOOKUP($D73&\"@4\",'中間シート（個人）'!$F$6:$O$100,6,FALSE)&VLOOKUP($D73&\"@4\",'中間シート（個人）'!$F$6:$O$100,7,FALSE)&\".\"&VLOOKUP($D73&\"@4\",'中間シート（個人）'!$F$6:$O$100,8,FALSE)),\"\",VLOOKUP($D73&\"@4\",'中間シート（個人）'!$F$6:$O$100,6,FALSE)&VLOOKUP($D73&\"@4\",'中間シート（個人）'!$F$6:$O$100,7,FALSE)&\".\"&VLOOKUP($D73&\"@4\",'中間シート（個人）'!$F$6:$O$100,8,FALSE))","v":""},{"$f":"IF(ISERROR(VLOOKUP($D73&\"@5\",'中間シート（個人）'!$F$6:$O$100,4,FALSE)&VLOOKUP($D73&\"@5\",'中間シート（個人）'!$F$6:$O$100,5,FALSE)),\"\",VLOOKUP($D73&\"@5\",'中間シート（個人）'!$F$6:$O$100,4,FALSE)&VLOOKUP($D73&\"@5\",'中間シート（個人）'!$F$6:$O$100,5,FALSE))","v":""},{"$f":"IF(ISERROR(VLOOKUP($D73&\"@5\",'中間シート（個人）'!$F$6:$O$100,6,FALSE)&VLOOKUP($D73&\"@5\",'中間シート（個人）'!$F$6:$O$100,7,FALSE)&\".\"&VLOOKUP($D73&\"@5\",'中間シート（個人）'!$F$6:$O$100,8,FALSE)),\"\",VLOOKUP($D73&\"@5\",'中間シート（個人）'!$F$6:$O$100,6,FALSE)&VLOOKUP($D73&\"@5\",'中間シート（個人）'!$F$6:$O$100,7,FALSE)&\".\"&VLOOKUP($D73&\"@5\",'中間シート（個人）'!$F$6:$O$100,8,FALSE))","v":""},{"$f":"IF(ISERROR(VLOOKUP($D73&\"@6\",'中間シート（個人）'!$F$6:$O$100,4,FALSE)&VLOOKUP($D73&\"@6\",'中間シート（個人）'!$F$6:$O$100,5,FALSE)),\"\",VLOOKUP($D73&\"@6\",'中間シート（個人）'!$F$6:$O$100,4,FALSE)&VLOOKUP($D73&\"@6\",'中間シート（個人）'!$F$6:$O$100,5,FALSE))","v":""},{"$f":"IF(ISERROR(VLOOKUP($D73&\"@6\",'中間シート（個人）'!$F$6:$O$100,6,FALSE)&VLOOKUP($D73&\"@6\",'中間シート（個人）'!$F$6:$O$100,7,FALSE)&\".\"&VLOOKUP($D73&\"@6\",'中間シート（個人）'!$F$6:$O$100,8,FALSE)),\"\",VLOOKUP($D73&\"@6\",'中間シート（個人）'!$F$6:$O$100,6,FALSE)&VLOOKUP($D73&\"@6\",'中間シート（個人）'!$F$6:$O$100,7,FALSE)&\".\"&VLOOKUP($D73&\"@6\",'中間シート（個人）'!$F$6:$O$100,8,FALSE))","v":""},{"$f":"IF(ISERROR(VLOOKUP($D73&\"@7\",'中間シート（個人）'!$F$6:$O$100,4,FALSE)&VLOOKUP($D73&\"@7\",'中間シート（個人）'!$F$6:$O$100,5,FALSE)),\"\",VLOOKUP($D73&\"@7\",'中間シート（個人）'!$F$6:$O$100,4,FALSE)&VLOOKUP($D73&\"@7\",'中間シート（個人）'!$F$6:$O$100,5,FALSE))","v":""},{"$f":"IF(ISERROR(VLOOKUP($D73&\"@7\",'中間シート（個人）'!$F$6:$O$100,6,FALSE)&VLOOKUP($D73&\"@7\",'中間シート（個人）'!$F$6:$O$100,7,FALSE)&\".\"&VLOOKUP($D73&\"@7\",'中間シート（個人）'!$F$6:$O$100,8,FALSE)),\"\",VLOOKUP($D73&\"@7\",'中間シート（個人）'!$F$6:$O$100,6,FALSE)&VLOOKUP($D73&\"@7\",'中間シート（個人）'!$F$6:$O$100,7,FALSE)&\".\"&VLOOKUP($D73&\"@7\",'中間シート（個人）'!$F$6:$O$100,8,FALSE))","v":""},{"$f":"IF(ISERROR(VLOOKUP($D73&\"@8\",'中間シート（個人）'!$F$6:$O$100,4,FALSE)&VLOOKUP($D73&\"@8\",'中間シート（個人）'!$F$6:$O$100,5,FALSE)),\"\",VLOOKUP($D73&\"@8\",'中間シート（個人）'!$F$6:$O$100,4,FALSE)&VLOOKUP($D73&\"@8\",'中間シート（個人）'!$F$6:$O$100,5,FALSE))","v":""},{"$f":"IF(ISERROR(VLOOKUP($D73&\"@8\",'中間シート（個人）'!$F$6:$O$100,6,FALSE)&VLOOKUP($D73&\"@8\",'中間シート（個人）'!$F$6:$O$100,7,FALSE)&\".\"&VLOOKUP($D73&\"@8\",'中間シート（個人）'!$F$6:$O$100,8,FALSE)),\"\",VLOOKUP($D73&\"@8\",'中間シート（個人）'!$F$6:$O$100,6,FALSE)&VLOOKUP($D73&\"@8\",'中間シート（個人）'!$F$6:$O$100,7,FALSE)&\".\"&VLOOKUP($D73&\"@8\",'中間シート（個人）'!$F$6:$O$100,8,FALSE))","v":""},{"$f":"IF(ISERROR(VLOOKUP($D73&\"@9\",'中間シート（個人）'!$F$6:$O$100,4,FALSE)&VLOOKUP($D73&\"@9\",'中間シート（個人）'!$F$6:$O$100,5,FALSE)),\"\",VLOOKUP($D73&\"@9\",'中間シート（個人）'!$F$6:$O$100,4,FALSE)&VLOOKUP($D73&\"@9\",'中間シート（個人）'!$F$6:$O$100,5,FALSE))","v":""},{"$f":"IF(ISERROR(VLOOKUP($D73&\"@9\",'中間シート（個人）'!$F$6:$O$100,6,FALSE)&VLOOKUP($D73&\"@9\",'中間シート（個人）'!$F$6:$O$100,7,FALSE)&\".\"&VLOOKUP($D73&\"@9\",'中間シート（個人）'!$F$6:$O$100,8,FALSE)),\"\",VLOOKUP($D73&\"@9\",'中間シート（個人）'!$F$6:$O$100,6,FALSE)&VLOOKUP($D73&\"@9\",'中間シート（個人）'!$F$6:$O$100,7,FALSE)&\".\"&VLOOKUP($D73&\"@9\",'中間シート（個人）'!$F$6:$O$100,8,FALSE))","v":""},{"$f":"IF(ISERROR(VLOOKUP($D73&\"@10\",'中間シート（個人）'!$F$6:$O$100,4,FALSE)&VLOOKUP($D73&\"@10\",'中間シート（個人）'!$F$6:$O$100,5,FALSE)),\"\",VLOOKUP($D73&\"@10\",'中間シート（個人）'!$F$6:$O$100,4,FALSE)&VLOOKUP($D73&\"@10\",'中間シート（個人）'!$F$6:$O$100,5,FALSE))","v":""},{"$f":"IF(ISERROR(VLOOKUP($D73&\"@10\",'中間シート（個人）'!$F$6:$O$100,6,FALSE)&VLOOKUP($D73&\"@10\",'中間シート（個人）'!$F$6:$O$100,7,FALSE)&\".\"&VLOOKUP($D73&\"@10\",'中間シート（個人）'!$F$6:$O$100,8,FALSE)),\"\",VLOOKUP($D73&\"@10\",'中間シート（個人）'!$F$6:$O$100,6,FALSE)&VLOOKUP($D73&\"@10\",'中間シート（個人）'!$F$6:$O$100,7,FALSE)&\".\"&VLOOKUP($D73&\"@10\",'中間シート（個人）'!$F$6:$O$100,8,FALSE))","v":""}]
[null,null,{"$f":"IF('中間シート（個人）'!D76=\"○\",\"\",VLOOKUP(個人種目!F76,コード一覧!$A$2:$B$3,2,FALSE))","v":""},{"$f":"IF('中間シート（個人）'!D76=\"○\",\"\",'中間シート（個人）'!C76)","v":""},{"$f":"IF('中間シート（個人）'!D76=\"○\",\"\",ASC(個人種目!D76&\" \"&個人種目!E76))","v":""},{"$f":"IF('中間シート（個人）'!D76=\"○\",\"\",個人種目!G76&IF(LEN(個人種目!H76)=1,\"0\"&個人種目!H76,個人種目!H76)&IF(LEN(個人種目!I76)=1,\"0\"&個人種目!I76,個人種目!I76))","v":""},{"$f":"IF('中間シート（個人）'!D76=\"○\",\"\",VLOOKUP(個人種目!$J76,コード一覧!$C$3:$D$6,2,FALSE))","v":""},{"$f":"IF('中間シート（個人）'!D76=\"○\",\"\",IF(個人種目!$J76=\"一般\",0,個人種目!$K76))","v":""},{"$f":"IF('中間シート（個人）'!D76=\"○\",\"\",'中間シート（個人）'!H76)","v":""},null,{"$f":"IF('中間シート（個人）'!D76=\"○\",\"\",個人種目!$L$1)","v":""},{"$f":"IF('中間シート（個人）'!D76=\"○\",\"\",ASC(申込書_コナミ!$S$9))","v":""},{"$f":"IF('中間シート（個人）'!D76=\"○\",\"\",申込書_コナミ!$E$8)","v":""},null,null,null,{"$f":"IF('中間シート（個人）'!D76=\"○\",\"\",4)","v":""},{"$f":"IF(ISERROR(VLOOKUP($D74&\"@1\",'中間シート（個人）'!$F$6:$O$100,4,FALSE)&VLOOKUP($D74&\"@1\",'中間シート（個人）'!$F$6:$O$100,5,FALSE)),\"\",VLOOKUP($D74&\"@1\",'中間シート（個人）'!$F$6:$O$100,4,FALSE)&VLOOKUP($D74&\"@1\",'中間シート（個人）'!$F$6:$O$100,5,FALSE))","v":""},{"$f":"IF(ISERROR(VLOOKUP($D74&\"@1\",'中間シート（個人）'!$F$6:$O$100,6,FALSE)&VLOOKUP($D74&\"@1\",'中間シート（個人）'!$F$6:$O$100,7,FALSE)&\".\"&VLOOKUP($D74&\"@1\",'中間シート（個人）'!$F$6:$O$100,8,FALSE)),\"\",VLOOKUP($D74&\"@1\",'中間シート（個人）'!$F$6:$O$100,6,FALSE)&VLOOKUP($D74&\"@1\",'中間シート（個人）'!$F$6:$O$100,7,FALSE)&\".\"&VLOOKUP($D74&\"@1\",'中間シート（個人）'!$F$6:$O$100,8,FALSE))","v":""},{"$f":"IF(ISERROR(VLOOKUP($D74&\"@2\",'中間シート（個人）'!$F$6:$O$100,4,FALSE)&VLOOKUP($D74&\"@2\",'中間シート（個人）'!$F$6:$O$100,5,FALSE)),\"\",VLOOKUP($D74&\"@2\",'中間シート（個人）'!$F$6:$O$100,4,FALSE)&VLOOKUP($D74&\"@2\",'中間シート（個人）'!$F$6:$O$100,5,FALSE))","v":""},{"$f":"IF(ISERROR(VLOOKUP($D74&\"@2\",'中間シート（個人）'!$F$6:$O$100,6,FALSE)&VLOOKUP($D74&\"@2\",'中間シート（個人）'!$F$6:$O$100,7,FALSE)&\".\"&VLOOKUP($D74&\"@2\",'中間シート（個人）'!$F$6:$O$100,8,FALSE)),\"\",VLOOKUP($D74&\"@2\",'中間シート（個人）'!$F$6:$O$100,6,FALSE)&VLOOKUP($D74&\"@2\",'中間シート（個人）'!$F$6:$O$100,7,FALSE)&\".\"&VLOOKUP($D74&\"@2\",'中間シート（個人）'!$F$6:$O$100,8,FALSE))","v":""},{"$f":"IF(ISERROR(VLOOKUP($D74&\"@3\",'中間シート（個人）'!$F$6:$O$100,4,FALSE)&VLOOKUP($D74&\"@3\",'中間シート（個人）'!$F$6:$O$100,5,FALSE)),\"\",VLOOKUP($D74&\"@3\",'中間シート（個人）'!$F$6:$O$100,4,FALSE)&VLOOKUP($D74&\"@3\",'中間シート（個人）'!$F$6:$O$100,5,FALSE))","v":""},{"$f":"IF(ISERROR(VLOOKUP($D74&\"@3\",'中間シート（個人）'!$F$6:$O$100,6,FALSE)&VLOOKUP($D74&\"@3\",'中間シート（個人）'!$F$6:$O$100,7,FALSE)&\".\"&VLOOKUP($D74&\"@3\",'中間シート（個人）'!$F$6:$O$100,8,FALSE)),\"\",VLOOKUP($D74&\"@3\",'中間シート（個人）'!$F$6:$O$100,6,FALSE)&VLOOKUP($D74&\"@3\",'中間シート（個人）'!$F$6:$O$100,7,FALSE)&\".\"&VLOOKUP($D74&\"@3\",'中間シート（個人）'!$F$6:$O$100,8,FALSE))","v":""},{"$f":"IF(ISERROR(VLOOKUP($D74&\"@4\",'中間シート（個人）'!$F$6:$O$100,4,FALSE)&VLOOKUP($D74&\"@4\",'中間シート（個人）'!$F$6:$O$100,5,FALSE)),\"\",VLOOKUP($D74&\"@4\",'中間シート（個人）'!$F$6:$O$100,4,FALSE)&VLOOKUP($D74&\"@4\",'中間シート（個人）'!$F$6:$O$100,5,FALSE))","v":""},{"$f":"IF(ISERROR(VLOOKUP($D74&\"@4\",'中間シート（個人）'!$F$6:$O$100,6,FALSE)&VLOOKUP($D74&\"@4\",'中間シート（個人）'!$F$6:$O$100,7,FALSE)&\".\"&VLOOKUP($D74&\"@4\",'中間シート（個人）'!$F$6:$O$100,8,FALSE)),\"\",VLOOKUP($D74&\"@4\",'中間シート（個人）'!$F$6:$O$100,6,FALSE)&VLOOKUP($D74&\"@4\",'中間シート（個人）'!$F$6:$O$100,7,FALSE)&\".\"&VLOOKUP($D74&\"@4\",'中間シート（個人）'!$F$6:$O$100,8,FALSE))","v":""},{"$f":"IF(ISERROR(VLOOKUP($D74&\"@5\",'中間シート（個人）'!$F$6:$O$100,4,FALSE)&VLOOKUP($D74&\"@5\",'中間シート（個人）'!$F$6:$O$100,5,FALSE)),\"\",VLOOKUP($D74&\"@5\",'中間シート（個人）'!$F$6:$O$100,4,FALSE)&VLOOKUP($D74&\"@5\",'中間シート（個人）'!$F$6:$O$100,5,FALSE))","v":""},{"$f":"IF(ISERROR(VLOOKUP($D74&\"@5\",'中間シート（個人）'!$F$6:$O$100,6,FALSE)&VLOOKUP($D74&\"@5\",'中間シート（個人）'!$F$6:$O$100,7,FALSE)&\".\"&VLOOKUP($D74&\"@5\",'中間シート（個人）'!$F$6:$O$100,8,FALSE)),\"\",VLOOKUP($D74&\"@5\",'中間シート（個人）'!$F$6:$O$100,6,FALSE)&VLOOKUP($D74&\"@5\",'中間シート（個人）'!$F$6:$O$100,7,FALSE)&\".\"&VLOOKUP($D74&\"@5\",'中間シート（個人）'!$F$6:$O$100,8,FALSE))","v":""},{"$f":"IF(ISERROR(VLOOKUP($D74&\"@6\",'中間シート（個人）'!$F$6:$O$100,4,FALSE)&VLOOKUP($D74&\"@6\",'中間シート（個人）'!$F$6:$O$100,5,FALSE)),\"\",VLOOKUP($D74&\"@6\",'中間シート（個人）'!$F$6:$O$100,4,FALSE)&VLOOKUP($D74&\"@6\",'中間シート（個人）'!$F$6:$O$100,5,FALSE))","v":""},{"$f":"IF(ISERROR(VLOOKUP($D74&\"@6\",'中間シート（個人）'!$F$6:$O$100,6,FALSE)&VLOOKUP($D74&\"@6\",'中間シート（個人）'!$F$6:$O$100,7,FALSE)&\".\"&VLOOKUP($D74&\"@6\",'中間シート（個人）'!$F$6:$O$100,8,FALSE)),\"\",VLOOKUP($D74&\"@6\",'中間シート（個人）'!$F$6:$O$100,6,FALSE)&VLOOKUP($D74&\"@6\",'中間シート（個人）'!$F$6:$O$100,7,FALSE)&\".\"&VLOOKUP($D74&\"@6\",'中間シート（個人）'!$F$6:$O$100,8,FALSE))","v":""},{"$f":"IF(ISERROR(VLOOKUP($D74&\"@7\",'中間シート（個人）'!$F$6:$O$100,4,FALSE)&VLOOKUP($D74&\"@7\",'中間シート（個人）'!$F$6:$O$100,5,FALSE)),\"\",VLOOKUP($D74&\"@7\",'中間シート（個人）'!$F$6:$O$100,4,FALSE)&VLOOKUP($D74&\"@7\",'中間シート（個人）'!$F$6:$O$100,5,FALSE))","v":""},{"$f":"IF(ISERROR(VLOOKUP($D74&\"@7\",'中間シート（個人）'!$F$6:$O$100,6,FALSE)&VLOOKUP($D74&\"@7\",'中間シート（個人）'!$F$6:$O$100,7,FALSE)&\".\"&VLOOKUP($D74&\"@7\",'中間シート（個人）'!$F$6:$O$100,8,FALSE)),\"\",VLOOKUP($D74&\"@7\",'中間シート（個人）'!$F$6:$O$100,6,FALSE)&VLOOKUP($D74&\"@7\",'中間シート（個人）'!$F$6:$O$100,7,FALSE)&\".\"&VLOOKUP($D74&\"@7\",'中間シート（個人）'!$F$6:$O$100,8,FALSE))","v":""},{"$f":"IF(ISERROR(VLOOKUP($D74&\"@8\",'中間シート（個人）'!$F$6:$O$100,4,FALSE)&VLOOKUP($D74&\"@8\",'中間シート（個人）'!$F$6:$O$100,5,FALSE)),\"\",VLOOKUP($D74&\"@8\",'中間シート（個人）'!$F$6:$O$100,4,FALSE)&VLOOKUP($D74&\"@8\",'中間シート（個人）'!$F$6:$O$100,5,FALSE))","v":""},{"$f":"IF(ISERROR(VLOOKUP($D74&\"@8\",'中間シート（個人）'!$F$6:$O$100,6,FALSE)&VLOOKUP($D74&\"@8\",'中間シート（個人）'!$F$6:$O$100,7,FALSE)&\".\"&VLOOKUP($D74&\"@8\",'中間シート（個人）'!$F$6:$O$100,8,FALSE)),\"\",VLOOKUP($D74&\"@8\",'中間シート（個人）'!$F$6:$O$100,6,FALSE)&VLOOKUP($D74&\"@8\",'中間シート（個人）'!$F$6:$O$100,7,FALSE)&\".\"&VLOOKUP($D74&\"@8\",'中間シート（個人）'!$F$6:$O$100,8,FALSE))","v":""},{"$f":"IF(ISERROR(VLOOKUP($D74&\"@9\",'中間シート（個人）'!$F$6:$O$100,4,FALSE)&VLOOKUP($D74&\"@9\",'中間シート（個人）'!$F$6:$O$100,5,FALSE)),\"\",VLOOKUP($D74&\"@9\",'中間シート（個人）'!$F$6:$O$100,4,FALSE)&VLOOKUP($D74&\"@9\",'中間シート（個人）'!$F$6:$O$100,5,FALSE))","v":""},{"$f":"IF(ISERROR(VLOOKUP($D74&\"@9\",'中間シート（個人）'!$F$6:$O$100,6,FALSE)&VLOOKUP($D74&\"@9\",'中間シート（個人）'!$F$6:$O$100,7,FALSE)&\".\"&VLOOKUP($D74&\"@9\",'中間シート（個人）'!$F$6:$O$100,8,FALSE)),\"\",VLOOKUP($D74&\"@9\",'中間シート（個人）'!$F$6:$O$100,6,FALSE)&VLOOKUP($D74&\"@9\",'中間シート（個人）'!$F$6:$O$100,7,FALSE)&\".\"&VLOOKUP($D74&\"@9\",'中間シート（個人）'!$F$6:$O$100,8,FALSE))","v":""},{"$f":"IF(ISERROR(VLOOKUP($D74&\"@10\",'中間シート（個人）'!$F$6:$O$100,4,FALSE)&VLOOKUP($D74&\"@10\",'中間シート（個人）'!$F$6:$O$100,5,FALSE)),\"\",VLOOKUP($D74&\"@10\",'中間シート（個人）'!$F$6:$O$100,4,FALSE)&VLOOKUP($D74&\"@10\",'中間シート（個人）'!$F$6:$O$100,5,FALSE))","v":""},{"$f":"IF(ISERROR(VLOOKUP($D74&\"@10\",'中間シート（個人）'!$F$6:$O$100,6,FALSE)&VLOOKUP($D74&\"@10\",'中間シート（個人）'!$F$6:$O$100,7,FALSE)&\".\"&VLOOKUP($D74&\"@10\",'中間シート（個人）'!$F$6:$O$100,8,FALSE)),\"\",VLOOKUP($D74&\"@10\",'中間シート（個人）'!$F$6:$O$100,6,FALSE)&VLOOKUP($D74&\"@10\",'中間シート（個人）'!$F$6:$O$100,7,FALSE)&\".\"&VLOOKUP($D74&\"@10\",'中間シート（個人）'!$F$6:$O$100,8,FALSE))","v":""}]
[null,null,{"$f":"IF('中間シート（個人）'!D77=\"○\",\"\",VLOOKUP(個人種目!F77,コード一覧!$A$2:$B$3,2,FALSE))","v":""},{"$f":"IF('中間シート（個人）'!D77=\"○\",\"\",'中間シート（個人）'!C77)","v":""},{"$f":"IF('中間シート（個人）'!D77=\"○\",\"\",ASC(個人種目!D77&\" \"&個人種目!E77))","v":""},{"$f":"IF('中間シート（個人）'!D77=\"○\",\"\",個人種目!G77&IF(LEN(個人種目!H77)=1,\"0\"&個人種目!H77,個人種目!H77)&IF(LEN(個人種目!I77)=1,\"0\"&個人種目!I77,個人種目!I77))","v":""},{"$f":"IF('中間シート（個人）'!D77=\"○\",\"\",VLOOKUP(個人種目!$J77,コード一覧!$C$3:$D$6,2,FALSE))","v":""},{"$f":"IF('中間シート（個人）'!D77=\"○\",\"\",IF(個人種目!$J77=\"一般\",0,個人種目!$K77))","v":""},{"$f":"IF('中間シート（個人）'!D77=\"○\",\"\",'中間シート（個人）'!H77)","v":""},null,{"$f":"IF('中間シート（個人）'!D77=\"○\",\"\",個人種目!$L$1)","v":""},{"$f":"IF('中間シート（個人）'!D77=\"○\",\"\",ASC(申込書_コナミ!$S$9))","v":""},{"$f":"IF('中間シート（個人）'!D77=\"○\",\"\",申込書_コナミ!$E$8)","v":""},null,null,null,{"$f":"IF('中間シート（個人）'!D77=\"○\",\"\",4)","v":""},{"$f":"IF(ISERROR(VLOOKUP($D75&\"@1\",'中間シート（個人）'!$F$6:$O$100,4,FALSE)&VLOOKUP($D75&\"@1\",'中間シート（個人）'!$F$6:$O$100,5,FALSE)),\"\",VLOOKUP($D75&\"@1\",'中間シート（個人）'!$F$6:$O$100,4,FALSE)&VLOOKUP($D75&\"@1\",'中間シート（個人）'!$F$6:$O$100,5,FALSE))","v":""},{"$f":"IF(ISERROR(VLOOKUP($D75&\"@1\",'中間シート（個人）'!$F$6:$O$100,6,FALSE)&VLOOKUP($D75&\"@1\",'中間シート（個人）'!$F$6:$O$100,7,FALSE)&\".\"&VLOOKUP($D75&\"@1\",'中間シート（個人）'!$F$6:$O$100,8,FALSE)),\"\",VLOOKUP($D75&\"@1\",'中間シート（個人）'!$F$6:$O$100,6,FALSE)&VLOOKUP($D75&\"@1\",'中間シート（個人）'!$F$6:$O$100,7,FALSE)&\".\"&VLOOKUP($D75&\"@1\",'中間シート（個人）'!$F$6:$O$100,8,FALSE))","v":""},{"$f":"IF(ISERROR(VLOOKUP($D75&\"@2\",'中間シート（個人）'!$F$6:$O$100,4,FALSE)&VLOOKUP($D75&\"@2\",'中間シート（個人）'!$F$6:$O$100,5,FALSE)),\"\",VLOOKUP($D75&\"@2\",'中間シート（個人）'!$F$6:$O$100,4,FALSE)&VLOOKUP($D75&\"@2\",'中間シート（個人）'!$F$6:$O$100,5,FALSE))","v":""},{"$f":"IF(ISERROR(VLOOKUP($D75&\"@2\",'中間シート（個人）'!$F$6:$O$100,6,FALSE)&VLOOKUP($D75&\"@2\",'中間シート（個人）'!$F$6:$O$100,7,FALSE)&\".\"&VLOOKUP($D75&\"@2\",'中間シート（個人）'!$F$6:$O$100,8,FALSE)),\"\",VLOOKUP($D75&\"@2\",'中間シート（個人）'!$F$6:$O$100,6,FALSE)&VLOOKUP($D75&\"@2\",'中間シート（個人）'!$F$6:$O$100,7,FALSE)&\".\"&VLOOKUP($D75&\"@2\",'中間シート（個人）'!$F$6:$O$100,8,FALSE))","v":""},{"$f":"IF(ISERROR(VLOOKUP($D75&\"@3\",'中間シート（個人）'!$F$6:$O$100,4,FALSE)&VLOOKUP($D75&\"@3\",'中間シート（個人）'!$F$6:$O$100,5,FALSE)),\"\",VLOOKUP($D75&\"@3\",'中間シート（個人）'!$F$6:$O$100,4,FALSE)&VLOOKUP($D75&\"@3\",'中間シート（個人）'!$F$6:$O$100,5,FALSE))","v":""},{"$f":"IF(ISERROR(VLOOKUP($D75&\"@3\",'中間シート（個人）'!$F$6:$O$100,6,FALSE)&VLOOKUP($D75&\"@3\",'中間シート（個人）'!$F$6:$O$100,7,FALSE)&\".\"&VLOOKUP($D75&\"@3\",'中間シート（個人）'!$F$6:$O$100,8,FALSE)),\"\",VLOOKUP($D75&\"@3\",'中間シート（個人）'!$F$6:$O$100,6,FALSE)&VLOOKUP($D75&\"@3\",'中間シート（個人）'!$F$6:$O$100,7,FALSE)&\".\"&VLOOKUP($D75&\"@3\",'中間シート（個人）'!$F$6:$O$100,8,FALSE))","v":""},{"$f":"IF(ISERROR(VLOOKUP($D75&\"@4\",'中間シート（個人）'!$F$6:$O$100,4,FALSE)&VLOOKUP($D75&\"@4\",'中間シート（個人）'!$F$6:$O$100,5,FALSE)),\"\",VLOOKUP($D75&\"@4\",'中間シート（個人）'!$F$6:$O$100,4,FALSE)&VLOOKUP($D75&\"@4\",'中間シート（個人）'!$F$6:$O$100,5,FALSE))","v":""},{"$f":"IF(ISERROR(VLOOKUP($D75&\"@4\",'中間シート（個人）'!$F$6:$O$100,6,FALSE)&VLOOKUP($D75&\"@4\",'中間シート（個人）'!$F$6:$O$100,7,FALSE)&\".\"&VLOOKUP($D75&\"@4\",'中間シート（個人）'!$F$6:$O$100,8,FALSE)),\"\",VLOOKUP($D75&\"@4\",'中間シート（個人）'!$F$6:$O$100,6,FALSE)&VLOOKUP($D75&\"@4\",'中間シート（個人）'!$F$6:$O$100,7,FALSE)&\".\"&VLOOKUP($D75&\"@4\",'中間シート（個人）'!$F$6:$O$100,8,FALSE))","v":""},{"$f":"IF(ISERROR(VLOOKUP($D75&\"@5\",'中間シート（個人）'!$F$6:$O$100,4,FALSE)&VLOOKUP($D75&\"@5\",'中間シート（個人）'!$F$6:$O$100,5,FALSE)),\"\",VLOOKUP($D75&\"@5\",'中間シート（個人）'!$F$6:$O$100,4,FALSE)&VLOOKUP($D75&\"@5\",'中間シート（個人）'!$F$6:$O$100,5,FALSE))","v":""},{"$f":"IF(ISERROR(VLOOKUP($D75&\"@5\",'中間シート（個人）'!$F$6:$O$100,6,FALSE)&VLOOKUP($D75&\"@5\",'中間シート（個人）'!$F$6:$O$100,7,FALSE)&\".\"&VLOOKUP($D75&\"@5\",'中間シート（個人）'!$F$6:$O$100,8,FALSE)),\"\",VLOOKUP($D75&\"@5\",'中間シート（個人）'!$F$6:$O$100,6,FALSE)&VLOOKUP($D75&\"@5\",'中間シート（個人）'!$F$6:$O$100,7,FALSE)&\".\"&VLOOKUP($D75&\"@5\",'中間シート（個人）'!$F$6:$O$100,8,FALSE))","v":""},{"$f":"IF(ISERROR(VLOOKUP($D75&\"@6\",'中間シート（個人）'!$F$6:$O$100,4,FALSE)&VLOOKUP($D75&\"@6\",'中間シート（個人）'!$F$6:$O$100,5,FALSE)),\"\",VLOOKUP($D75&\"@6\",'中間シート（個人）'!$F$6:$O$100,4,FALSE)&VLOOKUP($D75&\"@6\",'中間シート（個人）'!$F$6:$O$100,5,FALSE))","v":""},{"$f":"IF(ISERROR(VLOOKUP($D75&\"@6\",'中間シート（個人）'!$F$6:$O$100,6,FALSE)&VLOOKUP($D75&\"@6\",'中間シート（個人）'!$F$6:$O$100,7,FALSE)&\".\"&VLOOKUP($D75&\"@6\",'中間シート（個人）'!$F$6:$O$100,8,FALSE)),\"\",VLOOKUP($D75&\"@6\",'中間シート（個人）'!$F$6:$O$100,6,FALSE)&VLOOKUP($D75&\"@6\",'中間シート（個人）'!$F$6:$O$100,7,FALSE)&\".\"&VLOOKUP($D75&\"@6\",'中間シート（個人）'!$F$6:$O$100,8,FALSE))","v":""},{"$f":"IF(ISERROR(VLOOKUP($D75&\"@7\",'中間シート（個人）'!$F$6:$O$100,4,FALSE)&VLOOKUP($D75&\"@7\",'中間シート（個人）'!$F$6:$O$100,5,FALSE)),\"\",VLOOKUP($D75&\"@7\",'中間シート（個人）'!$F$6:$O$100,4,FALSE)&VLOOKUP($D75&\"@7\",'中間シート（個人）'!$F$6:$O$100,5,FALSE))","v":""},{"$f":"IF(ISERROR(VLOOKUP($D75&\"@7\",'中間シート（個人）'!$F$6:$O$100,6,FALSE)&VLOOKUP($D75&\"@7\",'中間シート（個人）'!$F$6:$O$100,7,FALSE)&\".\"&VLOOKUP($D75&\"@7\",'中間シート（個人）'!$F$6:$O$100,8,FALSE)),\"\",VLOOKUP($D75&\"@7\",'中間シート（個人）'!$F$6:$O$100,6,FALSE)&VLOOKUP($D75&\"@7\",'中間シート（個人）'!$F$6:$O$100,7,FALSE)&\".\"&VLOOKUP($D75&\"@7\",'中間シート（個人）'!$F$6:$O$100,8,FALSE))","v":""},{"$f":"IF(ISERROR(VLOOKUP($D75&\"@8\",'中間シート（個人）'!$F$6:$O$100,4,FALSE)&VLOOKUP($D75&\"@8\",'中間シート（個人）'!$F$6:$O$100,5,FALSE)),\"\",VLOOKUP($D75&\"@8\",'中間シート（個人）'!$F$6:$O$100,4,FALSE)&VLOOKUP($D75&\"@8\",'中間シート（個人）'!$F$6:$O$100,5,FALSE))","v":""},{"$f":"IF(ISERROR(VLOOKUP($D75&\"@8\",'中間シート（個人）'!$F$6:$O$100,6,FALSE)&VLOOKUP($D75&\"@8\",'中間シート（個人）'!$F$6:$O$100,7,FALSE)&\".\"&VLOOKUP($D75&\"@8\",'中間シート（個人）'!$F$6:$O$100,8,FALSE)),\"\",VLOOKUP($D75&\"@8\",'中間シート（個人）'!$F$6:$O$100,6,FALSE)&VLOOKUP($D75&\"@8\",'中間シート（個人）'!$F$6:$O$100,7,FALSE)&\".\"&VLOOKUP($D75&\"@8\",'中間シート（個人）'!$F$6:$O$100,8,FALSE))","v":""},{"$f":"IF(ISERROR(VLOOKUP($D75&\"@9\",'中間シート（個人）'!$F$6:$O$100,4,FALSE)&VLOOKUP($D75&\"@9\",'中間シート（個人）'!$F$6:$O$100,5,FALSE)),\"\",VLOOKUP($D75&\"@9\",'中間シート（個人）'!$F$6:$O$100,4,FALSE)&VLOOKUP($D75&\"@9\",'中間シート（個人）'!$F$6:$O$100,5,FALSE))","v":""},{"$f":"IF(ISERROR(VLOOKUP($D75&\"@9\",'中間シート（個人）'!$F$6:$O$100,6,FALSE)&VLOOKUP($D75&\"@9\",'中間シート（個人）'!$F$6:$O$100,7,FALSE)&\".\"&VLOOKUP($D75&\"@9\",'中間シート（個人）'!$F$6:$O$100,8,FALSE)),\"\",VLOOKUP($D75&\"@9\",'中間シート（個人）'!$F$6:$O$100,6,FALSE)&VLOOKUP($D75&\"@9\",'中間シート（個人）'!$F$6:$O$100,7,FALSE)&\".\"&VLOOKUP($D75&\"@9\",'中間シート（個人）'!$F$6:$O$100,8,FALSE))","v":""},{"$f":"IF(ISERROR(VLOOKUP($D75&\"@10\",'中間シート（個人）'!$F$6:$O$100,4,FALSE)&VLOOKUP($D75&\"@10\",'中間シート（個人）'!$F$6:$O$100,5,FALSE)),\"\",VLOOKUP($D75&\"@10\",'中間シート（個人）'!$F$6:$O$100,4,FALSE)&VLOOKUP($D75&\"@10\",'中間シート（個人）'!$F$6:$O$100,5,FALSE))","v":""},{"$f":"IF(ISERROR(VLOOKUP($D75&\"@10\",'中間シート（個人）'!$F$6:$O$100,6,FALSE)&VLOOKUP($D75&\"@10\",'中間シート（個人）'!$F$6:$O$100,7,FALSE)&\".\"&VLOOKUP($D75&\"@10\",'中間シート（個人）'!$F$6:$O$100,8,FALSE)),\"\",VLOOKUP($D75&\"@10\",'中間シート（個人）'!$F$6:$O$100,6,FALSE)&VLOOKUP($D75&\"@10\",'中間シート（個人）'!$F$6:$O$100,7,FALSE)&\".\"&VLOOKUP($D75&\"@10\",'中間シート（個人）'!$F$6:$O$100,8,FALSE))","v":""}]
[null,null,{"$f":"IF('中間シート（個人）'!D78=\"○\",\"\",VLOOKUP(個人種目!F78,コード一覧!$A$2:$B$3,2,FALSE))","v":""},{"$f":"IF('中間シート（個人）'!D78=\"○\",\"\",'中間シート（個人）'!C78)","v":""},{"$f":"IF('中間シート（個人）'!D78=\"○\",\"\",ASC(個人種目!D78&\" \"&個人種目!E78))","v":""},{"$f":"IF('中間シート（個人）'!D78=\"○\",\"\",個人種目!G78&IF(LEN(個人種目!H78)=1,\"0\"&個人種目!H78,個人種目!H78)&IF(LEN(個人種目!I78)=1,\"0\"&個人種目!I78,個人種目!I78))","v":""},{"$f":"IF('中間シート（個人）'!D78=\"○\",\"\",VLOOKUP(個人種目!$J78,コード一覧!$C$3:$D$6,2,FALSE))","v":""},{"$f":"IF('中間シート（個人）'!D78=\"○\",\"\",IF(個人種目!$J78=\"一般\",0,個人種目!$K78))","v":""},{"$f":"IF('中間シート（個人）'!D78=\"○\",\"\",'中間シート（個人）'!H78)","v":""},null,{"$f":"IF('中間シート（個人）'!D78=\"○\",\"\",個人種目!$L$1)","v":""},{"$f":"IF('中間シート（個人）'!D78=\"○\",\"\",ASC(申込書_コナミ!$S$9))","v":""},{"$f":"IF('中間シート（個人）'!D78=\"○\",\"\",申込書_コナミ!$E$8)","v":""},null,null,null,{"$f":"IF('中間シート（個人）'!D78=\"○\",\"\",4)","v":""},{"$f":"IF(ISERROR(VLOOKUP($D76&\"@1\",'中間シート（個人）'!$F$6:$O$100,4,FALSE)&VLOOKUP($D76&\"@1\",'中間シート（個人）'!$F$6:$O$100,5,FALSE)),\"\",VLOOKUP($D76&\"@1\",'中間シート（個人）'!$F$6:$O$100,4,FALSE)&VLOOKUP($D76&\"@1\",'中間シート（個人）'!$F$6:$O$100,5,FALSE))","v":""},{"$f":"IF(ISERROR(VLOOKUP($D76&\"@1\",'中間シート（個人）'!$F$6:$O$100,6,FALSE)&VLOOKUP($D76&\"@1\",'中間シート（個人）'!$F$6:$O$100,7,FALSE)&\".\"&VLOOKUP($D76&\"@1\",'中間シート（個人）'!$F$6:$O$100,8,FALSE)),\"\",VLOOKUP($D76&\"@1\",'中間シート（個人）'!$F$6:$O$100,6,FALSE)&VLOOKUP($D76&\"@1\",'中間シート（個人）'!$F$6:$O$100,7,FALSE)&\".\"&VLOOKUP($D76&\"@1\",'中間シート（個人）'!$F$6:$O$100,8,FALSE))","v":""},{"$f":"IF(ISERROR(VLOOKUP($D76&\"@2\",'中間シート（個人）'!$F$6:$O$100,4,FALSE)&VLOOKUP($D76&\"@2\",'中間シート（個人）'!$F$6:$O$100,5,FALSE)),\"\",VLOOKUP($D76&\"@2\",'中間シート（個人）'!$F$6:$O$100,4,FALSE)&VLOOKUP($D76&\"@2\",'中間シート（個人）'!$F$6:$O$100,5,FALSE))","v":""},{"$f":"IF(ISERROR(VLOOKUP($D76&\"@2\",'中間シート（個人）'!$F$6:$O$100,6,FALSE)&VLOOKUP($D76&\"@2\",'中間シート（個人）'!$F$6:$O$100,7,FALSE)&\".\"&VLOOKUP($D76&\"@2\",'中間シート（個人）'!$F$6:$O$100,8,FALSE)),\"\",VLOOKUP($D76&\"@2\",'中間シート（個人）'!$F$6:$O$100,6,FALSE)&VLOOKUP($D76&\"@2\",'中間シート（個人）'!$F$6:$O$100,7,FALSE)&\".\"&VLOOKUP($D76&\"@2\",'中間シート（個人）'!$F$6:$O$100,8,FALSE))","v":""},{"$f":"IF(ISERROR(VLOOKUP($D76&\"@3\",'中間シート（個人）'!$F$6:$O$100,4,FALSE)&VLOOKUP($D76&\"@3\",'中間シート（個人）'!$F$6:$O$100,5,FALSE)),\"\",VLOOKUP($D76&\"@3\",'中間シート（個人）'!$F$6:$O$100,4,FALSE)&VLOOKUP($D76&\"@3\",'中間シート（個人）'!$F$6:$O$100,5,FALSE))","v":""},{"$f":"IF(ISERROR(VLOOKUP($D76&\"@3\",'中間シート（個人）'!$F$6:$O$100,6,FALSE)&VLOOKUP($D76&\"@3\",'中間シート（個人）'!$F$6:$O$100,7,FALSE)&\".\"&VLOOKUP($D76&\"@3\",'中間シート（個人）'!$F$6:$O$100,8,FALSE)),\"\",VLOOKUP($D76&\"@3\",'中間シート（個人）'!$F$6:$O$100,6,FALSE)&VLOOKUP($D76&\"@3\",'中間シート（個人）'!$F$6:$O$100,7,FALSE)&\".\"&VLOOKUP($D76&\"@3\",'中間シート（個人）'!$F$6:$O$100,8,FALSE))","v":""},{"$f":"IF(ISERROR(VLOOKUP($D76&\"@4\",'中間シート（個人）'!$F$6:$O$100,4,FALSE)&VLOOKUP($D76&\"@4\",'中間シート（個人）'!$F$6:$O$100,5,FALSE)),\"\",VLOOKUP($D76&\"@4\",'中間シート（個人）'!$F$6:$O$100,4,FALSE)&VLOOKUP($D76&\"@4\",'中間シート（個人）'!$F$6:$O$100,5,FALSE))","v":""},{"$f":"IF(ISERROR(VLOOKUP($D76&\"@4\",'中間シート（個人）'!$F$6:$O$100,6,FALSE)&VLOOKUP($D76&\"@4\",'中間シート（個人）'!$F$6:$O$100,7,FALSE)&\".\"&VLOOKUP($D76&\"@4\",'中間シート（個人）'!$F$6:$O$100,8,FALSE)),\"\",VLOOKUP($D76&\"@4\",'中間シート（個人）'!$F$6:$O$100,6,FALSE)&VLOOKUP($D76&\"@4\",'中間シート（個人）'!$F$6:$O$100,7,FALSE)&\".\"&VLOOKUP($D76&\"@4\",'中間シート（個人）'!$F$6:$O$100,8,FALSE))","v":""},{"$f":"IF(ISERROR(VLOOKUP($D76&\"@5\",'中間シート（個人）'!$F$6:$O$100,4,FALSE)&VLOOKUP($D76&\"@5\",'中間シート（個人）'!$F$6:$O$100,5,FALSE)),\"\",VLOOKUP($D76&\"@5\",'中間シート（個人）'!$F$6:$O$100,4,FALSE)&VLOOKUP($D76&\"@5\",'中間シート（個人）'!$F$6:$O$100,5,FALSE))","v":""},{"$f":"IF(ISERROR(VLOOKUP($D76&\"@5\",'中間シート（個人）'!$F$6:$O$100,6,FALSE)&VLOOKUP($D76&\"@5\",'中間シート（個人）'!$F$6:$O$100,7,FALSE)&\".\"&VLOOKUP($D76&\"@5\",'中間シート（個人）'!$F$6:$O$100,8,FALSE)),\"\",VLOOKUP($D76&\"@5\",'中間シート（個人）'!$F$6:$O$100,6,FALSE)&VLOOKUP($D76&\"@5\",'中間シート（個人）'!$F$6:$O$100,7,FALSE)&\".\"&VLOOKUP($D76&\"@5\",'中間シート（個人）'!$F$6:$O$100,8,FALSE))","v":""},{"$f":"IF(ISERROR(VLOOKUP($D76&\"@6\",'中間シート（個人）'!$F$6:$O$100,4,FALSE)&VLOOKUP($D76&\"@6\",'中間シート（個人）'!$F$6:$O$100,5,FALSE)),\"\",VLOOKUP($D76&\"@6\",'中間シート（個人）'!$F$6:$O$100,4,FALSE)&VLOOKUP($D76&\"@6\",'中間シート（個人）'!$F$6:$O$100,5,FALSE))","v":""},{"$f":"IF(ISERROR(VLOOKUP($D76&\"@6\",'中間シート（個人）'!$F$6:$O$100,6,FALSE)&VLOOKUP($D76&\"@6\",'中間シート（個人）'!$F$6:$O$100,7,FALSE)&\".\"&VLOOKUP($D76&\"@6\",'中間シート（個人）'!$F$6:$O$100,8,FALSE)),\"\",VLOOKUP($D76&\"@6\",'中間シート（個人）'!$F$6:$O$100,6,FALSE)&VLOOKUP($D76&\"@6\",'中間シート（個人）'!$F$6:$O$100,7,FALSE)&\".\"&VLOOKUP($D76&\"@6\",'中間シート（個人）'!$F$6:$O$100,8,FALSE))","v":""},{"$f":"IF(ISERROR(VLOOKUP($D76&\"@7\",'中間シート（個人）'!$F$6:$O$100,4,FALSE)&VLOOKUP($D76&\"@7\",'中間シート（個人）'!$F$6:$O$100,5,FALSE)),\"\",VLOOKUP($D76&\"@7\",'中間シート（個人）'!$F$6:$O$100,4,FALSE)&VLOOKUP($D76&\"@7\",'中間シート（個人）'!$F$6:$O$100,5,FALSE))","v":""},{"$f":"IF(ISERROR(VLOOKUP($D76&\"@7\",'中間シート（個人）'!$F$6:$O$100,6,FALSE)&VLOOKUP($D76&\"@7\",'中間シート（個人）'!$F$6:$O$100,7,FALSE)&\".\"&VLOOKUP($D76&\"@7\",'中間シート（個人）'!$F$6:$O$100,8,FALSE)),\"\",VLOOKUP($D76&\"@7\",'中間シート（個人）'!$F$6:$O$100,6,FALSE)&VLOOKUP($D76&\"@7\",'中間シート（個人）'!$F$6:$O$100,7,FALSE)&\".\"&VLOOKUP($D76&\"@7\",'中間シート（個人）'!$F$6:$O$100,8,FALSE))","v":""},{"$f":"IF(ISERROR(VLOOKUP($D76&\"@8\",'中間シート（個人）'!$F$6:$O$100,4,FALSE)&VLOOKUP($D76&\"@8\",'中間シート（個人）'!$F$6:$O$100,5,FALSE)),\"\",VLOOKUP($D76&\"@8\",'中間シート（個人）'!$F$6:$O$100,4,FALSE)&VLOOKUP($D76&\"@8\",'中間シート（個人）'!$F$6:$O$100,5,FALSE))","v":""},{"$f":"IF(ISERROR(VLOOKUP($D76&\"@8\",'中間シート（個人）'!$F$6:$O$100,6,FALSE)&VLOOKUP($D76&\"@8\",'中間シート（個人）'!$F$6:$O$100,7,FALSE)&\".\"&VLOOKUP($D76&\"@8\",'中間シート（個人）'!$F$6:$O$100,8,FALSE)),\"\",VLOOKUP($D76&\"@8\",'中間シート（個人）'!$F$6:$O$100,6,FALSE)&VLOOKUP($D76&\"@8\",'中間シート（個人）'!$F$6:$O$100,7,FALSE)&\".\"&VLOOKUP($D76&\"@8\",'中間シート（個人）'!$F$6:$O$100,8,FALSE))","v":""},{"$f":"IF(ISERROR(VLOOKUP($D76&\"@9\",'中間シート（個人）'!$F$6:$O$100,4,FALSE)&VLOOKUP($D76&\"@9\",'中間シート（個人）'!$F$6:$O$100,5,FALSE)),\"\",VLOOKUP($D76&\"@9\",'中間シート（個人）'!$F$6:$O$100,4,FALSE)&VLOOKUP($D76&\"@9\",'中間シート（個人）'!$F$6:$O$100,5,FALSE))","v":""},{"$f":"IF(ISERROR(VLOOKUP($D76&\"@9\",'中間シート（個人）'!$F$6:$O$100,6,FALSE)&VLOOKUP($D76&\"@9\",'中間シート（個人）'!$F$6:$O$100,7,FALSE)&\".\"&VLOOKUP($D76&\"@9\",'中間シート（個人）'!$F$6:$O$100,8,FALSE)),\"\",VLOOKUP($D76&\"@9\",'中間シート（個人）'!$F$6:$O$100,6,FALSE)&VLOOKUP($D76&\"@9\",'中間シート（個人）'!$F$6:$O$100,7,FALSE)&\".\"&VLOOKUP($D76&\"@9\",'中間シート（個人）'!$F$6:$O$100,8,FALSE))","v":""},{"$f":"IF(ISERROR(VLOOKUP($D76&\"@10\",'中間シート（個人）'!$F$6:$O$100,4,FALSE)&VLOOKUP($D76&\"@10\",'中間シート（個人）'!$F$6:$O$100,5,FALSE)),\"\",VLOOKUP($D76&\"@10\",'中間シート（個人）'!$F$6:$O$100,4,FALSE)&VLOOKUP($D76&\"@10\",'中間シート（個人）'!$F$6:$O$100,5,FALSE))","v":""},{"$f":"IF(ISERROR(VLOOKUP($D76&\"@10\",'中間シート（個人）'!$F$6:$O$100,6,FALSE)&VLOOKUP($D76&\"@10\",'中間シート（個人）'!$F$6:$O$100,7,FALSE)&\".\"&VLOOKUP($D76&\"@10\",'中間シート（個人）'!$F$6:$O$100,8,FALSE)),\"\",VLOOKUP($D76&\"@10\",'中間シート（個人）'!$F$6:$O$100,6,FALSE)&VLOOKUP($D76&\"@10\",'中間シート（個人）'!$F$6:$O$100,7,FALSE)&\".\"&VLOOKUP($D76&\"@10\",'中間シート（個人）'!$F$6:$O$100,8,FALSE))","v":""}]
[null,null,{"$f":"IF('中間シート（個人）'!D79=\"○\",\"\",VLOOKUP(個人種目!F79,コード一覧!$A$2:$B$3,2,FALSE))","v":""},{"$f":"IF('中間シート（個人）'!D79=\"○\",\"\",'中間シート（個人）'!C79)","v":""},{"$f":"IF('中間シート（個人）'!D79=\"○\",\"\",ASC(個人種目!D79&\" \"&個人種目!E79))","v":""},{"$f":"IF('中間シート（個人）'!D79=\"○\",\"\",個人種目!G79&IF(LEN(個人種目!H79)=1,\"0\"&個人種目!H79,個人種目!H79)&IF(LEN(個人種目!I79)=1,\"0\"&個人種目!I79,個人種目!I79))","v":""},{"$f":"IF('中間シート（個人）'!D79=\"○\",\"\",VLOOKUP(個人種目!$J79,コード一覧!$C$3:$D$6,2,FALSE))","v":""},{"$f":"IF('中間シート（個人）'!D79=\"○\",\"\",IF(個人種目!$J79=\"一般\",0,個人種目!$K79))","v":""},{"$f":"IF('中間シート（個人）'!D79=\"○\",\"\",'中間シート（個人）'!H79)","v":""},null,{"$f":"IF('中間シート（個人）'!D79=\"○\",\"\",個人種目!$L$1)","v":""},{"$f":"IF('中間シート（個人）'!D79=\"○\",\"\",ASC(申込書_コナミ!$S$9))","v":""},{"$f":"IF('中間シート（個人）'!D79=\"○\",\"\",申込書_コナミ!$E$8)","v":""},null,null,null,{"$f":"IF('中間シート（個人）'!D79=\"○\",\"\",4)","v":""},{"$f":"IF(ISERROR(VLOOKUP($D77&\"@1\",'中間シート（個人）'!$F$6:$O$100,4,FALSE)&VLOOKUP($D77&\"@1\",'中間シート（個人）'!$F$6:$O$100,5,FALSE)),\"\",VLOOKUP($D77&\"@1\",'中間シート（個人）'!$F$6:$O$100,4,FALSE)&VLOOKUP($D77&\"@1\",'中間シート（個人）'!$F$6:$O$100,5,FALSE))","v":""},{"$f":"IF(ISERROR(VLOOKUP($D77&\"@1\",'中間シート（個人）'!$F$6:$O$100,6,FALSE)&VLOOKUP($D77&\"@1\",'中間シート（個人）'!$F$6:$O$100,7,FALSE)&\".\"&VLOOKUP($D77&\"@1\",'中間シート（個人）'!$F$6:$O$100,8,FALSE)),\"\",VLOOKUP($D77&\"@1\",'中間シート（個人）'!$F$6:$O$100,6,FALSE)&VLOOKUP($D77&\"@1\",'中間シート（個人）'!$F$6:$O$100,7,FALSE)&\".\"&VLOOKUP($D77&\"@1\",'中間シート（個人）'!$F$6:$O$100,8,FALSE))","v":""},{"$f":"IF(ISERROR(VLOOKUP($D77&\"@2\",'中間シート（個人）'!$F$6:$O$100,4,FALSE)&VLOOKUP($D77&\"@2\",'中間シート（個人）'!$F$6:$O$100,5,FALSE)),\"\",VLOOKUP($D77&\"@2\",'中間シート（個人）'!$F$6:$O$100,4,FALSE)&VLOOKUP($D77&\"@2\",'中間シート（個人）'!$F$6:$O$100,5,FALSE))","v":""},{"$f":"IF(ISERROR(VLOOKUP($D77&\"@2\",'中間シート（個人）'!$F$6:$O$100,6,FALSE)&VLOOKUP($D77&\"@2\",'中間シート（個人）'!$F$6:$O$100,7,FALSE)&\".\"&VLOOKUP($D77&\"@2\",'中間シート（個人）'!$F$6:$O$100,8,FALSE)),\"\",VLOOKUP($D77&\"@2\",'中間シート（個人）'!$F$6:$O$100,6,FALSE)&VLOOKUP($D77&\"@2\",'中間シート（個人）'!$F$6:$O$100,7,FALSE)&\".\"&VLOOKUP($D77&\"@2\",'中間シート（個人）'!$F$6:$O$100,8,FALSE))","v":""},{"$f":"IF(ISERROR(VLOOKUP($D77&\"@3\",'中間シート（個人）'!$F$6:$O$100,4,FALSE)&VLOOKUP($D77&\"@3\",'中間シート（個人）'!$F$6:$O$100,5,FALSE)),\"\",VLOOKUP($D77&\"@3\",'中間シート（個人）'!$F$6:$O$100,4,FALSE)&VLOOKUP($D77&\"@3\",'中間シート（個人）'!$F$6:$O$100,5,FALSE))","v":""},{"$f":"IF(ISERROR(VLOOKUP($D77&\"@3\",'中間シート（個人）'!$F$6:$O$100,6,FALSE)&VLOOKUP($D77&\"@3\",'中間シート（個人）'!$F$6:$O$100,7,FALSE)&\".\"&VLOOKUP($D77&\"@3\",'中間シート（個人）'!$F$6:$O$100,8,FALSE)),\"\",VLOOKUP($D77&\"@3\",'中間シート（個人）'!$F$6:$O$100,6,FALSE)&VLOOKUP($D77&\"@3\",'中間シート（個人）'!$F$6:$O$100,7,FALSE)&\".\"&VLOOKUP($D77&\"@3\",'中間シート（個人）'!$F$6:$O$100,8,FALSE))","v":""},{"$f":"IF(ISERROR(VLOOKUP($D77&\"@4\",'中間シート（個人）'!$F$6:$O$100,4,FALSE)&VLOOKUP($D77&\"@4\",'中間シート（個人）'!$F$6:$O$100,5,FALSE)),\"\",VLOOKUP($D77&\"@4\",'中間シート（個人）'!$F$6:$O$100,4,FALSE)&VLOOKUP($D77&\"@4\",'中間シート（個人）'!$F$6:$O$100,5,FALSE))","v":""},{"$f":"IF(ISERROR(VLOOKUP($D77&\"@4\",'中間シート（個人）'!$F$6:$O$100,6,FALSE)&VLOOKUP($D77&\"@4\",'中間シート（個人）'!$F$6:$O$100,7,FALSE)&\".\"&VLOOKUP($D77&\"@4\",'中間シート（個人）'!$F$6:$O$100,8,FALSE)),\"\",VLOOKUP($D77&\"@4\",'中間シート（個人）'!$F$6:$O$100,6,FALSE)&VLOOKUP($D77&\"@4\",'中間シート（個人）'!$F$6:$O$100,7,FALSE)&\".\"&VLOOKUP($D77&\"@4\",'中間シート（個人）'!$F$6:$O$100,8,FALSE))","v":""},{"$f":"IF(ISERROR(VLOOKUP($D77&\"@5\",'中間シート（個人）'!$F$6:$O$100,4,FALSE)&VLOOKUP($D77&\"@5\",'中間シート（個人）'!$F$6:$O$100,5,FALSE)),\"\",VLOOKUP($D77&\"@5\",'中間シート（個人）'!$F$6:$O$100,4,FALSE)&VLOOKUP($D77&\"@5\",'中間シート（個人）'!$F$6:$O$100,5,FALSE))","v":""},{"$f":"IF(ISERROR(VLOOKUP($D77&\"@5\",'中間シート（個人）'!$F$6:$O$100,6,FALSE)&VLOOKUP($D77&\"@5\",'中間シート（個人）'!$F$6:$O$100,7,FALSE)&\".\"&VLOOKUP($D77&\"@5\",'中間シート（個人）'!$F$6:$O$100,8,FALSE)),\"\",VLOOKUP($D77&\"@5\",'中間シート（個人）'!$F$6:$O$100,6,FALSE)&VLOOKUP($D77&\"@5\",'中間シート（個人）'!$F$6:$O$100,7,FALSE)&\".\"&VLOOKUP($D77&\"@5\",'中間シート（個人）'!$F$6:$O$100,8,FALSE))","v":""},{"$f":"IF(ISERROR(VLOOKUP($D77&\"@6\",'中間シート（個人）'!$F$6:$O$100,4,FALSE)&VLOOKUP($D77&\"@6\",'中間シート（個人）'!$F$6:$O$100,5,FALSE)),\"\",VLOOKUP($D77&\"@6\",'中間シート（個人）'!$F$6:$O$100,4,FALSE)&VLOOKUP($D77&\"@6\",'中間シート（個人）'!$F$6:$O$100,5,FALSE))","v":""},{"$f":"IF(ISERROR(VLOOKUP($D77&\"@6\",'中間シート（個人）'!$F$6:$O$100,6,FALSE)&VLOOKUP($D77&\"@6\",'中間シート（個人）'!$F$6:$O$100,7,FALSE)&\".\"&VLOOKUP($D77&\"@6\",'中間シート（個人）'!$F$6:$O$100,8,FALSE)),\"\",VLOOKUP($D77&\"@6\",'中間シート（個人）'!$F$6:$O$100,6,FALSE)&VLOOKUP($D77&\"@6\",'中間シート（個人）'!$F$6:$O$100,7,FALSE)&\".\"&VLOOKUP($D77&\"@6\",'中間シート（個人）'!$F$6:$O$100,8,FALSE))","v":""},{"$f":"IF(ISERROR(VLOOKUP($D77&\"@7\",'中間シート（個人）'!$F$6:$O$100,4,FALSE)&VLOOKUP($D77&\"@7\",'中間シート（個人）'!$F$6:$O$100,5,FALSE)),\"\",VLOOKUP($D77&\"@7\",'中間シート（個人）'!$F$6:$O$100,4,FALSE)&VLOOKUP($D77&\"@7\",'中間シート（個人）'!$F$6:$O$100,5,FALSE))","v":""},{"$f":"IF(ISERROR(VLOOKUP($D77&\"@7\",'中間シート（個人）'!$F$6:$O$100,6,FALSE)&VLOOKUP($D77&\"@7\",'中間シート（個人）'!$F$6:$O$100,7,FALSE)&\".\"&VLOOKUP($D77&\"@7\",'中間シート（個人）'!$F$6:$O$100,8,FALSE)),\"\",VLOOKUP($D77&\"@7\",'中間シート（個人）'!$F$6:$O$100,6,FALSE)&VLOOKUP($D77&\"@7\",'中間シート（個人）'!$F$6:$O$100,7,FALSE)&\".\"&VLOOKUP($D77&\"@7\",'中間シート（個人）'!$F$6:$O$100,8,FALSE))","v":""},{"$f":"IF(ISERROR(VLOOKUP($D77&\"@8\",'中間シート（個人）'!$F$6:$O$100,4,FALSE)&VLOOKUP($D77&\"@8\",'中間シート（個人）'!$F$6:$O$100,5,FALSE)),\"\",VLOOKUP($D77&\"@8\",'中間シート（個人）'!$F$6:$O$100,4,FALSE)&VLOOKUP($D77&\"@8\",'中間シート（個人）'!$F$6:$O$100,5,FALSE))","v":""},{"$f":"IF(ISERROR(VLOOKUP($D77&\"@8\",'中間シート（個人）'!$F$6:$O$100,6,FALSE)&VLOOKUP($D77&\"@8\",'中間シート（個人）'!$F$6:$O$100,7,FALSE)&\".\"&VLOOKUP($D77&\"@8\",'中間シート（個人）'!$F$6:$O$100,8,FALSE)),\"\",VLOOKUP($D77&\"@8\",'中間シート（個人）'!$F$6:$O$100,6,FALSE)&VLOOKUP($D77&\"@8\",'中間シート（個人）'!$F$6:$O$100,7,FALSE)&\".\"&VLOOKUP($D77&\"@8\",'中間シート（個人）'!$F$6:$O$100,8,FALSE))","v":""},{"$f":"IF(ISERROR(VLOOKUP($D77&\"@9\",'中間シート（個人）'!$F$6:$O$100,4,FALSE)&VLOOKUP($D77&\"@9\",'中間シート（個人）'!$F$6:$O$100,5,FALSE)),\"\",VLOOKUP($D77&\"@9\",'中間シート（個人）'!$F$6:$O$100,4,FALSE)&VLOOKUP($D77&\"@9\",'中間シート（個人）'!$F$6:$O$100,5,FALSE))","v":""},{"$f":"IF(ISERROR(VLOOKUP($D77&\"@9\",'中間シート（個人）'!$F$6:$O$100,6,FALSE)&VLOOKUP($D77&\"@9\",'中間シート（個人）'!$F$6:$O$100,7,FALSE)&\".\"&VLOOKUP($D77&\"@9\",'中間シート（個人）'!$F$6:$O$100,8,FALSE)),\"\",VLOOKUP($D77&\"@9\",'中間シート（個人）'!$F$6:$O$100,6,FALSE)&VLOOKUP($D77&\"@9\",'中間シート（個人）'!$F$6:$O$100,7,FALSE)&\".\"&VLOOKUP($D77&\"@9\",'中間シート（個人）'!$F$6:$O$100,8,FALSE))","v":""},{"$f":"IF(ISERROR(VLOOKUP($D77&\"@10\",'中間シート（個人）'!$F$6:$O$100,4,FALSE)&VLOOKUP($D77&\"@10\",'中間シート（個人）'!$F$6:$O$100,5,FALSE)),\"\",VLOOKUP($D77&\"@10\",'中間シート（個人）'!$F$6:$O$100,4,FALSE)&VLOOKUP($D77&\"@10\",'中間シート（個人）'!$F$6:$O$100,5,FALSE))","v":""},{"$f":"IF(ISERROR(VLOOKUP($D77&\"@10\",'中間シート（個人）'!$F$6:$O$100,6,FALSE)&VLOOKUP($D77&\"@10\",'中間シート（個人）'!$F$6:$O$100,7,FALSE)&\".\"&VLOOKUP($D77&\"@10\",'中間シート（個人）'!$F$6:$O$100,8,FALSE)),\"\",VLOOKUP($D77&\"@10\",'中間シート（個人）'!$F$6:$O$100,6,FALSE)&VLOOKUP($D77&\"@10\",'中間シート（個人）'!$F$6:$O$100,7,FALSE)&\".\"&VLOOKUP($D77&\"@10\",'中間シート（個人）'!$F$6:$O$100,8,FALSE))","v":""}]
[null,null,{"$f":"IF('中間シート（個人）'!D80=\"○\",\"\",VLOOKUP(個人種目!F80,コード一覧!$A$2:$B$3,2,FALSE))","v":""},{"$f":"IF('中間シート（個人）'!D80=\"○\",\"\",'中間シート（個人）'!C80)","v":""},{"$f":"IF('中間シート（個人）'!D80=\"○\",\"\",ASC(個人種目!D80&\" \"&個人種目!E80))","v":""},{"$f":"IF('中間シート（個人）'!D80=\"○\",\"\",個人種目!G80&IF(LEN(個人種目!H80)=1,\"0\"&個人種目!H80,個人種目!H80)&IF(LEN(個人種目!I80)=1,\"0\"&個人種目!I80,個人種目!I80))","v":""},{"$f":"IF('中間シート（個人）'!D80=\"○\",\"\",VLOOKUP(個人種目!$J80,コード一覧!$C$3:$D$6,2,FALSE))","v":""},{"$f":"IF('中間シート（個人）'!D80=\"○\",\"\",IF(個人種目!$J80=\"一般\",0,個人種目!$K80))","v":""},{"$f":"IF('中間シート（個人）'!D80=\"○\",\"\",'中間シート（個人）'!H80)","v":""},null,{"$f":"IF('中間シート（個人）'!D80=\"○\",\"\",個人種目!$L$1)","v":""},{"$f":"IF('中間シート（個人）'!D80=\"○\",\"\",ASC(申込書_コナミ!$S$9))","v":""},{"$f":"IF('中間シート（個人）'!D80=\"○\",\"\",申込書_コナミ!$E$8)","v":""},null,null,null,{"$f":"IF('中間シート（個人）'!D80=\"○\",\"\",4)","v":""},{"$f":"IF(ISERROR(VLOOKUP($D78&\"@1\",'中間シート（個人）'!$F$6:$O$100,4,FALSE)&VLOOKUP($D78&\"@1\",'中間シート（個人）'!$F$6:$O$100,5,FALSE)),\"\",VLOOKUP($D78&\"@1\",'中間シート（個人）'!$F$6:$O$100,4,FALSE)&VLOOKUP($D78&\"@1\",'中間シート（個人）'!$F$6:$O$100,5,FALSE))","v":""},{"$f":"IF(ISERROR(VLOOKUP($D78&\"@1\",'中間シート（個人）'!$F$6:$O$100,6,FALSE)&VLOOKUP($D78&\"@1\",'中間シート（個人）'!$F$6:$O$100,7,FALSE)&\".\"&VLOOKUP($D78&\"@1\",'中間シート（個人）'!$F$6:$O$100,8,FALSE)),\"\",VLOOKUP($D78&\"@1\",'中間シート（個人）'!$F$6:$O$100,6,FALSE)&VLOOKUP($D78&\"@1\",'中間シート（個人）'!$F$6:$O$100,7,FALSE)&\".\"&VLOOKUP($D78&\"@1\",'中間シート（個人）'!$F$6:$O$100,8,FALSE))","v":""},{"$f":"IF(ISERROR(VLOOKUP($D78&\"@2\",'中間シート（個人）'!$F$6:$O$100,4,FALSE)&VLOOKUP($D78&\"@2\",'中間シート（個人）'!$F$6:$O$100,5,FALSE)),\"\",VLOOKUP($D78&\"@2\",'中間シート（個人）'!$F$6:$O$100,4,FALSE)&VLOOKUP($D78&\"@2\",'中間シート（個人）'!$F$6:$O$100,5,FALSE))","v":""},{"$f":"IF(ISERROR(VLOOKUP($D78&\"@2\",'中間シート（個人）'!$F$6:$O$100,6,FALSE)&VLOOKUP($D78&\"@2\",'中間シート（個人）'!$F$6:$O$100,7,FALSE)&\".\"&VLOOKUP($D78&\"@2\",'中間シート（個人）'!$F$6:$O$100,8,FALSE)),\"\",VLOOKUP($D78&\"@2\",'中間シート（個人）'!$F$6:$O$100,6,FALSE)&VLOOKUP($D78&\"@2\",'中間シート（個人）'!$F$6:$O$100,7,FALSE)&\".\"&VLOOKUP($D78&\"@2\",'中間シート（個人）'!$F$6:$O$100,8,FALSE))","v":""},{"$f":"IF(ISERROR(VLOOKUP($D78&\"@3\",'中間シート（個人）'!$F$6:$O$100,4,FALSE)&VLOOKUP($D78&\"@3\",'中間シート（個人）'!$F$6:$O$100,5,FALSE)),\"\",VLOOKUP($D78&\"@3\",'中間シート（個人）'!$F$6:$O$100,4,FALSE)&VLOOKUP($D78&\"@3\",'中間シート（個人）'!$F$6:$O$100,5,FALSE))","v":""},{"$f":"IF(ISERROR(VLOOKUP($D78&\"@3\",'中間シート（個人）'!$F$6:$O$100,6,FALSE)&VLOOKUP($D78&\"@3\",'中間シート（個人）'!$F$6:$O$100,7,FALSE)&\".\"&VLOOKUP($D78&\"@3\",'中間シート（個人）'!$F$6:$O$100,8,FALSE)),\"\",VLOOKUP($D78&\"@3\",'中間シート（個人）'!$F$6:$O$100,6,FALSE)&VLOOKUP($D78&\"@3\",'中間シート（個人）'!$F$6:$O$100,7,FALSE)&\".\"&VLOOKUP($D78&\"@3\",'中間シート（個人）'!$F$6:$O$100,8,FALSE))","v":""},{"$f":"IF(ISERROR(VLOOKUP($D78&\"@4\",'中間シート（個人）'!$F$6:$O$100,4,FALSE)&VLOOKUP($D78&\"@4\",'中間シート（個人）'!$F$6:$O$100,5,FALSE)),\"\",VLOOKUP($D78&\"@4\",'中間シート（個人）'!$F$6:$O$100,4,FALSE)&VLOOKUP($D78&\"@4\",'中間シート（個人）'!$F$6:$O$100,5,FALSE))","v":""},{"$f":"IF(ISERROR(VLOOKUP($D78&\"@4\",'中間シート（個人）'!$F$6:$O$100,6,FALSE)&VLOOKUP($D78&\"@4\",'中間シート（個人）'!$F$6:$O$100,7,FALSE)&\".\"&VLOOKUP($D78&\"@4\",'中間シート（個人）'!$F$6:$O$100,8,FALSE)),\"\",VLOOKUP($D78&\"@4\",'中間シート（個人）'!$F$6:$O$100,6,FALSE)&VLOOKUP($D78&\"@4\",'中間シート（個人）'!$F$6:$O$100,7,FALSE)&\".\"&VLOOKUP($D78&\"@4\",'中間シート（個人）'!$F$6:$O$100,8,FALSE))","v":""},{"$f":"IF(ISERROR(VLOOKUP($D78&\"@5\",'中間シート（個人）'!$F$6:$O$100,4,FALSE)&VLOOKUP($D78&\"@5\",'中間シート（個人）'!$F$6:$O$100,5,FALSE)),\"\",VLOOKUP($D78&\"@5\",'中間シート（個人）'!$F$6:$O$100,4,FALSE)&VLOOKUP($D78&\"@5\",'中間シート（個人）'!$F$6:$O$100,5,FALSE))","v":""},{"$f":"IF(ISERROR(VLOOKUP($D78&\"@5\",'中間シート（個人）'!$F$6:$O$100,6,FALSE)&VLOOKUP($D78&\"@5\",'中間シート（個人）'!$F$6:$O$100,7,FALSE)&\".\"&VLOOKUP($D78&\"@5\",'中間シート（個人）'!$F$6:$O$100,8,FALSE)),\"\",VLOOKUP($D78&\"@5\",'中間シート（個人）'!$F$6:$O$100,6,FALSE)&VLOOKUP($D78&\"@5\",'中間シート（個人）'!$F$6:$O$100,7,FALSE)&\".\"&VLOOKUP($D78&\"@5\",'中間シート（個人）'!$F$6:$O$100,8,FALSE))","v":""},{"$f":"IF(ISERROR(VLOOKUP($D78&\"@6\",'中間シート（個人）'!$F$6:$O$100,4,FALSE)&VLOOKUP($D78&\"@6\",'中間シート（個人）'!$F$6:$O$100,5,FALSE)),\"\",VLOOKUP($D78&\"@6\",'中間シート（個人）'!$F$6:$O$100,4,FALSE)&VLOOKUP($D78&\"@6\",'中間シート（個人）'!$F$6:$O$100,5,FALSE))","v":""},{"$f":"IF(ISERROR(VLOOKUP($D78&\"@6\",'中間シート（個人）'!$F$6:$O$100,6,FALSE)&VLOOKUP($D78&\"@6\",'中間シート（個人）'!$F$6:$O$100,7,FALSE)&\".\"&VLOOKUP($D78&\"@6\",'中間シート（個人）'!$F$6:$O$100,8,FALSE)),\"\",VLOOKUP($D78&\"@6\",'中間シート（個人）'!$F$6:$O$100,6,FALSE)&VLOOKUP($D78&\"@6\",'中間シート（個人）'!$F$6:$O$100,7,FALSE)&\".\"&VLOOKUP($D78&\"@6\",'中間シート（個人）'!$F$6:$O$100,8,FALSE))","v":""},{"$f":"IF(ISERROR(VLOOKUP($D78&\"@7\",'中間シート（個人）'!$F$6:$O$100,4,FALSE)&VLOOKUP($D78&\"@7\",'中間シート（個人）'!$F$6:$O$100,5,FALSE)),\"\",VLOOKUP($D78&\"@7\",'中間シート（個人）'!$F$6:$O$100,4,FALSE)&VLOOKUP($D78&\"@7\",'中間シート（個人）'!$F$6:$O$100,5,FALSE))","v":""},{"$f":"IF(ISERROR(VLOOKUP($D78&\"@7\",'中間シート（個人）'!$F$6:$O$100,6,FALSE)&VLOOKUP($D78&\"@7\",'中間シート（個人）'!$F$6:$O$100,7,FALSE)&\".\"&VLOOKUP($D78&\"@7\",'中間シート（個人）'!$F$6:$O$100,8,FALSE)),\"\",VLOOKUP($D78&\"@7\",'中間シート（個人）'!$F$6:$O$100,6,FALSE)&VLOOKUP($D78&\"@7\",'中間シート（個人）'!$F$6:$O$100,7,FALSE)&\".\"&VLOOKUP($D78&\"@7\",'中間シート（個人）'!$F$6:$O$100,8,FALSE))","v":""},{"$f":"IF(ISERROR(VLOOKUP($D78&\"@8\",'中間シート（個人）'!$F$6:$O$100,4,FALSE)&VLOOKUP($D78&\"@8\",'中間シート（個人）'!$F$6:$O$100,5,FALSE)),\"\",VLOOKUP($D78&\"@8\",'中間シート（個人）'!$F$6:$O$100,4,FALSE)&VLOOKUP($D78&\"@8\",'中間シート（個人）'!$F$6:$O$100,5,FALSE))","v":""},{"$f":"IF(ISERROR(VLOOKUP($D78&\"@8\",'中間シート（個人）'!$F$6:$O$100,6,FALSE)&VLOOKUP($D78&\"@8\",'中間シート（個人）'!$F$6:$O$100,7,FALSE)&\".\"&VLOOKUP($D78&\"@8\",'中間シート（個人）'!$F$6:$O$100,8,FALSE)),\"\",VLOOKUP($D78&\"@8\",'中間シート（個人）'!$F$6:$O$100,6,FALSE)&VLOOKUP($D78&\"@8\",'中間シート（個人）'!$F$6:$O$100,7,FALSE)&\".\"&VLOOKUP($D78&\"@8\",'中間シート（個人）'!$F$6:$O$100,8,FALSE))","v":""},{"$f":"IF(ISERROR(VLOOKUP($D78&\"@9\",'中間シート（個人）'!$F$6:$O$100,4,FALSE)&VLOOKUP($D78&\"@9\",'中間シート（個人）'!$F$6:$O$100,5,FALSE)),\"\",VLOOKUP($D78&\"@9\",'中間シート（個人）'!$F$6:$O$100,4,FALSE)&VLOOKUP($D78&\"@9\",'中間シート（個人）'!$F$6:$O$100,5,FALSE))","v":""},{"$f":"IF(ISERROR(VLOOKUP($D78&\"@9\",'中間シート（個人）'!$F$6:$O$100,6,FALSE)&VLOOKUP($D78&\"@9\",'中間シート（個人）'!$F$6:$O$100,7,FALSE)&\".\"&VLOOKUP($D78&\"@9\",'中間シート（個人）'!$F$6:$O$100,8,FALSE)),\"\",VLOOKUP($D78&\"@9\",'中間シート（個人）'!$F$6:$O$100,6,FALSE)&VLOOKUP($D78&\"@9\",'中間シート（個人）'!$F$6:$O$100,7,FALSE)&\".\"&VLOOKUP($D78&\"@9\",'中間シート（個人）'!$F$6:$O$100,8,FALSE))","v":""},{"$f":"IF(ISERROR(VLOOKUP($D78&\"@10\",'中間シート（個人）'!$F$6:$O$100,4,FALSE)&VLOOKUP($D78&\"@10\",'中間シート（個人）'!$F$6:$O$100,5,FALSE)),\"\",VLOOKUP($D78&\"@10\",'中間シート（個人）'!$F$6:$O$100,4,FALSE)&VLOOKUP($D78&\"@10\",'中間シート（個人）'!$F$6:$O$100,5,FALSE))","v":""},{"$f":"IF(ISERROR(VLOOKUP($D78&\"@10\",'中間シート（個人）'!$F$6:$O$100,6,FALSE)&VLOOKUP($D78&\"@10\",'中間シート（個人）'!$F$6:$O$100,7,FALSE)&\".\"&VLOOKUP($D78&\"@10\",'中間シート（個人）'!$F$6:$O$100,8,FALSE)),\"\",VLOOKUP($D78&\"@10\",'中間シート（個人）'!$F$6:$O$100,6,FALSE)&VLOOKUP($D78&\"@10\",'中間シート（個人）'!$F$6:$O$100,7,FALSE)&\".\"&VLOOKUP($D78&\"@10\",'中間シート（個人）'!$F$6:$O$100,8,FALSE))","v":""}]
[null,null,{"$f":"IF('中間シート（個人）'!D81=\"○\",\"\",VLOOKUP(個人種目!F81,コード一覧!$A$2:$B$3,2,FALSE))","v":""},{"$f":"IF('中間シート（個人）'!D81=\"○\",\"\",'中間シート（個人）'!C81)","v":""},{"$f":"IF('中間シート（個人）'!D81=\"○\",\"\",ASC(個人種目!D81&\" \"&個人種目!E81))","v":""},{"$f":"IF('中間シート（個人）'!D81=\"○\",\"\",個人種目!G81&IF(LEN(個人種目!H81)=1,\"0\"&個人種目!H81,個人種目!H81)&IF(LEN(個人種目!I81)=1,\"0\"&個人種目!I81,個人種目!I81))","v":""},{"$f":"IF('中間シート（個人）'!D81=\"○\",\"\",VLOOKUP(個人種目!$J81,コード一覧!$C$3:$D$6,2,FALSE))","v":""},{"$f":"IF('中間シート（個人）'!D81=\"○\",\"\",IF(個人種目!$J81=\"一般\",0,個人種目!$K81))","v":""},{"$f":"IF('中間シート（個人）'!D81=\"○\",\"\",'中間シート（個人）'!H81)","v":""},null,{"$f":"IF('中間シート（個人）'!D81=\"○\",\"\",個人種目!$L$1)","v":""},{"$f":"IF('中間シート（個人）'!D81=\"○\",\"\",ASC(申込書_コナミ!$S$9))","v":""},{"$f":"IF('中間シート（個人）'!D81=\"○\",\"\",申込書_コナミ!$E$8)","v":""},null,null,null,{"$f":"IF('中間シート（個人）'!D81=\"○\",\"\",4)","v":""},{"$f":"IF(ISERROR(VLOOKUP($D79&\"@1\",'中間シート（個人）'!$F$6:$O$100,4,FALSE)&VLOOKUP($D79&\"@1\",'中間シート（個人）'!$F$6:$O$100,5,FALSE)),\"\",VLOOKUP($D79&\"@1\",'中間シート（個人）'!$F$6:$O$100,4,FALSE)&VLOOKUP($D79&\"@1\",'中間シート（個人）'!$F$6:$O$100,5,FALSE))","v":""},{"$f":"IF(ISERROR(VLOOKUP($D79&\"@1\",'中間シート（個人）'!$F$6:$O$100,6,FALSE)&VLOOKUP($D79&\"@1\",'中間シート（個人）'!$F$6:$O$100,7,FALSE)&\".\"&VLOOKUP($D79&\"@1\",'中間シート（個人）'!$F$6:$O$100,8,FALSE)),\"\",VLOOKUP($D79&\"@1\",'中間シート（個人）'!$F$6:$O$100,6,FALSE)&VLOOKUP($D79&\"@1\",'中間シート（個人）'!$F$6:$O$100,7,FALSE)&\".\"&VLOOKUP($D79&\"@1\",'中間シート（個人）'!$F$6:$O$100,8,FALSE))","v":""},{"$f":"IF(ISERROR(VLOOKUP($D79&\"@2\",'中間シート（個人）'!$F$6:$O$100,4,FALSE)&VLOOKUP($D79&\"@2\",'中間シート（個人）'!$F$6:$O$100,5,FALSE)),\"\",VLOOKUP($D79&\"@2\",'中間シート（個人）'!$F$6:$O$100,4,FALSE)&VLOOKUP($D79&\"@2\",'中間シート（個人）'!$F$6:$O$100,5,FALSE))","v":""},{"$f":"IF(ISERROR(VLOOKUP($D79&\"@2\",'中間シート（個人）'!$F$6:$O$100,6,FALSE)&VLOOKUP($D79&\"@2\",'中間シート（個人）'!$F$6:$O$100,7,FALSE)&\".\"&VLOOKUP($D79&\"@2\",'中間シート（個人）'!$F$6:$O$100,8,FALSE)),\"\",VLOOKUP($D79&\"@2\",'中間シート（個人）'!$F$6:$O$100,6,FALSE)&VLOOKUP($D79&\"@2\",'中間シート（個人）'!$F$6:$O$100,7,FALSE)&\".\"&VLOOKUP($D79&\"@2\",'中間シート（個人）'!$F$6:$O$100,8,FALSE))","v":""},{"$f":"IF(ISERROR(VLOOKUP($D79&\"@3\",'中間シート（個人）'!$F$6:$O$100,4,FALSE)&VLOOKUP($D79&\"@3\",'中間シート（個人）'!$F$6:$O$100,5,FALSE)),\"\",VLOOKUP($D79&\"@3\",'中間シート（個人）'!$F$6:$O$100,4,FALSE)&VLOOKUP($D79&\"@3\",'中間シート（個人）'!$F$6:$O$100,5,FALSE))","v":""},{"$f":"IF(ISERROR(VLOOKUP($D79&\"@3\",'中間シート（個人）'!$F$6:$O$100,6,FALSE)&VLOOKUP($D79&\"@3\",'中間シート（個人）'!$F$6:$O$100,7,FALSE)&\".\"&VLOOKUP($D79&\"@3\",'中間シート（個人）'!$F$6:$O$100,8,FALSE)),\"\",VLOOKUP($D79&\"@3\",'中間シート（個人）'!$F$6:$O$100,6,FALSE)&VLOOKUP($D79&\"@3\",'中間シート（個人）'!$F$6:$O$100,7,FALSE)&\".\"&VLOOKUP($D79&\"@3\",'中間シート（個人）'!$F$6:$O$100,8,FALSE))","v":""},{"$f":"IF(ISERROR(VLOOKUP($D79&\"@4\",'中間シート（個人）'!$F$6:$O$100,4,FALSE)&VLOOKUP($D79&\"@4\",'中間シート（個人）'!$F$6:$O$100,5,FALSE)),\"\",VLOOKUP($D79&\"@4\",'中間シート（個人）'!$F$6:$O$100,4,FALSE)&VLOOKUP($D79&\"@4\",'中間シート（個人）'!$F$6:$O$100,5,FALSE))","v":""},{"$f":"IF(ISERROR(VLOOKUP($D79&\"@4\",'中間シート（個人）'!$F$6:$O$100,6,FALSE)&VLOOKUP($D79&\"@4\",'中間シート（個人）'!$F$6:$O$100,7,FALSE)&\".\"&VLOOKUP($D79&\"@4\",'中間シート（個人）'!$F$6:$O$100,8,FALSE)),\"\",VLOOKUP($D79&\"@4\",'中間シート（個人）'!$F$6:$O$100,6,FALSE)&VLOOKUP($D79&\"@4\",'中間シート（個人）'!$F$6:$O$100,7,FALSE)&\".\"&VLOOKUP($D79&\"@4\",'中間シート（個人）'!$F$6:$O$100,8,FALSE))","v":""},{"$f":"IF(ISERROR(VLOOKUP($D79&\"@5\",'中間シート（個人）'!$F$6:$O$100,4,FALSE)&VLOOKUP($D79&\"@5\",'中間シート（個人）'!$F$6:$O$100,5,FALSE)),\"\",VLOOKUP($D79&\"@5\",'中間シート（個人）'!$F$6:$O$100,4,FALSE)&VLOOKUP($D79&\"@5\",'中間シート（個人）'!$F$6:$O$100,5,FALSE))","v":""},{"$f":"IF(ISERROR(VLOOKUP($D79&\"@5\",'中間シート（個人）'!$F$6:$O$100,6,FALSE)&VLOOKUP($D79&\"@5\",'中間シート（個人）'!$F$6:$O$100,7,FALSE)&\".\"&VLOOKUP($D79&\"@5\",'中間シート（個人）'!$F$6:$O$100,8,FALSE)),\"\",VLOOKUP($D79&\"@5\",'中間シート（個人）'!$F$6:$O$100,6,FALSE)&VLOOKUP($D79&\"@5\",'中間シート（個人）'!$F$6:$O$100,7,FALSE)&\".\"&VLOOKUP($D79&\"@5\",'中間シート（個人）'!$F$6:$O$100,8,FALSE))","v":""},{"$f":"IF(ISERROR(VLOOKUP($D79&\"@6\",'中間シート（個人）'!$F$6:$O$100,4,FALSE)&VLOOKUP($D79&\"@6\",'中間シート（個人）'!$F$6:$O$100,5,FALSE)),\"\",VLOOKUP($D79&\"@6\",'中間シート（個人）'!$F$6:$O$100,4,FALSE)&VLOOKUP($D79&\"@6\",'中間シート（個人）'!$F$6:$O$100,5,FALSE))","v":""},{"$f":"IF(ISERROR(VLOOKUP($D79&\"@6\",'中間シート（個人）'!$F$6:$O$100,6,FALSE)&VLOOKUP($D79&\"@6\",'中間シート（個人）'!$F$6:$O$100,7,FALSE)&\".\"&VLOOKUP($D79&\"@6\",'中間シート（個人）'!$F$6:$O$100,8,FALSE)),\"\",VLOOKUP($D79&\"@6\",'中間シート（個人）'!$F$6:$O$100,6,FALSE)&VLOOKUP($D79&\"@6\",'中間シート（個人）'!$F$6:$O$100,7,FALSE)&\".\"&VLOOKUP($D79&\"@6\",'中間シート（個人）'!$F$6:$O$100,8,FALSE))","v":""},{"$f":"IF(ISERROR(VLOOKUP($D79&\"@7\",'中間シート（個人）'!$F$6:$O$100,4,FALSE)&VLOOKUP($D79&\"@7\",'中間シート（個人）'!$F$6:$O$100,5,FALSE)),\"\",VLOOKUP($D79&\"@7\",'中間シート（個人）'!$F$6:$O$100,4,FALSE)&VLOOKUP($D79&\"@7\",'中間シート（個人）'!$F$6:$O$100,5,FALSE))","v":""},{"$f":"IF(ISERROR(VLOOKUP($D79&\"@7\",'中間シート（個人）'!$F$6:$O$100,6,FALSE)&VLOOKUP($D79&\"@7\",'中間シート（個人）'!$F$6:$O$100,7,FALSE)&\".\"&VLOOKUP($D79&\"@7\",'中間シート（個人）'!$F$6:$O$100,8,FALSE)),\"\",VLOOKUP($D79&\"@7\",'中間シート（個人）'!$F$6:$O$100,6,FALSE)&VLOOKUP($D79&\"@7\",'中間シート（個人）'!$F$6:$O$100,7,FALSE)&\".\"&VLOOKUP($D79&\"@7\",'中間シート（個人）'!$F$6:$O$100,8,FALSE))","v":""},{"$f":"IF(ISERROR(VLOOKUP($D79&\"@8\",'中間シート（個人）'!$F$6:$O$100,4,FALSE)&VLOOKUP($D79&\"@8\",'中間シート（個人）'!$F$6:$O$100,5,FALSE)),\"\",VLOOKUP($D79&\"@8\",'中間シート（個人）'!$F$6:$O$100,4,FALSE)&VLOOKUP($D79&\"@8\",'中間シート（個人）'!$F$6:$O$100,5,FALSE))","v":""},{"$f":"IF(ISERROR(VLOOKUP($D79&\"@8\",'中間シート（個人）'!$F$6:$O$100,6,FALSE)&VLOOKUP($D79&\"@8\",'中間シート（個人）'!$F$6:$O$100,7,FALSE)&\".\"&VLOOKUP($D79&\"@8\",'中間シート（個人）'!$F$6:$O$100,8,FALSE)),\"\",VLOOKUP($D79&\"@8\",'中間シート（個人）'!$F$6:$O$100,6,FALSE)&VLOOKUP($D79&\"@8\",'中間シート（個人）'!$F$6:$O$100,7,FALSE)&\".\"&VLOOKUP($D79&\"@8\",'中間シート（個人）'!$F$6:$O$100,8,FALSE))","v":""},{"$f":"IF(ISERROR(VLOOKUP($D79&\"@9\",'中間シート（個人）'!$F$6:$O$100,4,FALSE)&VLOOKUP($D79&\"@9\",'中間シート（個人）'!$F$6:$O$100,5,FALSE)),\"\",VLOOKUP($D79&\"@9\",'中間シート（個人）'!$F$6:$O$100,4,FALSE)&VLOOKUP($D79&\"@9\",'中間シート（個人）'!$F$6:$O$100,5,FALSE))","v":""},{"$f":"IF(ISERROR(VLOOKUP($D79&\"@9\",'中間シート（個人）'!$F$6:$O$100,6,FALSE)&VLOOKUP($D79&\"@9\",'中間シート（個人）'!$F$6:$O$100,7,FALSE)&\".\"&VLOOKUP($D79&\"@9\",'中間シート（個人）'!$F$6:$O$100,8,FALSE)),\"\",VLOOKUP($D79&\"@9\",'中間シート（個人）'!$F$6:$O$100,6,FALSE)&VLOOKUP($D79&\"@9\",'中間シート（個人）'!$F$6:$O$100,7,FALSE)&\".\"&VLOOKUP($D79&\"@9\",'中間シート（個人）'!$F$6:$O$100,8,FALSE))","v":""},{"$f":"IF(ISERROR(VLOOKUP($D79&\"@10\",'中間シート（個人）'!$F$6:$O$100,4,FALSE)&VLOOKUP($D79&\"@10\",'中間シート（個人）'!$F$6:$O$100,5,FALSE)),\"\",VLOOKUP($D79&\"@10\",'中間シート（個人）'!$F$6:$O$100,4,FALSE)&VLOOKUP($D79&\"@10\",'中間シート（個人）'!$F$6:$O$100,5,FALSE))","v":""},{"$f":"IF(ISERROR(VLOOKUP($D79&\"@10\",'中間シート（個人）'!$F$6:$O$100,6,FALSE)&VLOOKUP($D79&\"@10\",'中間シート（個人）'!$F$6:$O$100,7,FALSE)&\".\"&VLOOKUP($D79&\"@10\",'中間シート（個人）'!$F$6:$O$100,8,FALSE)),\"\",VLOOKUP($D79&\"@10\",'中間シート（個人）'!$F$6:$O$100,6,FALSE)&VLOOKUP($D79&\"@10\",'中間シート（個人）'!$F$6:$O$100,7,FALSE)&\".\"&VLOOKUP($D79&\"@10\",'中間シート（個人）'!$F$6:$O$100,8,FALSE))","v":""}]
[null,null,{"$f":"IF('中間シート（個人）'!D82=\"○\",\"\",VLOOKUP(個人種目!F82,コード一覧!$A$2:$B$3,2,FALSE))","v":""},{"$f":"IF('中間シート（個人）'!D82=\"○\",\"\",'中間シート（個人）'!C82)","v":""},{"$f":"IF('中間シート（個人）'!D82=\"○\",\"\",ASC(個人種目!D82&\" \"&個人種目!E82))","v":""},{"$f":"IF('中間シート（個人）'!D82=\"○\",\"\",個人種目!G82&IF(LEN(個人種目!H82)=1,\"0\"&個人種目!H82,個人種目!H82)&IF(LEN(個人種目!I82)=1,\"0\"&個人種目!I82,個人種目!I82))","v":""},{"$f":"IF('中間シート（個人）'!D82=\"○\",\"\",VLOOKUP(個人種目!$J82,コード一覧!$C$3:$D$6,2,FALSE))","v":""},{"$f":"IF('中間シート（個人）'!D82=\"○\",\"\",IF(個人種目!$J82=\"一般\",0,個人種目!$K82))","v":""},{"$f":"IF('中間シート（個人）'!D82=\"○\",\"\",'中間シート（個人）'!H82)","v":""},null,{"$f":"IF('中間シート（個人）'!D82=\"○\",\"\",個人種目!$L$1)","v":""},{"$f":"IF('中間シート（個人）'!D82=\"○\",\"\",ASC(申込書_コナミ!$S$9))","v":""},{"$f":"IF('中間シート（個人）'!D82=\"○\",\"\",申込書_コナミ!$E$8)","v":""},null,null,null,{"$f":"IF('中間シート（個人）'!D82=\"○\",\"\",4)","v":""},{"$f":"IF(ISERROR(VLOOKUP($D80&\"@1\",'中間シート（個人）'!$F$6:$O$100,4,FALSE)&VLOOKUP($D80&\"@1\",'中間シート（個人）'!$F$6:$O$100,5,FALSE)),\"\",VLOOKUP($D80&\"@1\",'中間シート（個人）'!$F$6:$O$100,4,FALSE)&VLOOKUP($D80&\"@1\",'中間シート（個人）'!$F$6:$O$100,5,FALSE))","v":""},{"$f":"IF(ISERROR(VLOOKUP($D80&\"@1\",'中間シート（個人）'!$F$6:$O$100,6,FALSE)&VLOOKUP($D80&\"@1\",'中間シート（個人）'!$F$6:$O$100,7,FALSE)&\".\"&VLOOKUP($D80&\"@1\",'中間シート（個人）'!$F$6:$O$100,8,FALSE)),\"\",VLOOKUP($D80&\"@1\",'中間シート（個人）'!$F$6:$O$100,6,FALSE)&VLOOKUP($D80&\"@1\",'中間シート（個人）'!$F$6:$O$100,7,FALSE)&\".\"&VLOOKUP($D80&\"@1\",'中間シート（個人）'!$F$6:$O$100,8,FALSE))","v":""},{"$f":"IF(ISERROR(VLOOKUP($D80&\"@2\",'中間シート（個人）'!$F$6:$O$100,4,FALSE)&VLOOKUP($D80&\"@2\",'中間シート（個人）'!$F$6:$O$100,5,FALSE)),\"\",VLOOKUP($D80&\"@2\",'中間シート（個人）'!$F$6:$O$100,4,FALSE)&VLOOKUP($D80&\"@2\",'中間シート（個人）'!$F$6:$O$100,5,FALSE))","v":""},{"$f":"IF(ISERROR(VLOOKUP($D80&\"@2\",'中間シート（個人）'!$F$6:$O$100,6,FALSE)&VLOOKUP($D80&\"@2\",'中間シート（個人）'!$F$6:$O$100,7,FALSE)&\".\"&VLOOKUP($D80&\"@2\",'中間シート（個人）'!$F$6:$O$100,8,FALSE)),\"\",VLOOKUP($D80&\"@2\",'中間シート（個人）'!$F$6:$O$100,6,FALSE)&VLOOKUP($D80&\"@2\",'中間シート（個人）'!$F$6:$O$100,7,FALSE)&\".\"&VLOOKUP($D80&\"@2\",'中間シート（個人）'!$F$6:$O$100,8,FALSE))","v":""},{"$f":"IF(ISERROR(VLOOKUP($D80&\"@3\",'中間シート（個人）'!$F$6:$O$100,4,FALSE)&VLOOKUP($D80&\"@3\",'中間シート（個人）'!$F$6:$O$100,5,FALSE)),\"\",VLOOKUP($D80&\"@3\",'中間シート（個人）'!$F$6:$O$100,4,FALSE)&VLOOKUP($D80&\"@3\",'中間シート（個人）'!$F$6:$O$100,5,FALSE))","v":""},{"$f":"IF(ISERROR(VLOOKUP($D80&\"@3\",'中間シート（個人）'!$F$6:$O$100,6,FALSE)&VLOOKUP($D80&\"@3\",'中間シート（個人）'!$F$6:$O$100,7,FALSE)&\".\"&VLOOKUP($D80&\"@3\",'中間シート（個人）'!$F$6:$O$100,8,FALSE)),\"\",VLOOKUP($D80&\"@3\",'中間シート（個人）'!$F$6:$O$100,6,FALSE)&VLOOKUP($D80&\"@3\",'中間シート（個人）'!$F$6:$O$100,7,FALSE)&\".\"&VLOOKUP($D80&\"@3\",'中間シート（個人）'!$F$6:$O$100,8,FALSE))","v":""},{"$f":"IF(ISERROR(VLOOKUP($D80&\"@4\",'中間シート（個人）'!$F$6:$O$100,4,FALSE)&VLOOKUP($D80&\"@4\",'中間シート（個人）'!$F$6:$O$100,5,FALSE)),\"\",VLOOKUP($D80&\"@4\",'中間シート（個人）'!$F$6:$O$100,4,FALSE)&VLOOKUP($D80&\"@4\",'中間シート（個人）'!$F$6:$O$100,5,FALSE))","v":""},{"$f":"IF(ISERROR(VLOOKUP($D80&\"@4\",'中間シート（個人）'!$F$6:$O$100,6,FALSE)&VLOOKUP($D80&\"@4\",'中間シート（個人）'!$F$6:$O$100,7,FALSE)&\".\"&VLOOKUP($D80&\"@4\",'中間シート（個人）'!$F$6:$O$100,8,FALSE)),\"\",VLOOKUP($D80&\"@4\",'中間シート（個人）'!$F$6:$O$100,6,FALSE)&VLOOKUP($D80&\"@4\",'中間シート（個人）'!$F$6:$O$100,7,FALSE)&\".\"&VLOOKUP($D80&\"@4\",'中間シート（個人）'!$F$6:$O$100,8,FALSE))","v":""},{"$f":"IF(ISERROR(VLOOKUP($D80&\"@5\",'中間シート（個人）'!$F$6:$O$100,4,FALSE)&VLOOKUP($D80&\"@5\",'中間シート（個人）'!$F$6:$O$100,5,FALSE)),\"\",VLOOKUP($D80&\"@5\",'中間シート（個人）'!$F$6:$O$100,4,FALSE)&VLOOKUP($D80&\"@5\",'中間シート（個人）'!$F$6:$O$100,5,FALSE))","v":""},{"$f":"IF(ISERROR(VLOOKUP($D80&\"@5\",'中間シート（個人）'!$F$6:$O$100,6,FALSE)&VLOOKUP($D80&\"@5\",'中間シート（個人）'!$F$6:$O$100,7,FALSE)&\".\"&VLOOKUP($D80&\"@5\",'中間シート（個人）'!$F$6:$O$100,8,FALSE)),\"\",VLOOKUP($D80&\"@5\",'中間シート（個人）'!$F$6:$O$100,6,FALSE)&VLOOKUP($D80&\"@5\",'中間シート（個人）'!$F$6:$O$100,7,FALSE)&\".\"&VLOOKUP($D80&\"@5\",'中間シート（個人）'!$F$6:$O$100,8,FALSE))","v":""},{"$f":"IF(ISERROR(VLOOKUP($D80&\"@6\",'中間シート（個人）'!$F$6:$O$100,4,FALSE)&VLOOKUP($D80&\"@6\",'中間シート（個人）'!$F$6:$O$100,5,FALSE)),\"\",VLOOKUP($D80&\"@6\",'中間シート（個人）'!$F$6:$O$100,4,FALSE)&VLOOKUP($D80&\"@6\",'中間シート（個人）'!$F$6:$O$100,5,FALSE))","v":""},{"$f":"IF(ISERROR(VLOOKUP($D80&\"@6\",'中間シート（個人）'!$F$6:$O$100,6,FALSE)&VLOOKUP($D80&\"@6\",'中間シート（個人）'!$F$6:$O$100,7,FALSE)&\".\"&VLOOKUP($D80&\"@6\",'中間シート（個人）'!$F$6:$O$100,8,FALSE)),\"\",VLOOKUP($D80&\"@6\",'中間シート（個人）'!$F$6:$O$100,6,FALSE)&VLOOKUP($D80&\"@6\",'中間シート（個人）'!$F$6:$O$100,7,FALSE)&\".\"&VLOOKUP($D80&\"@6\",'中間シート（個人）'!$F$6:$O$100,8,FALSE))","v":""},{"$f":"IF(ISERROR(VLOOKUP($D80&\"@7\",'中間シート（個人）'!$F$6:$O$100,4,FALSE)&VLOOKUP($D80&\"@7\",'中間シート（個人）'!$F$6:$O$100,5,FALSE)),\"\",VLOOKUP($D80&\"@7\",'中間シート（個人）'!$F$6:$O$100,4,FALSE)&VLOOKUP($D80&\"@7\",'中間シート（個人）'!$F$6:$O$100,5,FALSE))","v":""},{"$f":"IF(ISERROR(VLOOKUP($D80&\"@7\",'中間シート（個人）'!$F$6:$O$100,6,FALSE)&VLOOKUP($D80&\"@7\",'中間シート（個人）'!$F$6:$O$100,7,FALSE)&\".\"&VLOOKUP($D80&\"@7\",'中間シート（個人）'!$F$6:$O$100,8,FALSE)),\"\",VLOOKUP($D80&\"@7\",'中間シート（個人）'!$F$6:$O$100,6,FALSE)&VLOOKUP($D80&\"@7\",'中間シート（個人）'!$F$6:$O$100,7,FALSE)&\".\"&VLOOKUP($D80&\"@7\",'中間シート（個人）'!$F$6:$O$100,8,FALSE))","v":""},{"$f":"IF(ISERROR(VLOOKUP($D80&\"@8\",'中間シート（個人）'!$F$6:$O$100,4,FALSE)&VLOOKUP($D80&\"@8\",'中間シート（個人）'!$F$6:$O$100,5,FALSE)),\"\",VLOOKUP($D80&\"@8\",'中間シート（個人）'!$F$6:$O$100,4,FALSE)&VLOOKUP($D80&\"@8\",'中間シート（個人）'!$F$6:$O$100,5,FALSE))","v":""},{"$f":"IF(ISERROR(VLOOKUP($D80&\"@8\",'中間シート（個人）'!$F$6:$O$100,6,FALSE)&VLOOKUP($D80&\"@8\",'中間シート（個人）'!$F$6:$O$100,7,FALSE)&\".\"&VLOOKUP($D80&\"@8\",'中間シート（個人）'!$F$6:$O$100,8,FALSE)),\"\",VLOOKUP($D80&\"@8\",'中間シート（個人）'!$F$6:$O$100,6,FALSE)&VLOOKUP($D80&\"@8\",'中間シート（個人）'!$F$6:$O$100,7,FALSE)&\".\"&VLOOKUP($D80&\"@8\",'中間シート（個人）'!$F$6:$O$100,8,FALSE))","v":""},{"$f":"IF(ISERROR(VLOOKUP($D80&\"@9\",'中間シート（個人）'!$F$6:$O$100,4,FALSE)&VLOOKUP($D80&\"@9\",'中間シート（個人）'!$F$6:$O$100,5,FALSE)),\"\",VLOOKUP($D80&\"@9\",'中間シート（個人）'!$F$6:$O$100,4,FALSE)&VLOOKUP($D80&\"@9\",'中間シート（個人）'!$F$6:$O$100,5,FALSE))","v":""},{"$f":"IF(ISERROR(VLOOKUP($D80&\"@9\",'中間シート（個人）'!$F$6:$O$100,6,FALSE)&VLOOKUP($D80&\"@9\",'中間シート（個人）'!$F$6:$O$100,7,FALSE)&\".\"&VLOOKUP($D80&\"@9\",'中間シート（個人）'!$F$6:$O$100,8,FALSE)),\"\",VLOOKUP($D80&\"@9\",'中間シート（個人）'!$F$6:$O$100,6,FALSE)&VLOOKUP($D80&\"@9\",'中間シート（個人）'!$F$6:$O$100,7,FALSE)&\".\"&VLOOKUP($D80&\"@9\",'中間シート（個人）'!$F$6:$O$100,8,FALSE))","v":""},{"$f":"IF(ISERROR(VLOOKUP($D80&\"@10\",'中間シート（個人）'!$F$6:$O$100,4,FALSE)&VLOOKUP($D80&\"@10\",'中間シート（個人）'!$F$6:$O$100,5,FALSE)),\"\",VLOOKUP($D80&\"@10\",'中間シート（個人）'!$F$6:$O$100,4,FALSE)&VLOOKUP($D80&\"@10\",'中間シート（個人）'!$F$6:$O$100,5,FALSE))","v":""},{"$f":"IF(ISERROR(VLOOKUP($D80&\"@10\",'中間シート（個人）'!$F$6:$O$100,6,FALSE)&VLOOKUP($D80&\"@10\",'中間シート（個人）'!$F$6:$O$100,7,FALSE)&\".\"&VLOOKUP($D80&\"@10\",'中間シート（個人）'!$F$6:$O$100,8,FALSE)),\"\",VLOOKUP($D80&\"@10\",'中間シート（個人）'!$F$6:$O$100,6,FALSE)&VLOOKUP($D80&\"@10\",'中間シート（個人）'!$F$6:$O$100,7,FALSE)&\".\"&VLOOKUP($D80&\"@10\",'中間シート（個人）'!$F$6:$O$100,8,FALSE))","v":""}]
[null,null,{"$f":"IF('中間シート（個人）'!D83=\"○\",\"\",VLOOKUP(個人種目!F83,コード一覧!$A$2:$B$3,2,FALSE))","v":""},{"$f":"IF('中間シート（個人）'!D83=\"○\",\"\",'中間シート（個人）'!C83)","v":""},{"$f":"IF('中間シート（個人）'!D83=\"○\",\"\",ASC(個人種目!D83&\" \"&個人種目!E83))","v":""},{"$f":"IF('中間シート（個人）'!D83=\"○\",\"\",個人種目!G83&IF(LEN(個人種目!H83)=1,\"0\"&個人種目!H83,個人種目!H83)&IF(LEN(個人種目!I83)=1,\"0\"&個人種目!I83,個人種目!I83))","v":""},{"$f":"IF('中間シート（個人）'!D83=\"○\",\"\",VLOOKUP(個人種目!$J83,コード一覧!$C$3:$D$6,2,FALSE))","v":""},{"$f":"IF('中間シート（個人）'!D83=\"○\",\"\",IF(個人種目!$J83=\"一般\",0,個人種目!$K83))","v":""},{"$f":"IF('中間シート（個人）'!D83=\"○\",\"\",'中間シート（個人）'!H83)","v":""},null,{"$f":"IF('中間シート（個人）'!D83=\"○\",\"\",個人種目!$L$1)","v":""},{"$f":"IF('中間シート（個人）'!D83=\"○\",\"\",ASC(申込書_コナミ!$S$9))","v":""},{"$f":"IF('中間シート（個人）'!D83=\"○\",\"\",申込書_コナミ!$E$8)","v":""},null,null,null,{"$f":"IF('中間シート（個人）'!D83=\"○\",\"\",4)","v":""},{"$f":"IF(ISERROR(VLOOKUP($D81&\"@1\",'中間シート（個人）'!$F$6:$O$100,4,FALSE)&VLOOKUP($D81&\"@1\",'中間シート（個人）'!$F$6:$O$100,5,FALSE)),\"\",VLOOKUP($D81&\"@1\",'中間シート（個人）'!$F$6:$O$100,4,FALSE)&VLOOKUP($D81&\"@1\",'中間シート（個人）'!$F$6:$O$100,5,FALSE))","v":""},{"$f":"IF(ISERROR(VLOOKUP($D81&\"@1\",'中間シート（個人）'!$F$6:$O$100,6,FALSE)&VLOOKUP($D81&\"@1\",'中間シート（個人）'!$F$6:$O$100,7,FALSE)&\".\"&VLOOKUP($D81&\"@1\",'中間シート（個人）'!$F$6:$O$100,8,FALSE)),\"\",VLOOKUP($D81&\"@1\",'中間シート（個人）'!$F$6:$O$100,6,FALSE)&VLOOKUP($D81&\"@1\",'中間シート（個人）'!$F$6:$O$100,7,FALSE)&\".\"&VLOOKUP($D81&\"@1\",'中間シート（個人）'!$F$6:$O$100,8,FALSE))","v":""},{"$f":"IF(ISERROR(VLOOKUP($D81&\"@2\",'中間シート（個人）'!$F$6:$O$100,4,FALSE)&VLOOKUP($D81&\"@2\",'中間シート（個人）'!$F$6:$O$100,5,FALSE)),\"\",VLOOKUP($D81&\"@2\",'中間シート（個人）'!$F$6:$O$100,4,FALSE)&VLOOKUP($D81&\"@2\",'中間シート（個人）'!$F$6:$O$100,5,FALSE))","v":""},{"$f":"IF(ISERROR(VLOOKUP($D81&\"@2\",'中間シート（個人）'!$F$6:$O$100,6,FALSE)&VLOOKUP($D81&\"@2\",'中間シート（個人）'!$F$6:$O$100,7,FALSE)&\".\"&VLOOKUP($D81&\"@2\",'中間シート（個人）'!$F$6:$O$100,8,FALSE)),\"\",VLOOKUP($D81&\"@2\",'中間シート（個人）'!$F$6:$O$100,6,FALSE)&VLOOKUP($D81&\"@2\",'中間シート（個人）'!$F$6:$O$100,7,FALSE)&\".\"&VLOOKUP($D81&\"@2\",'中間シート（個人）'!$F$6:$O$100,8,FALSE))","v":""},{"$f":"IF(ISERROR(VLOOKUP($D81&\"@3\",'中間シート（個人）'!$F$6:$O$100,4,FALSE)&VLOOKUP($D81&\"@3\",'中間シート（個人）'!$F$6:$O$100,5,FALSE)),\"\",VLOOKUP($D81&\"@3\",'中間シート（個人）'!$F$6:$O$100,4,FALSE)&VLOOKUP($D81&\"@3\",'中間シート（個人）'!$F$6:$O$100,5,FALSE))","v":""},{"$f":"IF(ISERROR(VLOOKUP($D81&\"@3\",'中間シート（個人）'!$F$6:$O$100,6,FALSE)&VLOOKUP($D81&\"@3\",'中間シート（個人）'!$F$6:$O$100,7,FALSE)&\".\"&VLOOKUP($D81&\"@3\",'中間シート（個人）'!$F$6:$O$100,8,FALSE)),\"\",VLOOKUP($D81&\"@3\",'中間シート（個人）'!$F$6:$O$100,6,FALSE)&VLOOKUP($D81&\"@3\",'中間シート（個人）'!$F$6:$O$100,7,FALSE)&\".\"&VLOOKUP($D81&\"@3\",'中間シート（個人）'!$F$6:$O$100,8,FALSE))","v":""},{"$f":"IF(ISERROR(VLOOKUP($D81&\"@4\",'中間シート（個人）'!$F$6:$O$100,4,FALSE)&VLOOKUP($D81&\"@4\",'中間シート（個人）'!$F$6:$O$100,5,FALSE)),\"\",VLOOKUP($D81&\"@4\",'中間シート（個人）'!$F$6:$O$100,4,FALSE)&VLOOKUP($D81&\"@4\",'中間シート（個人）'!$F$6:$O$100,5,FALSE))","v":""},{"$f":"IF(ISERROR(VLOOKUP($D81&\"@4\",'中間シート（個人）'!$F$6:$O$100,6,FALSE)&VLOOKUP($D81&\"@4\",'中間シート（個人）'!$F$6:$O$100,7,FALSE)&\".\"&VLOOKUP($D81&\"@4\",'中間シート（個人）'!$F$6:$O$100,8,FALSE)),\"\",VLOOKUP($D81&\"@4\",'中間シート（個人）'!$F$6:$O$100,6,FALSE)&VLOOKUP($D81&\"@4\",'中間シート（個人）'!$F$6:$O$100,7,FALSE)&\".\"&VLOOKUP($D81&\"@4\",'中間シート（個人）'!$F$6:$O$100,8,FALSE))","v":""},{"$f":"IF(ISERROR(VLOOKUP($D81&\"@5\",'中間シート（個人）'!$F$6:$O$100,4,FALSE)&VLOOKUP($D81&\"@5\",'中間シート（個人）'!$F$6:$O$100,5,FALSE)),\"\",VLOOKUP($D81&\"@5\",'中間シート（個人）'!$F$6:$O$100,4,FALSE)&VLOOKUP($D81&\"@5\",'中間シート（個人）'!$F$6:$O$100,5,FALSE))","v":""},{"$f":"IF(ISERROR(VLOOKUP($D81&\"@5\",'中間シート（個人）'!$F$6:$O$100,6,FALSE)&VLOOKUP($D81&\"@5\",'中間シート（個人）'!$F$6:$O$100,7,FALSE)&\".\"&VLOOKUP($D81&\"@5\",'中間シート（個人）'!$F$6:$O$100,8,FALSE)),\"\",VLOOKUP($D81&\"@5\",'中間シート（個人）'!$F$6:$O$100,6,FALSE)&VLOOKUP($D81&\"@5\",'中間シート（個人）'!$F$6:$O$100,7,FALSE)&\".\"&VLOOKUP($D81&\"@5\",'中間シート（個人）'!$F$6:$O$100,8,FALSE))","v":""},{"$f":"IF(ISERROR(VLOOKUP($D81&\"@6\",'中間シート（個人）'!$F$6:$O$100,4,FALSE)&VLOOKUP($D81&\"@6\",'中間シート（個人）'!$F$6:$O$100,5,FALSE)),\"\",VLOOKUP($D81&\"@6\",'中間シート（個人）'!$F$6:$O$100,4,FALSE)&VLOOKUP($D81&\"@6\",'中間シート（個人）'!$F$6:$O$100,5,FALSE))","v":""},{"$f":"IF(ISERROR(VLOOKUP($D81&\"@6\",'中間シート（個人）'!$F$6:$O$100,6,FALSE)&VLOOKUP($D81&\"@6\",'中間シート（個人）'!$F$6:$O$100,7,FALSE)&\".\"&VLOOKUP($D81&\"@6\",'中間シート（個人）'!$F$6:$O$100,8,FALSE)),\"\",VLOOKUP($D81&\"@6\",'中間シート（個人）'!$F$6:$O$100,6,FALSE)&VLOOKUP($D81&\"@6\",'中間シート（個人）'!$F$6:$O$100,7,FALSE)&\".\"&VLOOKUP($D81&\"@6\",'中間シート（個人）'!$F$6:$O$100,8,FALSE))","v":""},{"$f":"IF(ISERROR(VLOOKUP($D81&\"@7\",'中間シート（個人）'!$F$6:$O$100,4,FALSE)&VLOOKUP($D81&\"@7\",'中間シート（個人）'!$F$6:$O$100,5,FALSE)),\"\",VLOOKUP($D81&\"@7\",'中間シート（個人）'!$F$6:$O$100,4,FALSE)&VLOOKUP($D81&\"@7\",'中間シート（個人）'!$F$6:$O$100,5,FALSE))","v":""},{"$f":"IF(ISERROR(VLOOKUP($D81&\"@7\",'中間シート（個人）'!$F$6:$O$100,6,FALSE)&VLOOKUP($D81&\"@7\",'中間シート（個人）'!$F$6:$O$100,7,FALSE)&\".\"&VLOOKUP($D81&\"@7\",'中間シート（個人）'!$F$6:$O$100,8,FALSE)),\"\",VLOOKUP($D81&\"@7\",'中間シート（個人）'!$F$6:$O$100,6,FALSE)&VLOOKUP($D81&\"@7\",'中間シート（個人）'!$F$6:$O$100,7,FALSE)&\".\"&VLOOKUP($D81&\"@7\",'中間シート（個人）'!$F$6:$O$100,8,FALSE))","v":""},{"$f":"IF(ISERROR(VLOOKUP($D81&\"@8\",'中間シート（個人）'!$F$6:$O$100,4,FALSE)&VLOOKUP($D81&\"@8\",'中間シート（個人）'!$F$6:$O$100,5,FALSE)),\"\",VLOOKUP($D81&\"@8\",'中間シート（個人）'!$F$6:$O$100,4,FALSE)&VLOOKUP($D81&\"@8\",'中間シート（個人）'!$F$6:$O$100,5,FALSE))","v":""},{"$f":"IF(ISERROR(VLOOKUP($D81&\"@8\",'中間シート（個人）'!$F$6:$O$100,6,FALSE)&VLOOKUP($D81&\"@8\",'中間シート（個人）'!$F$6:$O$100,7,FALSE)&\".\"&VLOOKUP($D81&\"@8\",'中間シート（個人）'!$F$6:$O$100,8,FALSE)),\"\",VLOOKUP($D81&\"@8\",'中間シート（個人）'!$F$6:$O$100,6,FALSE)&VLOOKUP($D81&\"@8\",'中間シート（個人）'!$F$6:$O$100,7,FALSE)&\".\"&VLOOKUP($D81&\"@8\",'中間シート（個人）'!$F$6:$O$100,8,FALSE))","v":""},{"$f":"IF(ISERROR(VLOOKUP($D81&\"@9\",'中間シート（個人）'!$F$6:$O$100,4,FALSE)&VLOOKUP($D81&\"@9\",'中間シート（個人）'!$F$6:$O$100,5,FALSE)),\"\",VLOOKUP($D81&\"@9\",'中間シート（個人）'!$F$6:$O$100,4,FALSE)&VLOOKUP($D81&\"@9\",'中間シート（個人）'!$F$6:$O$100,5,FALSE))","v":""},{"$f":"IF(ISERROR(VLOOKUP($D81&\"@9\",'中間シート（個人）'!$F$6:$O$100,6,FALSE)&VLOOKUP($D81&\"@9\",'中間シート（個人）'!$F$6:$O$100,7,FALSE)&\".\"&VLOOKUP($D81&\"@9\",'中間シート（個人）'!$F$6:$O$100,8,FALSE)),\"\",VLOOKUP($D81&\"@9\",'中間シート（個人）'!$F$6:$O$100,6,FALSE)&VLOOKUP($D81&\"@9\",'中間シート（個人）'!$F$6:$O$100,7,FALSE)&\".\"&VLOOKUP($D81&\"@9\",'中間シート（個人）'!$F$6:$O$100,8,FALSE))","v":""},{"$f":"IF(ISERROR(VLOOKUP($D81&\"@10\",'中間シート（個人）'!$F$6:$O$100,4,FALSE)&VLOOKUP($D81&\"@10\",'中間シート（個人）'!$F$6:$O$100,5,FALSE)),\"\",VLOOKUP($D81&\"@10\",'中間シート（個人）'!$F$6:$O$100,4,FALSE)&VLOOKUP($D81&\"@10\",'中間シート（個人）'!$F$6:$O$100,5,FALSE))","v":""},{"$f":"IF(ISERROR(VLOOKUP($D81&\"@10\",'中間シート（個人）'!$F$6:$O$100,6,FALSE)&VLOOKUP($D81&\"@10\",'中間シート（個人）'!$F$6:$O$100,7,FALSE)&\".\"&VLOOKUP($D81&\"@10\",'中間シート（個人）'!$F$6:$O$100,8,FALSE)),\"\",VLOOKUP($D81&\"@10\",'中間シート（個人）'!$F$6:$O$100,6,FALSE)&VLOOKUP($D81&\"@10\",'中間シート（個人）'!$F$6:$O$100,7,FALSE)&\".\"&VLOOKUP($D81&\"@10\",'中間シート（個人）'!$F$6:$O$100,8,FALSE))","v":""}]
[null,null,{"$f":"IF('中間シート（個人）'!D84=\"○\",\"\",VLOOKUP(個人種目!F84,コード一覧!$A$2:$B$3,2,FALSE))","v":""},{"$f":"IF('中間シート（個人）'!D84=\"○\",\"\",'中間シート（個人）'!C84)","v":""},{"$f":"IF('中間シート（個人）'!D84=\"○\",\"\",ASC(個人種目!D84&\" \"&個人種目!E84))","v":""},{"$f":"IF('中間シート（個人）'!D84=\"○\",\"\",個人種目!G84&IF(LEN(個人種目!H84)=1,\"0\"&個人種目!H84,個人種目!H84)&IF(LEN(個人種目!I84)=1,\"0\"&個人種目!I84,個人種目!I84))","v":""},{"$f":"IF('中間シート（個人）'!D84=\"○\",\"\",VLOOKUP(個人種目!$J84,コード一覧!$C$3:$D$6,2,FALSE))","v":""},{"$f":"IF('中間シート（個人）'!D84=\"○\",\"\",IF(個人種目!$J84=\"一般\",0,個人種目!$K84))","v":""},{"$f":"IF('中間シート（個人）'!D84=\"○\",\"\",'中間シート（個人）'!H84)","v":""},null,{"$f":"IF('中間シート（個人）'!D84=\"○\",\"\",個人種目!$L$1)","v":""},{"$f":"IF('中間シート（個人）'!D84=\"○\",\"\",ASC(申込書_コナミ!$S$9))","v":""},{"$f":"IF('中間シート（個人）'!D84=\"○\",\"\",申込書_コナミ!$E$8)","v":""},null,null,null,{"$f":"IF('中間シート（個人）'!D84=\"○\",\"\",4)","v":""},{"$f":"IF(ISERROR(VLOOKUP($D82&\"@1\",'中間シート（個人）'!$F$6:$O$100,4,FALSE)&VLOOKUP($D82&\"@1\",'中間シート（個人）'!$F$6:$O$100,5,FALSE)),\"\",VLOOKUP($D82&\"@1\",'中間シート（個人）'!$F$6:$O$100,4,FALSE)&VLOOKUP($D82&\"@1\",'中間シート（個人）'!$F$6:$O$100,5,FALSE))","v":""},{"$f":"IF(ISERROR(VLOOKUP($D82&\"@1\",'中間シート（個人）'!$F$6:$O$100,6,FALSE)&VLOOKUP($D82&\"@1\",'中間シート（個人）'!$F$6:$O$100,7,FALSE)&\".\"&VLOOKUP($D82&\"@1\",'中間シート（個人）'!$F$6:$O$100,8,FALSE)),\"\",VLOOKUP($D82&\"@1\",'中間シート（個人）'!$F$6:$O$100,6,FALSE)&VLOOKUP($D82&\"@1\",'中間シート（個人）'!$F$6:$O$100,7,FALSE)&\".\"&VLOOKUP($D82&\"@1\",'中間シート（個人）'!$F$6:$O$100,8,FALSE))","v":""},{"$f":"IF(ISERROR(VLOOKUP($D82&\"@2\",'中間シート（個人）'!$F$6:$O$100,4,FALSE)&VLOOKUP($D82&\"@2\",'中間シート（個人）'!$F$6:$O$100,5,FALSE)),\"\",VLOOKUP($D82&\"@2\",'中間シート（個人）'!$F$6:$O$100,4,FALSE)&VLOOKUP($D82&\"@2\",'中間シート（個人）'!$F$6:$O$100,5,FALSE))","v":""},{"$f":"IF(ISERROR(VLOOKUP($D82&\"@2\",'中間シート（個人）'!$F$6:$O$100,6,FALSE)&VLOOKUP($D82&\"@2\",'中間シート（個人）'!$F$6:$O$100,7,FALSE)&\".\"&VLOOKUP($D82&\"@2\",'中間シート（個人）'!$F$6:$O$100,8,FALSE)),\"\",VLOOKUP($D82&\"@2\",'中間シート（個人）'!$F$6:$O$100,6,FALSE)&VLOOKUP($D82&\"@2\",'中間シート（個人）'!$F$6:$O$100,7,FALSE)&\".\"&VLOOKUP($D82&\"@2\",'中間シート（個人）'!$F$6:$O$100,8,FALSE))","v":""},{"$f":"IF(ISERROR(VLOOKUP($D82&\"@3\",'中間シート（個人）'!$F$6:$O$100,4,FALSE)&VLOOKUP($D82&\"@3\",'中間シート（個人）'!$F$6:$O$100,5,FALSE)),\"\",VLOOKUP($D82&\"@3\",'中間シート（個人）'!$F$6:$O$100,4,FALSE)&VLOOKUP($D82&\"@3\",'中間シート（個人）'!$F$6:$O$100,5,FALSE))","v":""},{"$f":"IF(ISERROR(VLOOKUP($D82&\"@3\",'中間シート（個人）'!$F$6:$O$100,6,FALSE)&VLOOKUP($D82&\"@3\",'中間シート（個人）'!$F$6:$O$100,7,FALSE)&\".\"&VLOOKUP($D82&\"@3\",'中間シート（個人）'!$F$6:$O$100,8,FALSE)),\"\",VLOOKUP($D82&\"@3\",'中間シート（個人）'!$F$6:$O$100,6,FALSE)&VLOOKUP($D82&\"@3\",'中間シート（個人）'!$F$6:$O$100,7,FALSE)&\".\"&VLOOKUP($D82&\"@3\",'中間シート（個人）'!$F$6:$O$100,8,FALSE))","v":""},{"$f":"IF(ISERROR(VLOOKUP($D82&\"@4\",'中間シート（個人）'!$F$6:$O$100,4,FALSE)&VLOOKUP($D82&\"@4\",'中間シート（個人）'!$F$6:$O$100,5,FALSE)),\"\",VLOOKUP($D82&\"@4\",'中間シート（個人）'!$F$6:$O$100,4,FALSE)&VLOOKUP($D82&\"@4\",'中間シート（個人）'!$F$6:$O$100,5,FALSE))","v":""},{"$f":"IF(ISERROR(VLOOKUP($D82&\"@4\",'中間シート（個人）'!$F$6:$O$100,6,FALSE)&VLOOKUP($D82&\"@4\",'中間シート（個人）'!$F$6:$O$100,7,FALSE)&\".\"&VLOOKUP($D82&\"@4\",'中間シート（個人）'!$F$6:$O$100,8,FALSE)),\"\",VLOOKUP($D82&\"@4\",'中間シート（個人）'!$F$6:$O$100,6,FALSE)&VLOOKUP($D82&\"@4\",'中間シート（個人）'!$F$6:$O$100,7,FALSE)&\".\"&VLOOKUP($D82&\"@4\",'中間シート（個人）'!$F$6:$O$100,8,FALSE))","v":""},{"$f":"IF(ISERROR(VLOOKUP($D82&\"@5\",'中間シート（個人）'!$F$6:$O$100,4,FALSE)&VLOOKUP($D82&\"@5\",'中間シート（個人）'!$F$6:$O$100,5,FALSE)),\"\",VLOOKUP($D82&\"@5\",'中間シート（個人）'!$F$6:$O$100,4,FALSE)&VLOOKUP($D82&\"@5\",'中間シート（個人）'!$F$6:$O$100,5,FALSE))","v":""},{"$f":"IF(ISERROR(VLOOKUP($D82&\"@5\",'中間シート（個人）'!$F$6:$O$100,6,FALSE)&VLOOKUP($D82&\"@5\",'中間シート（個人）'!$F$6:$O$100,7,FALSE)&\".\"&VLOOKUP($D82&\"@5\",'中間シート（個人）'!$F$6:$O$100,8,FALSE)),\"\",VLOOKUP($D82&\"@5\",'中間シート（個人）'!$F$6:$O$100,6,FALSE)&VLOOKUP($D82&\"@5\",'中間シート（個人）'!$F$6:$O$100,7,FALSE)&\".\"&VLOOKUP($D82&\"@5\",'中間シート（個人）'!$F$6:$O$100,8,FALSE))","v":""},{"$f":"IF(ISERROR(VLOOKUP($D82&\"@6\",'中間シート（個人）'!$F$6:$O$100,4,FALSE)&VLOOKUP($D82&\"@6\",'中間シート（個人）'!$F$6:$O$100,5,FALSE)),\"\",VLOOKUP($D82&\"@6\",'中間シート（個人）'!$F$6:$O$100,4,FALSE)&VLOOKUP($D82&\"@6\",'中間シート（個人）'!$F$6:$O$100,5,FALSE))","v":""},{"$f":"IF(ISERROR(VLOOKUP($D82&\"@6\",'中間シート（個人）'!$F$6:$O$100,6,FALSE)&VLOOKUP($D82&\"@6\",'中間シート（個人）'!$F$6:$O$100,7,FALSE)&\".\"&VLOOKUP($D82&\"@6\",'中間シート（個人）'!$F$6:$O$100,8,FALSE)),\"\",VLOOKUP($D82&\"@6\",'中間シート（個人）'!$F$6:$O$100,6,FALSE)&VLOOKUP($D82&\"@6\",'中間シート（個人）'!$F$6:$O$100,7,FALSE)&\".\"&VLOOKUP($D82&\"@6\",'中間シート（個人）'!$F$6:$O$100,8,FALSE))","v":""},{"$f":"IF(ISERROR(VLOOKUP($D82&\"@7\",'中間シート（個人）'!$F$6:$O$100,4,FALSE)&VLOOKUP($D82&\"@7\",'中間シート（個人）'!$F$6:$O$100,5,FALSE)),\"\",VLOOKUP($D82&\"@7\",'中間シート（個人）'!$F$6:$O$100,4,FALSE)&VLOOKUP($D82&\"@7\",'中間シート（個人）'!$F$6:$O$100,5,FALSE))","v":""},{"$f":"IF(ISERROR(VLOOKUP($D82&\"@7\",'中間シート（個人）'!$F$6:$O$100,6,FALSE)&VLOOKUP($D82&\"@7\",'中間シート（個人）'!$F$6:$O$100,7,FALSE)&\".\"&VLOOKUP($D82&\"@7\",'中間シート（個人）'!$F$6:$O$100,8,FALSE)),\"\",VLOOKUP($D82&\"@7\",'中間シート（個人）'!$F$6:$O$100,6,FALSE)&VLOOKUP($D82&\"@7\",'中間シート（個人）'!$F$6:$O$100,7,FALSE)&\".\"&VLOOKUP($D82&\"@7\",'中間シート（個人）'!$F$6:$O$100,8,FALSE))","v":""},{"$f":"IF(ISERROR(VLOOKUP($D82&\"@8\",'中間シート（個人）'!$F$6:$O$100,4,FALSE)&VLOOKUP($D82&\"@8\",'中間シート（個人）'!$F$6:$O$100,5,FALSE)),\"\",VLOOKUP($D82&\"@8\",'中間シート（個人）'!$F$6:$O$100,4,FALSE)&VLOOKUP($D82&\"@8\",'中間シート（個人）'!$F$6:$O$100,5,FALSE))","v":""},{"$f":"IF(ISERROR(VLOOKUP($D82&\"@8\",'中間シート（個人）'!$F$6:$O$100,6,FALSE)&VLOOKUP($D82&\"@8\",'中間シート（個人）'!$F$6:$O$100,7,FALSE)&\".\"&VLOOKUP($D82&\"@8\",'中間シート（個人）'!$F$6:$O$100,8,FALSE)),\"\",VLOOKUP($D82&\"@8\",'中間シート（個人）'!$F$6:$O$100,6,FALSE)&VLOOKUP($D82&\"@8\",'中間シート（個人）'!$F$6:$O$100,7,FALSE)&\".\"&VLOOKUP($D82&\"@8\",'中間シート（個人）'!$F$6:$O$100,8,FALSE))","v":""},{"$f":"IF(ISERROR(VLOOKUP($D82&\"@9\",'中間シート（個人）'!$F$6:$O$100,4,FALSE)&VLOOKUP($D82&\"@9\",'中間シート（個人）'!$F$6:$O$100,5,FALSE)),\"\",VLOOKUP($D82&\"@9\",'中間シート（個人）'!$F$6:$O$100,4,FALSE)&VLOOKUP($D82&\"@9\",'中間シート（個人）'!$F$6:$O$100,5,FALSE))","v":""},{"$f":"IF(ISERROR(VLOOKUP($D82&\"@9\",'中間シート（個人）'!$F$6:$O$100,6,FALSE)&VLOOKUP($D82&\"@9\",'中間シート（個人）'!$F$6:$O$100,7,FALSE)&\".\"&VLOOKUP($D82&\"@9\",'中間シート（個人）'!$F$6:$O$100,8,FALSE)),\"\",VLOOKUP($D82&\"@9\",'中間シート（個人）'!$F$6:$O$100,6,FALSE)&VLOOKUP($D82&\"@9\",'中間シート（個人）'!$F$6:$O$100,7,FALSE)&\".\"&VLOOKUP($D82&\"@9\",'中間シート（個人）'!$F$6:$O$100,8,FALSE))","v":""},{"$f":"IF(ISERROR(VLOOKUP($D82&\"@10\",'中間シート（個人）'!$F$6:$O$100,4,FALSE)&VLOOKUP($D82&\"@10\",'中間シート（個人）'!$F$6:$O$100,5,FALSE)),\"\",VLOOKUP($D82&\"@10\",'中間シート（個人）'!$F$6:$O$100,4,FALSE)&VLOOKUP($D82&\"@10\",'中間シート（個人）'!$F$6:$O$100,5,FALSE))","v":""},{"$f":"IF(ISERROR(VLOOKUP($D82&\"@10\",'中間シート（個人）'!$F$6:$O$100,6,FALSE)&VLOOKUP($D82&\"@10\",'中間シート（個人）'!$F$6:$O$100,7,FALSE)&\".\"&VLOOKUP($D82&\"@10\",'中間シート（個人）'!$F$6:$O$100,8,FALSE)),\"\",VLOOKUP($D82&\"@10\",'中間シート（個人）'!$F$6:$O$100,6,FALSE)&VLOOKUP($D82&\"@10\",'中間シート（個人）'!$F$6:$O$100,7,FALSE)&\".\"&VLOOKUP($D82&\"@10\",'中間シート（個人）'!$F$6:$O$100,8,FALSE))","v":""}]
[null,null,{"$f":"IF('中間シート（個人）'!D85=\"○\",\"\",VLOOKUP(個人種目!F85,コード一覧!$A$2:$B$3,2,FALSE))","v":""},{"$f":"IF('中間シート（個人）'!D85=\"○\",\"\",'中間シート（個人）'!C85)","v":""},{"$f":"IF('中間シート（個人）'!D85=\"○\",\"\",ASC(個人種目!D85&\" \"&個人種目!E85))","v":""},{"$f":"IF('中間シート（個人）'!D85=\"○\",\"\",個人種目!G85&IF(LEN(個人種目!H85)=1,\"0\"&個人種目!H85,個人種目!H85)&IF(LEN(個人種目!I85)=1,\"0\"&個人種目!I85,個人種目!I85))","v":""},{"$f":"IF('中間シート（個人）'!D85=\"○\",\"\",VLOOKUP(個人種目!$J85,コード一覧!$C$3:$D$6,2,FALSE))","v":""},{"$f":"IF('中間シート（個人）'!D85=\"○\",\"\",IF(個人種目!$J85=\"一般\",0,個人種目!$K85))","v":""},{"$f":"IF('中間シート（個人）'!D85=\"○\",\"\",'中間シート（個人）'!H85)","v":""},null,{"$f":"IF('中間シート（個人）'!D85=\"○\",\"\",個人種目!$L$1)","v":""},{"$f":"IF('中間シート（個人）'!D85=\"○\",\"\",ASC(申込書_コナミ!$S$9))","v":""},{"$f":"IF('中間シート（個人）'!D85=\"○\",\"\",申込書_コナミ!$E$8)","v":""},null,null,null,{"$f":"IF('中間シート（個人）'!D85=\"○\",\"\",4)","v":""},{"$f":"IF(ISERROR(VLOOKUP($D83&\"@1\",'中間シート（個人）'!$F$6:$O$100,4,FALSE)&VLOOKUP($D83&\"@1\",'中間シート（個人）'!$F$6:$O$100,5,FALSE)),\"\",VLOOKUP($D83&\"@1\",'中間シート（個人）'!$F$6:$O$100,4,FALSE)&VLOOKUP($D83&\"@1\",'中間シート（個人）'!$F$6:$O$100,5,FALSE))","v":""},{"$f":"IF(ISERROR(VLOOKUP($D83&\"@1\",'中間シート（個人）'!$F$6:$O$100,6,FALSE)&VLOOKUP($D83&\"@1\",'中間シート（個人）'!$F$6:$O$100,7,FALSE)&\".\"&VLOOKUP($D83&\"@1\",'中間シート（個人）'!$F$6:$O$100,8,FALSE)),\"\",VLOOKUP($D83&\"@1\",'中間シート（個人）'!$F$6:$O$100,6,FALSE)&VLOOKUP($D83&\"@1\",'中間シート（個人）'!$F$6:$O$100,7,FALSE)&\".\"&VLOOKUP($D83&\"@1\",'中間シート（個人）'!$F$6:$O$100,8,FALSE))","v":""},{"$f":"IF(ISERROR(VLOOKUP($D83&\"@2\",'中間シート（個人）'!$F$6:$O$100,4,FALSE)&VLOOKUP($D83&\"@2\",'中間シート（個人）'!$F$6:$O$100,5,FALSE)),\"\",VLOOKUP($D83&\"@2\",'中間シート（個人）'!$F$6:$O$100,4,FALSE)&VLOOKUP($D83&\"@2\",'中間シート（個人）'!$F$6:$O$100,5,FALSE))","v":""},{"$f":"IF(ISERROR(VLOOKUP($D83&\"@2\",'中間シート（個人）'!$F$6:$O$100,6,FALSE)&VLOOKUP($D83&\"@2\",'中間シート（個人）'!$F$6:$O$100,7,FALSE)&\".\"&VLOOKUP($D83&\"@2\",'中間シート（個人）'!$F$6:$O$100,8,FALSE)),\"\",VLOOKUP($D83&\"@2\",'中間シート（個人）'!$F$6:$O$100,6,FALSE)&VLOOKUP($D83&\"@2\",'中間シート（個人）'!$F$6:$O$100,7,FALSE)&\".\"&VLOOKUP($D83&\"@2\",'中間シート（個人）'!$F$6:$O$100,8,FALSE))","v":""},{"$f":"IF(ISERROR(VLOOKUP($D83&\"@3\",'中間シート（個人）'!$F$6:$O$100,4,FALSE)&VLOOKUP($D83&\"@3\",'中間シート（個人）'!$F$6:$O$100,5,FALSE)),\"\",VLOOKUP($D83&\"@3\",'中間シート（個人）'!$F$6:$O$100,4,FALSE)&VLOOKUP($D83&\"@3\",'中間シート（個人）'!$F$6:$O$100,5,FALSE))","v":""},{"$f":"IF(ISERROR(VLOOKUP($D83&\"@3\",'中間シート（個人）'!$F$6:$O$100,6,FALSE)&VLOOKUP($D83&\"@3\",'中間シート（個人）'!$F$6:$O$100,7,FALSE)&\".\"&VLOOKUP($D83&\"@3\",'中間シート（個人）'!$F$6:$O$100,8,FALSE)),\"\",VLOOKUP($D83&\"@3\",'中間シート（個人）'!$F$6:$O$100,6,FALSE)&VLOOKUP($D83&\"@3\",'中間シート（個人）'!$F$6:$O$100,7,FALSE)&\".\"&VLOOKUP($D83&\"@3\",'中間シート（個人）'!$F$6:$O$100,8,FALSE))","v":""},{"$f":"IF(ISERROR(VLOOKUP($D83&\"@4\",'中間シート（個人）'!$F$6:$O$100,4,FALSE)&VLOOKUP($D83&\"@4\",'中間シート（個人）'!$F$6:$O$100,5,FALSE)),\"\",VLOOKUP($D83&\"@4\",'中間シート（個人）'!$F$6:$O$100,4,FALSE)&VLOOKUP($D83&\"@4\",'中間シート（個人）'!$F$6:$O$100,5,FALSE))","v":""},{"$f":"IF(ISERROR(VLOOKUP($D83&\"@4\",'中間シート（個人）'!$F$6:$O$100,6,FALSE)&VLOOKUP($D83&\"@4\",'中間シート（個人）'!$F$6:$O$100,7,FALSE)&\".\"&VLOOKUP($D83&\"@4\",'中間シート（個人）'!$F$6:$O$100,8,FALSE)),\"\",VLOOKUP($D83&\"@4\",'中間シート（個人）'!$F$6:$O$100,6,FALSE)&VLOOKUP($D83&\"@4\",'中間シート（個人）'!$F$6:$O$100,7,FALSE)&\".\"&VLOOKUP($D83&\"@4\",'中間シート（個人）'!$F$6:$O$100,8,FALSE))","v":""},{"$f":"IF(ISERROR(VLOOKUP($D83&\"@5\",'中間シート（個人）'!$F$6:$O$100,4,FALSE)&VLOOKUP($D83&\"@5\",'中間シート（個人）'!$F$6:$O$100,5,FALSE)),\"\",VLOOKUP($D83&\"@5\",'中間シート（個人）'!$F$6:$O$100,4,FALSE)&VLOOKUP($D83&\"@5\",'中間シート（個人）'!$F$6:$O$100,5,FALSE))","v":""},{"$f":"IF(ISERROR(VLOOKUP($D83&\"@5\",'中間シート（個人）'!$F$6:$O$100,6,FALSE)&VLOOKUP($D83&\"@5\",'中間シート（個人）'!$F$6:$O$100,7,FALSE)&\".\"&VLOOKUP($D83&\"@5\",'中間シート（個人）'!$F$6:$O$100,8,FALSE)),\"\",VLOOKUP($D83&\"@5\",'中間シート（個人）'!$F$6:$O$100,6,FALSE)&VLOOKUP($D83&\"@5\",'中間シート（個人）'!$F$6:$O$100,7,FALSE)&\".\"&VLOOKUP($D83&\"@5\",'中間シート（個人）'!$F$6:$O$100,8,FALSE))","v":""},{"$f":"IF(ISERROR(VLOOKUP($D83&\"@6\",'中間シート（個人）'!$F$6:$O$100,4,FALSE)&VLOOKUP($D83&\"@6\",'中間シート（個人）'!$F$6:$O$100,5,FALSE)),\"\",VLOOKUP($D83&\"@6\",'中間シート（個人）'!$F$6:$O$100,4,FALSE)&VLOOKUP($D83&\"@6\",'中間シート（個人）'!$F$6:$O$100,5,FALSE))","v":""},{"$f":"IF(ISERROR(VLOOKUP($D83&\"@6\",'中間シート（個人）'!$F$6:$O$100,6,FALSE)&VLOOKUP($D83&\"@6\",'中間シート（個人）'!$F$6:$O$100,7,FALSE)&\".\"&VLOOKUP($D83&\"@6\",'中間シート（個人）'!$F$6:$O$100,8,FALSE)),\"\",VLOOKUP($D83&\"@6\",'中間シート（個人）'!$F$6:$O$100,6,FALSE)&VLOOKUP($D83&\"@6\",'中間シート（個人）'!$F$6:$O$100,7,FALSE)&\".\"&VLOOKUP($D83&\"@6\",'中間シート（個人）'!$F$6:$O$100,8,FALSE))","v":""},{"$f":"IF(ISERROR(VLOOKUP($D83&\"@7\",'中間シート（個人）'!$F$6:$O$100,4,FALSE)&VLOOKUP($D83&\"@7\",'中間シート（個人）'!$F$6:$O$100,5,FALSE)),\"\",VLOOKUP($D83&\"@7\",'中間シート（個人）'!$F$6:$O$100,4,FALSE)&VLOOKUP($D83&\"@7\",'中間シート（個人）'!$F$6:$O$100,5,FALSE))","v":""},{"$f":"IF(ISERROR(VLOOKUP($D83&\"@7\",'中間シート（個人）'!$F$6:$O$100,6,FALSE)&VLOOKUP($D83&\"@7\",'中間シート（個人）'!$F$6:$O$100,7,FALSE)&\".\"&VLOOKUP($D83&\"@7\",'中間シート（個人）'!$F$6:$O$100,8,FALSE)),\"\",VLOOKUP($D83&\"@7\",'中間シート（個人）'!$F$6:$O$100,6,FALSE)&VLOOKUP($D83&\"@7\",'中間シート（個人）'!$F$6:$O$100,7,FALSE)&\".\"&VLOOKUP($D83&\"@7\",'中間シート（個人）'!$F$6:$O$100,8,FALSE))","v":""},{"$f":"IF(ISERROR(VLOOKUP($D83&\"@8\",'中間シート（個人）'!$F$6:$O$100,4,FALSE)&VLOOKUP($D83&\"@8\",'中間シート（個人）'!$F$6:$O$100,5,FALSE)),\"\",VLOOKUP($D83&\"@8\",'中間シート（個人）'!$F$6:$O$100,4,FALSE)&VLOOKUP($D83&\"@8\",'中間シート（個人）'!$F$6:$O$100,5,FALSE))","v":""},{"$f":"IF(ISERROR(VLOOKUP($D83&\"@8\",'中間シート（個人）'!$F$6:$O$100,6,FALSE)&VLOOKUP($D83&\"@8\",'中間シート（個人）'!$F$6:$O$100,7,FALSE)&\".\"&VLOOKUP($D83&\"@8\",'中間シート（個人）'!$F$6:$O$100,8,FALSE)),\"\",VLOOKUP($D83&\"@8\",'中間シート（個人）'!$F$6:$O$100,6,FALSE)&VLOOKUP($D83&\"@8\",'中間シート（個人）'!$F$6:$O$100,7,FALSE)&\".\"&VLOOKUP($D83&\"@8\",'中間シート（個人）'!$F$6:$O$100,8,FALSE))","v":""},{"$f":"IF(ISERROR(VLOOKUP($D83&\"@9\",'中間シート（個人）'!$F$6:$O$100,4,FALSE)&VLOOKUP($D83&\"@9\",'中間シート（個人）'!$F$6:$O$100,5,FALSE)),\"\",VLOOKUP($D83&\"@9\",'中間シート（個人）'!$F$6:$O$100,4,FALSE)&VLOOKUP($D83&\"@9\",'中間シート（個人）'!$F$6:$O$100,5,FALSE))","v":""},{"$f":"IF(ISERROR(VLOOKUP($D83&\"@9\",'中間シート（個人）'!$F$6:$O$100,6,FALSE)&VLOOKUP($D83&\"@9\",'中間シート（個人）'!$F$6:$O$100,7,FALSE)&\".\"&VLOOKUP($D83&\"@9\",'中間シート（個人）'!$F$6:$O$100,8,FALSE)),\"\",VLOOKUP($D83&\"@9\",'中間シート（個人）'!$F$6:$O$100,6,FALSE)&VLOOKUP($D83&\"@9\",'中間シート（個人）'!$F$6:$O$100,7,FALSE)&\".\"&VLOOKUP($D83&\"@9\",'中間シート（個人）'!$F$6:$O$100,8,FALSE))","v":""},{"$f":"IF(ISERROR(VLOOKUP($D83&\"@10\",'中間シート（個人）'!$F$6:$O$100,4,FALSE)&VLOOKUP($D83&\"@10\",'中間シート（個人）'!$F$6:$O$100,5,FALSE)),\"\",VLOOKUP($D83&\"@10\",'中間シート（個人）'!$F$6:$O$100,4,FALSE)&VLOOKUP($D83&\"@10\",'中間シート（個人）'!$F$6:$O$100,5,FALSE))","v":""},{"$f":"IF(ISERROR(VLOOKUP($D83&\"@10\",'中間シート（個人）'!$F$6:$O$100,6,FALSE)&VLOOKUP($D83&\"@10\",'中間シート（個人）'!$F$6:$O$100,7,FALSE)&\".\"&VLOOKUP($D83&\"@10\",'中間シート（個人）'!$F$6:$O$100,8,FALSE)),\"\",VLOOKUP($D83&\"@10\",'中間シート（個人）'!$F$6:$O$100,6,FALSE)&VLOOKUP($D83&\"@10\",'中間シート（個人）'!$F$6:$O$100,7,FALSE)&\".\"&VLOOKUP($D83&\"@10\",'中間シート（個人）'!$F$6:$O$100,8,FALSE))","v":""}]
[null,null,{"$f":"IF('中間シート（個人）'!D86=\"○\",\"\",VLOOKUP(個人種目!F86,コード一覧!$A$2:$B$3,2,FALSE))","v":""},{"$f":"IF('中間シート（個人）'!D86=\"○\",\"\",'中間シート（個人）'!C86)","v":""},{"$f":"IF('中間シート（個人）'!D86=\"○\",\"\",ASC(個人種目!D86&\" \"&個人種目!E86))","v":""},{"$f":"IF('中間シート（個人）'!D86=\"○\",\"\",個人種目!G86&IF(LEN(個人種目!H86)=1,\"0\"&個人種目!H86,個人種目!H86)&IF(LEN(個人種目!I86)=1,\"0\"&個人種目!I86,個人種目!I86))","v":""},{"$f":"IF('中間シート（個人）'!D86=\"○\",\"\",VLOOKUP(個人種目!$J86,コード一覧!$C$3:$D$6,2,FALSE))","v":""},{"$f":"IF('中間シート（個人）'!D86=\"○\",\"\",IF(個人種目!$J86=\"一般\",0,個人種目!$K86))","v":""},{"$f":"IF('中間シート（個人）'!D86=\"○\",\"\",'中間シート（個人）'!H86)","v":""},null,{"$f":"IF('中間シート（個人）'!D86=\"○\",\"\",個人種目!$L$1)","v":""},{"$f":"IF('中間シート（個人）'!D86=\"○\",\"\",ASC(申込書_コナミ!$S$9))","v":""},{"$f":"IF('中間シート（個人）'!D86=\"○\",\"\",申込書_コナミ!$E$8)","v":""},null,null,null,{"$f":"IF('中間シート（個人）'!D86=\"○\",\"\",4)","v":""},{"$f":"IF(ISERROR(VLOOKUP($D84&\"@1\",'中間シート（個人）'!$F$6:$O$100,4,FALSE)&VLOOKUP($D84&\"@1\",'中間シート（個人）'!$F$6:$O$100,5,FALSE)),\"\",VLOOKUP($D84&\"@1\",'中間シート（個人）'!$F$6:$O$100,4,FALSE)&VLOOKUP($D84&\"@1\",'中間シート（個人）'!$F$6:$O$100,5,FALSE))","v":""},{"$f":"IF(ISERROR(VLOOKUP($D84&\"@1\",'中間シート（個人）'!$F$6:$O$100,6,FALSE)&VLOOKUP($D84&\"@1\",'中間シート（個人）'!$F$6:$O$100,7,FALSE)&\".\"&VLOOKUP($D84&\"@1\",'中間シート（個人）'!$F$6:$O$100,8,FALSE)),\"\",VLOOKUP($D84&\"@1\",'中間シート（個人）'!$F$6:$O$100,6,FALSE)&VLOOKUP($D84&\"@1\",'中間シート（個人）'!$F$6:$O$100,7,FALSE)&\".\"&VLOOKUP($D84&\"@1\",'中間シート（個人）'!$F$6:$O$100,8,FALSE))","v":""},{"$f":"IF(ISERROR(VLOOKUP($D84&\"@2\",'中間シート（個人）'!$F$6:$O$100,4,FALSE)&VLOOKUP($D84&\"@2\",'中間シート（個人）'!$F$6:$O$100,5,FALSE)),\"\",VLOOKUP($D84&\"@2\",'中間シート（個人）'!$F$6:$O$100,4,FALSE)&VLOOKUP($D84&\"@2\",'中間シート（個人）'!$F$6:$O$100,5,FALSE))","v":""},{"$f":"IF(ISERROR(VLOOKUP($D84&\"@2\",'中間シート（個人）'!$F$6:$O$100,6,FALSE)&VLOOKUP($D84&\"@2\",'中間シート（個人）'!$F$6:$O$100,7,FALSE)&\".\"&VLOOKUP($D84&\"@2\",'中間シート（個人）'!$F$6:$O$100,8,FALSE)),\"\",VLOOKUP($D84&\"@2\",'中間シート（個人）'!$F$6:$O$100,6,FALSE)&VLOOKUP($D84&\"@2\",'中間シート（個人）'!$F$6:$O$100,7,FALSE)&\".\"&VLOOKUP($D84&\"@2\",'中間シート（個人）'!$F$6:$O$100,8,FALSE))","v":""},{"$f":"IF(ISERROR(VLOOKUP($D84&\"@3\",'中間シート（個人）'!$F$6:$O$100,4,FALSE)&VLOOKUP($D84&\"@3\",'中間シート（個人）'!$F$6:$O$100,5,FALSE)),\"\",VLOOKUP($D84&\"@3\",'中間シート（個人）'!$F$6:$O$100,4,FALSE)&VLOOKUP($D84&\"@3\",'中間シート（個人）'!$F$6:$O$100,5,FALSE))","v":""},{"$f":"IF(ISERROR(VLOOKUP($D84&\"@3\",'中間シート（個人）'!$F$6:$O$100,6,FALSE)&VLOOKUP($D84&\"@3\",'中間シート（個人）'!$F$6:$O$100,7,FALSE)&\".\"&VLOOKUP($D84&\"@3\",'中間シート（個人）'!$F$6:$O$100,8,FALSE)),\"\",VLOOKUP($D84&\"@3\",'中間シート（個人）'!$F$6:$O$100,6,FALSE)&VLOOKUP($D84&\"@3\",'中間シート（個人）'!$F$6:$O$100,7,FALSE)&\".\"&VLOOKUP($D84&\"@3\",'中間シート（個人）'!$F$6:$O$100,8,FALSE))","v":""},{"$f":"IF(ISERROR(VLOOKUP($D84&\"@4\",'中間シート（個人）'!$F$6:$O$100,4,FALSE)&VLOOKUP($D84&\"@4\",'中間シート（個人）'!$F$6:$O$100,5,FALSE)),\"\",VLOOKUP($D84&\"@4\",'中間シート（個人）'!$F$6:$O$100,4,FALSE)&VLOOKUP($D84&\"@4\",'中間シート（個人）'!$F$6:$O$100,5,FALSE))","v":""},{"$f":"IF(ISERROR(VLOOKUP($D84&\"@4\",'中間シート（個人）'!$F$6:$O$100,6,FALSE)&VLOOKUP($D84&\"@4\",'中間シート（個人）'!$F$6:$O$100,7,FALSE)&\".\"&VLOOKUP($D84&\"@4\",'中間シート（個人）'!$F$6:$O$100,8,FALSE)),\"\",VLOOKUP($D84&\"@4\",'中間シート（個人）'!$F$6:$O$100,6,FALSE)&VLOOKUP($D84&\"@4\",'中間シート（個人）'!$F$6:$O$100,7,FALSE)&\".\"&VLOOKUP($D84&\"@4\",'中間シート（個人）'!$F$6:$O$100,8,FALSE))","v":""},{"$f":"IF(ISERROR(VLOOKUP($D84&\"@5\",'中間シート（個人）'!$F$6:$O$100,4,FALSE)&VLOOKUP($D84&\"@5\",'中間シート（個人）'!$F$6:$O$100,5,FALSE)),\"\",VLOOKUP($D84&\"@5\",'中間シート（個人）'!$F$6:$O$100,4,FALSE)&VLOOKUP($D84&\"@5\",'中間シート（個人）'!$F$6:$O$100,5,FALSE))","v":""},{"$f":"IF(ISERROR(VLOOKUP($D84&\"@5\",'中間シート（個人）'!$F$6:$O$100,6,FALSE)&VLOOKUP($D84&\"@5\",'中間シート（個人）'!$F$6:$O$100,7,FALSE)&\".\"&VLOOKUP($D84&\"@5\",'中間シート（個人）'!$F$6:$O$100,8,FALSE)),\"\",VLOOKUP($D84&\"@5\",'中間シート（個人）'!$F$6:$O$100,6,FALSE)&VLOOKUP($D84&\"@5\",'中間シート（個人）'!$F$6:$O$100,7,FALSE)&\".\"&VLOOKUP($D84&\"@5\",'中間シート（個人）'!$F$6:$O$100,8,FALSE))","v":""},{"$f":"IF(ISERROR(VLOOKUP($D84&\"@6\",'中間シート（個人）'!$F$6:$O$100,4,FALSE)&VLOOKUP($D84&\"@6\",'中間シート（個人）'!$F$6:$O$100,5,FALSE)),\"\",VLOOKUP($D84&\"@6\",'中間シート（個人）'!$F$6:$O$100,4,FALSE)&VLOOKUP($D84&\"@6\",'中間シート（個人）'!$F$6:$O$100,5,FALSE))","v":""},{"$f":"IF(ISERROR(VLOOKUP($D84&\"@6\",'中間シート（個人）'!$F$6:$O$100,6,FALSE)&VLOOKUP($D84&\"@6\",'中間シート（個人）'!$F$6:$O$100,7,FALSE)&\".\"&VLOOKUP($D84&\"@6\",'中間シート（個人）'!$F$6:$O$100,8,FALSE)),\"\",VLOOKUP($D84&\"@6\",'中間シート（個人）'!$F$6:$O$100,6,FALSE)&VLOOKUP($D84&\"@6\",'中間シート（個人）'!$F$6:$O$100,7,FALSE)&\".\"&VLOOKUP($D84&\"@6\",'中間シート（個人）'!$F$6:$O$100,8,FALSE))","v":""},{"$f":"IF(ISERROR(VLOOKUP($D84&\"@7\",'中間シート（個人）'!$F$6:$O$100,4,FALSE)&VLOOKUP($D84&\"@7\",'中間シート（個人）'!$F$6:$O$100,5,FALSE)),\"\",VLOOKUP($D84&\"@7\",'中間シート（個人）'!$F$6:$O$100,4,FALSE)&VLOOKUP($D84&\"@7\",'中間シート（個人）'!$F$6:$O$100,5,FALSE))","v":""},{"$f":"IF(ISERROR(VLOOKUP($D84&\"@7\",'中間シート（個人）'!$F$6:$O$100,6,FALSE)&VLOOKUP($D84&\"@7\",'中間シート（個人）'!$F$6:$O$100,7,FALSE)&\".\"&VLOOKUP($D84&\"@7\",'中間シート（個人）'!$F$6:$O$100,8,FALSE)),\"\",VLOOKUP($D84&\"@7\",'中間シート（個人）'!$F$6:$O$100,6,FALSE)&VLOOKUP($D84&\"@7\",'中間シート（個人）'!$F$6:$O$100,7,FALSE)&\".\"&VLOOKUP($D84&\"@7\",'中間シート（個人）'!$F$6:$O$100,8,FALSE))","v":""},{"$f":"IF(ISERROR(VLOOKUP($D84&\"@8\",'中間シート（個人）'!$F$6:$O$100,4,FALSE)&VLOOKUP($D84&\"@8\",'中間シート（個人）'!$F$6:$O$100,5,FALSE)),\"\",VLOOKUP($D84&\"@8\",'中間シート（個人）'!$F$6:$O$100,4,FALSE)&VLOOKUP($D84&\"@8\",'中間シート（個人）'!$F$6:$O$100,5,FALSE))","v":""},{"$f":"IF(ISERROR(VLOOKUP($D84&\"@8\",'中間シート（個人）'!$F$6:$O$100,6,FALSE)&VLOOKUP($D84&\"@8\",'中間シート（個人）'!$F$6:$O$100,7,FALSE)&\".\"&VLOOKUP($D84&\"@8\",'中間シート（個人）'!$F$6:$O$100,8,FALSE)),\"\",VLOOKUP($D84&\"@8\",'中間シート（個人）'!$F$6:$O$100,6,FALSE)&VLOOKUP($D84&\"@8\",'中間シート（個人）'!$F$6:$O$100,7,FALSE)&\".\"&VLOOKUP($D84&\"@8\",'中間シート（個人）'!$F$6:$O$100,8,FALSE))","v":""},{"$f":"IF(ISERROR(VLOOKUP($D84&\"@9\",'中間シート（個人）'!$F$6:$O$100,4,FALSE)&VLOOKUP($D84&\"@9\",'中間シート（個人）'!$F$6:$O$100,5,FALSE)),\"\",VLOOKUP($D84&\"@9\",'中間シート（個人）'!$F$6:$O$100,4,FALSE)&VLOOKUP($D84&\"@9\",'中間シート（個人）'!$F$6:$O$100,5,FALSE))","v":""},{"$f":"IF(ISERROR(VLOOKUP($D84&\"@9\",'中間シート（個人）'!$F$6:$O$100,6,FALSE)&VLOOKUP($D84&\"@9\",'中間シート（個人）'!$F$6:$O$100,7,FALSE)&\".\"&VLOOKUP($D84&\"@9\",'中間シート（個人）'!$F$6:$O$100,8,FALSE)),\"\",VLOOKUP($D84&\"@9\",'中間シート（個人）'!$F$6:$O$100,6,FALSE)&VLOOKUP($D84&\"@9\",'中間シート（個人）'!$F$6:$O$100,7,FALSE)&\".\"&VLOOKUP($D84&\"@9\",'中間シート（個人）'!$F$6:$O$100,8,FALSE))","v":""},{"$f":"IF(ISERROR(VLOOKUP($D84&\"@10\",'中間シート（個人）'!$F$6:$O$100,4,FALSE)&VLOOKUP($D84&\"@10\",'中間シート（個人）'!$F$6:$O$100,5,FALSE)),\"\",VLOOKUP($D84&\"@10\",'中間シート（個人）'!$F$6:$O$100,4,FALSE)&VLOOKUP($D84&\"@10\",'中間シート（個人）'!$F$6:$O$100,5,FALSE))","v":""},{"$f":"IF(ISERROR(VLOOKUP($D84&\"@10\",'中間シート（個人）'!$F$6:$O$100,6,FALSE)&VLOOKUP($D84&\"@10\",'中間シート（個人）'!$F$6:$O$100,7,FALSE)&\".\"&VLOOKUP($D84&\"@10\",'中間シート（個人）'!$F$6:$O$100,8,FALSE)),\"\",VLOOKUP($D84&\"@10\",'中間シート（個人）'!$F$6:$O$100,6,FALSE)&VLOOKUP($D84&\"@10\",'中間シート（個人）'!$F$6:$O$100,7,FALSE)&\".\"&VLOOKUP($D84&\"@10\",'中間シート（個人）'!$F$6:$O$100,8,FALSE))","v":""}]
[null,null,{"$f":"IF('中間シート（個人）'!D87=\"○\",\"\",VLOOKUP(個人種目!F87,コード一覧!$A$2:$B$3,2,FALSE))","v":""},{"$f":"IF('中間シート（個人）'!D87=\"○\",\"\",'中間シート（個人）'!C87)","v":""},{"$f":"IF('中間シート（個人）'!D87=\"○\",\"\",ASC(個人種目!D87&\" \"&個人種目!E87))","v":""},{"$f":"IF('中間シート（個人）'!D87=\"○\",\"\",個人種目!G87&IF(LEN(個人種目!H87)=1,\"0\"&個人種目!H87,個人種目!H87)&IF(LEN(個人種目!I87)=1,\"0\"&個人種目!I87,個人種目!I87))","v":""},{"$f":"IF('中間シート（個人）'!D87=\"○\",\"\",VLOOKUP(個人種目!$J87,コード一覧!$C$3:$D$6,2,FALSE))","v":""},{"$f":"IF('中間シート（個人）'!D87=\"○\",\"\",IF(個人種目!$J87=\"一般\",0,個人種目!$K87))","v":""},{"$f":"IF('中間シート（個人）'!D87=\"○\",\"\",'中間シート（個人）'!H87)","v":""},null,{"$f":"IF('中間シート（個人）'!D87=\"○\",\"\",個人種目!$L$1)","v":""},{"$f":"IF('中間シート（個人）'!D87=\"○\",\"\",ASC(申込書_コナミ!$S$9))","v":""},{"$f":"IF('中間シート（個人）'!D87=\"○\",\"\",申込書_コナミ!$E$8)","v":""},null,null,null,{"$f":"IF('中間シート（個人）'!D87=\"○\",\"\",4)","v":""},{"$f":"IF(ISERROR(VLOOKUP($D85&\"@1\",'中間シート（個人）'!$F$6:$O$100,4,FALSE)&VLOOKUP($D85&\"@1\",'中間シート（個人）'!$F$6:$O$100,5,FALSE)),\"\",VLOOKUP($D85&\"@1\",'中間シート（個人）'!$F$6:$O$100,4,FALSE)&VLOOKUP($D85&\"@1\",'中間シート（個人）'!$F$6:$O$100,5,FALSE))","v":""},{"$f":"IF(ISERROR(VLOOKUP($D85&\"@1\",'中間シート（個人）'!$F$6:$O$100,6,FALSE)&VLOOKUP($D85&\"@1\",'中間シート（個人）'!$F$6:$O$100,7,FALSE)&\".\"&VLOOKUP($D85&\"@1\",'中間シート（個人）'!$F$6:$O$100,8,FALSE)),\"\",VLOOKUP($D85&\"@1\",'中間シート（個人）'!$F$6:$O$100,6,FALSE)&VLOOKUP($D85&\"@1\",'中間シート（個人）'!$F$6:$O$100,7,FALSE)&\".\"&VLOOKUP($D85&\"@1\",'中間シート（個人）'!$F$6:$O$100,8,FALSE))","v":""},{"$f":"IF(ISERROR(VLOOKUP($D85&\"@2\",'中間シート（個人）'!$F$6:$O$100,4,FALSE)&VLOOKUP($D85&\"@2\",'中間シート（個人）'!$F$6:$O$100,5,FALSE)),\"\",VLOOKUP($D85&\"@2\",'中間シート（個人）'!$F$6:$O$100,4,FALSE)&VLOOKUP($D85&\"@2\",'中間シート（個人）'!$F$6:$O$100,5,FALSE))","v":""},{"$f":"IF(ISERROR(VLOOKUP($D85&\"@2\",'中間シート（個人）'!$F$6:$O$100,6,FALSE)&VLOOKUP($D85&\"@2\",'中間シート（個人）'!$F$6:$O$100,7,FALSE)&\".\"&VLOOKUP($D85&\"@2\",'中間シート（個人）'!$F$6:$O$100,8,FALSE)),\"\",VLOOKUP($D85&\"@2\",'中間シート（個人）'!$F$6:$O$100,6,FALSE)&VLOOKUP($D85&\"@2\",'中間シート（個人）'!$F$6:$O$100,7,FALSE)&\".\"&VLOOKUP($D85&\"@2\",'中間シート（個人）'!$F$6:$O$100,8,FALSE))","v":""},{"$f":"IF(ISERROR(VLOOKUP($D85&\"@3\",'中間シート（個人）'!$F$6:$O$100,4,FALSE)&VLOOKUP($D85&\"@3\",'中間シート（個人）'!$F$6:$O$100,5,FALSE)),\"\",VLOOKUP($D85&\"@3\",'中間シート（個人）'!$F$6:$O$100,4,FALSE)&VLOOKUP($D85&\"@3\",'中間シート（個人）'!$F$6:$O$100,5,FALSE))","v":""},{"$f":"IF(ISERROR(VLOOKUP($D85&\"@3\",'中間シート（個人）'!$F$6:$O$100,6,FALSE)&VLOOKUP($D85&\"@3\",'中間シート（個人）'!$F$6:$O$100,7,FALSE)&\".\"&VLOOKUP($D85&\"@3\",'中間シート（個人）'!$F$6:$O$100,8,FALSE)),\"\",VLOOKUP($D85&\"@3\",'中間シート（個人）'!$F$6:$O$100,6,FALSE)&VLOOKUP($D85&\"@3\",'中間シート（個人）'!$F$6:$O$100,7,FALSE)&\".\"&VLOOKUP($D85&\"@3\",'中間シート（個人）'!$F$6:$O$100,8,FALSE))","v":""},{"$f":"IF(ISERROR(VLOOKUP($D85&\"@4\",'中間シート（個人）'!$F$6:$O$100,4,FALSE)&VLOOKUP($D85&\"@4\",'中間シート（個人）'!$F$6:$O$100,5,FALSE)),\"\",VLOOKUP($D85&\"@4\",'中間シート（個人）'!$F$6:$O$100,4,FALSE)&VLOOKUP($D85&\"@4\",'中間シート（個人）'!$F$6:$O$100,5,FALSE))","v":""},{"$f":"IF(ISERROR(VLOOKUP($D85&\"@4\",'中間シート（個人）'!$F$6:$O$100,6,FALSE)&VLOOKUP($D85&\"@4\",'中間シート（個人）'!$F$6:$O$100,7,FALSE)&\".\"&VLOOKUP($D85&\"@4\",'中間シート（個人）'!$F$6:$O$100,8,FALSE)),\"\",VLOOKUP($D85&\"@4\",'中間シート（個人）'!$F$6:$O$100,6,FALSE)&VLOOKUP($D85&\"@4\",'中間シート（個人）'!$F$6:$O$100,7,FALSE)&\".\"&VLOOKUP($D85&\"@4\",'中間シート（個人）'!$F$6:$O$100,8,FALSE))","v":""},{"$f":"IF(ISERROR(VLOOKUP($D85&\"@5\",'中間シート（個人）'!$F$6:$O$100,4,FALSE)&VLOOKUP($D85&\"@5\",'中間シート（個人）'!$F$6:$O$100,5,FALSE)),\"\",VLOOKUP($D85&\"@5\",'中間シート（個人）'!$F$6:$O$100,4,FALSE)&VLOOKUP($D85&\"@5\",'中間シート（個人）'!$F$6:$O$100,5,FALSE))","v":""},{"$f":"IF(ISERROR(VLOOKUP($D85&\"@5\",'中間シート（個人）'!$F$6:$O$100,6,FALSE)&VLOOKUP($D85&\"@5\",'中間シート（個人）'!$F$6:$O$100,7,FALSE)&\".\"&VLOOKUP($D85&\"@5\",'中間シート（個人）'!$F$6:$O$100,8,FALSE)),\"\",VLOOKUP($D85&\"@5\",'中間シート（個人）'!$F$6:$O$100,6,FALSE)&VLOOKUP($D85&\"@5\",'中間シート（個人）'!$F$6:$O$100,7,FALSE)&\".\"&VLOOKUP($D85&\"@5\",'中間シート（個人）'!$F$6:$O$100,8,FALSE))","v":""},{"$f":"IF(ISERROR(VLOOKUP($D85&\"@6\",'中間シート（個人）'!$F$6:$O$100,4,FALSE)&VLOOKUP($D85&\"@6\",'中間シート（個人）'!$F$6:$O$100,5,FALSE)),\"\",VLOOKUP($D85&\"@6\",'中間シート（個人）'!$F$6:$O$100,4,FALSE)&VLOOKUP($D85&\"@6\",'中間シート（個人）'!$F$6:$O$100,5,FALSE))","v":""},{"$f":"IF(ISERROR(VLOOKUP($D85&\"@6\",'中間シート（個人）'!$F$6:$O$100,6,FALSE)&VLOOKUP($D85&\"@6\",'中間シート（個人）'!$F$6:$O$100,7,FALSE)&\".\"&VLOOKUP($D85&\"@6\",'中間シート（個人）'!$F$6:$O$100,8,FALSE)),\"\",VLOOKUP($D85&\"@6\",'中間シート（個人）'!$F$6:$O$100,6,FALSE)&VLOOKUP($D85&\"@6\",'中間シート（個人）'!$F$6:$O$100,7,FALSE)&\".\"&VLOOKUP($D85&\"@6\",'中間シート（個人）'!$F$6:$O$100,8,FALSE))","v":""},{"$f":"IF(ISERROR(VLOOKUP($D85&\"@7\",'中間シート（個人）'!$F$6:$O$100,4,FALSE)&VLOOKUP($D85&\"@7\",'中間シート（個人）'!$F$6:$O$100,5,FALSE)),\"\",VLOOKUP($D85&\"@7\",'中間シート（個人）'!$F$6:$O$100,4,FALSE)&VLOOKUP($D85&\"@7\",'中間シート（個人）'!$F$6:$O$100,5,FALSE))","v":""},{"$f":"IF(ISERROR(VLOOKUP($D85&\"@7\",'中間シート（個人）'!$F$6:$O$100,6,FALSE)&VLOOKUP($D85&\"@7\",'中間シート（個人）'!$F$6:$O$100,7,FALSE)&\".\"&VLOOKUP($D85&\"@7\",'中間シート（個人）'!$F$6:$O$100,8,FALSE)),\"\",VLOOKUP($D85&\"@7\",'中間シート（個人）'!$F$6:$O$100,6,FALSE)&VLOOKUP($D85&\"@7\",'中間シート（個人）'!$F$6:$O$100,7,FALSE)&\".\"&VLOOKUP($D85&\"@7\",'中間シート（個人）'!$F$6:$O$100,8,FALSE))","v":""},{"$f":"IF(ISERROR(VLOOKUP($D85&\"@8\",'中間シート（個人）'!$F$6:$O$100,4,FALSE)&VLOOKUP($D85&\"@8\",'中間シート（個人）'!$F$6:$O$100,5,FALSE)),\"\",VLOOKUP($D85&\"@8\",'中間シート（個人）'!$F$6:$O$100,4,FALSE)&VLOOKUP($D85&\"@8\",'中間シート（個人）'!$F$6:$O$100,5,FALSE))","v":""},{"$f":"IF(ISERROR(VLOOKUP($D85&\"@8\",'中間シート（個人）'!$F$6:$O$100,6,FALSE)&VLOOKUP($D85&\"@8\",'中間シート（個人）'!$F$6:$O$100,7,FALSE)&\".\"&VLOOKUP($D85&\"@8\",'中間シート（個人）'!$F$6:$O$100,8,FALSE)),\"\",VLOOKUP($D85&\"@8\",'中間シート（個人）'!$F$6:$O$100,6,FALSE)&VLOOKUP($D85&\"@8\",'中間シート（個人）'!$F$6:$O$100,7,FALSE)&\".\"&VLOOKUP($D85&\"@8\",'中間シート（個人）'!$F$6:$O$100,8,FALSE))","v":""},{"$f":"IF(ISERROR(VLOOKUP($D85&\"@9\",'中間シート（個人）'!$F$6:$O$100,4,FALSE)&VLOOKUP($D85&\"@9\",'中間シート（個人）'!$F$6:$O$100,5,FALSE)),\"\",VLOOKUP($D85&\"@9\",'中間シート（個人）'!$F$6:$O$100,4,FALSE)&VLOOKUP($D85&\"@9\",'中間シート（個人）'!$F$6:$O$100,5,FALSE))","v":""},{"$f":"IF(ISERROR(VLOOKUP($D85&\"@9\",'中間シート（個人）'!$F$6:$O$100,6,FALSE)&VLOOKUP($D85&\"@9\",'中間シート（個人）'!$F$6:$O$100,7,FALSE)&\".\"&VLOOKUP($D85&\"@9\",'中間シート（個人）'!$F$6:$O$100,8,FALSE)),\"\",VLOOKUP($D85&\"@9\",'中間シート（個人）'!$F$6:$O$100,6,FALSE)&VLOOKUP($D85&\"@9\",'中間シート（個人）'!$F$6:$O$100,7,FALSE)&\".\"&VLOOKUP($D85&\"@9\",'中間シート（個人）'!$F$6:$O$100,8,FALSE))","v":""},{"$f":"IF(ISERROR(VLOOKUP($D85&\"@10\",'中間シート（個人）'!$F$6:$O$100,4,FALSE)&VLOOKUP($D85&\"@10\",'中間シート（個人）'!$F$6:$O$100,5,FALSE)),\"\",VLOOKUP($D85&\"@10\",'中間シート（個人）'!$F$6:$O$100,4,FALSE)&VLOOKUP($D85&\"@10\",'中間シート（個人）'!$F$6:$O$100,5,FALSE))","v":""},{"$f":"IF(ISERROR(VLOOKUP($D85&\"@10\",'中間シート（個人）'!$F$6:$O$100,6,FALSE)&VLOOKUP($D85&\"@10\",'中間シート（個人）'!$F$6:$O$100,7,FALSE)&\".\"&VLOOKUP($D85&\"@10\",'中間シート（個人）'!$F$6:$O$100,8,FALSE)),\"\",VLOOKUP($D85&\"@10\",'中間シート（個人）'!$F$6:$O$100,6,FALSE)&VLOOKUP($D85&\"@10\",'中間シート（個人）'!$F$6:$O$100,7,FALSE)&\".\"&VLOOKUP($D85&\"@10\",'中間シート（個人）'!$F$6:$O$100,8,FALSE))","v":""}]
[null,null,{"$f":"IF('中間シート（個人）'!D88=\"○\",\"\",VLOOKUP(個人種目!F88,コード一覧!$A$2:$B$3,2,FALSE))","v":""},{"$f":"IF('中間シート（個人）'!D88=\"○\",\"\",'中間シート（個人）'!C88)","v":""},{"$f":"IF('中間シート（個人）'!D88=\"○\",\"\",ASC(個人種目!D88&\" \"&個人種目!E88))","v":""},{"$f":"IF('中間シート（個人）'!D88=\"○\",\"\",個人種目!G88&IF(LEN(個人種目!H88)=1,\"0\"&個人種目!H88,個人種目!H88)&IF(LEN(個人種目!I88)=1,\"0\"&個人種目!I88,個人種目!I88))","v":""},{"$f":"IF('中間シート（個人）'!D88=\"○\",\"\",VLOOKUP(個人種目!$J88,コード一覧!$C$3:$D$6,2,FALSE))","v":""},{"$f":"IF('中間シート（個人）'!D88=\"○\",\"\",IF(個人種目!$J88=\"一般\",0,個人種目!$K88))","v":""},{"$f":"IF('中間シート（個人）'!D88=\"○\",\"\",'中間シート（個人）'!H88)","v":""},null,{"$f":"IF('中間シート（個人）'!D88=\"○\",\"\",個人種目!$L$1)","v":""},{"$f":"IF('中間シート（個人）'!D88=\"○\",\"\",ASC(申込書_コナミ!$S$9))","v":""},{"$f":"IF('中間シート（個人）'!D88=\"○\",\"\",申込書_コナミ!$E$8)","v":""},null,null,null,{"$f":"IF('中間シート（個人）'!D88=\"○\",\"\",4)","v":""},{"$f":"IF(ISERROR(VLOOKUP($D86&\"@1\",'中間シート（個人）'!$F$6:$O$100,4,FALSE)&VLOOKUP($D86&\"@1\",'中間シート（個人）'!$F$6:$O$100,5,FALSE)),\"\",VLOOKUP($D86&\"@1\",'中間シート（個人）'!$F$6:$O$100,4,FALSE)&VLOOKUP($D86&\"@1\",'中間シート（個人）'!$F$6:$O$100,5,FALSE))","v":""},{"$f":"IF(ISERROR(VLOOKUP($D86&\"@1\",'中間シート（個人）'!$F$6:$O$100,6,FALSE)&VLOOKUP($D86&\"@1\",'中間シート（個人）'!$F$6:$O$100,7,FALSE)&\".\"&VLOOKUP($D86&\"@1\",'中間シート（個人）'!$F$6:$O$100,8,FALSE)),\"\",VLOOKUP($D86&\"@1\",'中間シート（個人）'!$F$6:$O$100,6,FALSE)&VLOOKUP($D86&\"@1\",'中間シート（個人）'!$F$6:$O$100,7,FALSE)&\".\"&VLOOKUP($D86&\"@1\",'中間シート（個人）'!$F$6:$O$100,8,FALSE))","v":""},{"$f":"IF(ISERROR(VLOOKUP($D86&\"@2\",'中間シート（個人）'!$F$6:$O$100,4,FALSE)&VLOOKUP($D86&\"@2\",'中間シート（個人）'!$F$6:$O$100,5,FALSE)),\"\",VLOOKUP($D86&\"@2\",'中間シート（個人）'!$F$6:$O$100,4,FALSE)&VLOOKUP($D86&\"@2\",'中間シート（個人）'!$F$6:$O$100,5,FALSE))","v":""},{"$f":"IF(ISERROR(VLOOKUP($D86&\"@2\",'中間シート（個人）'!$F$6:$O$100,6,FALSE)&VLOOKUP($D86&\"@2\",'中間シート（個人）'!$F$6:$O$100,7,FALSE)&\".\"&VLOOKUP($D86&\"@2\",'中間シート（個人）'!$F$6:$O$100,8,FALSE)),\"\",VLOOKUP($D86&\"@2\",'中間シート（個人）'!$F$6:$O$100,6,FALSE)&VLOOKUP($D86&\"@2\",'中間シート（個人）'!$F$6:$O$100,7,FALSE)&\".\"&VLOOKUP($D86&\"@2\",'中間シート（個人）'!$F$6:$O$100,8,FALSE))","v":""},{"$f":"IF(ISERROR(VLOOKUP($D86&\"@3\",'中間シート（個人）'!$F$6:$O$100,4,FALSE)&VLOOKUP($D86&\"@3\",'中間シート（個人）'!$F$6:$O$100,5,FALSE)),\"\",VLOOKUP($D86&\"@3\",'中間シート（個人）'!$F$6:$O$100,4,FALSE)&VLOOKUP($D86&\"@3\",'中間シート（個人）'!$F$6:$O$100,5,FALSE))","v":""},{"$f":"IF(ISERROR(VLOOKUP($D86&\"@3\",'中間シート（個人）'!$F$6:$O$100,6,FALSE)&VLOOKUP($D86&\"@3\",'中間シート（個人）'!$F$6:$O$100,7,FALSE)&\".\"&VLOOKUP($D86&\"@3\",'中間シート（個人）'!$F$6:$O$100,8,FALSE)),\"\",VLOOKUP($D86&\"@3\",'中間シート（個人）'!$F$6:$O$100,6,FALSE)&VLOOKUP($D86&\"@3\",'中間シート（個人）'!$F$6:$O$100,7,FALSE)&\".\"&VLOOKUP($D86&\"@3\",'中間シート（個人）'!$F$6:$O$100,8,FALSE))","v":""},{"$f":"IF(ISERROR(VLOOKUP($D86&\"@4\",'中間シート（個人）'!$F$6:$O$100,4,FALSE)&VLOOKUP($D86&\"@4\",'中間シート（個人）'!$F$6:$O$100,5,FALSE)),\"\",VLOOKUP($D86&\"@4\",'中間シート（個人）'!$F$6:$O$100,4,FALSE)&VLOOKUP($D86&\"@4\",'中間シート（個人）'!$F$6:$O$100,5,FALSE))","v":""},{"$f":"IF(ISERROR(VLOOKUP($D86&\"@4\",'中間シート（個人）'!$F$6:$O$100,6,FALSE)&VLOOKUP($D86&\"@4\",'中間シート（個人）'!$F$6:$O$100,7,FALSE)&\".\"&VLOOKUP($D86&\"@4\",'中間シート（個人）'!$F$6:$O$100,8,FALSE)),\"\",VLOOKUP($D86&\"@4\",'中間シート（個人）'!$F$6:$O$100,6,FALSE)&VLOOKUP($D86&\"@4\",'中間シート（個人）'!$F$6:$O$100,7,FALSE)&\".\"&VLOOKUP($D86&\"@4\",'中間シート（個人）'!$F$6:$O$100,8,FALSE))","v":""},{"$f":"IF(ISERROR(VLOOKUP($D86&\"@5\",'中間シート（個人）'!$F$6:$O$100,4,FALSE)&VLOOKUP($D86&\"@5\",'中間シート（個人）'!$F$6:$O$100,5,FALSE)),\"\",VLOOKUP($D86&\"@5\",'中間シート（個人）'!$F$6:$O$100,4,FALSE)&VLOOKUP($D86&\"@5\",'中間シート（個人）'!$F$6:$O$100,5,FALSE))","v":""},{"$f":"IF(ISERROR(VLOOKUP($D86&\"@5\",'中間シート（個人）'!$F$6:$O$100,6,FALSE)&VLOOKUP($D86&\"@5\",'中間シート（個人）'!$F$6:$O$100,7,FALSE)&\".\"&VLOOKUP($D86&\"@5\",'中間シート（個人）'!$F$6:$O$100,8,FALSE)),\"\",VLOOKUP($D86&\"@5\",'中間シート（個人）'!$F$6:$O$100,6,FALSE)&VLOOKUP($D86&\"@5\",'中間シート（個人）'!$F$6:$O$100,7,FALSE)&\".\"&VLOOKUP($D86&\"@5\",'中間シート（個人）'!$F$6:$O$100,8,FALSE))","v":""},{"$f":"IF(ISERROR(VLOOKUP($D86&\"@6\",'中間シート（個人）'!$F$6:$O$100,4,FALSE)&VLOOKUP($D86&\"@6\",'中間シート（個人）'!$F$6:$O$100,5,FALSE)),\"\",VLOOKUP($D86&\"@6\",'中間シート（個人）'!$F$6:$O$100,4,FALSE)&VLOOKUP($D86&\"@6\",'中間シート（個人）'!$F$6:$O$100,5,FALSE))","v":""},{"$f":"IF(ISERROR(VLOOKUP($D86&\"@6\",'中間シート（個人）'!$F$6:$O$100,6,FALSE)&VLOOKUP($D86&\"@6\",'中間シート（個人）'!$F$6:$O$100,7,FALSE)&\".\"&VLOOKUP($D86&\"@6\",'中間シート（個人）'!$F$6:$O$100,8,FALSE)),\"\",VLOOKUP($D86&\"@6\",'中間シート（個人）'!$F$6:$O$100,6,FALSE)&VLOOKUP($D86&\"@6\",'中間シート（個人）'!$F$6:$O$100,7,FALSE)&\".\"&VLOOKUP($D86&\"@6\",'中間シート（個人）'!$F$6:$O$100,8,FALSE))","v":""},{"$f":"IF(ISERROR(VLOOKUP($D86&\"@7\",'中間シート（個人）'!$F$6:$O$100,4,FALSE)&VLOOKUP($D86&\"@7\",'中間シート（個人）'!$F$6:$O$100,5,FALSE)),\"\",VLOOKUP($D86&\"@7\",'中間シート（個人）'!$F$6:$O$100,4,FALSE)&VLOOKUP($D86&\"@7\",'中間シート（個人）'!$F$6:$O$100,5,FALSE))","v":""},{"$f":"IF(ISERROR(VLOOKUP($D86&\"@7\",'中間シート（個人）'!$F$6:$O$100,6,FALSE)&VLOOKUP($D86&\"@7\",'中間シート（個人）'!$F$6:$O$100,7,FALSE)&\".\"&VLOOKUP($D86&\"@7\",'中間シート（個人）'!$F$6:$O$100,8,FALSE)),\"\",VLOOKUP($D86&\"@7\",'中間シート（個人）'!$F$6:$O$100,6,FALSE)&VLOOKUP($D86&\"@7\",'中間シート（個人）'!$F$6:$O$100,7,FALSE)&\".\"&VLOOKUP($D86&\"@7\",'中間シート（個人）'!$F$6:$O$100,8,FALSE))","v":""},{"$f":"IF(ISERROR(VLOOKUP($D86&\"@8\",'中間シート（個人）'!$F$6:$O$100,4,FALSE)&VLOOKUP($D86&\"@8\",'中間シート（個人）'!$F$6:$O$100,5,FALSE)),\"\",VLOOKUP($D86&\"@8\",'中間シート（個人）'!$F$6:$O$100,4,FALSE)&VLOOKUP($D86&\"@8\",'中間シート（個人）'!$F$6:$O$100,5,FALSE))","v":""},{"$f":"IF(ISERROR(VLOOKUP($D86&\"@8\",'中間シート（個人）'!$F$6:$O$100,6,FALSE)&VLOOKUP($D86&\"@8\",'中間シート（個人）'!$F$6:$O$100,7,FALSE)&\".\"&VLOOKUP($D86&\"@8\",'中間シート（個人）'!$F$6:$O$100,8,FALSE)),\"\",VLOOKUP($D86&\"@8\",'中間シート（個人）'!$F$6:$O$100,6,FALSE)&VLOOKUP($D86&\"@8\",'中間シート（個人）'!$F$6:$O$100,7,FALSE)&\".\"&VLOOKUP($D86&\"@8\",'中間シート（個人）'!$F$6:$O$100,8,FALSE))","v":""},{"$f":"IF(ISERROR(VLOOKUP($D86&\"@9\",'中間シート（個人）'!$F$6:$O$100,4,FALSE)&VLOOKUP($D86&\"@9\",'中間シート（個人）'!$F$6:$O$100,5,FALSE)),\"\",VLOOKUP($D86&\"@9\",'中間シート（個人）'!$F$6:$O$100,4,FALSE)&VLOOKUP($D86&\"@9\",'中間シート（個人）'!$F$6:$O$100,5,FALSE))","v":""},{"$f":"IF(ISERROR(VLOOKUP($D86&\"@9\",'中間シート（個人）'!$F$6:$O$100,6,FALSE)&VLOOKUP($D86&\"@9\",'中間シート（個人）'!$F$6:$O$100,7,FALSE)&\".\"&VLOOKUP($D86&\"@9\",'中間シート（個人）'!$F$6:$O$100,8,FALSE)),\"\",VLOOKUP($D86&\"@9\",'中間シート（個人）'!$F$6:$O$100,6,FALSE)&VLOOKUP($D86&\"@9\",'中間シート（個人）'!$F$6:$O$100,7,FALSE)&\".\"&VLOOKUP($D86&\"@9\",'中間シート（個人）'!$F$6:$O$100,8,FALSE))","v":""},{"$f":"IF(ISERROR(VLOOKUP($D86&\"@10\",'中間シート（個人）'!$F$6:$O$100,4,FALSE)&VLOOKUP($D86&\"@10\",'中間シート（個人）'!$F$6:$O$100,5,FALSE)),\"\",VLOOKUP($D86&\"@10\",'中間シート（個人）'!$F$6:$O$100,4,FALSE)&VLOOKUP($D86&\"@10\",'中間シート（個人）'!$F$6:$O$100,5,FALSE))","v":""},{"$f":"IF(ISERROR(VLOOKUP($D86&\"@10\",'中間シート（個人）'!$F$6:$O$100,6,FALSE)&VLOOKUP($D86&\"@10\",'中間シート（個人）'!$F$6:$O$100,7,FALSE)&\".\"&VLOOKUP($D86&\"@10\",'中間シート（個人）'!$F$6:$O$100,8,FALSE)),\"\",VLOOKUP($D86&\"@10\",'中間シート（個人）'!$F$6:$O$100,6,FALSE)&VLOOKUP($D86&\"@10\",'中間シート（個人）'!$F$6:$O$100,7,FALSE)&\".\"&VLOOKUP($D86&\"@10\",'中間シート（個人）'!$F$6:$O$100,8,FALSE))","v":""}]
[null,null,{"$f":"IF('中間シート（個人）'!D89=\"○\",\"\",VLOOKUP(個人種目!F89,コード一覧!$A$2:$B$3,2,FALSE))","v":""},{"$f":"IF('中間シート（個人）'!D89=\"○\",\"\",'中間シート（個人）'!C89)","v":""},{"$f":"IF('中間シート（個人）'!D89=\"○\",\"\",ASC(個人種目!D89&\" \"&個人種目!E89))","v":""},{"$f":"IF('中間シート（個人）'!D89=\"○\",\"\",個人種目!G89&IF(LEN(個人種目!H89)=1,\"0\"&個人種目!H89,個人種目!H89)&IF(LEN(個人種目!I89)=1,\"0\"&個人種目!I89,個人種目!I89))","v":""},{"$f":"IF('中間シート（個人）'!D89=\"○\",\"\",VLOOKUP(個人種目!$J89,コード一覧!$C$3:$D$6,2,FALSE))","v":""},{"$f":"IF('中間シート（個人）'!D89=\"○\",\"\",IF(個人種目!$J89=\"一般\",0,個人種目!$K89))","v":""},{"$f":"IF('中間シート（個人）'!D89=\"○\",\"\",'中間シート（個人）'!H89)","v":""},null,{"$f":"IF('中間シート（個人）'!D89=\"○\",\"\",個人種目!$L$1)","v":""},{"$f":"IF('中間シート（個人）'!D89=\"○\",\"\",ASC(申込書_コナミ!$S$9))","v":""},{"$f":"IF('中間シート（個人）'!D89=\"○\",\"\",申込書_コナミ!$E$8)","v":""},null,null,null,{"$f":"IF('中間シート（個人）'!D89=\"○\",\"\",4)","v":""},{"$f":"IF(ISERROR(VLOOKUP($D87&\"@1\",'中間シート（個人）'!$F$6:$O$100,4,FALSE)&VLOOKUP($D87&\"@1\",'中間シート（個人）'!$F$6:$O$100,5,FALSE)),\"\",VLOOKUP($D87&\"@1\",'中間シート（個人）'!$F$6:$O$100,4,FALSE)&VLOOKUP($D87&\"@1\",'中間シート（個人）'!$F$6:$O$100,5,FALSE))","v":""},{"$f":"IF(ISERROR(VLOOKUP($D87&\"@1\",'中間シート（個人）'!$F$6:$O$100,6,FALSE)&VLOOKUP($D87&\"@1\",'中間シート（個人）'!$F$6:$O$100,7,FALSE)&\".\"&VLOOKUP($D87&\"@1\",'中間シート（個人）'!$F$6:$O$100,8,FALSE)),\"\",VLOOKUP($D87&\"@1\",'中間シート（個人）'!$F$6:$O$100,6,FALSE)&VLOOKUP($D87&\"@1\",'中間シート（個人）'!$F$6:$O$100,7,FALSE)&\".\"&VLOOKUP($D87&\"@1\",'中間シート（個人）'!$F$6:$O$100,8,FALSE))","v":""},{"$f":"IF(ISERROR(VLOOKUP($D87&\"@2\",'中間シート（個人）'!$F$6:$O$100,4,FALSE)&VLOOKUP($D87&\"@2\",'中間シート（個人）'!$F$6:$O$100,5,FALSE)),\"\",VLOOKUP($D87&\"@2\",'中間シート（個人）'!$F$6:$O$100,4,FALSE)&VLOOKUP($D87&\"@2\",'中間シート（個人）'!$F$6:$O$100,5,FALSE))","v":""},{"$f":"IF(ISERROR(VLOOKUP($D87&\"@2\",'中間シート（個人）'!$F$6:$O$100,6,FALSE)&VLOOKUP($D87&\"@2\",'中間シート（個人）'!$F$6:$O$100,7,FALSE)&\".\"&VLOOKUP($D87&\"@2\",'中間シート（個人）'!$F$6:$O$100,8,FALSE)),\"\",VLOOKUP($D87&\"@2\",'中間シート（個人）'!$F$6:$O$100,6,FALSE)&VLOOKUP($D87&\"@2\",'中間シート（個人）'!$F$6:$O$100,7,FALSE)&\".\"&VLOOKUP($D87&\"@2\",'中間シート（個人）'!$F$6:$O$100,8,FALSE))","v":""},{"$f":"IF(ISERROR(VLOOKUP($D87&\"@3\",'中間シート（個人）'!$F$6:$O$100,4,FALSE)&VLOOKUP($D87&\"@3\",'中間シート（個人）'!$F$6:$O$100,5,FALSE)),\"\",VLOOKUP($D87&\"@3\",'中間シート（個人）'!$F$6:$O$100,4,FALSE)&VLOOKUP($D87&\"@3\",'中間シート（個人）'!$F$6:$O$100,5,FALSE))","v":""},{"$f":"IF(ISERROR(VLOOKUP($D87&\"@3\",'中間シート（個人）'!$F$6:$O$100,6,FALSE)&VLOOKUP($D87&\"@3\",'中間シート（個人）'!$F$6:$O$100,7,FALSE)&\".\"&VLOOKUP($D87&\"@3\",'中間シート（個人）'!$F$6:$O$100,8,FALSE)),\"\",VLOOKUP($D87&\"@3\",'中間シート（個人）'!$F$6:$O$100,6,FALSE)&VLOOKUP($D87&\"@3\",'中間シート（個人）'!$F$6:$O$100,7,FALSE)&\".\"&VLOOKUP($D87&\"@3\",'中間シート（個人）'!$F$6:$O$100,8,FALSE))","v":""},{"$f":"IF(ISERROR(VLOOKUP($D87&\"@4\",'中間シート（個人）'!$F$6:$O$100,4,FALSE)&VLOOKUP($D87&\"@4\",'中間シート（個人）'!$F$6:$O$100,5,FALSE)),\"\",VLOOKUP($D87&\"@4\",'中間シート（個人）'!$F$6:$O$100,4,FALSE)&VLOOKUP($D87&\"@4\",'中間シート（個人）'!$F$6:$O$100,5,FALSE))","v":""},{"$f":"IF(ISERROR(VLOOKUP($D87&\"@4\",'中間シート（個人）'!$F$6:$O$100,6,FALSE)&VLOOKUP($D87&\"@4\",'中間シート（個人）'!$F$6:$O$100,7,FALSE)&\".\"&VLOOKUP($D87&\"@4\",'中間シート（個人）'!$F$6:$O$100,8,FALSE)),\"\",VLOOKUP($D87&\"@4\",'中間シート（個人）'!$F$6:$O$100,6,FALSE)&VLOOKUP($D87&\"@4\",'中間シート（個人）'!$F$6:$O$100,7,FALSE)&\".\"&VLOOKUP($D87&\"@4\",'中間シート（個人）'!$F$6:$O$100,8,FALSE))","v":""},{"$f":"IF(ISERROR(VLOOKUP($D87&\"@5\",'中間シート（個人）'!$F$6:$O$100,4,FALSE)&VLOOKUP($D87&\"@5\",'中間シート（個人）'!$F$6:$O$100,5,FALSE)),\"\",VLOOKUP($D87&\"@5\",'中間シート（個人）'!$F$6:$O$100,4,FALSE)&VLOOKUP($D87&\"@5\",'中間シート（個人）'!$F$6:$O$100,5,FALSE))","v":""},{"$f":"IF(ISERROR(VLOOKUP($D87&\"@5\",'中間シート（個人）'!$F$6:$O$100,6,FALSE)&VLOOKUP($D87&\"@5\",'中間シート（個人）'!$F$6:$O$100,7,FALSE)&\".\"&VLOOKUP($D87&\"@5\",'中間シート（個人）'!$F$6:$O$100,8,FALSE)),\"\",VLOOKUP($D87&\"@5\",'中間シート（個人）'!$F$6:$O$100,6,FALSE)&VLOOKUP($D87&\"@5\",'中間シート（個人）'!$F$6:$O$100,7,FALSE)&\".\"&VLOOKUP($D87&\"@5\",'中間シート（個人）'!$F$6:$O$100,8,FALSE))","v":""},{"$f":"IF(ISERROR(VLOOKUP($D87&\"@6\",'中間シート（個人）'!$F$6:$O$100,4,FALSE)&VLOOKUP($D87&\"@6\",'中間シート（個人）'!$F$6:$O$100,5,FALSE)),\"\",VLOOKUP($D87&\"@6\",'中間シート（個人）'!$F$6:$O$100,4,FALSE)&VLOOKUP($D87&\"@6\",'中間シート（個人）'!$F$6:$O$100,5,FALSE))","v":""},{"$f":"IF(ISERROR(VLOOKUP($D87&\"@6\",'中間シート（個人）'!$F$6:$O$100,6,FALSE)&VLOOKUP($D87&\"@6\",'中間シート（個人）'!$F$6:$O$100,7,FALSE)&\".\"&VLOOKUP($D87&\"@6\",'中間シート（個人）'!$F$6:$O$100,8,FALSE)),\"\",VLOOKUP($D87&\"@6\",'中間シート（個人）'!$F$6:$O$100,6,FALSE)&VLOOKUP($D87&\"@6\",'中間シート（個人）'!$F$6:$O$100,7,FALSE)&\".\"&VLOOKUP($D87&\"@6\",'中間シート（個人）'!$F$6:$O$100,8,FALSE))","v":""},{"$f":"IF(ISERROR(VLOOKUP($D87&\"@7\",'中間シート（個人）'!$F$6:$O$100,4,FALSE)&VLOOKUP($D87&\"@7\",'中間シート（個人）'!$F$6:$O$100,5,FALSE)),\"\",VLOOKUP($D87&\"@7\",'中間シート（個人）'!$F$6:$O$100,4,FALSE)&VLOOKUP($D87&\"@7\",'中間シート（個人）'!$F$6:$O$100,5,FALSE))","v":""},{"$f":"IF(ISERROR(VLOOKUP($D87&\"@7\",'中間シート（個人）'!$F$6:$O$100,6,FALSE)&VLOOKUP($D87&\"@7\",'中間シート（個人）'!$F$6:$O$100,7,FALSE)&\".\"&VLOOKUP($D87&\"@7\",'中間シート（個人）'!$F$6:$O$100,8,FALSE)),\"\",VLOOKUP($D87&\"@7\",'中間シート（個人）'!$F$6:$O$100,6,FALSE)&VLOOKUP($D87&\"@7\",'中間シート（個人）'!$F$6:$O$100,7,FALSE)&\".\"&VLOOKUP($D87&\"@7\",'中間シート（個人）'!$F$6:$O$100,8,FALSE))","v":""},{"$f":"IF(ISERROR(VLOOKUP($D87&\"@8\",'中間シート（個人）'!$F$6:$O$100,4,FALSE)&VLOOKUP($D87&\"@8\",'中間シート（個人）'!$F$6:$O$100,5,FALSE)),\"\",VLOOKUP($D87&\"@8\",'中間シート（個人）'!$F$6:$O$100,4,FALSE)&VLOOKUP($D87&\"@8\",'中間シート（個人）'!$F$6:$O$100,5,FALSE))","v":""},{"$f":"IF(ISERROR(VLOOKUP($D87&\"@8\",'中間シート（個人）'!$F$6:$O$100,6,FALSE)&VLOOKUP($D87&\"@8\",'中間シート（個人）'!$F$6:$O$100,7,FALSE)&\".\"&VLOOKUP($D87&\"@8\",'中間シート（個人）'!$F$6:$O$100,8,FALSE)),\"\",VLOOKUP($D87&\"@8\",'中間シート（個人）'!$F$6:$O$100,6,FALSE)&VLOOKUP($D87&\"@8\",'中間シート（個人）'!$F$6:$O$100,7,FALSE)&\".\"&VLOOKUP($D87&\"@8\",'中間シート（個人）'!$F$6:$O$100,8,FALSE))","v":""},{"$f":"IF(ISERROR(VLOOKUP($D87&\"@9\",'中間シート（個人）'!$F$6:$O$100,4,FALSE)&VLOOKUP($D87&\"@9\",'中間シート（個人）'!$F$6:$O$100,5,FALSE)),\"\",VLOOKUP($D87&\"@9\",'中間シート（個人）'!$F$6:$O$100,4,FALSE)&VLOOKUP($D87&\"@9\",'中間シート（個人）'!$F$6:$O$100,5,FALSE))","v":""},{"$f":"IF(ISERROR(VLOOKUP($D87&\"@9\",'中間シート（個人）'!$F$6:$O$100,6,FALSE)&VLOOKUP($D87&\"@9\",'中間シート（個人）'!$F$6:$O$100,7,FALSE)&\".\"&VLOOKUP($D87&\"@9\",'中間シート（個人）'!$F$6:$O$100,8,FALSE)),\"\",VLOOKUP($D87&\"@9\",'中間シート（個人）'!$F$6:$O$100,6,FALSE)&VLOOKUP($D87&\"@9\",'中間シート（個人）'!$F$6:$O$100,7,FALSE)&\".\"&VLOOKUP($D87&\"@9\",'中間シート（個人）'!$F$6:$O$100,8,FALSE))","v":""},{"$f":"IF(ISERROR(VLOOKUP($D87&\"@10\",'中間シート（個人）'!$F$6:$O$100,4,FALSE)&VLOOKUP($D87&\"@10\",'中間シート（個人）'!$F$6:$O$100,5,FALSE)),\"\",VLOOKUP($D87&\"@10\",'中間シート（個人）'!$F$6:$O$100,4,FALSE)&VLOOKUP($D87&\"@10\",'中間シート（個人）'!$F$6:$O$100,5,FALSE))","v":""},{"$f":"IF(ISERROR(VLOOKUP($D87&\"@10\",'中間シート（個人）'!$F$6:$O$100,6,FALSE)&VLOOKUP($D87&\"@10\",'中間シート（個人）'!$F$6:$O$100,7,FALSE)&\".\"&VLOOKUP($D87&\"@10\",'中間シート（個人）'!$F$6:$O$100,8,FALSE)),\"\",VLOOKUP($D87&\"@10\",'中間シート（個人）'!$F$6:$O$100,6,FALSE)&VLOOKUP($D87&\"@10\",'中間シート（個人）'!$F$6:$O$100,7,FALSE)&\".\"&VLOOKUP($D87&\"@10\",'中間シート（個人）'!$F$6:$O$100,8,FALSE))","v":""}]
[null,null,{"$f":"IF('中間シート（個人）'!D90=\"○\",\"\",VLOOKUP(個人種目!F90,コード一覧!$A$2:$B$3,2,FALSE))","v":""},{"$f":"IF('中間シート（個人）'!D90=\"○\",\"\",'中間シート（個人）'!C90)","v":""},{"$f":"IF('中間シート（個人）'!D90=\"○\",\"\",ASC(個人種目!D90&\" \"&個人種目!E90))","v":""},{"$f":"IF('中間シート（個人）'!D90=\"○\",\"\",個人種目!G90&IF(LEN(個人種目!H90)=1,\"0\"&個人種目!H90,個人種目!H90)&IF(LEN(個人種目!I90)=1,\"0\"&個人種目!I90,個人種目!I90))","v":""},{"$f":"IF('中間シート（個人）'!D90=\"○\",\"\",VLOOKUP(個人種目!$J90,コード一覧!$C$3:$D$6,2,FALSE))","v":""},{"$f":"IF('中間シート（個人）'!D90=\"○\",\"\",IF(個人種目!$J90=\"一般\",0,個人種目!$K90))","v":""},{"$f":"IF('中間シート（個人）'!D90=\"○\",\"\",'中間シート（個人）'!H90)","v":""},null,{"$f":"IF('中間シート（個人）'!D90=\"○\",\"\",個人種目!$L$1)","v":""},{"$f":"IF('中間シート（個人）'!D90=\"○\",\"\",ASC(申込書_コナミ!$S$9))","v":""},{"$f":"IF('中間シート（個人）'!D90=\"○\",\"\",申込書_コナミ!$E$8)","v":""},null,null,null,{"$f":"IF('中間シート（個人）'!D90=\"○\",\"\",4)","v":""},{"$f":"IF(ISERROR(VLOOKUP($D88&\"@1\",'中間シート（個人）'!$F$6:$O$100,4,FALSE)&VLOOKUP($D88&\"@1\",'中間シート（個人）'!$F$6:$O$100,5,FALSE)),\"\",VLOOKUP($D88&\"@1\",'中間シート（個人）'!$F$6:$O$100,4,FALSE)&VLOOKUP($D88&\"@1\",'中間シート（個人）'!$F$6:$O$100,5,FALSE))","v":""},{"$f":"IF(ISERROR(VLOOKUP($D88&\"@1\",'中間シート（個人）'!$F$6:$O$100,6,FALSE)&VLOOKUP($D88&\"@1\",'中間シート（個人）'!$F$6:$O$100,7,FALSE)&\".\"&VLOOKUP($D88&\"@1\",'中間シート（個人）'!$F$6:$O$100,8,FALSE)),\"\",VLOOKUP($D88&\"@1\",'中間シート（個人）'!$F$6:$O$100,6,FALSE)&VLOOKUP($D88&\"@1\",'中間シート（個人）'!$F$6:$O$100,7,FALSE)&\".\"&VLOOKUP($D88&\"@1\",'中間シート（個人）'!$F$6:$O$100,8,FALSE))","v":""},{"$f":"IF(ISERROR(VLOOKUP($D88&\"@2\",'中間シート（個人）'!$F$6:$O$100,4,FALSE)&VLOOKUP($D88&\"@2\",'中間シート（個人）'!$F$6:$O$100,5,FALSE)),\"\",VLOOKUP($D88&\"@2\",'中間シート（個人）'!$F$6:$O$100,4,FALSE)&VLOOKUP($D88&\"@2\",'中間シート（個人）'!$F$6:$O$100,5,FALSE))","v":""},{"$f":"IF(ISERROR(VLOOKUP($D88&\"@2\",'中間シート（個人）'!$F$6:$O$100,6,FALSE)&VLOOKUP($D88&\"@2\",'中間シート（個人）'!$F$6:$O$100,7,FALSE)&\".\"&VLOOKUP($D88&\"@2\",'中間シート（個人）'!$F$6:$O$100,8,FALSE)),\"\",VLOOKUP($D88&\"@2\",'中間シート（個人）'!$F$6:$O$100,6,FALSE)&VLOOKUP($D88&\"@2\",'中間シート（個人）'!$F$6:$O$100,7,FALSE)&\".\"&VLOOKUP($D88&\"@2\",'中間シート（個人）'!$F$6:$O$100,8,FALSE))","v":""},{"$f":"IF(ISERROR(VLOOKUP($D88&\"@3\",'中間シート（個人）'!$F$6:$O$100,4,FALSE)&VLOOKUP($D88&\"@3\",'中間シート（個人）'!$F$6:$O$100,5,FALSE)),\"\",VLOOKUP($D88&\"@3\",'中間シート（個人）'!$F$6:$O$100,4,FALSE)&VLOOKUP($D88&\"@3\",'中間シート（個人）'!$F$6:$O$100,5,FALSE))","v":""},{"$f":"IF(ISERROR(VLOOKUP($D88&\"@3\",'中間シート（個人）'!$F$6:$O$100,6,FALSE)&VLOOKUP($D88&\"@3\",'中間シート（個人）'!$F$6:$O$100,7,FALSE)&\".\"&VLOOKUP($D88&\"@3\",'中間シート（個人）'!$F$6:$O$100,8,FALSE)),\"\",VLOOKUP($D88&\"@3\",'中間シート（個人）'!$F$6:$O$100,6,FALSE)&VLOOKUP($D88&\"@3\",'中間シート（個人）'!$F$6:$O$100,7,FALSE)&\".\"&VLOOKUP($D88&\"@3\",'中間シート（個人）'!$F$6:$O$100,8,FALSE))","v":""},{"$f":"IF(ISERROR(VLOOKUP($D88&\"@4\",'中間シート（個人）'!$F$6:$O$100,4,FALSE)&VLOOKUP($D88&\"@4\",'中間シート（個人）'!$F$6:$O$100,5,FALSE)),\"\",VLOOKUP($D88&\"@4\",'中間シート（個人）'!$F$6:$O$100,4,FALSE)&VLOOKUP($D88&\"@4\",'中間シート（個人）'!$F$6:$O$100,5,FALSE))","v":""},{"$f":"IF(ISERROR(VLOOKUP($D88&\"@4\",'中間シート（個人）'!$F$6:$O$100,6,FALSE)&VLOOKUP($D88&\"@4\",'中間シート（個人）'!$F$6:$O$100,7,FALSE)&\".\"&VLOOKUP($D88&\"@4\",'中間シート（個人）'!$F$6:$O$100,8,FALSE)),\"\",VLOOKUP($D88&\"@4\",'中間シート（個人）'!$F$6:$O$100,6,FALSE)&VLOOKUP($D88&\"@4\",'中間シート（個人）'!$F$6:$O$100,7,FALSE)&\".\"&VLOOKUP($D88&\"@4\",'中間シート（個人）'!$F$6:$O$100,8,FALSE))","v":""},{"$f":"IF(ISERROR(VLOOKUP($D88&\"@5\",'中間シート（個人）'!$F$6:$O$100,4,FALSE)&VLOOKUP($D88&\"@5\",'中間シート（個人）'!$F$6:$O$100,5,FALSE)),\"\",VLOOKUP($D88&\"@5\",'中間シート（個人）'!$F$6:$O$100,4,FALSE)&VLOOKUP($D88&\"@5\",'中間シート（個人）'!$F$6:$O$100,5,FALSE))","v":""},{"$f":"IF(ISERROR(VLOOKUP($D88&\"@5\",'中間シート（個人）'!$F$6:$O$100,6,FALSE)&VLOOKUP($D88&\"@5\",'中間シート（個人）'!$F$6:$O$100,7,FALSE)&\".\"&VLOOKUP($D88&\"@5\",'中間シート（個人）'!$F$6:$O$100,8,FALSE)),\"\",VLOOKUP($D88&\"@5\",'中間シート（個人）'!$F$6:$O$100,6,FALSE)&VLOOKUP($D88&\"@5\",'中間シート（個人）'!$F$6:$O$100,7,FALSE)&\".\"&VLOOKUP($D88&\"@5\",'中間シート（個人）'!$F$6:$O$100,8,FALSE))","v":""},{"$f":"IF(ISERROR(VLOOKUP($D88&\"@6\",'中間シート（個人）'!$F$6:$O$100,4,FALSE)&VLOOKUP($D88&\"@6\",'中間シート（個人）'!$F$6:$O$100,5,FALSE)),\"\",VLOOKUP($D88&\"@6\",'中間シート（個人）'!$F$6:$O$100,4,FALSE)&VLOOKUP($D88&\"@6\",'中間シート（個人）'!$F$6:$O$100,5,FALSE))","v":""},{"$f":"IF(ISERROR(VLOOKUP($D88&\"@6\",'中間シート（個人）'!$F$6:$O$100,6,FALSE)&VLOOKUP($D88&\"@6\",'中間シート（個人）'!$F$6:$O$100,7,FALSE)&\".\"&VLOOKUP($D88&\"@6\",'中間シート（個人）'!$F$6:$O$100,8,FALSE)),\"\",VLOOKUP($D88&\"@6\",'中間シート（個人）'!$F$6:$O$100,6,FALSE)&VLOOKUP($D88&\"@6\",'中間シート（個人）'!$F$6:$O$100,7,FALSE)&\".\"&VLOOKUP($D88&\"@6\",'中間シート（個人）'!$F$6:$O$100,8,FALSE))","v":""},{"$f":"IF(ISERROR(VLOOKUP($D88&\"@7\",'中間シート（個人）'!$F$6:$O$100,4,FALSE)&VLOOKUP($D88&\"@7\",'中間シート（個人）'!$F$6:$O$100,5,FALSE)),\"\",VLOOKUP($D88&\"@7\",'中間シート（個人）'!$F$6:$O$100,4,FALSE)&VLOOKUP($D88&\"@7\",'中間シート（個人）'!$F$6:$O$100,5,FALSE))","v":""},{"$f":"IF(ISERROR(VLOOKUP($D88&\"@7\",'中間シート（個人）'!$F$6:$O$100,6,FALSE)&VLOOKUP($D88&\"@7\",'中間シート（個人）'!$F$6:$O$100,7,FALSE)&\".\"&VLOOKUP($D88&\"@7\",'中間シート（個人）'!$F$6:$O$100,8,FALSE)),\"\",VLOOKUP($D88&\"@7\",'中間シート（個人）'!$F$6:$O$100,6,FALSE)&VLOOKUP($D88&\"@7\",'中間シート（個人）'!$F$6:$O$100,7,FALSE)&\".\"&VLOOKUP($D88&\"@7\",'中間シート（個人）'!$F$6:$O$100,8,FALSE))","v":""},{"$f":"IF(ISERROR(VLOOKUP($D88&\"@8\",'中間シート（個人）'!$F$6:$O$100,4,FALSE)&VLOOKUP($D88&\"@8\",'中間シート（個人）'!$F$6:$O$100,5,FALSE)),\"\",VLOOKUP($D88&\"@8\",'中間シート（個人）'!$F$6:$O$100,4,FALSE)&VLOOKUP($D88&\"@8\",'中間シート（個人）'!$F$6:$O$100,5,FALSE))","v":""},{"$f":"IF(ISERROR(VLOOKUP($D88&\"@8\",'中間シート（個人）'!$F$6:$O$100,6,FALSE)&VLOOKUP($D88&\"@8\",'中間シート（個人）'!$F$6:$O$100,7,FALSE)&\".\"&VLOOKUP($D88&\"@8\",'中間シート（個人）'!$F$6:$O$100,8,FALSE)),\"\",VLOOKUP($D88&\"@8\",'中間シート（個人）'!$F$6:$O$100,6,FALSE)&VLOOKUP($D88&\"@8\",'中間シート（個人）'!$F$6:$O$100,7,FALSE)&\".\"&VLOOKUP($D88&\"@8\",'中間シート（個人）'!$F$6:$O$100,8,FALSE))","v":""},{"$f":"IF(ISERROR(VLOOKUP($D88&\"@9\",'中間シート（個人）'!$F$6:$O$100,4,FALSE)&VLOOKUP($D88&\"@9\",'中間シート（個人）'!$F$6:$O$100,5,FALSE)),\"\",VLOOKUP($D88&\"@9\",'中間シート（個人）'!$F$6:$O$100,4,FALSE)&VLOOKUP($D88&\"@9\",'中間シート（個人）'!$F$6:$O$100,5,FALSE))","v":""},{"$f":"IF(ISERROR(VLOOKUP($D88&\"@9\",'中間シート（個人）'!$F$6:$O$100,6,FALSE)&VLOOKUP($D88&\"@9\",'中間シート（個人）'!$F$6:$O$100,7,FALSE)&\".\"&VLOOKUP($D88&\"@9\",'中間シート（個人）'!$F$6:$O$100,8,FALSE)),\"\",VLOOKUP($D88&\"@9\",'中間シート（個人）'!$F$6:$O$100,6,FALSE)&VLOOKUP($D88&\"@9\",'中間シート（個人）'!$F$6:$O$100,7,FALSE)&\".\"&VLOOKUP($D88&\"@9\",'中間シート（個人）'!$F$6:$O$100,8,FALSE))","v":""},{"$f":"IF(ISERROR(VLOOKUP($D88&\"@10\",'中間シート（個人）'!$F$6:$O$100,4,FALSE)&VLOOKUP($D88&\"@10\",'中間シート（個人）'!$F$6:$O$100,5,FALSE)),\"\",VLOOKUP($D88&\"@10\",'中間シート（個人）'!$F$6:$O$100,4,FALSE)&VLOOKUP($D88&\"@10\",'中間シート（個人）'!$F$6:$O$100,5,FALSE))","v":""},{"$f":"IF(ISERROR(VLOOKUP($D88&\"@10\",'中間シート（個人）'!$F$6:$O$100,6,FALSE)&VLOOKUP($D88&\"@10\",'中間シート（個人）'!$F$6:$O$100,7,FALSE)&\".\"&VLOOKUP($D88&\"@10\",'中間シート（個人）'!$F$6:$O$100,8,FALSE)),\"\",VLOOKUP($D88&\"@10\",'中間シート（個人）'!$F$6:$O$100,6,FALSE)&VLOOKUP($D88&\"@10\",'中間シート（個人）'!$F$6:$O$100,7,FALSE)&\".\"&VLOOKUP($D88&\"@10\",'中間シート（個人）'!$F$6:$O$100,8,FALSE))","v":""}]
[null,null,{"$f":"IF('中間シート（個人）'!D91=\"○\",\"\",VLOOKUP(個人種目!F91,コード一覧!$A$2:$B$3,2,FALSE))","v":""},{"$f":"IF('中間シート（個人）'!D91=\"○\",\"\",'中間シート（個人）'!C91)","v":""},{"$f":"IF('中間シート（個人）'!D91=\"○\",\"\",ASC(個人種目!D91&\" \"&個人種目!E91))","v":""},{"$f":"IF('中間シート（個人）'!D91=\"○\",\"\",個人種目!G91&IF(LEN(個人種目!H91)=1,\"0\"&個人種目!H91,個人種目!H91)&IF(LEN(個人種目!I91)=1,\"0\"&個人種目!I91,個人種目!I91))","v":""},{"$f":"IF('中間シート（個人）'!D91=\"○\",\"\",VLOOKUP(個人種目!$J91,コード一覧!$C$3:$D$6,2,FALSE))","v":""},{"$f":"IF('中間シート（個人）'!D91=\"○\",\"\",IF(個人種目!$J91=\"一般\",0,個人種目!$K91))","v":""},{"$f":"IF('中間シート（個人）'!D91=\"○\",\"\",'中間シート（個人）'!H91)","v":""},null,{"$f":"IF('中間シート（個人）'!D91=\"○\",\"\",個人種目!$L$1)","v":""},{"$f":"IF('中間シート（個人）'!D91=\"○\",\"\",ASC(申込書_コナミ!$S$9))","v":""},{"$f":"IF('中間シート（個人）'!D91=\"○\",\"\",申込書_コナミ!$E$8)","v":""},null,null,null,{"$f":"IF('中間シート（個人）'!D91=\"○\",\"\",4)","v":""},{"$f":"IF(ISERROR(VLOOKUP($D89&\"@1\",'中間シート（個人）'!$F$6:$O$100,4,FALSE)&VLOOKUP($D89&\"@1\",'中間シート（個人）'!$F$6:$O$100,5,FALSE)),\"\",VLOOKUP($D89&\"@1\",'中間シート（個人）'!$F$6:$O$100,4,FALSE)&VLOOKUP($D89&\"@1\",'中間シート（個人）'!$F$6:$O$100,5,FALSE))","v":""},{"$f":"IF(ISERROR(VLOOKUP($D89&\"@1\",'中間シート（個人）'!$F$6:$O$100,6,FALSE)&VLOOKUP($D89&\"@1\",'中間シート（個人）'!$F$6:$O$100,7,FALSE)&\".\"&VLOOKUP($D89&\"@1\",'中間シート（個人）'!$F$6:$O$100,8,FALSE)),\"\",VLOOKUP($D89&\"@1\",'中間シート（個人）'!$F$6:$O$100,6,FALSE)&VLOOKUP($D89&\"@1\",'中間シート（個人）'!$F$6:$O$100,7,FALSE)&\".\"&VLOOKUP($D89&\"@1\",'中間シート（個人）'!$F$6:$O$100,8,FALSE))","v":""},{"$f":"IF(ISERROR(VLOOKUP($D89&\"@2\",'中間シート（個人）'!$F$6:$O$100,4,FALSE)&VLOOKUP($D89&\"@2\",'中間シート（個人）'!$F$6:$O$100,5,FALSE)),\"\",VLOOKUP($D89&\"@2\",'中間シート（個人）'!$F$6:$O$100,4,FALSE)&VLOOKUP($D89&\"@2\",'中間シート（個人）'!$F$6:$O$100,5,FALSE))","v":""},{"$f":"IF(ISERROR(VLOOKUP($D89&\"@2\",'中間シート（個人）'!$F$6:$O$100,6,FALSE)&VLOOKUP($D89&\"@2\",'中間シート（個人）'!$F$6:$O$100,7,FALSE)&\".\"&VLOOKUP($D89&\"@2\",'中間シート（個人）'!$F$6:$O$100,8,FALSE)),\"\",VLOOKUP($D89&\"@2\",'中間シート（個人）'!$F$6:$O$100,6,FALSE)&VLOOKUP($D89&\"@2\",'中間シート（個人）'!$F$6:$O$100,7,FALSE)&\".\"&VLOOKUP($D89&\"@2\",'中間シート（個人）'!$F$6:$O$100,8,FALSE))","v":""},{"$f":"IF(ISERROR(VLOOKUP($D89&\"@3\",'中間シート（個人）'!$F$6:$O$100,4,FALSE)&VLOOKUP($D89&\"@3\",'中間シート（個人）'!$F$6:$O$100,5,FALSE)),\"\",VLOOKUP($D89&\"@3\",'中間シート（個人）'!$F$6:$O$100,4,FALSE)&VLOOKUP($D89&\"@3\",'中間シート（個人）'!$F$6:$O$100,5,FALSE))","v":""},{"$f":"IF(ISERROR(VLOOKUP($D89&\"@3\",'中間シート（個人）'!$F$6:$O$100,6,FALSE)&VLOOKUP($D89&\"@3\",'中間シート（個人）'!$F$6:$O$100,7,FALSE)&\".\"&VLOOKUP($D89&\"@3\",'中間シート（個人）'!$F$6:$O$100,8,FALSE)),\"\",VLOOKUP($D89&\"@3\",'中間シート（個人）'!$F$6:$O$100,6,FALSE)&VLOOKUP($D89&\"@3\",'中間シート（個人）'!$F$6:$O$100,7,FALSE)&\".\"&VLOOKUP($D89&\"@3\",'中間シート（個人）'!$F$6:$O$100,8,FALSE))","v":""},{"$f":"IF(ISERROR(VLOOKUP($D89&\"@4\",'中間シート（個人）'!$F$6:$O$100,4,FALSE)&VLOOKUP($D89&\"@4\",'中間シート（個人）'!$F$6:$O$100,5,FALSE)),\"\",VLOOKUP($D89&\"@4\",'中間シート（個人）'!$F$6:$O$100,4,FALSE)&VLOOKUP($D89&\"@4\",'中間シート（個人）'!$F$6:$O$100,5,FALSE))","v":""},{"$f":"IF(ISERROR(VLOOKUP($D89&\"@4\",'中間シート（個人）'!$F$6:$O$100,6,FALSE)&VLOOKUP($D89&\"@4\",'中間シート（個人）'!$F$6:$O$100,7,FALSE)&\".\"&VLOOKUP($D89&\"@4\",'中間シート（個人）'!$F$6:$O$100,8,FALSE)),\"\",VLOOKUP($D89&\"@4\",'中間シート（個人）'!$F$6:$O$100,6,FALSE)&VLOOKUP($D89&\"@4\",'中間シート（個人）'!$F$6:$O$100,7,FALSE)&\".\"&VLOOKUP($D89&\"@4\",'中間シート（個人）'!$F$6:$O$100,8,FALSE))","v":""},{"$f":"IF(ISERROR(VLOOKUP($D89&\"@5\",'中間シート（個人）'!$F$6:$O$100,4,FALSE)&VLOOKUP($D89&\"@5\",'中間シート（個人）'!$F$6:$O$100,5,FALSE)),\"\",VLOOKUP($D89&\"@5\",'中間シート（個人）'!$F$6:$O$100,4,FALSE)&VLOOKUP($D89&\"@5\",'中間シート（個人）'!$F$6:$O$100,5,FALSE))","v":""},{"$f":"IF(ISERROR(VLOOKUP($D89&\"@5\",'中間シート（個人）'!$F$6:$O$100,6,FALSE)&VLOOKUP($D89&\"@5\",'中間シート（個人）'!$F$6:$O$100,7,FALSE)&\".\"&VLOOKUP($D89&\"@5\",'中間シート（個人）'!$F$6:$O$100,8,FALSE)),\"\",VLOOKUP($D89&\"@5\",'中間シート（個人）'!$F$6:$O$100,6,FALSE)&VLOOKUP($D89&\"@5\",'中間シート（個人）'!$F$6:$O$100,7,FALSE)&\".\"&VLOOKUP($D89&\"@5\",'中間シート（個人）'!$F$6:$O$100,8,FALSE))","v":""},{"$f":"IF(ISERROR(VLOOKUP($D89&\"@6\",'中間シート（個人）'!$F$6:$O$100,4,FALSE)&VLOOKUP($D89&\"@6\",'中間シート（個人）'!$F$6:$O$100,5,FALSE)),\"\",VLOOKUP($D89&\"@6\",'中間シート（個人）'!$F$6:$O$100,4,FALSE)&VLOOKUP($D89&\"@6\",'中間シート（個人）'!$F$6:$O$100,5,FALSE))","v":""},{"$f":"IF(ISERROR(VLOOKUP($D89&\"@6\",'中間シート（個人）'!$F$6:$O$100,6,FALSE)&VLOOKUP($D89&\"@6\",'中間シート（個人）'!$F$6:$O$100,7,FALSE)&\".\"&VLOOKUP($D89&\"@6\",'中間シート（個人）'!$F$6:$O$100,8,FALSE)),\"\",VLOOKUP($D89&\"@6\",'中間シート（個人）'!$F$6:$O$100,6,FALSE)&VLOOKUP($D89&\"@6\",'中間シート（個人）'!$F$6:$O$100,7,FALSE)&\".\"&VLOOKUP($D89&\"@6\",'中間シート（個人）'!$F$6:$O$100,8,FALSE))","v":""},{"$f":"IF(ISERROR(VLOOKUP($D89&\"@7\",'中間シート（個人）'!$F$6:$O$100,4,FALSE)&VLOOKUP($D89&\"@7\",'中間シート（個人）'!$F$6:$O$100,5,FALSE)),\"\",VLOOKUP($D89&\"@7\",'中間シート（個人）'!$F$6:$O$100,4,FALSE)&VLOOKUP($D89&\"@7\",'中間シート（個人）'!$F$6:$O$100,5,FALSE))","v":""},{"$f":"IF(ISERROR(VLOOKUP($D89&\"@7\",'中間シート（個人）'!$F$6:$O$100,6,FALSE)&VLOOKUP($D89&\"@7\",'中間シート（個人）'!$F$6:$O$100,7,FALSE)&\".\"&VLOOKUP($D89&\"@7\",'中間シート（個人）'!$F$6:$O$100,8,FALSE)),\"\",VLOOKUP($D89&\"@7\",'中間シート（個人）'!$F$6:$O$100,6,FALSE)&VLOOKUP($D89&\"@7\",'中間シート（個人）'!$F$6:$O$100,7,FALSE)&\".\"&VLOOKUP($D89&\"@7\",'中間シート（個人）'!$F$6:$O$100,8,FALSE))","v":""},{"$f":"IF(ISERROR(VLOOKUP($D89&\"@8\",'中間シート（個人）'!$F$6:$O$100,4,FALSE)&VLOOKUP($D89&\"@8\",'中間シート（個人）'!$F$6:$O$100,5,FALSE)),\"\",VLOOKUP($D89&\"@8\",'中間シート（個人）'!$F$6:$O$100,4,FALSE)&VLOOKUP($D89&\"@8\",'中間シート（個人）'!$F$6:$O$100,5,FALSE))","v":""},{"$f":"IF(ISERROR(VLOOKUP($D89&\"@8\",'中間シート（個人）'!$F$6:$O$100,6,FALSE)&VLOOKUP($D89&\"@8\",'中間シート（個人）'!$F$6:$O$100,7,FALSE)&\".\"&VLOOKUP($D89&\"@8\",'中間シート（個人）'!$F$6:$O$100,8,FALSE)),\"\",VLOOKUP($D89&\"@8\",'中間シート（個人）'!$F$6:$O$100,6,FALSE)&VLOOKUP($D89&\"@8\",'中間シート（個人）'!$F$6:$O$100,7,FALSE)&\".\"&VLOOKUP($D89&\"@8\",'中間シート（個人）'!$F$6:$O$100,8,FALSE))","v":""},{"$f":"IF(ISERROR(VLOOKUP($D89&\"@9\",'中間シート（個人）'!$F$6:$O$100,4,FALSE)&VLOOKUP($D89&\"@9\",'中間シート（個人）'!$F$6:$O$100,5,FALSE)),\"\",VLOOKUP($D89&\"@9\",'中間シート（個人）'!$F$6:$O$100,4,FALSE)&VLOOKUP($D89&\"@9\",'中間シート（個人）'!$F$6:$O$100,5,FALSE))","v":""},{"$f":"IF(ISERROR(VLOOKUP($D89&\"@9\",'中間シート（個人）'!$F$6:$O$100,6,FALSE)&VLOOKUP($D89&\"@9\",'中間シート（個人）'!$F$6:$O$100,7,FALSE)&\".\"&VLOOKUP($D89&\"@9\",'中間シート（個人）'!$F$6:$O$100,8,FALSE)),\"\",VLOOKUP($D89&\"@9\",'中間シート（個人）'!$F$6:$O$100,6,FALSE)&VLOOKUP($D89&\"@9\",'中間シート（個人）'!$F$6:$O$100,7,FALSE)&\".\"&VLOOKUP($D89&\"@9\",'中間シート（個人）'!$F$6:$O$100,8,FALSE))","v":""},{"$f":"IF(ISERROR(VLOOKUP($D89&\"@10\",'中間シート（個人）'!$F$6:$O$100,4,FALSE)&VLOOKUP($D89&\"@10\",'中間シート（個人）'!$F$6:$O$100,5,FALSE)),\"\",VLOOKUP($D89&\"@10\",'中間シート（個人）'!$F$6:$O$100,4,FALSE)&VLOOKUP($D89&\"@10\",'中間シート（個人）'!$F$6:$O$100,5,FALSE))","v":""},{"$f":"IF(ISERROR(VLOOKUP($D89&\"@10\",'中間シート（個人）'!$F$6:$O$100,6,FALSE)&VLOOKUP($D89&\"@10\",'中間シート（個人）'!$F$6:$O$100,7,FALSE)&\".\"&VLOOKUP($D89&\"@10\",'中間シート（個人）'!$F$6:$O$100,8,FALSE)),\"\",VLOOKUP($D89&\"@10\",'中間シート（個人）'!$F$6:$O$100,6,FALSE)&VLOOKUP($D89&\"@10\",'中間シート（個人）'!$F$6:$O$100,7,FALSE)&\".\"&VLOOKUP($D89&\"@10\",'中間シート（個人）'!$F$6:$O$100,8,FALSE))","v":""}]
[null,null,{"$f":"IF('中間シート（個人）'!D92=\"○\",\"\",VLOOKUP(個人種目!F92,コード一覧!$A$2:$B$3,2,FALSE))","v":""},{"$f":"IF('中間シート（個人）'!D92=\"○\",\"\",'中間シート（個人）'!C92)","v":""},{"$f":"IF('中間シート（個人）'!D92=\"○\",\"\",ASC(個人種目!D92&\" \"&個人種目!E92))","v":""},{"$f":"IF('中間シート（個人）'!D92=\"○\",\"\",個人種目!G92&IF(LEN(個人種目!H92)=1,\"0\"&個人種目!H92,個人種目!H92)&IF(LEN(個人種目!I92)=1,\"0\"&個人種目!I92,個人種目!I92))","v":""},{"$f":"IF('中間シート（個人）'!D92=\"○\",\"\",VLOOKUP(個人種目!$J92,コード一覧!$C$3:$D$6,2,FALSE))","v":""},{"$f":"IF('中間シート（個人）'!D92=\"○\",\"\",IF(個人種目!$J92=\"一般\",0,個人種目!$K92))","v":""},{"$f":"IF('中間シート（個人）'!D92=\"○\",\"\",'中間シート（個人）'!H92)","v":""},null,{"$f":"IF('中間シート（個人）'!D92=\"○\",\"\",個人種目!$L$1)","v":""},{"$f":"IF('中間シート（個人）'!D92=\"○\",\"\",ASC(申込書_コナミ!$S$9))","v":""},{"$f":"IF('中間シート（個人）'!D92=\"○\",\"\",申込書_コナミ!$E$8)","v":""},null,null,null,{"$f":"IF('中間シート（個人）'!D92=\"○\",\"\",4)","v":""},{"$f":"IF(ISERROR(VLOOKUP($D90&\"@1\",'中間シート（個人）'!$F$6:$O$100,4,FALSE)&VLOOKUP($D90&\"@1\",'中間シート（個人）'!$F$6:$O$100,5,FALSE)),\"\",VLOOKUP($D90&\"@1\",'中間シート（個人）'!$F$6:$O$100,4,FALSE)&VLOOKUP($D90&\"@1\",'中間シート（個人）'!$F$6:$O$100,5,FALSE))","v":""},{"$f":"IF(ISERROR(VLOOKUP($D90&\"@1\",'中間シート（個人）'!$F$6:$O$100,6,FALSE)&VLOOKUP($D90&\"@1\",'中間シート（個人）'!$F$6:$O$100,7,FALSE)&\".\"&VLOOKUP($D90&\"@1\",'中間シート（個人）'!$F$6:$O$100,8,FALSE)),\"\",VLOOKUP($D90&\"@1\",'中間シート（個人）'!$F$6:$O$100,6,FALSE)&VLOOKUP($D90&\"@1\",'中間シート（個人）'!$F$6:$O$100,7,FALSE)&\".\"&VLOOKUP($D90&\"@1\",'中間シート（個人）'!$F$6:$O$100,8,FALSE))","v":""},{"$f":"IF(ISERROR(VLOOKUP($D90&\"@2\",'中間シート（個人）'!$F$6:$O$100,4,FALSE)&VLOOKUP($D90&\"@2\",'中間シート（個人）'!$F$6:$O$100,5,FALSE)),\"\",VLOOKUP($D90&\"@2\",'中間シート（個人）'!$F$6:$O$100,4,FALSE)&VLOOKUP($D90&\"@2\",'中間シート（個人）'!$F$6:$O$100,5,FALSE))","v":""},{"$f":"IF(ISERROR(VLOOKUP($D90&\"@2\",'中間シート（個人）'!$F$6:$O$100,6,FALSE)&VLOOKUP($D90&\"@2\",'中間シート（個人）'!$F$6:$O$100,7,FALSE)&\".\"&VLOOKUP($D90&\"@2\",'中間シート（個人）'!$F$6:$O$100,8,FALSE)),\"\",VLOOKUP($D90&\"@2\",'中間シート（個人）'!$F$6:$O$100,6,FALSE)&VLOOKUP($D90&\"@2\",'中間シート（個人）'!$F$6:$O$100,7,FALSE)&\".\"&VLOOKUP($D90&\"@2\",'中間シート（個人）'!$F$6:$O$100,8,FALSE))","v":""},{"$f":"IF(ISERROR(VLOOKUP($D90&\"@3\",'中間シート（個人）'!$F$6:$O$100,4,FALSE)&VLOOKUP($D90&\"@3\",'中間シート（個人）'!$F$6:$O$100,5,FALSE)),\"\",VLOOKUP($D90&\"@3\",'中間シート（個人）'!$F$6:$O$100,4,FALSE)&VLOOKUP($D90&\"@3\",'中間シート（個人）'!$F$6:$O$100,5,FALSE))","v":""},{"$f":"IF(ISERROR(VLOOKUP($D90&\"@3\",'中間シート（個人）'!$F$6:$O$100,6,FALSE)&VLOOKUP($D90&\"@3\",'中間シート（個人）'!$F$6:$O$100,7,FALSE)&\".\"&VLOOKUP($D90&\"@3\",'中間シート（個人）'!$F$6:$O$100,8,FALSE)),\"\",VLOOKUP($D90&\"@3\",'中間シート（個人）'!$F$6:$O$100,6,FALSE)&VLOOKUP($D90&\"@3\",'中間シート（個人）'!$F$6:$O$100,7,FALSE)&\".\"&VLOOKUP($D90&\"@3\",'中間シート（個人）'!$F$6:$O$100,8,FALSE))","v":""},{"$f":"IF(ISERROR(VLOOKUP($D90&\"@4\",'中間シート（個人）'!$F$6:$O$100,4,FALSE)&VLOOKUP($D90&\"@4\",'中間シート（個人）'!$F$6:$O$100,5,FALSE)),\"\",VLOOKUP($D90&\"@4\",'中間シート（個人）'!$F$6:$O$100,4,FALSE)&VLOOKUP($D90&\"@4\",'中間シート（個人）'!$F$6:$O$100,5,FALSE))","v":""},{"$f":"IF(ISERROR(VLOOKUP($D90&\"@4\",'中間シート（個人）'!$F$6:$O$100,6,FALSE)&VLOOKUP($D90&\"@4\",'中間シート（個人）'!$F$6:$O$100,7,FALSE)&\".\"&VLOOKUP($D90&\"@4\",'中間シート（個人）'!$F$6:$O$100,8,FALSE)),\"\",VLOOKUP($D90&\"@4\",'中間シート（個人）'!$F$6:$O$100,6,FALSE)&VLOOKUP($D90&\"@4\",'中間シート（個人）'!$F$6:$O$100,7,FALSE)&\".\"&VLOOKUP($D90&\"@4\",'中間シート（個人）'!$F$6:$O$100,8,FALSE))","v":""},{"$f":"IF(ISERROR(VLOOKUP($D90&\"@5\",'中間シート（個人）'!$F$6:$O$100,4,FALSE)&VLOOKUP($D90&\"@5\",'中間シート（個人）'!$F$6:$O$100,5,FALSE)),\"\",VLOOKUP($D90&\"@5\",'中間シート（個人）'!$F$6:$O$100,4,FALSE)&VLOOKUP($D90&\"@5\",'中間シート（個人）'!$F$6:$O$100,5,FALSE))","v":""},{"$f":"IF(ISERROR(VLOOKUP($D90&\"@5\",'中間シート（個人）'!$F$6:$O$100,6,FALSE)&VLOOKUP($D90&\"@5\",'中間シート（個人）'!$F$6:$O$100,7,FALSE)&\".\"&VLOOKUP($D90&\"@5\",'中間シート（個人）'!$F$6:$O$100,8,FALSE)),\"\",VLOOKUP($D90&\"@5\",'中間シート（個人）'!$F$6:$O$100,6,FALSE)&VLOOKUP($D90&\"@5\",'中間シート（個人）'!$F$6:$O$100,7,FALSE)&\".\"&VLOOKUP($D90&\"@5\",'中間シート（個人）'!$F$6:$O$100,8,FALSE))","v":""},{"$f":"IF(ISERROR(VLOOKUP($D90&\"@6\",'中間シート（個人）'!$F$6:$O$100,4,FALSE)&VLOOKUP($D90&\"@6\",'中間シート（個人）'!$F$6:$O$100,5,FALSE)),\"\",VLOOKUP($D90&\"@6\",'中間シート（個人）'!$F$6:$O$100,4,FALSE)&VLOOKUP($D90&\"@6\",'中間シート（個人）'!$F$6:$O$100,5,FALSE))","v":""},{"$f":"IF(ISERROR(VLOOKUP($D90&\"@6\",'中間シート（個人）'!$F$6:$O$100,6,FALSE)&VLOOKUP($D90&\"@6\",'中間シート（個人）'!$F$6:$O$100,7,FALSE)&\".\"&VLOOKUP($D90&\"@6\",'中間シート（個人）'!$F$6:$O$100,8,FALSE)),\"\",VLOOKUP($D90&\"@6\",'中間シート（個人）'!$F$6:$O$100,6,FALSE)&VLOOKUP($D90&\"@6\",'中間シート（個人）'!$F$6:$O$100,7,FALSE)&\".\"&VLOOKUP($D90&\"@6\",'中間シート（個人）'!$F$6:$O$100,8,FALSE))","v":""},{"$f":"IF(ISERROR(VLOOKUP($D90&\"@7\",'中間シート（個人）'!$F$6:$O$100,4,FALSE)&VLOOKUP($D90&\"@7\",'中間シート（個人）'!$F$6:$O$100,5,FALSE)),\"\",VLOOKUP($D90&\"@7\",'中間シート（個人）'!$F$6:$O$100,4,FALSE)&VLOOKUP($D90&\"@7\",'中間シート（個人）'!$F$6:$O$100,5,FALSE))","v":""},{"$f":"IF(ISERROR(VLOOKUP($D90&\"@7\",'中間シート（個人）'!$F$6:$O$100,6,FALSE)&VLOOKUP($D90&\"@7\",'中間シート（個人）'!$F$6:$O$100,7,FALSE)&\".\"&VLOOKUP($D90&\"@7\",'中間シート（個人）'!$F$6:$O$100,8,FALSE)),\"\",VLOOKUP($D90&\"@7\",'中間シート（個人）'!$F$6:$O$100,6,FALSE)&VLOOKUP($D90&\"@7\",'中間シート（個人）'!$F$6:$O$100,7,FALSE)&\".\"&VLOOKUP($D90&\"@7\",'中間シート（個人）'!$F$6:$O$100,8,FALSE))","v":""},{"$f":"IF(ISERROR(VLOOKUP($D90&\"@8\",'中間シート（個人）'!$F$6:$O$100,4,FALSE)&VLOOKUP($D90&\"@8\",'中間シート（個人）'!$F$6:$O$100,5,FALSE)),\"\",VLOOKUP($D90&\"@8\",'中間シート（個人）'!$F$6:$O$100,4,FALSE)&VLOOKUP($D90&\"@8\",'中間シート（個人）'!$F$6:$O$100,5,FALSE))","v":""},{"$f":"IF(ISERROR(VLOOKUP($D90&\"@8\",'中間シート（個人）'!$F$6:$O$100,6,FALSE)&VLOOKUP($D90&\"@8\",'中間シート（個人）'!$F$6:$O$100,7,FALSE)&\".\"&VLOOKUP($D90&\"@8\",'中間シート（個人）'!$F$6:$O$100,8,FALSE)),\"\",VLOOKUP($D90&\"@8\",'中間シート（個人）'!$F$6:$O$100,6,FALSE)&VLOOKUP($D90&\"@8\",'中間シート（個人）'!$F$6:$O$100,7,FALSE)&\".\"&VLOOKUP($D90&\"@8\",'中間シート（個人）'!$F$6:$O$100,8,FALSE))","v":""},{"$f":"IF(ISERROR(VLOOKUP($D90&\"@9\",'中間シート（個人）'!$F$6:$O$100,4,FALSE)&VLOOKUP($D90&\"@9\",'中間シート（個人）'!$F$6:$O$100,5,FALSE)),\"\",VLOOKUP($D90&\"@9\",'中間シート（個人）'!$F$6:$O$100,4,FALSE)&VLOOKUP($D90&\"@9\",'中間シート（個人）'!$F$6:$O$100,5,FALSE))","v":""},{"$f":"IF(ISERROR(VLOOKUP($D90&\"@9\",'中間シート（個人）'!$F$6:$O$100,6,FALSE)&VLOOKUP($D90&\"@9\",'中間シート（個人）'!$F$6:$O$100,7,FALSE)&\".\"&VLOOKUP($D90&\"@9\",'中間シート（個人）'!$F$6:$O$100,8,FALSE)),\"\",VLOOKUP($D90&\"@9\",'中間シート（個人）'!$F$6:$O$100,6,FALSE)&VLOOKUP($D90&\"@9\",'中間シート（個人）'!$F$6:$O$100,7,FALSE)&\".\"&VLOOKUP($D90&\"@9\",'中間シート（個人）'!$F$6:$O$100,8,FALSE))","v":""},{"$f":"IF(ISERROR(VLOOKUP($D90&\"@10\",'中間シート（個人）'!$F$6:$O$100,4,FALSE)&VLOOKUP($D90&\"@10\",'中間シート（個人）'!$F$6:$O$100,5,FALSE)),\"\",VLOOKUP($D90&\"@10\",'中間シート（個人）'!$F$6:$O$100,4,FALSE)&VLOOKUP($D90&\"@10\",'中間シート（個人）'!$F$6:$O$100,5,FALSE))","v":""},{"$f":"IF(ISERROR(VLOOKUP($D90&\"@10\",'中間シート（個人）'!$F$6:$O$100,6,FALSE)&VLOOKUP($D90&\"@10\",'中間シート（個人）'!$F$6:$O$100,7,FALSE)&\".\"&VLOOKUP($D90&\"@10\",'中間シート（個人）'!$F$6:$O$100,8,FALSE)),\"\",VLOOKUP($D90&\"@10\",'中間シート（個人）'!$F$6:$O$100,6,FALSE)&VLOOKUP($D90&\"@10\",'中間シート（個人）'!$F$6:$O$100,7,FALSE)&\".\"&VLOOKUP($D90&\"@10\",'中間シート（個人）'!$F$6:$O$100,8,FALSE))","v":""}]
[null,null,{"$f":"IF('中間シート（個人）'!D93=\"○\",\"\",VLOOKUP(個人種目!F93,コード一覧!$A$2:$B$3,2,FALSE))","v":""},{"$f":"IF('中間シート（個人）'!D93=\"○\",\"\",'中間シート（個人）'!C93)","v":""},{"$f":"IF('中間シート（個人）'!D93=\"○\",\"\",ASC(個人種目!D93&\" \"&個人種目!E93))","v":""},{"$f":"IF('中間シート（個人）'!D93=\"○\",\"\",個人種目!G93&IF(LEN(個人種目!H93)=1,\"0\"&個人種目!H93,個人種目!H93)&IF(LEN(個人種目!I93)=1,\"0\"&個人種目!I93,個人種目!I93))","v":""},{"$f":"IF('中間シート（個人）'!D93=\"○\",\"\",VLOOKUP(個人種目!$J93,コード一覧!$C$3:$D$6,2,FALSE))","v":""},{"$f":"IF('中間シート（個人）'!D93=\"○\",\"\",IF(個人種目!$J93=\"一般\",0,個人種目!$K93))","v":""},{"$f":"IF('中間シート（個人）'!D93=\"○\",\"\",'中間シート（個人）'!H93)","v":""},null,{"$f":"IF('中間シート（個人）'!D93=\"○\",\"\",個人種目!$L$1)","v":""},{"$f":"IF('中間シート（個人）'!D93=\"○\",\"\",ASC(申込書_コナミ!$S$9))","v":""},{"$f":"IF('中間シート（個人）'!D93=\"○\",\"\",申込書_コナミ!$E$8)","v":""},null,null,null,{"$f":"IF('中間シート（個人）'!D93=\"○\",\"\",4)","v":""},{"$f":"IF(ISERROR(VLOOKUP($D91&\"@1\",'中間シート（個人）'!$F$6:$O$100,4,FALSE)&VLOOKUP($D91&\"@1\",'中間シート（個人）'!$F$6:$O$100,5,FALSE)),\"\",VLOOKUP($D91&\"@1\",'中間シート（個人）'!$F$6:$O$100,4,FALSE)&VLOOKUP($D91&\"@1\",'中間シート（個人）'!$F$6:$O$100,5,FALSE))","v":""},{"$f":"IF(ISERROR(VLOOKUP($D91&\"@1\",'中間シート（個人）'!$F$6:$O$100,6,FALSE)&VLOOKUP($D91&\"@1\",'中間シート（個人）'!$F$6:$O$100,7,FALSE)&\".\"&VLOOKUP($D91&\"@1\",'中間シート（個人）'!$F$6:$O$100,8,FALSE)),\"\",VLOOKUP($D91&\"@1\",'中間シート（個人）'!$F$6:$O$100,6,FALSE)&VLOOKUP($D91&\"@1\",'中間シート（個人）'!$F$6:$O$100,7,FALSE)&\".\"&VLOOKUP($D91&\"@1\",'中間シート（個人）'!$F$6:$O$100,8,FALSE))","v":""},{"$f":"IF(ISERROR(VLOOKUP($D91&\"@2\",'中間シート（個人）'!$F$6:$O$100,4,FALSE)&VLOOKUP($D91&\"@2\",'中間シート（個人）'!$F$6:$O$100,5,FALSE)),\"\",VLOOKUP($D91&\"@2\",'中間シート（個人）'!$F$6:$O$100,4,FALSE)&VLOOKUP($D91&\"@2\",'中間シート（個人）'!$F$6:$O$100,5,FALSE))","v":""},{"$f":"IF(ISERROR(VLOOKUP($D91&\"@2\",'中間シート（個人）'!$F$6:$O$100,6,FALSE)&VLOOKUP($D91&\"@2\",'中間シート（個人）'!$F$6:$O$100,7,FALSE)&\".\"&VLOOKUP($D91&\"@2\",'中間シート（個人）'!$F$6:$O$100,8,FALSE)),\"\",VLOOKUP($D91&\"@2\",'中間シート（個人）'!$F$6:$O$100,6,FALSE)&VLOOKUP($D91&\"@2\",'中間シート（個人）'!$F$6:$O$100,7,FALSE)&\".\"&VLOOKUP($D91&\"@2\",'中間シート（個人）'!$F$6:$O$100,8,FALSE))","v":""},{"$f":"IF(ISERROR(VLOOKUP($D91&\"@3\",'中間シート（個人）'!$F$6:$O$100,4,FALSE)&VLOOKUP($D91&\"@3\",'中間シート（個人）'!$F$6:$O$100,5,FALSE)),\"\",VLOOKUP($D91&\"@3\",'中間シート（個人）'!$F$6:$O$100,4,FALSE)&VLOOKUP($D91&\"@3\",'中間シート（個人）'!$F$6:$O$100,5,FALSE))","v":""},{"$f":"IF(ISERROR(VLOOKUP($D91&\"@3\",'中間シート（個人）'!$F$6:$O$100,6,FALSE)&VLOOKUP($D91&\"@3\",'中間シート（個人）'!$F$6:$O$100,7,FALSE)&\".\"&VLOOKUP($D91&\"@3\",'中間シート（個人）'!$F$6:$O$100,8,FALSE)),\"\",VLOOKUP($D91&\"@3\",'中間シート（個人）'!$F$6:$O$100,6,FALSE)&VLOOKUP($D91&\"@3\",'中間シート（個人）'!$F$6:$O$100,7,FALSE)&\".\"&VLOOKUP($D91&\"@3\",'中間シート（個人）'!$F$6:$O$100,8,FALSE))","v":""},{"$f":"IF(ISERROR(VLOOKUP($D91&\"@4\",'中間シート（個人）'!$F$6:$O$100,4,FALSE)&VLOOKUP($D91&\"@4\",'中間シート（個人）'!$F$6:$O$100,5,FALSE)),\"\",VLOOKUP($D91&\"@4\",'中間シート（個人）'!$F$6:$O$100,4,FALSE)&VLOOKUP($D91&\"@4\",'中間シート（個人）'!$F$6:$O$100,5,FALSE))","v":""},{"$f":"IF(ISERROR(VLOOKUP($D91&\"@4\",'中間シート（個人）'!$F$6:$O$100,6,FALSE)&VLOOKUP($D91&\"@4\",'中間シート（個人）'!$F$6:$O$100,7,FALSE)&\".\"&VLOOKUP($D91&\"@4\",'中間シート（個人）'!$F$6:$O$100,8,FALSE)),\"\",VLOOKUP($D91&\"@4\",'中間シート（個人）'!$F$6:$O$100,6,FALSE)&VLOOKUP($D91&\"@4\",'中間シート（個人）'!$F$6:$O$100,7,FALSE)&\".\"&VLOOKUP($D91&\"@4\",'中間シート（個人）'!$F$6:$O$100,8,FALSE))","v":""},{"$f":"IF(ISERROR(VLOOKUP($D91&\"@5\",'中間シート（個人）'!$F$6:$O$100,4,FALSE)&VLOOKUP($D91&\"@5\",'中間シート（個人）'!$F$6:$O$100,5,FALSE)),\"\",VLOOKUP($D91&\"@5\",'中間シート（個人）'!$F$6:$O$100,4,FALSE)&VLOOKUP($D91&\"@5\",'中間シート（個人）'!$F$6:$O$100,5,FALSE))","v":""},{"$f":"IF(ISERROR(VLOOKUP($D91&\"@5\",'中間シート（個人）'!$F$6:$O$100,6,FALSE)&VLOOKUP($D91&\"@5\",'中間シート（個人）'!$F$6:$O$100,7,FALSE)&\".\"&VLOOKUP($D91&\"@5\",'中間シート（個人）'!$F$6:$O$100,8,FALSE)),\"\",VLOOKUP($D91&\"@5\",'中間シート（個人）'!$F$6:$O$100,6,FALSE)&VLOOKUP($D91&\"@5\",'中間シート（個人）'!$F$6:$O$100,7,FALSE)&\".\"&VLOOKUP($D91&\"@5\",'中間シート（個人）'!$F$6:$O$100,8,FALSE))","v":""},{"$f":"IF(ISERROR(VLOOKUP($D91&\"@6\",'中間シート（個人）'!$F$6:$O$100,4,FALSE)&VLOOKUP($D91&\"@6\",'中間シート（個人）'!$F$6:$O$100,5,FALSE)),\"\",VLOOKUP($D91&\"@6\",'中間シート（個人）'!$F$6:$O$100,4,FALSE)&VLOOKUP($D91&\"@6\",'中間シート（個人）'!$F$6:$O$100,5,FALSE))","v":""},{"$f":"IF(ISERROR(VLOOKUP($D91&\"@6\",'中間シート（個人）'!$F$6:$O$100,6,FALSE)&VLOOKUP($D91&\"@6\",'中間シート（個人）'!$F$6:$O$100,7,FALSE)&\".\"&VLOOKUP($D91&\"@6\",'中間シート（個人）'!$F$6:$O$100,8,FALSE)),\"\",VLOOKUP($D91&\"@6\",'中間シート（個人）'!$F$6:$O$100,6,FALSE)&VLOOKUP($D91&\"@6\",'中間シート（個人）'!$F$6:$O$100,7,FALSE)&\".\"&VLOOKUP($D91&\"@6\",'中間シート（個人）'!$F$6:$O$100,8,FALSE))","v":""},{"$f":"IF(ISERROR(VLOOKUP($D91&\"@7\",'中間シート（個人）'!$F$6:$O$100,4,FALSE)&VLOOKUP($D91&\"@7\",'中間シート（個人）'!$F$6:$O$100,5,FALSE)),\"\",VLOOKUP($D91&\"@7\",'中間シート（個人）'!$F$6:$O$100,4,FALSE)&VLOOKUP($D91&\"@7\",'中間シート（個人）'!$F$6:$O$100,5,FALSE))","v":""},{"$f":"IF(ISERROR(VLOOKUP($D91&\"@7\",'中間シート（個人）'!$F$6:$O$100,6,FALSE)&VLOOKUP($D91&\"@7\",'中間シート（個人）'!$F$6:$O$100,7,FALSE)&\".\"&VLOOKUP($D91&\"@7\",'中間シート（個人）'!$F$6:$O$100,8,FALSE)),\"\",VLOOKUP($D91&\"@7\",'中間シート（個人）'!$F$6:$O$100,6,FALSE)&VLOOKUP($D91&\"@7\",'中間シート（個人）'!$F$6:$O$100,7,FALSE)&\".\"&VLOOKUP($D91&\"@7\",'中間シート（個人）'!$F$6:$O$100,8,FALSE))","v":""},{"$f":"IF(ISERROR(VLOOKUP($D91&\"@8\",'中間シート（個人）'!$F$6:$O$100,4,FALSE)&VLOOKUP($D91&\"@8\",'中間シート（個人）'!$F$6:$O$100,5,FALSE)),\"\",VLOOKUP($D91&\"@8\",'中間シート（個人）'!$F$6:$O$100,4,FALSE)&VLOOKUP($D91&\"@8\",'中間シート（個人）'!$F$6:$O$100,5,FALSE))","v":""},{"$f":"IF(ISERROR(VLOOKUP($D91&\"@8\",'中間シート（個人）'!$F$6:$O$100,6,FALSE)&VLOOKUP($D91&\"@8\",'中間シート（個人）'!$F$6:$O$100,7,FALSE)&\".\"&VLOOKUP($D91&\"@8\",'中間シート（個人）'!$F$6:$O$100,8,FALSE)),\"\",VLOOKUP($D91&\"@8\",'中間シート（個人）'!$F$6:$O$100,6,FALSE)&VLOOKUP($D91&\"@8\",'中間シート（個人）'!$F$6:$O$100,7,FALSE)&\".\"&VLOOKUP($D91&\"@8\",'中間シート（個人）'!$F$6:$O$100,8,FALSE))","v":""},{"$f":"IF(ISERROR(VLOOKUP($D91&\"@9\",'中間シート（個人）'!$F$6:$O$100,4,FALSE)&VLOOKUP($D91&\"@9\",'中間シート（個人）'!$F$6:$O$100,5,FALSE)),\"\",VLOOKUP($D91&\"@9\",'中間シート（個人）'!$F$6:$O$100,4,FALSE)&VLOOKUP($D91&\"@9\",'中間シート（個人）'!$F$6:$O$100,5,FALSE))","v":""},{"$f":"IF(ISERROR(VLOOKUP($D91&\"@9\",'中間シート（個人）'!$F$6:$O$100,6,FALSE)&VLOOKUP($D91&\"@9\",'中間シート（個人）'!$F$6:$O$100,7,FALSE)&\".\"&VLOOKUP($D91&\"@9\",'中間シート（個人）'!$F$6:$O$100,8,FALSE)),\"\",VLOOKUP($D91&\"@9\",'中間シート（個人）'!$F$6:$O$100,6,FALSE)&VLOOKUP($D91&\"@9\",'中間シート（個人）'!$F$6:$O$100,7,FALSE)&\".\"&VLOOKUP($D91&\"@9\",'中間シート（個人）'!$F$6:$O$100,8,FALSE))","v":""},{"$f":"IF(ISERROR(VLOOKUP($D91&\"@10\",'中間シート（個人）'!$F$6:$O$100,4,FALSE)&VLOOKUP($D91&\"@10\",'中間シート（個人）'!$F$6:$O$100,5,FALSE)),\"\",VLOOKUP($D91&\"@10\",'中間シート（個人）'!$F$6:$O$100,4,FALSE)&VLOOKUP($D91&\"@10\",'中間シート（個人）'!$F$6:$O$100,5,FALSE))","v":""},{"$f":"IF(ISERROR(VLOOKUP($D91&\"@10\",'中間シート（個人）'!$F$6:$O$100,6,FALSE)&VLOOKUP($D91&\"@10\",'中間シート（個人）'!$F$6:$O$100,7,FALSE)&\".\"&VLOOKUP($D91&\"@10\",'中間シート（個人）'!$F$6:$O$100,8,FALSE)),\"\",VLOOKUP($D91&\"@10\",'中間シート（個人）'!$F$6:$O$100,6,FALSE)&VLOOKUP($D91&\"@10\",'中間シート（個人）'!$F$6:$O$100,7,FALSE)&\".\"&VLOOKUP($D91&\"@10\",'中間シート（個人）'!$F$6:$O$100,8,FALSE))","v":""}]
[null,null,{"$f":"IF('中間シート（個人）'!D94=\"○\",\"\",VLOOKUP(個人種目!F94,コード一覧!$A$2:$B$3,2,FALSE))","v":""},{"$f":"IF('中間シート（個人）'!D94=\"○\",\"\",'中間シート（個人）'!C94)","v":""},{"$f":"IF('中間シート（個人）'!D94=\"○\",\"\",ASC(個人種目!D94&\" \"&個人種目!E94))","v":""},{"$f":"IF('中間シート（個人）'!D94=\"○\",\"\",個人種目!G94&IF(LEN(個人種目!H94)=1,\"0\"&個人種目!H94,個人種目!H94)&IF(LEN(個人種目!I94)=1,\"0\"&個人種目!I94,個人種目!I94))","v":""},{"$f":"IF('中間シート（個人）'!D94=\"○\",\"\",VLOOKUP(個人種目!$J94,コード一覧!$C$3:$D$6,2,FALSE))","v":""},{"$f":"IF('中間シート（個人）'!D94=\"○\",\"\",IF(個人種目!$J94=\"一般\",0,個人種目!$K94))","v":""},{"$f":"IF('中間シート（個人）'!D94=\"○\",\"\",'中間シート（個人）'!H94)","v":""},null,{"$f":"IF('中間シート（個人）'!D94=\"○\",\"\",個人種目!$L$1)","v":""},{"$f":"IF('中間シート（個人）'!D94=\"○\",\"\",ASC(申込書_コナミ!$S$9))","v":""},{"$f":"IF('中間シート（個人）'!D94=\"○\",\"\",申込書_コナミ!$E$8)","v":""},null,null,null,{"$f":"IF('中間シート（個人）'!D94=\"○\",\"\",4)","v":""},{"$f":"IF(ISERROR(VLOOKUP($D92&\"@1\",'中間シート（個人）'!$F$6:$O$100,4,FALSE)&VLOOKUP($D92&\"@1\",'中間シート（個人）'!$F$6:$O$100,5,FALSE)),\"\",VLOOKUP($D92&\"@1\",'中間シート（個人）'!$F$6:$O$100,4,FALSE)&VLOOKUP($D92&\"@1\",'中間シート（個人）'!$F$6:$O$100,5,FALSE))","v":""},{"$f":"IF(ISERROR(VLOOKUP($D92&\"@1\",'中間シート（個人）'!$F$6:$O$100,6,FALSE)&VLOOKUP($D92&\"@1\",'中間シート（個人）'!$F$6:$O$100,7,FALSE)&\".\"&VLOOKUP($D92&\"@1\",'中間シート（個人）'!$F$6:$O$100,8,FALSE)),\"\",VLOOKUP($D92&\"@1\",'中間シート（個人）'!$F$6:$O$100,6,FALSE)&VLOOKUP($D92&\"@1\",'中間シート（個人）'!$F$6:$O$100,7,FALSE)&\".\"&VLOOKUP($D92&\"@1\",'中間シート（個人）'!$F$6:$O$100,8,FALSE))","v":""},{"$f":"IF(ISERROR(VLOOKUP($D92&\"@2\",'中間シート（個人）'!$F$6:$O$100,4,FALSE)&VLOOKUP($D92&\"@2\",'中間シート（個人）'!$F$6:$O$100,5,FALSE)),\"\",VLOOKUP($D92&\"@2\",'中間シート（個人）'!$F$6:$O$100,4,FALSE)&VLOOKUP($D92&\"@2\",'中間シート（個人）'!$F$6:$O$100,5,FALSE))","v":""},{"$f":"IF(ISERROR(VLOOKUP($D92&\"@2\",'中間シート（個人）'!$F$6:$O$100,6,FALSE)&VLOOKUP($D92&\"@2\",'中間シート（個人）'!$F$6:$O$100,7,FALSE)&\".\"&VLOOKUP($D92&\"@2\",'中間シート（個人）'!$F$6:$O$100,8,FALSE)),\"\",VLOOKUP($D92&\"@2\",'中間シート（個人）'!$F$6:$O$100,6,FALSE)&VLOOKUP($D92&\"@2\",'中間シート（個人）'!$F$6:$O$100,7,FALSE)&\".\"&VLOOKUP($D92&\"@2\",'中間シート（個人）'!$F$6:$O$100,8,FALSE))","v":""},{"$f":"IF(ISERROR(VLOOKUP($D92&\"@3\",'中間シート（個人）'!$F$6:$O$100,4,FALSE)&VLOOKUP($D92&\"@3\",'中間シート（個人）'!$F$6:$O$100,5,FALSE)),\"\",VLOOKUP($D92&\"@3\",'中間シート（個人）'!$F$6:$O$100,4,FALSE)&VLOOKUP($D92&\"@3\",'中間シート（個人）'!$F$6:$O$100,5,FALSE))","v":""},{"$f":"IF(ISERROR(VLOOKUP($D92&\"@3\",'中間シート（個人）'!$F$6:$O$100,6,FALSE)&VLOOKUP($D92&\"@3\",'中間シート（個人）'!$F$6:$O$100,7,FALSE)&\".\"&VLOOKUP($D92&\"@3\",'中間シート（個人）'!$F$6:$O$100,8,FALSE)),\"\",VLOOKUP($D92&\"@3\",'中間シート（個人）'!$F$6:$O$100,6,FALSE)&VLOOKUP($D92&\"@3\",'中間シート（個人）'!$F$6:$O$100,7,FALSE)&\".\"&VLOOKUP($D92&\"@3\",'中間シート（個人）'!$F$6:$O$100,8,FALSE))","v":""},{"$f":"IF(ISERROR(VLOOKUP($D92&\"@4\",'中間シート（個人）'!$F$6:$O$100,4,FALSE)&VLOOKUP($D92&\"@4\",'中間シート（個人）'!$F$6:$O$100,5,FALSE)),\"\",VLOOKUP($D92&\"@4\",'中間シート（個人）'!$F$6:$O$100,4,FALSE)&VLOOKUP($D92&\"@4\",'中間シート（個人）'!$F$6:$O$100,5,FALSE))","v":""},{"$f":"IF(ISERROR(VLOOKUP($D92&\"@4\",'中間シート（個人）'!$F$6:$O$100,6,FALSE)&VLOOKUP($D92&\"@4\",'中間シート（個人）'!$F$6:$O$100,7,FALSE)&\".\"&VLOOKUP($D92&\"@4\",'中間シート（個人）'!$F$6:$O$100,8,FALSE)),\"\",VLOOKUP($D92&\"@4\",'中間シート（個人）'!$F$6:$O$100,6,FALSE)&VLOOKUP($D92&\"@4\",'中間シート（個人）'!$F$6:$O$100,7,FALSE)&\".\"&VLOOKUP($D92&\"@4\",'中間シート（個人）'!$F$6:$O$100,8,FALSE))","v":""},{"$f":"IF(ISERROR(VLOOKUP($D92&\"@5\",'中間シート（個人）'!$F$6:$O$100,4,FALSE)&VLOOKUP($D92&\"@5\",'中間シート（個人）'!$F$6:$O$100,5,FALSE)),\"\",VLOOKUP($D92&\"@5\",'中間シート（個人）'!$F$6:$O$100,4,FALSE)&VLOOKUP($D92&\"@5\",'中間シート（個人）'!$F$6:$O$100,5,FALSE))","v":""},{"$f":"IF(ISERROR(VLOOKUP($D92&\"@5\",'中間シート（個人）'!$F$6:$O$100,6,FALSE)&VLOOKUP($D92&\"@5\",'中間シート（個人）'!$F$6:$O$100,7,FALSE)&\".\"&VLOOKUP($D92&\"@5\",'中間シート（個人）'!$F$6:$O$100,8,FALSE)),\"\",VLOOKUP($D92&\"@5\",'中間シート（個人）'!$F$6:$O$100,6,FALSE)&VLOOKUP($D92&\"@5\",'中間シート（個人）'!$F$6:$O$100,7,FALSE)&\".\"&VLOOKUP($D92&\"@5\",'中間シート（個人）'!$F$6:$O$100,8,FALSE))","v":""},{"$f":"IF(ISERROR(VLOOKUP($D92&\"@6\",'中間シート（個人）'!$F$6:$O$100,4,FALSE)&VLOOKUP($D92&\"@6\",'中間シート（個人）'!$F$6:$O$100,5,FALSE)),\"\",VLOOKUP($D92&\"@6\",'中間シート（個人）'!$F$6:$O$100,4,FALSE)&VLOOKUP($D92&\"@6\",'中間シート（個人）'!$F$6:$O$100,5,FALSE))","v":""},{"$f":"IF(ISERROR(VLOOKUP($D92&\"@6\",'中間シート（個人）'!$F$6:$O$100,6,FALSE)&VLOOKUP($D92&\"@6\",'中間シート（個人）'!$F$6:$O$100,7,FALSE)&\".\"&VLOOKUP($D92&\"@6\",'中間シート（個人）'!$F$6:$O$100,8,FALSE)),\"\",VLOOKUP($D92&\"@6\",'中間シート（個人）'!$F$6:$O$100,6,FALSE)&VLOOKUP($D92&\"@6\",'中間シート（個人）'!$F$6:$O$100,7,FALSE)&\".\"&VLOOKUP($D92&\"@6\",'中間シート（個人）'!$F$6:$O$100,8,FALSE))","v":""},{"$f":"IF(ISERROR(VLOOKUP($D92&\"@7\",'中間シート（個人）'!$F$6:$O$100,4,FALSE)&VLOOKUP($D92&\"@7\",'中間シート（個人）'!$F$6:$O$100,5,FALSE)),\"\",VLOOKUP($D92&\"@7\",'中間シート（個人）'!$F$6:$O$100,4,FALSE)&VLOOKUP($D92&\"@7\",'中間シート（個人）'!$F$6:$O$100,5,FALSE))","v":""},{"$f":"IF(ISERROR(VLOOKUP($D92&\"@7\",'中間シート（個人）'!$F$6:$O$100,6,FALSE)&VLOOKUP($D92&\"@7\",'中間シート（個人）'!$F$6:$O$100,7,FALSE)&\".\"&VLOOKUP($D92&\"@7\",'中間シート（個人）'!$F$6:$O$100,8,FALSE)),\"\",VLOOKUP($D92&\"@7\",'中間シート（個人）'!$F$6:$O$100,6,FALSE)&VLOOKUP($D92&\"@7\",'中間シート（個人）'!$F$6:$O$100,7,FALSE)&\".\"&VLOOKUP($D92&\"@7\",'中間シート（個人）'!$F$6:$O$100,8,FALSE))","v":""},{"$f":"IF(ISERROR(VLOOKUP($D92&\"@8\",'中間シート（個人）'!$F$6:$O$100,4,FALSE)&VLOOKUP($D92&\"@8\",'中間シート（個人）'!$F$6:$O$100,5,FALSE)),\"\",VLOOKUP($D92&\"@8\",'中間シート（個人）'!$F$6:$O$100,4,FALSE)&VLOOKUP($D92&\"@8\",'中間シート（個人）'!$F$6:$O$100,5,FALSE))","v":""},{"$f":"IF(ISERROR(VLOOKUP($D92&\"@8\",'中間シート（個人）'!$F$6:$O$100,6,FALSE)&VLOOKUP($D92&\"@8\",'中間シート（個人）'!$F$6:$O$100,7,FALSE)&\".\"&VLOOKUP($D92&\"@8\",'中間シート（個人）'!$F$6:$O$100,8,FALSE)),\"\",VLOOKUP($D92&\"@8\",'中間シート（個人）'!$F$6:$O$100,6,FALSE)&VLOOKUP($D92&\"@8\",'中間シート（個人）'!$F$6:$O$100,7,FALSE)&\".\"&VLOOKUP($D92&\"@8\",'中間シート（個人）'!$F$6:$O$100,8,FALSE))","v":""},{"$f":"IF(ISERROR(VLOOKUP($D92&\"@9\",'中間シート（個人）'!$F$6:$O$100,4,FALSE)&VLOOKUP($D92&\"@9\",'中間シート（個人）'!$F$6:$O$100,5,FALSE)),\"\",VLOOKUP($D92&\"@9\",'中間シート（個人）'!$F$6:$O$100,4,FALSE)&VLOOKUP($D92&\"@9\",'中間シート（個人）'!$F$6:$O$100,5,FALSE))","v":""},{"$f":"IF(ISERROR(VLOOKUP($D92&\"@9\",'中間シート（個人）'!$F$6:$O$100,6,FALSE)&VLOOKUP($D92&\"@9\",'中間シート（個人）'!$F$6:$O$100,7,FALSE)&\".\"&VLOOKUP($D92&\"@9\",'中間シート（個人）'!$F$6:$O$100,8,FALSE)),\"\",VLOOKUP($D92&\"@9\",'中間シート（個人）'!$F$6:$O$100,6,FALSE)&VLOOKUP($D92&\"@9\",'中間シート（個人）'!$F$6:$O$100,7,FALSE)&\".\"&VLOOKUP($D92&\"@9\",'中間シート（個人）'!$F$6:$O$100,8,FALSE))","v":""},{"$f":"IF(ISERROR(VLOOKUP($D92&\"@10\",'中間シート（個人）'!$F$6:$O$100,4,FALSE)&VLOOKUP($D92&\"@10\",'中間シート（個人）'!$F$6:$O$100,5,FALSE)),\"\",VLOOKUP($D92&\"@10\",'中間シート（個人）'!$F$6:$O$100,4,FALSE)&VLOOKUP($D92&\"@10\",'中間シート（個人）'!$F$6:$O$100,5,FALSE))","v":""},{"$f":"IF(ISERROR(VLOOKUP($D92&\"@10\",'中間シート（個人）'!$F$6:$O$100,6,FALSE)&VLOOKUP($D92&\"@10\",'中間シート（個人）'!$F$6:$O$100,7,FALSE)&\".\"&VLOOKUP($D92&\"@10\",'中間シート（個人）'!$F$6:$O$100,8,FALSE)),\"\",VLOOKUP($D92&\"@10\",'中間シート（個人）'!$F$6:$O$100,6,FALSE)&VLOOKUP($D92&\"@10\",'中間シート（個人）'!$F$6:$O$100,7,FALSE)&\".\"&VLOOKUP($D92&\"@10\",'中間シート（個人）'!$F$6:$O$100,8,FALSE))","v":""}]
[null,null,{"$f":"IF('中間シート（個人）'!D95=\"○\",\"\",VLOOKUP(個人種目!F95,コード一覧!$A$2:$B$3,2,FALSE))","v":""},{"$f":"IF('中間シート（個人）'!D95=\"○\",\"\",'中間シート（個人）'!C95)","v":""},{"$f":"IF('中間シート（個人）'!D95=\"○\",\"\",ASC(個人種目!D95&\" \"&個人種目!E95))","v":""},{"$f":"IF('中間シート（個人）'!D95=\"○\",\"\",個人種目!G95&IF(LEN(個人種目!H95)=1,\"0\"&個人種目!H95,個人種目!H95)&IF(LEN(個人種目!I95)=1,\"0\"&個人種目!I95,個人種目!I95))","v":""},{"$f":"IF('中間シート（個人）'!D95=\"○\",\"\",VLOOKUP(個人種目!$J95,コード一覧!$C$3:$D$6,2,FALSE))","v":""},{"$f":"IF('中間シート（個人）'!D95=\"○\",\"\",IF(個人種目!$J95=\"一般\",0,個人種目!$K95))","v":""},{"$f":"IF('中間シート（個人）'!D95=\"○\",\"\",'中間シート（個人）'!H95)","v":""},null,{"$f":"IF('中間シート（個人）'!D95=\"○\",\"\",個人種目!$L$1)","v":""},{"$f":"IF('中間シート（個人）'!D95=\"○\",\"\",ASC(申込書_コナミ!$S$9))","v":""},{"$f":"IF('中間シート（個人）'!D95=\"○\",\"\",申込書_コナミ!$E$8)","v":""},null,null,null,{"$f":"IF('中間シート（個人）'!D95=\"○\",\"\",4)","v":""},{"$f":"IF(ISERROR(VLOOKUP($D93&\"@1\",'中間シート（個人）'!$F$6:$O$100,4,FALSE)&VLOOKUP($D93&\"@1\",'中間シート（個人）'!$F$6:$O$100,5,FALSE)),\"\",VLOOKUP($D93&\"@1\",'中間シート（個人）'!$F$6:$O$100,4,FALSE)&VLOOKUP($D93&\"@1\",'中間シート（個人）'!$F$6:$O$100,5,FALSE))","v":""},{"$f":"IF(ISERROR(VLOOKUP($D93&\"@1\",'中間シート（個人）'!$F$6:$O$100,6,FALSE)&VLOOKUP($D93&\"@1\",'中間シート（個人）'!$F$6:$O$100,7,FALSE)&\".\"&VLOOKUP($D93&\"@1\",'中間シート（個人）'!$F$6:$O$100,8,FALSE)),\"\",VLOOKUP($D93&\"@1\",'中間シート（個人）'!$F$6:$O$100,6,FALSE)&VLOOKUP($D93&\"@1\",'中間シート（個人）'!$F$6:$O$100,7,FALSE)&\".\"&VLOOKUP($D93&\"@1\",'中間シート（個人）'!$F$6:$O$100,8,FALSE))","v":""},{"$f":"IF(ISERROR(VLOOKUP($D93&\"@2\",'中間シート（個人）'!$F$6:$O$100,4,FALSE)&VLOOKUP($D93&\"@2\",'中間シート（個人）'!$F$6:$O$100,5,FALSE)),\"\",VLOOKUP($D93&\"@2\",'中間シート（個人）'!$F$6:$O$100,4,FALSE)&VLOOKUP($D93&\"@2\",'中間シート（個人）'!$F$6:$O$100,5,FALSE))","v":""},{"$f":"IF(ISERROR(VLOOKUP($D93&\"@2\",'中間シート（個人）'!$F$6:$O$100,6,FALSE)&VLOOKUP($D93&\"@2\",'中間シート（個人）'!$F$6:$O$100,7,FALSE)&\".\"&VLOOKUP($D93&\"@2\",'中間シート（個人）'!$F$6:$O$100,8,FALSE)),\"\",VLOOKUP($D93&\"@2\",'中間シート（個人）'!$F$6:$O$100,6,FALSE)&VLOOKUP($D93&\"@2\",'中間シート（個人）'!$F$6:$O$100,7,FALSE)&\".\"&VLOOKUP($D93&\"@2\",'中間シート（個人）'!$F$6:$O$100,8,FALSE))","v":""},{"$f":"IF(ISERROR(VLOOKUP($D93&\"@3\",'中間シート（個人）'!$F$6:$O$100,4,FALSE)&VLOOKUP($D93&\"@3\",'中間シート（個人）'!$F$6:$O$100,5,FALSE)),\"\",VLOOKUP($D93&\"@3\",'中間シート（個人）'!$F$6:$O$100,4,FALSE)&VLOOKUP($D93&\"@3\",'中間シート（個人）'!$F$6:$O$100,5,FALSE))","v":""},{"$f":"IF(ISERROR(VLOOKUP($D93&\"@3\",'中間シート（個人）'!$F$6:$O$100,6,FALSE)&VLOOKUP($D93&\"@3\",'中間シート（個人）'!$F$6:$O$100,7,FALSE)&\".\"&VLOOKUP($D93&\"@3\",'中間シート（個人）'!$F$6:$O$100,8,FALSE)),\"\",VLOOKUP($D93&\"@3\",'中間シート（個人）'!$F$6:$O$100,6,FALSE)&VLOOKUP($D93&\"@3\",'中間シート（個人）'!$F$6:$O$100,7,FALSE)&\".\"&VLOOKUP($D93&\"@3\",'中間シート（個人）'!$F$6:$O$100,8,FALSE))","v":""},{"$f":"IF(ISERROR(VLOOKUP($D93&\"@4\",'中間シート（個人）'!$F$6:$O$100,4,FALSE)&VLOOKUP($D93&\"@4\",'中間シート（個人）'!$F$6:$O$100,5,FALSE)),\"\",VLOOKUP($D93&\"@4\",'中間シート（個人）'!$F$6:$O$100,4,FALSE)&VLOOKUP($D93&\"@4\",'中間シート（個人）'!$F$6:$O$100,5,FALSE))","v":""},{"$f":"IF(ISERROR(VLOOKUP($D93&\"@4\",'中間シート（個人）'!$F$6:$O$100,6,FALSE)&VLOOKUP($D93&\"@4\",'中間シート（個人）'!$F$6:$O$100,7,FALSE)&\".\"&VLOOKUP($D93&\"@4\",'中間シート（個人）'!$F$6:$O$100,8,FALSE)),\"\",VLOOKUP($D93&\"@4\",'中間シート（個人）'!$F$6:$O$100,6,FALSE)&VLOOKUP($D93&\"@4\",'中間シート（個人）'!$F$6:$O$100,7,FALSE)&\".\"&VLOOKUP($D93&\"@4\",'中間シート（個人）'!$F$6:$O$100,8,FALSE))","v":""},{"$f":"IF(ISERROR(VLOOKUP($D93&\"@5\",'中間シート（個人）'!$F$6:$O$100,4,FALSE)&VLOOKUP($D93&\"@5\",'中間シート（個人）'!$F$6:$O$100,5,FALSE)),\"\",VLOOKUP($D93&\"@5\",'中間シート（個人）'!$F$6:$O$100,4,FALSE)&VLOOKUP($D93&\"@5\",'中間シート（個人）'!$F$6:$O$100,5,FALSE))","v":""},{"$f":"IF(ISERROR(VLOOKUP($D93&\"@5\",'中間シート（個人）'!$F$6:$O$100,6,FALSE)&VLOOKUP($D93&\"@5\",'中間シート（個人）'!$F$6:$O$100,7,FALSE)&\".\"&VLOOKUP($D93&\"@5\",'中間シート（個人）'!$F$6:$O$100,8,FALSE)),\"\",VLOOKUP($D93&\"@5\",'中間シート（個人）'!$F$6:$O$100,6,FALSE)&VLOOKUP($D93&\"@5\",'中間シート（個人）'!$F$6:$O$100,7,FALSE)&\".\"&VLOOKUP($D93&\"@5\",'中間シート（個人）'!$F$6:$O$100,8,FALSE))","v":""},{"$f":"IF(ISERROR(VLOOKUP($D93&\"@6\",'中間シート（個人）'!$F$6:$O$100,4,FALSE)&VLOOKUP($D93&\"@6\",'中間シート（個人）'!$F$6:$O$100,5,FALSE)),\"\",VLOOKUP($D93&\"@6\",'中間シート（個人）'!$F$6:$O$100,4,FALSE)&VLOOKUP($D93&\"@6\",'中間シート（個人）'!$F$6:$O$100,5,FALSE))","v":""},{"$f":"IF(ISERROR(VLOOKUP($D93&\"@6\",'中間シート（個人）'!$F$6:$O$100,6,FALSE)&VLOOKUP($D93&\"@6\",'中間シート（個人）'!$F$6:$O$100,7,FALSE)&\".\"&VLOOKUP($D93&\"@6\",'中間シート（個人）'!$F$6:$O$100,8,FALSE)),\"\",VLOOKUP($D93&\"@6\",'中間シート（個人）'!$F$6:$O$100,6,FALSE)&VLOOKUP($D93&\"@6\",'中間シート（個人）'!$F$6:$O$100,7,FALSE)&\".\"&VLOOKUP($D93&\"@6\",'中間シート（個人）'!$F$6:$O$100,8,FALSE))","v":""},{"$f":"IF(ISERROR(VLOOKUP($D93&\"@7\",'中間シート（個人）'!$F$6:$O$100,4,FALSE)&VLOOKUP($D93&\"@7\",'中間シート（個人）'!$F$6:$O$100,5,FALSE)),\"\",VLOOKUP($D93&\"@7\",'中間シート（個人）'!$F$6:$O$100,4,FALSE)&VLOOKUP($D93&\"@7\",'中間シート（個人）'!$F$6:$O$100,5,FALSE))","v":""},{"$f":"IF(ISERROR(VLOOKUP($D93&\"@7\",'中間シート（個人）'!$F$6:$O$100,6,FALSE)&VLOOKUP($D93&\"@7\",'中間シート（個人）'!$F$6:$O$100,7,FALSE)&\".\"&VLOOKUP($D93&\"@7\",'中間シート（個人）'!$F$6:$O$100,8,FALSE)),\"\",VLOOKUP($D93&\"@7\",'中間シート（個人）'!$F$6:$O$100,6,FALSE)&VLOOKUP($D93&\"@7\",'中間シート（個人）'!$F$6:$O$100,7,FALSE)&\".\"&VLOOKUP($D93&\"@7\",'中間シート（個人）'!$F$6:$O$100,8,FALSE))","v":""},{"$f":"IF(ISERROR(VLOOKUP($D93&\"@8\",'中間シート（個人）'!$F$6:$O$100,4,FALSE)&VLOOKUP($D93&\"@8\",'中間シート（個人）'!$F$6:$O$100,5,FALSE)),\"\",VLOOKUP($D93&\"@8\",'中間シート（個人）'!$F$6:$O$100,4,FALSE)&VLOOKUP($D93&\"@8\",'中間シート（個人）'!$F$6:$O$100,5,FALSE))","v":""},{"$f":"IF(ISERROR(VLOOKUP($D93&\"@8\",'中間シート（個人）'!$F$6:$O$100,6,FALSE)&VLOOKUP($D93&\"@8\",'中間シート（個人）'!$F$6:$O$100,7,FALSE)&\".\"&VLOOKUP($D93&\"@8\",'中間シート（個人）'!$F$6:$O$100,8,FALSE)),\"\",VLOOKUP($D93&\"@8\",'中間シート（個人）'!$F$6:$O$100,6,FALSE)&VLOOKUP($D93&\"@8\",'中間シート（個人）'!$F$6:$O$100,7,FALSE)&\".\"&VLOOKUP($D93&\"@8\",'中間シート（個人）'!$F$6:$O$100,8,FALSE))","v":""},{"$f":"IF(ISERROR(VLOOKUP($D93&\"@9\",'中間シート（個人）'!$F$6:$O$100,4,FALSE)&VLOOKUP($D93&\"@9\",'中間シート（個人）'!$F$6:$O$100,5,FALSE)),\"\",VLOOKUP($D93&\"@9\",'中間シート（個人）'!$F$6:$O$100,4,FALSE)&VLOOKUP($D93&\"@9\",'中間シート（個人）'!$F$6:$O$100,5,FALSE))","v":""},{"$f":"IF(ISERROR(VLOOKUP($D93&\"@9\",'中間シート（個人）'!$F$6:$O$100,6,FALSE)&VLOOKUP($D93&\"@9\",'中間シート（個人）'!$F$6:$O$100,7,FALSE)&\".\"&VLOOKUP($D93&\"@9\",'中間シート（個人）'!$F$6:$O$100,8,FALSE)),\"\",VLOOKUP($D93&\"@9\",'中間シート（個人）'!$F$6:$O$100,6,FALSE)&VLOOKUP($D93&\"@9\",'中間シート（個人）'!$F$6:$O$100,7,FALSE)&\".\"&VLOOKUP($D93&\"@9\",'中間シート（個人）'!$F$6:$O$100,8,FALSE))","v":""},{"$f":"IF(ISERROR(VLOOKUP($D93&\"@10\",'中間シート（個人）'!$F$6:$O$100,4,FALSE)&VLOOKUP($D93&\"@10\",'中間シート（個人）'!$F$6:$O$100,5,FALSE)),\"\",VLOOKUP($D93&\"@10\",'中間シート（個人）'!$F$6:$O$100,4,FALSE)&VLOOKUP($D93&\"@10\",'中間シート（個人）'!$F$6:$O$100,5,FALSE))","v":""},{"$f":"IF(ISERROR(VLOOKUP($D93&\"@10\",'中間シート（個人）'!$F$6:$O$100,6,FALSE)&VLOOKUP($D93&\"@10\",'中間シート（個人）'!$F$6:$O$100,7,FALSE)&\".\"&VLOOKUP($D93&\"@10\",'中間シート（個人）'!$F$6:$O$100,8,FALSE)),\"\",VLOOKUP($D93&\"@10\",'中間シート（個人）'!$F$6:$O$100,6,FALSE)&VLOOKUP($D93&\"@10\",'中間シート（個人）'!$F$6:$O$100,7,FALSE)&\".\"&VLOOKUP($D93&\"@10\",'中間シート（個人）'!$F$6:$O$100,8,FALSE))","v":""}]
[null,null,{"$f":"IF('中間シート（個人）'!D96=\"○\",\"\",VLOOKUP(個人種目!F96,コード一覧!$A$2:$B$3,2,FALSE))","v":""},{"$f":"IF('中間シート（個人）'!D96=\"○\",\"\",'中間シート（個人）'!C96)","v":""},{"$f":"IF('中間シート（個人）'!D96=\"○\",\"\",ASC(個人種目!D96&\" \"&個人種目!E96))","v":""},{"$f":"IF('中間シート（個人）'!D96=\"○\",\"\",個人種目!G96&IF(LEN(個人種目!H96)=1,\"0\"&個人種目!H96,個人種目!H96)&IF(LEN(個人種目!I96)=1,\"0\"&個人種目!I96,個人種目!I96))","v":""},{"$f":"IF('中間シート（個人）'!D96=\"○\",\"\",VLOOKUP(個人種目!$J96,コード一覧!$C$3:$D$6,2,FALSE))","v":""},{"$f":"IF('中間シート（個人）'!D96=\"○\",\"\",IF(個人種目!$J96=\"一般\",0,個人種目!$K96))","v":""},{"$f":"IF('中間シート（個人）'!D96=\"○\",\"\",'中間シート（個人）'!H96)","v":""},null,{"$f":"IF('中間シート（個人）'!D96=\"○\",\"\",個人種目!$L$1)","v":""},{"$f":"IF('中間シート（個人）'!D96=\"○\",\"\",ASC(申込書_コナミ!$S$9))","v":""},{"$f":"IF('中間シート（個人）'!D96=\"○\",\"\",申込書_コナミ!$E$8)","v":""},null,null,null,{"$f":"IF('中間シート（個人）'!D96=\"○\",\"\",4)","v":""},{"$f":"IF(ISERROR(VLOOKUP($D94&\"@1\",'中間シート（個人）'!$F$6:$O$100,4,FALSE)&VLOOKUP($D94&\"@1\",'中間シート（個人）'!$F$6:$O$100,5,FALSE)),\"\",VLOOKUP($D94&\"@1\",'中間シート（個人）'!$F$6:$O$100,4,FALSE)&VLOOKUP($D94&\"@1\",'中間シート（個人）'!$F$6:$O$100,5,FALSE))","v":""},{"$f":"IF(ISERROR(VLOOKUP($D94&\"@1\",'中間シート（個人）'!$F$6:$O$100,6,FALSE)&VLOOKUP($D94&\"@1\",'中間シート（個人）'!$F$6:$O$100,7,FALSE)&\".\"&VLOOKUP($D94&\"@1\",'中間シート（個人）'!$F$6:$O$100,8,FALSE)),\"\",VLOOKUP($D94&\"@1\",'中間シート（個人）'!$F$6:$O$100,6,FALSE)&VLOOKUP($D94&\"@1\",'中間シート（個人）'!$F$6:$O$100,7,FALSE)&\".\"&VLOOKUP($D94&\"@1\",'中間シート（個人）'!$F$6:$O$100,8,FALSE))","v":""},{"$f":"IF(ISERROR(VLOOKUP($D94&\"@2\",'中間シート（個人）'!$F$6:$O$100,4,FALSE)&VLOOKUP($D94&\"@2\",'中間シート（個人）'!$F$6:$O$100,5,FALSE)),\"\",VLOOKUP($D94&\"@2\",'中間シート（個人）'!$F$6:$O$100,4,FALSE)&VLOOKUP($D94&\"@2\",'中間シート（個人）'!$F$6:$O$100,5,FALSE))","v":""},{"$f":"IF(ISERROR(VLOOKUP($D94&\"@2\",'中間シート（個人）'!$F$6:$O$100,6,FALSE)&VLOOKUP($D94&\"@2\",'中間シート（個人）'!$F$6:$O$100,7,FALSE)&\".\"&VLOOKUP($D94&\"@2\",'中間シート（個人）'!$F$6:$O$100,8,FALSE)),\"\",VLOOKUP($D94&\"@2\",'中間シート（個人）'!$F$6:$O$100,6,FALSE)&VLOOKUP($D94&\"@2\",'中間シート（個人）'!$F$6:$O$100,7,FALSE)&\".\"&VLOOKUP($D94&\"@2\",'中間シート（個人）'!$F$6:$O$100,8,FALSE))","v":""},{"$f":"IF(ISERROR(VLOOKUP($D94&\"@3\",'中間シート（個人）'!$F$6:$O$100,4,FALSE)&VLOOKUP($D94&\"@3\",'中間シート（個人）'!$F$6:$O$100,5,FALSE)),\"\",VLOOKUP($D94&\"@3\",'中間シート（個人）'!$F$6:$O$100,4,FALSE)&VLOOKUP($D94&\"@3\",'中間シート（個人）'!$F$6:$O$100,5,FALSE))","v":""},{"$f":"IF(ISERROR(VLOOKUP($D94&\"@3\",'中間シート（個人）'!$F$6:$O$100,6,FALSE)&VLOOKUP($D94&\"@3\",'中間シート（個人）'!$F$6:$O$100,7,FALSE)&\".\"&VLOOKUP($D94&\"@3\",'中間シート（個人）'!$F$6:$O$100,8,FALSE)),\"\",VLOOKUP($D94&\"@3\",'中間シート（個人）'!$F$6:$O$100,6,FALSE)&VLOOKUP($D94&\"@3\",'中間シート（個人）'!$F$6:$O$100,7,FALSE)&\".\"&VLOOKUP($D94&\"@3\",'中間シート（個人）'!$F$6:$O$100,8,FALSE))","v":""},{"$f":"IF(ISERROR(VLOOKUP($D94&\"@4\",'中間シート（個人）'!$F$6:$O$100,4,FALSE)&VLOOKUP($D94&\"@4\",'中間シート（個人）'!$F$6:$O$100,5,FALSE)),\"\",VLOOKUP($D94&\"@4\",'中間シート（個人）'!$F$6:$O$100,4,FALSE)&VLOOKUP($D94&\"@4\",'中間シート（個人）'!$F$6:$O$100,5,FALSE))","v":""},{"$f":"IF(ISERROR(VLOOKUP($D94&\"@4\",'中間シート（個人）'!$F$6:$O$100,6,FALSE)&VLOOKUP($D94&\"@4\",'中間シート（個人）'!$F$6:$O$100,7,FALSE)&\".\"&VLOOKUP($D94&\"@4\",'中間シート（個人）'!$F$6:$O$100,8,FALSE)),\"\",VLOOKUP($D94&\"@4\",'中間シート（個人）'!$F$6:$O$100,6,FALSE)&VLOOKUP($D94&\"@4\",'中間シート（個人）'!$F$6:$O$100,7,FALSE)&\".\"&VLOOKUP($D94&\"@4\",'中間シート（個人）'!$F$6:$O$100,8,FALSE))","v":""},{"$f":"IF(ISERROR(VLOOKUP($D94&\"@5\",'中間シート（個人）'!$F$6:$O$100,4,FALSE)&VLOOKUP($D94&\"@5\",'中間シート（個人）'!$F$6:$O$100,5,FALSE)),\"\",VLOOKUP($D94&\"@5\",'中間シート（個人）'!$F$6:$O$100,4,FALSE)&VLOOKUP($D94&\"@5\",'中間シート（個人）'!$F$6:$O$100,5,FALSE))","v":""},{"$f":"IF(ISERROR(VLOOKUP($D94&\"@5\",'中間シート（個人）'!$F$6:$O$100,6,FALSE)&VLOOKUP($D94&\"@5\",'中間シート（個人）'!$F$6:$O$100,7,FALSE)&\".\"&VLOOKUP($D94&\"@5\",'中間シート（個人）'!$F$6:$O$100,8,FALSE)),\"\",VLOOKUP($D94&\"@5\",'中間シート（個人）'!$F$6:$O$100,6,FALSE)&VLOOKUP($D94&\"@5\",'中間シート（個人）'!$F$6:$O$100,7,FALSE)&\".\"&VLOOKUP($D94&\"@5\",'中間シート（個人）'!$F$6:$O$100,8,FALSE))","v":""},{"$f":"IF(ISERROR(VLOOKUP($D94&\"@6\",'中間シート（個人）'!$F$6:$O$100,4,FALSE)&VLOOKUP($D94&\"@6\",'中間シート（個人）'!$F$6:$O$100,5,FALSE)),\"\",VLOOKUP($D94&\"@6\",'中間シート（個人）'!$F$6:$O$100,4,FALSE)&VLOOKUP($D94&\"@6\",'中間シート（個人）'!$F$6:$O$100,5,FALSE))","v":""},{"$f":"IF(ISERROR(VLOOKUP($D94&\"@6\",'中間シート（個人）'!$F$6:$O$100,6,FALSE)&VLOOKUP($D94&\"@6\",'中間シート（個人）'!$F$6:$O$100,7,FALSE)&\".\"&VLOOKUP($D94&\"@6\",'中間シート（個人）'!$F$6:$O$100,8,FALSE)),\"\",VLOOKUP($D94&\"@6\",'中間シート（個人）'!$F$6:$O$100,6,FALSE)&VLOOKUP($D94&\"@6\",'中間シート（個人）'!$F$6:$O$100,7,FALSE)&\".\"&VLOOKUP($D94&\"@6\",'中間シート（個人）'!$F$6:$O$100,8,FALSE))","v":""},{"$f":"IF(ISERROR(VLOOKUP($D94&\"@7\",'中間シート（個人）'!$F$6:$O$100,4,FALSE)&VLOOKUP($D94&\"@7\",'中間シート（個人）'!$F$6:$O$100,5,FALSE)),\"\",VLOOKUP($D94&\"@7\",'中間シート（個人）'!$F$6:$O$100,4,FALSE)&VLOOKUP($D94&\"@7\",'中間シート（個人）'!$F$6:$O$100,5,FALSE))","v":""},{"$f":"IF(ISERROR(VLOOKUP($D94&\"@7\",'中間シート（個人）'!$F$6:$O$100,6,FALSE)&VLOOKUP($D94&\"@7\",'中間シート（個人）'!$F$6:$O$100,7,FALSE)&\".\"&VLOOKUP($D94&\"@7\",'中間シート（個人）'!$F$6:$O$100,8,FALSE)),\"\",VLOOKUP($D94&\"@7\",'中間シート（個人）'!$F$6:$O$100,6,FALSE)&VLOOKUP($D94&\"@7\",'中間シート（個人）'!$F$6:$O$100,7,FALSE)&\".\"&VLOOKUP($D94&\"@7\",'中間シート（個人）'!$F$6:$O$100,8,FALSE))","v":""},{"$f":"IF(ISERROR(VLOOKUP($D94&\"@8\",'中間シート（個人）'!$F$6:$O$100,4,FALSE)&VLOOKUP($D94&\"@8\",'中間シート（個人）'!$F$6:$O$100,5,FALSE)),\"\",VLOOKUP($D94&\"@8\",'中間シート（個人）'!$F$6:$O$100,4,FALSE)&VLOOKUP($D94&\"@8\",'中間シート（個人）'!$F$6:$O$100,5,FALSE))","v":""},{"$f":"IF(ISERROR(VLOOKUP($D94&\"@8\",'中間シート（個人）'!$F$6:$O$100,6,FALSE)&VLOOKUP($D94&\"@8\",'中間シート（個人）'!$F$6:$O$100,7,FALSE)&\".\"&VLOOKUP($D94&\"@8\",'中間シート（個人）'!$F$6:$O$100,8,FALSE)),\"\",VLOOKUP($D94&\"@8\",'中間シート（個人）'!$F$6:$O$100,6,FALSE)&VLOOKUP($D94&\"@8\",'中間シート（個人）'!$F$6:$O$100,7,FALSE)&\".\"&VLOOKUP($D94&\"@8\",'中間シート（個人）'!$F$6:$O$100,8,FALSE))","v":""},{"$f":"IF(ISERROR(VLOOKUP($D94&\"@9\",'中間シート（個人）'!$F$6:$O$100,4,FALSE)&VLOOKUP($D94&\"@9\",'中間シート（個人）'!$F$6:$O$100,5,FALSE)),\"\",VLOOKUP($D94&\"@9\",'中間シート（個人）'!$F$6:$O$100,4,FALSE)&VLOOKUP($D94&\"@9\",'中間シート（個人）'!$F$6:$O$100,5,FALSE))","v":""},{"$f":"IF(ISERROR(VLOOKUP($D94&\"@9\",'中間シート（個人）'!$F$6:$O$100,6,FALSE)&VLOOKUP($D94&\"@9\",'中間シート（個人）'!$F$6:$O$100,7,FALSE)&\".\"&VLOOKUP($D94&\"@9\",'中間シート（個人）'!$F$6:$O$100,8,FALSE)),\"\",VLOOKUP($D94&\"@9\",'中間シート（個人）'!$F$6:$O$100,6,FALSE)&VLOOKUP($D94&\"@9\",'中間シート（個人）'!$F$6:$O$100,7,FALSE)&\".\"&VLOOKUP($D94&\"@9\",'中間シート（個人）'!$F$6:$O$100,8,FALSE))","v":""},{"$f":"IF(ISERROR(VLOOKUP($D94&\"@10\",'中間シート（個人）'!$F$6:$O$100,4,FALSE)&VLOOKUP($D94&\"@10\",'中間シート（個人）'!$F$6:$O$100,5,FALSE)),\"\",VLOOKUP($D94&\"@10\",'中間シート（個人）'!$F$6:$O$100,4,FALSE)&VLOOKUP($D94&\"@10\",'中間シート（個人）'!$F$6:$O$100,5,FALSE))","v":""},{"$f":"IF(ISERROR(VLOOKUP($D94&\"@10\",'中間シート（個人）'!$F$6:$O$100,6,FALSE)&VLOOKUP($D94&\"@10\",'中間シート（個人）'!$F$6:$O$100,7,FALSE)&\".\"&VLOOKUP($D94&\"@10\",'中間シート（個人）'!$F$6:$O$100,8,FALSE)),\"\",VLOOKUP($D94&\"@10\",'中間シート（個人）'!$F$6:$O$100,6,FALSE)&VLOOKUP($D94&\"@10\",'中間シート（個人）'!$F$6:$O$100,7,FALSE)&\".\"&VLOOKUP($D94&\"@10\",'中間シート（個人）'!$F$6:$O$100,8,FALSE))","v":""}]
[null,null,{"$f":"IF('中間シート（個人）'!D97=\"○\",\"\",VLOOKUP(個人種目!F97,コード一覧!$A$2:$B$3,2,FALSE))","v":""},{"$f":"IF('中間シート（個人）'!D97=\"○\",\"\",'中間シート（個人）'!C97)","v":""},{"$f":"IF('中間シート（個人）'!D97=\"○\",\"\",ASC(個人種目!D97&\" \"&個人種目!E97))","v":""},{"$f":"IF('中間シート（個人）'!D97=\"○\",\"\",個人種目!G97&IF(LEN(個人種目!H97)=1,\"0\"&個人種目!H97,個人種目!H97)&IF(LEN(個人種目!I97)=1,\"0\"&個人種目!I97,個人種目!I97))","v":""},{"$f":"IF('中間シート（個人）'!D97=\"○\",\"\",VLOOKUP(個人種目!$J97,コード一覧!$C$3:$D$6,2,FALSE))","v":""},{"$f":"IF('中間シート（個人）'!D97=\"○\",\"\",IF(個人種目!$J97=\"一般\",0,個人種目!$K97))","v":""},{"$f":"IF('中間シート（個人）'!D97=\"○\",\"\",'中間シート（個人）'!H97)","v":""},null,{"$f":"IF('中間シート（個人）'!D97=\"○\",\"\",個人種目!$L$1)","v":""},{"$f":"IF('中間シート（個人）'!D97=\"○\",\"\",ASC(申込書_コナミ!$S$9))","v":""},{"$f":"IF('中間シート（個人）'!D97=\"○\",\"\",申込書_コナミ!$E$8)","v":""},null,null,null,{"$f":"IF('中間シート（個人）'!D97=\"○\",\"\",4)","v":""},{"$f":"IF(ISERROR(VLOOKUP($D95&\"@1\",'中間シート（個人）'!$F$6:$O$100,4,FALSE)&VLOOKUP($D95&\"@1\",'中間シート（個人）'!$F$6:$O$100,5,FALSE)),\"\",VLOOKUP($D95&\"@1\",'中間シート（個人）'!$F$6:$O$100,4,FALSE)&VLOOKUP($D95&\"@1\",'中間シート（個人）'!$F$6:$O$100,5,FALSE))","v":""},{"$f":"IF(ISERROR(VLOOKUP($D95&\"@1\",'中間シート（個人）'!$F$6:$O$100,6,FALSE)&VLOOKUP($D95&\"@1\",'中間シート（個人）'!$F$6:$O$100,7,FALSE)&\".\"&VLOOKUP($D95&\"@1\",'中間シート（個人）'!$F$6:$O$100,8,FALSE)),\"\",VLOOKUP($D95&\"@1\",'中間シート（個人）'!$F$6:$O$100,6,FALSE)&VLOOKUP($D95&\"@1\",'中間シート（個人）'!$F$6:$O$100,7,FALSE)&\".\"&VLOOKUP($D95&\"@1\",'中間シート（個人）'!$F$6:$O$100,8,FALSE))","v":""},{"$f":"IF(ISERROR(VLOOKUP($D95&\"@2\",'中間シート（個人）'!$F$6:$O$100,4,FALSE)&VLOOKUP($D95&\"@2\",'中間シート（個人）'!$F$6:$O$100,5,FALSE)),\"\",VLOOKUP($D95&\"@2\",'中間シート（個人）'!$F$6:$O$100,4,FALSE)&VLOOKUP($D95&\"@2\",'中間シート（個人）'!$F$6:$O$100,5,FALSE))","v":""},{"$f":"IF(ISERROR(VLOOKUP($D95&\"@2\",'中間シート（個人）'!$F$6:$O$100,6,FALSE)&VLOOKUP($D95&\"@2\",'中間シート（個人）'!$F$6:$O$100,7,FALSE)&\".\"&VLOOKUP($D95&\"@2\",'中間シート（個人）'!$F$6:$O$100,8,FALSE)),\"\",VLOOKUP($D95&\"@2\",'中間シート（個人）'!$F$6:$O$100,6,FALSE)&VLOOKUP($D95&\"@2\",'中間シート（個人）'!$F$6:$O$100,7,FALSE)&\".\"&VLOOKUP($D95&\"@2\",'中間シート（個人）'!$F$6:$O$100,8,FALSE))","v":""},{"$f":"IF(ISERROR(VLOOKUP($D95&\"@3\",'中間シート（個人）'!$F$6:$O$100,4,FALSE)&VLOOKUP($D95&\"@3\",'中間シート（個人）'!$F$6:$O$100,5,FALSE)),\"\",VLOOKUP($D95&\"@3\",'中間シート（個人）'!$F$6:$O$100,4,FALSE)&VLOOKUP($D95&\"@3\",'中間シート（個人）'!$F$6:$O$100,5,FALSE))","v":""},{"$f":"IF(ISERROR(VLOOKUP($D95&\"@3\",'中間シート（個人）'!$F$6:$O$100,6,FALSE)&VLOOKUP($D95&\"@3\",'中間シート（個人）'!$F$6:$O$100,7,FALSE)&\".\"&VLOOKUP($D95&\"@3\",'中間シート（個人）'!$F$6:$O$100,8,FALSE)),\"\",VLOOKUP($D95&\"@3\",'中間シート（個人）'!$F$6:$O$100,6,FALSE)&VLOOKUP($D95&\"@3\",'中間シート（個人）'!$F$6:$O$100,7,FALSE)&\".\"&VLOOKUP($D95&\"@3\",'中間シート（個人）'!$F$6:$O$100,8,FALSE))","v":""},{"$f":"IF(ISERROR(VLOOKUP($D95&\"@4\",'中間シート（個人）'!$F$6:$O$100,4,FALSE)&VLOOKUP($D95&\"@4\",'中間シート（個人）'!$F$6:$O$100,5,FALSE)),\"\",VLOOKUP($D95&\"@4\",'中間シート（個人）'!$F$6:$O$100,4,FALSE)&VLOOKUP($D95&\"@4\",'中間シート（個人）'!$F$6:$O$100,5,FALSE))","v":""},{"$f":"IF(ISERROR(VLOOKUP($D95&\"@4\",'中間シート（個人）'!$F$6:$O$100,6,FALSE)&VLOOKUP($D95&\"@4\",'中間シート（個人）'!$F$6:$O$100,7,FALSE)&\".\"&VLOOKUP($D95&\"@4\",'中間シート（個人）'!$F$6:$O$100,8,FALSE)),\"\",VLOOKUP($D95&\"@4\",'中間シート（個人）'!$F$6:$O$100,6,FALSE)&VLOOKUP($D95&\"@4\",'中間シート（個人）'!$F$6:$O$100,7,FALSE)&\".\"&VLOOKUP($D95&\"@4\",'中間シート（個人）'!$F$6:$O$100,8,FALSE))","v":""},{"$f":"IF(ISERROR(VLOOKUP($D95&\"@5\",'中間シート（個人）'!$F$6:$O$100,4,FALSE)&VLOOKUP($D95&\"@5\",'中間シート（個人）'!$F$6:$O$100,5,FALSE)),\"\",VLOOKUP($D95&\"@5\",'中間シート（個人）'!$F$6:$O$100,4,FALSE)&VLOOKUP($D95&\"@5\",'中間シート（個人）'!$F$6:$O$100,5,FALSE))","v":""},{"$f":"IF(ISERROR(VLOOKUP($D95&\"@5\",'中間シート（個人）'!$F$6:$O$100,6,FALSE)&VLOOKUP($D95&\"@5\",'中間シート（個人）'!$F$6:$O$100,7,FALSE)&\".\"&VLOOKUP($D95&\"@5\",'中間シート（個人）'!$F$6:$O$100,8,FALSE)),\"\",VLOOKUP($D95&\"@5\",'中間シート（個人）'!$F$6:$O$100,6,FALSE)&VLOOKUP($D95&\"@5\",'中間シート（個人）'!$F$6:$O$100,7,FALSE)&\".\"&VLOOKUP($D95&\"@5\",'中間シート（個人）'!$F$6:$O$100,8,FALSE))","v":""},{"$f":"IF(ISERROR(VLOOKUP($D95&\"@6\",'中間シート（個人）'!$F$6:$O$100,4,FALSE)&VLOOKUP($D95&\"@6\",'中間シート（個人）'!$F$6:$O$100,5,FALSE)),\"\",VLOOKUP($D95&\"@6\",'中間シート（個人）'!$F$6:$O$100,4,FALSE)&VLOOKUP($D95&\"@6\",'中間シート（個人）'!$F$6:$O$100,5,FALSE))","v":""},{"$f":"IF(ISERROR(VLOOKUP($D95&\"@6\",'中間シート（個人）'!$F$6:$O$100,6,FALSE)&VLOOKUP($D95&\"@6\",'中間シート（個人）'!$F$6:$O$100,7,FALSE)&\".\"&VLOOKUP($D95&\"@6\",'中間シート（個人）'!$F$6:$O$100,8,FALSE)),\"\",VLOOKUP($D95&\"@6\",'中間シート（個人）'!$F$6:$O$100,6,FALSE)&VLOOKUP($D95&\"@6\",'中間シート（個人）'!$F$6:$O$100,7,FALSE)&\".\"&VLOOKUP($D95&\"@6\",'中間シート（個人）'!$F$6:$O$100,8,FALSE))","v":""},{"$f":"IF(ISERROR(VLOOKUP($D95&\"@7\",'中間シート（個人）'!$F$6:$O$100,4,FALSE)&VLOOKUP($D95&\"@7\",'中間シート（個人）'!$F$6:$O$100,5,FALSE)),\"\",VLOOKUP($D95&\"@7\",'中間シート（個人）'!$F$6:$O$100,4,FALSE)&VLOOKUP($D95&\"@7\",'中間シート（個人）'!$F$6:$O$100,5,FALSE))","v":""},{"$f":"IF(ISERROR(VLOOKUP($D95&\"@7\",'中間シート（個人）'!$F$6:$O$100,6,FALSE)&VLOOKUP($D95&\"@7\",'中間シート（個人）'!$F$6:$O$100,7,FALSE)&\".\"&VLOOKUP($D95&\"@7\",'中間シート（個人）'!$F$6:$O$100,8,FALSE)),\"\",VLOOKUP($D95&\"@7\",'中間シート（個人）'!$F$6:$O$100,6,FALSE)&VLOOKUP($D95&\"@7\",'中間シート（個人）'!$F$6:$O$100,7,FALSE)&\".\"&VLOOKUP($D95&\"@7\",'中間シート（個人）'!$F$6:$O$100,8,FALSE))","v":""},{"$f":"IF(ISERROR(VLOOKUP($D95&\"@8\",'中間シート（個人）'!$F$6:$O$100,4,FALSE)&VLOOKUP($D95&\"@8\",'中間シート（個人）'!$F$6:$O$100,5,FALSE)),\"\",VLOOKUP($D95&\"@8\",'中間シート（個人）'!$F$6:$O$100,4,FALSE)&VLOOKUP($D95&\"@8\",'中間シート（個人）'!$F$6:$O$100,5,FALSE))","v":""},{"$f":"IF(ISERROR(VLOOKUP($D95&\"@8\",'中間シート（個人）'!$F$6:$O$100,6,FALSE)&VLOOKUP($D95&\"@8\",'中間シート（個人）'!$F$6:$O$100,7,FALSE)&\".\"&VLOOKUP($D95&\"@8\",'中間シート（個人）'!$F$6:$O$100,8,FALSE)),\"\",VLOOKUP($D95&\"@8\",'中間シート（個人）'!$F$6:$O$100,6,FALSE)&VLOOKUP($D95&\"@8\",'中間シート（個人）'!$F$6:$O$100,7,FALSE)&\".\"&VLOOKUP($D95&\"@8\",'中間シート（個人）'!$F$6:$O$100,8,FALSE))","v":""},{"$f":"IF(ISERROR(VLOOKUP($D95&\"@9\",'中間シート（個人）'!$F$6:$O$100,4,FALSE)&VLOOKUP($D95&\"@9\",'中間シート（個人）'!$F$6:$O$100,5,FALSE)),\"\",VLOOKUP($D95&\"@9\",'中間シート（個人）'!$F$6:$O$100,4,FALSE)&VLOOKUP($D95&\"@9\",'中間シート（個人）'!$F$6:$O$100,5,FALSE))","v":""},{"$f":"IF(ISERROR(VLOOKUP($D95&\"@9\",'中間シート（個人）'!$F$6:$O$100,6,FALSE)&VLOOKUP($D95&\"@9\",'中間シート（個人）'!$F$6:$O$100,7,FALSE)&\".\"&VLOOKUP($D95&\"@9\",'中間シート（個人）'!$F$6:$O$100,8,FALSE)),\"\",VLOOKUP($D95&\"@9\",'中間シート（個人）'!$F$6:$O$100,6,FALSE)&VLOOKUP($D95&\"@9\",'中間シート（個人）'!$F$6:$O$100,7,FALSE)&\".\"&VLOOKUP($D95&\"@9\",'中間シート（個人）'!$F$6:$O$100,8,FALSE))","v":""},{"$f":"IF(ISERROR(VLOOKUP($D95&\"@10\",'中間シート（個人）'!$F$6:$O$100,4,FALSE)&VLOOKUP($D95&\"@10\",'中間シート（個人）'!$F$6:$O$100,5,FALSE)),\"\",VLOOKUP($D95&\"@10\",'中間シート（個人）'!$F$6:$O$100,4,FALSE)&VLOOKUP($D95&\"@10\",'中間シート（個人）'!$F$6:$O$100,5,FALSE))","v":""},{"$f":"IF(ISERROR(VLOOKUP($D95&\"@10\",'中間シート（個人）'!$F$6:$O$100,6,FALSE)&VLOOKUP($D95&\"@10\",'中間シート（個人）'!$F$6:$O$100,7,FALSE)&\".\"&VLOOKUP($D95&\"@10\",'中間シート（個人）'!$F$6:$O$100,8,FALSE)),\"\",VLOOKUP($D95&\"@10\",'中間シート（個人）'!$F$6:$O$100,6,FALSE)&VLOOKUP($D95&\"@10\",'中間シート（個人）'!$F$6:$O$100,7,FALSE)&\".\"&VLOOKUP($D95&\"@10\",'中間シート（個人）'!$F$6:$O$100,8,FALSE))","v":""}]
[null,null,{"$f":"IF('中間シート（個人）'!D98=\"○\",\"\",VLOOKUP(個人種目!F98,コード一覧!$A$2:$B$3,2,FALSE))","v":""},{"$f":"IF('中間シート（個人）'!D98=\"○\",\"\",'中間シート（個人）'!C98)","v":""},{"$f":"IF('中間シート（個人）'!D98=\"○\",\"\",ASC(個人種目!D98&\" \"&個人種目!E98))","v":""},{"$f":"IF('中間シート（個人）'!D98=\"○\",\"\",個人種目!G98&IF(LEN(個人種目!H98)=1,\"0\"&個人種目!H98,個人種目!H98)&IF(LEN(個人種目!I98)=1,\"0\"&個人種目!I98,個人種目!I98))","v":""},{"$f":"IF('中間シート（個人）'!D98=\"○\",\"\",VLOOKUP(個人種目!$J98,コード一覧!$C$3:$D$6,2,FALSE))","v":""},{"$f":"IF('中間シート（個人）'!D98=\"○\",\"\",IF(個人種目!$J98=\"一般\",0,個人種目!$K98))","v":""},{"$f":"IF('中間シート（個人）'!D98=\"○\",\"\",'中間シート（個人）'!H98)","v":""},null,{"$f":"IF('中間シート（個人）'!D98=\"○\",\"\",個人種目!$L$1)","v":""},{"$f":"IF('中間シート（個人）'!D98=\"○\",\"\",ASC(申込書_コナミ!$S$9))","v":""},{"$f":"IF('中間シート（個人）'!D98=\"○\",\"\",申込書_コナミ!$E$8)","v":""},null,null,null,{"$f":"IF('中間シート（個人）'!D98=\"○\",\"\",4)","v":""},{"$f":"IF(ISERROR(VLOOKUP($D96&\"@1\",'中間シート（個人）'!$F$6:$O$100,4,FALSE)&VLOOKUP($D96&\"@1\",'中間シート（個人）'!$F$6:$O$100,5,FALSE)),\"\",VLOOKUP($D96&\"@1\",'中間シート（個人）'!$F$6:$O$100,4,FALSE)&VLOOKUP($D96&\"@1\",'中間シート（個人）'!$F$6:$O$100,5,FALSE))","v":""},{"$f":"IF(ISERROR(VLOOKUP($D96&\"@1\",'中間シート（個人）'!$F$6:$O$100,6,FALSE)&VLOOKUP($D96&\"@1\",'中間シート（個人）'!$F$6:$O$100,7,FALSE)&\".\"&VLOOKUP($D96&\"@1\",'中間シート（個人）'!$F$6:$O$100,8,FALSE)),\"\",VLOOKUP($D96&\"@1\",'中間シート（個人）'!$F$6:$O$100,6,FALSE)&VLOOKUP($D96&\"@1\",'中間シート（個人）'!$F$6:$O$100,7,FALSE)&\".\"&VLOOKUP($D96&\"@1\",'中間シート（個人）'!$F$6:$O$100,8,FALSE))","v":""},{"$f":"IF(ISERROR(VLOOKUP($D96&\"@2\",'中間シート（個人）'!$F$6:$O$100,4,FALSE)&VLOOKUP($D96&\"@2\",'中間シート（個人）'!$F$6:$O$100,5,FALSE)),\"\",VLOOKUP($D96&\"@2\",'中間シート（個人）'!$F$6:$O$100,4,FALSE)&VLOOKUP($D96&\"@2\",'中間シート（個人）'!$F$6:$O$100,5,FALSE))","v":""},{"$f":"IF(ISERROR(VLOOKUP($D96&\"@2\",'中間シート（個人）'!$F$6:$O$100,6,FALSE)&VLOOKUP($D96&\"@2\",'中間シート（個人）'!$F$6:$O$100,7,FALSE)&\".\"&VLOOKUP($D96&\"@2\",'中間シート（個人）'!$F$6:$O$100,8,FALSE)),\"\",VLOOKUP($D96&\"@2\",'中間シート（個人）'!$F$6:$O$100,6,FALSE)&VLOOKUP($D96&\"@2\",'中間シート（個人）'!$F$6:$O$100,7,FALSE)&\".\"&VLOOKUP($D96&\"@2\",'中間シート（個人）'!$F$6:$O$100,8,FALSE))","v":""},{"$f":"IF(ISERROR(VLOOKUP($D96&\"@3\",'中間シート（個人）'!$F$6:$O$100,4,FALSE)&VLOOKUP($D96&\"@3\",'中間シート（個人）'!$F$6:$O$100,5,FALSE)),\"\",VLOOKUP($D96&\"@3\",'中間シート（個人）'!$F$6:$O$100,4,FALSE)&VLOOKUP($D96&\"@3\",'中間シート（個人）'!$F$6:$O$100,5,FALSE))","v":""},{"$f":"IF(ISERROR(VLOOKUP($D96&\"@3\",'中間シート（個人）'!$F$6:$O$100,6,FALSE)&VLOOKUP($D96&\"@3\",'中間シート（個人）'!$F$6:$O$100,7,FALSE)&\".\"&VLOOKUP($D96&\"@3\",'中間シート（個人）'!$F$6:$O$100,8,FALSE)),\"\",VLOOKUP($D96&\"@3\",'中間シート（個人）'!$F$6:$O$100,6,FALSE)&VLOOKUP($D96&\"@3\",'中間シート（個人）'!$F$6:$O$100,7,FALSE)&\".\"&VLOOKUP($D96&\"@3\",'中間シート（個人）'!$F$6:$O$100,8,FALSE))","v":""},{"$f":"IF(ISERROR(VLOOKUP($D96&\"@4\",'中間シート（個人）'!$F$6:$O$100,4,FALSE)&VLOOKUP($D96&\"@4\",'中間シート（個人）'!$F$6:$O$100,5,FALSE)),\"\",VLOOKUP($D96&\"@4\",'中間シート（個人）'!$F$6:$O$100,4,FALSE)&VLOOKUP($D96&\"@4\",'中間シート（個人）'!$F$6:$O$100,5,FALSE))","v":""},{"$f":"IF(ISERROR(VLOOKUP($D96&\"@4\",'中間シート（個人）'!$F$6:$O$100,6,FALSE)&VLOOKUP($D96&\"@4\",'中間シート（個人）'!$F$6:$O$100,7,FALSE)&\".\"&VLOOKUP($D96&\"@4\",'中間シート（個人）'!$F$6:$O$100,8,FALSE)),\"\",VLOOKUP($D96&\"@4\",'中間シート（個人）'!$F$6:$O$100,6,FALSE)&VLOOKUP($D96&\"@4\",'中間シート（個人）'!$F$6:$O$100,7,FALSE)&\".\"&VLOOKUP($D96&\"@4\",'中間シート（個人）'!$F$6:$O$100,8,FALSE))","v":""},{"$f":"IF(ISERROR(VLOOKUP($D96&\"@5\",'中間シート（個人）'!$F$6:$O$100,4,FALSE)&VLOOKUP($D96&\"@5\",'中間シート（個人）'!$F$6:$O$100,5,FALSE)),\"\",VLOOKUP($D96&\"@5\",'中間シート（個人）'!$F$6:$O$100,4,FALSE)&VLOOKUP($D96&\"@5\",'中間シート（個人）'!$F$6:$O$100,5,FALSE))","v":""},{"$f":"IF(ISERROR(VLOOKUP($D96&\"@5\",'中間シート（個人）'!$F$6:$O$100,6,FALSE)&VLOOKUP($D96&\"@5\",'中間シート（個人）'!$F$6:$O$100,7,FALSE)&\".\"&VLOOKUP($D96&\"@5\",'中間シート（個人）'!$F$6:$O$100,8,FALSE)),\"\",VLOOKUP($D96&\"@5\",'中間シート（個人）'!$F$6:$O$100,6,FALSE)&VLOOKUP($D96&\"@5\",'中間シート（個人）'!$F$6:$O$100,7,FALSE)&\".\"&VLOOKUP($D96&\"@5\",'中間シート（個人）'!$F$6:$O$100,8,FALSE))","v":""},{"$f":"IF(ISERROR(VLOOKUP($D96&\"@6\",'中間シート（個人）'!$F$6:$O$100,4,FALSE)&VLOOKUP($D96&\"@6\",'中間シート（個人）'!$F$6:$O$100,5,FALSE)),\"\",VLOOKUP($D96&\"@6\",'中間シート（個人）'!$F$6:$O$100,4,FALSE)&VLOOKUP($D96&\"@6\",'中間シート（個人）'!$F$6:$O$100,5,FALSE))","v":""},{"$f":"IF(ISERROR(VLOOKUP($D96&\"@6\",'中間シート（個人）'!$F$6:$O$100,6,FALSE)&VLOOKUP($D96&\"@6\",'中間シート（個人）'!$F$6:$O$100,7,FALSE)&\".\"&VLOOKUP($D96&\"@6\",'中間シート（個人）'!$F$6:$O$100,8,FALSE)),\"\",VLOOKUP($D96&\"@6\",'中間シート（個人）'!$F$6:$O$100,6,FALSE)&VLOOKUP($D96&\"@6\",'中間シート（個人）'!$F$6:$O$100,7,FALSE)&\".\"&VLOOKUP($D96&\"@6\",'中間シート（個人）'!$F$6:$O$100,8,FALSE))","v":""},{"$f":"IF(ISERROR(VLOOKUP($D96&\"@7\",'中間シート（個人）'!$F$6:$O$100,4,FALSE)&VLOOKUP($D96&\"@7\",'中間シート（個人）'!$F$6:$O$100,5,FALSE)),\"\",VLOOKUP($D96&\"@7\",'中間シート（個人）'!$F$6:$O$100,4,FALSE)&VLOOKUP($D96&\"@7\",'中間シート（個人）'!$F$6:$O$100,5,FALSE))","v":""},{"$f":"IF(ISERROR(VLOOKUP($D96&\"@7\",'中間シート（個人）'!$F$6:$O$100,6,FALSE)&VLOOKUP($D96&\"@7\",'中間シート（個人）'!$F$6:$O$100,7,FALSE)&\".\"&VLOOKUP($D96&\"@7\",'中間シート（個人）'!$F$6:$O$100,8,FALSE)),\"\",VLOOKUP($D96&\"@7\",'中間シート（個人）'!$F$6:$O$100,6,FALSE)&VLOOKUP($D96&\"@7\",'中間シート（個人）'!$F$6:$O$100,7,FALSE)&\".\"&VLOOKUP($D96&\"@7\",'中間シート（個人）'!$F$6:$O$100,8,FALSE))","v":""},{"$f":"IF(ISERROR(VLOOKUP($D96&\"@8\",'中間シート（個人）'!$F$6:$O$100,4,FALSE)&VLOOKUP($D96&\"@8\",'中間シート（個人）'!$F$6:$O$100,5,FALSE)),\"\",VLOOKUP($D96&\"@8\",'中間シート（個人）'!$F$6:$O$100,4,FALSE)&VLOOKUP($D96&\"@8\",'中間シート（個人）'!$F$6:$O$100,5,FALSE))","v":""},{"$f":"IF(ISERROR(VLOOKUP($D96&\"@8\",'中間シート（個人）'!$F$6:$O$100,6,FALSE)&VLOOKUP($D96&\"@8\",'中間シート（個人）'!$F$6:$O$100,7,FALSE)&\".\"&VLOOKUP($D96&\"@8\",'中間シート（個人）'!$F$6:$O$100,8,FALSE)),\"\",VLOOKUP($D96&\"@8\",'中間シート（個人）'!$F$6:$O$100,6,FALSE)&VLOOKUP($D96&\"@8\",'中間シート（個人）'!$F$6:$O$100,7,FALSE)&\".\"&VLOOKUP($D96&\"@8\",'中間シート（個人）'!$F$6:$O$100,8,FALSE))","v":""},{"$f":"IF(ISERROR(VLOOKUP($D96&\"@9\",'中間シート（個人）'!$F$6:$O$100,4,FALSE)&VLOOKUP($D96&\"@9\",'中間シート（個人）'!$F$6:$O$100,5,FALSE)),\"\",VLOOKUP($D96&\"@9\",'中間シート（個人）'!$F$6:$O$100,4,FALSE)&VLOOKUP($D96&\"@9\",'中間シート（個人）'!$F$6:$O$100,5,FALSE))","v":""},{"$f":"IF(ISERROR(VLOOKUP($D96&\"@9\",'中間シート（個人）'!$F$6:$O$100,6,FALSE)&VLOOKUP($D96&\"@9\",'中間シート（個人）'!$F$6:$O$100,7,FALSE)&\".\"&VLOOKUP($D96&\"@9\",'中間シート（個人）'!$F$6:$O$100,8,FALSE)),\"\",VLOOKUP($D96&\"@9\",'中間シート（個人）'!$F$6:$O$100,6,FALSE)&VLOOKUP($D96&\"@9\",'中間シート（個人）'!$F$6:$O$100,7,FALSE)&\".\"&VLOOKUP($D96&\"@9\",'中間シート（個人）'!$F$6:$O$100,8,FALSE))","v":""},{"$f":"IF(ISERROR(VLOOKUP($D96&\"@10\",'中間シート（個人）'!$F$6:$O$100,4,FALSE)&VLOOKUP($D96&\"@10\",'中間シート（個人）'!$F$6:$O$100,5,FALSE)),\"\",VLOOKUP($D96&\"@10\",'中間シート（個人）'!$F$6:$O$100,4,FALSE)&VLOOKUP($D96&\"@10\",'中間シート（個人）'!$F$6:$O$100,5,FALSE))","v":""},{"$f":"IF(ISERROR(VLOOKUP($D96&\"@10\",'中間シート（個人）'!$F$6:$O$100,6,FALSE)&VLOOKUP($D96&\"@10\",'中間シート（個人）'!$F$6:$O$100,7,FALSE)&\".\"&VLOOKUP($D96&\"@10\",'中間シート（個人）'!$F$6:$O$100,8,FALSE)),\"\",VLOOKUP($D96&\"@10\",'中間シート（個人）'!$F$6:$O$100,6,FALSE)&VLOOKUP($D96&\"@10\",'中間シート（個人）'!$F$6:$O$100,7,FALSE)&\".\"&VLOOKUP($D96&\"@10\",'中間シート（個人）'!$F$6:$O$100,8,FALSE))","v":""}]
[null,null,{"$f":"IF('中間シート（個人）'!D99=\"○\",\"\",VLOOKUP(個人種目!F99,コード一覧!$A$2:$B$3,2,FALSE))","v":""},{"$f":"IF('中間シート（個人）'!D99=\"○\",\"\",'中間シート（個人）'!C99)","v":""},{"$f":"IF('中間シート（個人）'!D99=\"○\",\"\",ASC(個人種目!D99&\" \"&個人種目!E99))","v":""},{"$f":"IF('中間シート（個人）'!D99=\"○\",\"\",個人種目!G99&IF(LEN(個人種目!H99)=1,\"0\"&個人種目!H99,個人種目!H99)&IF(LEN(個人種目!I99)=1,\"0\"&個人種目!I99,個人種目!I99))","v":""},{"$f":"IF('中間シート（個人）'!D99=\"○\",\"\",VLOOKUP(個人種目!$J99,コード一覧!$C$3:$D$6,2,FALSE))","v":""},{"$f":"IF('中間シート（個人）'!D99=\"○\",\"\",IF(個人種目!$J99=\"一般\",0,個人種目!$K99))","v":""},{"$f":"IF('中間シート（個人）'!D99=\"○\",\"\",'中間シート（個人）'!H99)","v":""},null,{"$f":"IF('中間シート（個人）'!D99=\"○\",\"\",個人種目!$L$1)","v":""},{"$f":"IF('中間シート（個人）'!D99=\"○\",\"\",ASC(申込書_コナミ!$S$9))","v":""},{"$f":"IF('中間シート（個人）'!D99=\"○\",\"\",申込書_コナミ!$E$8)","v":""},null,null,null,{"$f":"IF('中間シート（個人）'!D99=\"○\",\"\",4)","v":""},{"$f":"IF(ISERROR(VLOOKUP($D97&\"@1\",'中間シート（個人）'!$F$6:$O$100,4,FALSE)&VLOOKUP($D97&\"@1\",'中間シート（個人）'!$F$6:$O$100,5,FALSE)),\"\",VLOOKUP($D97&\"@1\",'中間シート（個人）'!$F$6:$O$100,4,FALSE)&VLOOKUP($D97&\"@1\",'中間シート（個人）'!$F$6:$O$100,5,FALSE))","v":""},{"$f":"IF(ISERROR(VLOOKUP($D97&\"@1\",'中間シート（個人）'!$F$6:$O$100,6,FALSE)&VLOOKUP($D97&\"@1\",'中間シート（個人）'!$F$6:$O$100,7,FALSE)&\".\"&VLOOKUP($D97&\"@1\",'中間シート（個人）'!$F$6:$O$100,8,FALSE)),\"\",VLOOKUP($D97&\"@1\",'中間シート（個人）'!$F$6:$O$100,6,FALSE)&VLOOKUP($D97&\"@1\",'中間シート（個人）'!$F$6:$O$100,7,FALSE)&\".\"&VLOOKUP($D97&\"@1\",'中間シート（個人）'!$F$6:$O$100,8,FALSE))","v":""},{"$f":"IF(ISERROR(VLOOKUP($D97&\"@2\",'中間シート（個人）'!$F$6:$O$100,4,FALSE)&VLOOKUP($D97&\"@2\",'中間シート（個人）'!$F$6:$O$100,5,FALSE)),\"\",VLOOKUP($D97&\"@2\",'中間シート（個人）'!$F$6:$O$100,4,FALSE)&VLOOKUP($D97&\"@2\",'中間シート（個人）'!$F$6:$O$100,5,FALSE))","v":""},{"$f":"IF(ISERROR(VLOOKUP($D97&\"@2\",'中間シート（個人）'!$F$6:$O$100,6,FALSE)&VLOOKUP($D97&\"@2\",'中間シート（個人）'!$F$6:$O$100,7,FALSE)&\".\"&VLOOKUP($D97&\"@2\",'中間シート（個人）'!$F$6:$O$100,8,FALSE)),\"\",VLOOKUP($D97&\"@2\",'中間シート（個人）'!$F$6:$O$100,6,FALSE)&VLOOKUP($D97&\"@2\",'中間シート（個人）'!$F$6:$O$100,7,FALSE)&\".\"&VLOOKUP($D97&\"@2\",'中間シート（個人）'!$F$6:$O$100,8,FALSE))","v":""},{"$f":"IF(ISERROR(VLOOKUP($D97&\"@3\",'中間シート（個人）'!$F$6:$O$100,4,FALSE)&VLOOKUP($D97&\"@3\",'中間シート（個人）'!$F$6:$O$100,5,FALSE)),\"\",VLOOKUP($D97&\"@3\",'中間シート（個人）'!$F$6:$O$100,4,FALSE)&VLOOKUP($D97&\"@3\",'中間シート（個人）'!$F$6:$O$100,5,FALSE))","v":""},{"$f":"IF(ISERROR(VLOOKUP($D97&\"@3\",'中間シート（個人）'!$F$6:$O$100,6,FALSE)&VLOOKUP($D97&\"@3\",'中間シート（個人）'!$F$6:$O$100,7,FALSE)&\".\"&VLOOKUP($D97&\"@3\",'中間シート（個人）'!$F$6:$O$100,8,FALSE)),\"\",VLOOKUP($D97&\"@3\",'中間シート（個人）'!$F$6:$O$100,6,FALSE)&VLOOKUP($D97&\"@3\",'中間シート（個人）'!$F$6:$O$100,7,FALSE)&\".\"&VLOOKUP($D97&\"@3\",'中間シート（個人）'!$F$6:$O$100,8,FALSE))","v":""},{"$f":"IF(ISERROR(VLOOKUP($D97&\"@4\",'中間シート（個人）'!$F$6:$O$100,4,FALSE)&VLOOKUP($D97&\"@4\",'中間シート（個人）'!$F$6:$O$100,5,FALSE)),\"\",VLOOKUP($D97&\"@4\",'中間シート（個人）'!$F$6:$O$100,4,FALSE)&VLOOKUP($D97&\"@4\",'中間シート（個人）'!$F$6:$O$100,5,FALSE))","v":""},{"$f":"IF(ISERROR(VLOOKUP($D97&\"@4\",'中間シート（個人）'!$F$6:$O$100,6,FALSE)&VLOOKUP($D97&\"@4\",'中間シート（個人）'!$F$6:$O$100,7,FALSE)&\".\"&VLOOKUP($D97&\"@4\",'中間シート（個人）'!$F$6:$O$100,8,FALSE)),\"\",VLOOKUP($D97&\"@4\",'中間シート（個人）'!$F$6:$O$100,6,FALSE)&VLOOKUP($D97&\"@4\",'中間シート（個人）'!$F$6:$O$100,7,FALSE)&\".\"&VLOOKUP($D97&\"@4\",'中間シート（個人）'!$F$6:$O$100,8,FALSE))","v":""},{"$f":"IF(ISERROR(VLOOKUP($D97&\"@5\",'中間シート（個人）'!$F$6:$O$100,4,FALSE)&VLOOKUP($D97&\"@5\",'中間シート（個人）'!$F$6:$O$100,5,FALSE)),\"\",VLOOKUP($D97&\"@5\",'中間シート（個人）'!$F$6:$O$100,4,FALSE)&VLOOKUP($D97&\"@5\",'中間シート（個人）'!$F$6:$O$100,5,FALSE))","v":""},{"$f":"IF(ISERROR(VLOOKUP($D97&\"@5\",'中間シート（個人）'!$F$6:$O$100,6,FALSE)&VLOOKUP($D97&\"@5\",'中間シート（個人）'!$F$6:$O$100,7,FALSE)&\".\"&VLOOKUP($D97&\"@5\",'中間シート（個人）'!$F$6:$O$100,8,FALSE)),\"\",VLOOKUP($D97&\"@5\",'中間シート（個人）'!$F$6:$O$100,6,FALSE)&VLOOKUP($D97&\"@5\",'中間シート（個人）'!$F$6:$O$100,7,FALSE)&\".\"&VLOOKUP($D97&\"@5\",'中間シート（個人）'!$F$6:$O$100,8,FALSE))","v":""},{"$f":"IF(ISERROR(VLOOKUP($D97&\"@6\",'中間シート（個人）'!$F$6:$O$100,4,FALSE)&VLOOKUP($D97&\"@6\",'中間シート（個人）'!$F$6:$O$100,5,FALSE)),\"\",VLOOKUP($D97&\"@6\",'中間シート（個人）'!$F$6:$O$100,4,FALSE)&VLOOKUP($D97&\"@6\",'中間シート（個人）'!$F$6:$O$100,5,FALSE))","v":""},{"$f":"IF(ISERROR(VLOOKUP($D97&\"@6\",'中間シート（個人）'!$F$6:$O$100,6,FALSE)&VLOOKUP($D97&\"@6\",'中間シート（個人）'!$F$6:$O$100,7,FALSE)&\".\"&VLOOKUP($D97&\"@6\",'中間シート（個人）'!$F$6:$O$100,8,FALSE)),\"\",VLOOKUP($D97&\"@6\",'中間シート（個人）'!$F$6:$O$100,6,FALSE)&VLOOKUP($D97&\"@6\",'中間シート（個人）'!$F$6:$O$100,7,FALSE)&\".\"&VLOOKUP($D97&\"@6\",'中間シート（個人）'!$F$6:$O$100,8,FALSE))","v":""},{"$f":"IF(ISERROR(VLOOKUP($D97&\"@7\",'中間シート（個人）'!$F$6:$O$100,4,FALSE)&VLOOKUP($D97&\"@7\",'中間シート（個人）'!$F$6:$O$100,5,FALSE)),\"\",VLOOKUP($D97&\"@7\",'中間シート（個人）'!$F$6:$O$100,4,FALSE)&VLOOKUP($D97&\"@7\",'中間シート（個人）'!$F$6:$O$100,5,FALSE))","v":""},{"$f":"IF(ISERROR(VLOOKUP($D97&\"@7\",'中間シート（個人）'!$F$6:$O$100,6,FALSE)&VLOOKUP($D97&\"@7\",'中間シート（個人）'!$F$6:$O$100,7,FALSE)&\".\"&VLOOKUP($D97&\"@7\",'中間シート（個人）'!$F$6:$O$100,8,FALSE)),\"\",VLOOKUP($D97&\"@7\",'中間シート（個人）'!$F$6:$O$100,6,FALSE)&VLOOKUP($D97&\"@7\",'中間シート（個人）'!$F$6:$O$100,7,FALSE)&\".\"&VLOOKUP($D97&\"@7\",'中間シート（個人）'!$F$6:$O$100,8,FALSE))","v":""},{"$f":"IF(ISERROR(VLOOKUP($D97&\"@8\",'中間シート（個人）'!$F$6:$O$100,4,FALSE)&VLOOKUP($D97&\"@8\",'中間シート（個人）'!$F$6:$O$100,5,FALSE)),\"\",VLOOKUP($D97&\"@8\",'中間シート（個人）'!$F$6:$O$100,4,FALSE)&VLOOKUP($D97&\"@8\",'中間シート（個人）'!$F$6:$O$100,5,FALSE))","v":""},{"$f":"IF(ISERROR(VLOOKUP($D97&\"@8\",'中間シート（個人）'!$F$6:$O$100,6,FALSE)&VLOOKUP($D97&\"@8\",'中間シート（個人）'!$F$6:$O$100,7,FALSE)&\".\"&VLOOKUP($D97&\"@8\",'中間シート（個人）'!$F$6:$O$100,8,FALSE)),\"\",VLOOKUP($D97&\"@8\",'中間シート（個人）'!$F$6:$O$100,6,FALSE)&VLOOKUP($D97&\"@8\",'中間シート（個人）'!$F$6:$O$100,7,FALSE)&\".\"&VLOOKUP($D97&\"@8\",'中間シート（個人）'!$F$6:$O$100,8,FALSE))","v":""},{"$f":"IF(ISERROR(VLOOKUP($D97&\"@9\",'中間シート（個人）'!$F$6:$O$100,4,FALSE)&VLOOKUP($D97&\"@9\",'中間シート（個人）'!$F$6:$O$100,5,FALSE)),\"\",VLOOKUP($D97&\"@9\",'中間シート（個人）'!$F$6:$O$100,4,FALSE)&VLOOKUP($D97&\"@9\",'中間シート（個人）'!$F$6:$O$100,5,FALSE))","v":""},{"$f":"IF(ISERROR(VLOOKUP($D97&\"@9\",'中間シート（個人）'!$F$6:$O$100,6,FALSE)&VLOOKUP($D97&\"@9\",'中間シート（個人）'!$F$6:$O$100,7,FALSE)&\".\"&VLOOKUP($D97&\"@9\",'中間シート（個人）'!$F$6:$O$100,8,FALSE)),\"\",VLOOKUP($D97&\"@9\",'中間シート（個人）'!$F$6:$O$100,6,FALSE)&VLOOKUP($D97&\"@9\",'中間シート（個人）'!$F$6:$O$100,7,FALSE)&\".\"&VLOOKUP($D97&\"@9\",'中間シート（個人）'!$F$6:$O$100,8,FALSE))","v":""},{"$f":"IF(ISERROR(VLOOKUP($D97&\"@10\",'中間シート（個人）'!$F$6:$O$100,4,FALSE)&VLOOKUP($D97&\"@10\",'中間シート（個人）'!$F$6:$O$100,5,FALSE)),\"\",VLOOKUP($D97&\"@10\",'中間シート（個人）'!$F$6:$O$100,4,FALSE)&VLOOKUP($D97&\"@10\",'中間シート（個人）'!$F$6:$O$100,5,FALSE))","v":""},{"$f":"IF(ISERROR(VLOOKUP($D97&\"@10\",'中間シート（個人）'!$F$6:$O$100,6,FALSE)&VLOOKUP($D97&\"@10\",'中間シート（個人）'!$F$6:$O$100,7,FALSE)&\".\"&VLOOKUP($D97&\"@10\",'中間シート（個人）'!$F$6:$O$100,8,FALSE)),\"\",VLOOKUP($D97&\"@10\",'中間シート（個人）'!$F$6:$O$100,6,FALSE)&VLOOKUP($D97&\"@10\",'中間シート（個人）'!$F$6:$O$100,7,FALSE)&\".\"&VLOOKUP($D97&\"@10\",'中間シート（個人）'!$F$6:$O$100,8,FALSE))","v":""}]
[null,null,{"$f":"IF('中間シート（個人）'!D100=\"○\",\"\",VLOOKUP(個人種目!F100,コード一覧!$A$2:$B$3,2,FALSE))","v":""},{"$f":"IF('中間シート（個人）'!D100=\"○\",\"\",'中間シート（個人）'!C100)","v":""},{"$f":"IF('中間シート（個人）'!D100=\"○\",\"\",ASC(個人種目!D100&\" \"&個人種目!E100))","v":""},{"$f":"IF('中間シート（個人）'!D100=\"○\",\"\",個人種目!G100&IF(LEN(個人種目!H100)=1,\"0\"&個人種目!H100,個人種目!H100)&IF(LEN(個人種目!I100)=1,\"0\"&個人種目!I100,個人種目!I100))","v":""},{"$f":"IF('中間シート（個人）'!D100=\"○\",\"\",VLOOKUP(個人種目!$J100,コード一覧!$C$3:$D$6,2,FALSE))","v":""},{"$f":"IF('中間シート（個人）'!D100=\"○\",\"\",IF(個人種目!$J100=\"一般\",0,個人種目!$K100))","v":""},{"$f":"IF('中間シート（個人）'!D100=\"○\",\"\",'中間シート（個人）'!H100)","v":""},null,{"$f":"IF('中間シート（個人）'!D100=\"○\",\"\",個人種目!$L$1)","v":""},{"$f":"IF('中間シート（個人）'!D100=\"○\",\"\",ASC(申込書_コナミ!$S$9))","v":""},{"$f":"IF('中間シート（個人）'!D100=\"○\",\"\",申込書_コナミ!$E$8)","v":""},null,null,null,{"$f":"IF('中間シート（個人）'!D100=\"○\",\"\",4)","v":""},{"$f":"IF(ISERROR(VLOOKUP($D98&\"@1\",'中間シート（個人）'!$F$6:$O$100,4,FALSE)&VLOOKUP($D98&\"@1\",'中間シート（個人）'!$F$6:$O$100,5,FALSE)),\"\",VLOOKUP($D98&\"@1\",'中間シート（個人）'!$F$6:$O$100,4,FALSE)&VLOOKUP($D98&\"@1\",'中間シート（個人）'!$F$6:$O$100,5,FALSE))","v":""},{"$f":"IF(ISERROR(VLOOKUP($D98&\"@1\",'中間シート（個人）'!$F$6:$O$100,6,FALSE)&VLOOKUP($D98&\"@1\",'中間シート（個人）'!$F$6:$O$100,7,FALSE)&\".\"&VLOOKUP($D98&\"@1\",'中間シート（個人）'!$F$6:$O$100,8,FALSE)),\"\",VLOOKUP($D98&\"@1\",'中間シート（個人）'!$F$6:$O$100,6,FALSE)&VLOOKUP($D98&\"@1\",'中間シート（個人）'!$F$6:$O$100,7,FALSE)&\".\"&VLOOKUP($D98&\"@1\",'中間シート（個人）'!$F$6:$O$100,8,FALSE))","v":""},{"$f":"IF(ISERROR(VLOOKUP($D98&\"@2\",'中間シート（個人）'!$F$6:$O$100,4,FALSE)&VLOOKUP($D98&\"@2\",'中間シート（個人）'!$F$6:$O$100,5,FALSE)),\"\",VLOOKUP($D98&\"@2\",'中間シート（個人）'!$F$6:$O$100,4,FALSE)&VLOOKUP($D98&\"@2\",'中間シート（個人）'!$F$6:$O$100,5,FALSE))","v":""},{"$f":"IF(ISERROR(VLOOKUP($D98&\"@2\",'中間シート（個人）'!$F$6:$O$100,6,FALSE)&VLOOKUP($D98&\"@2\",'中間シート（個人）'!$F$6:$O$100,7,FALSE)&\".\"&VLOOKUP($D98&\"@2\",'中間シート（個人）'!$F$6:$O$100,8,FALSE)),\"\",VLOOKUP($D98&\"@2\",'中間シート（個人）'!$F$6:$O$100,6,FALSE)&VLOOKUP($D98&\"@2\",'中間シート（個人）'!$F$6:$O$100,7,FALSE)&\".\"&VLOOKUP($D98&\"@2\",'中間シート（個人）'!$F$6:$O$100,8,FALSE))","v":""},{"$f":"IF(ISERROR(VLOOKUP($D98&\"@3\",'中間シート（個人）'!$F$6:$O$100,4,FALSE)&VLOOKUP($D98&\"@3\",'中間シート（個人）'!$F$6:$O$100,5,FALSE)),\"\",VLOOKUP($D98&\"@3\",'中間シート（個人）'!$F$6:$O$100,4,FALSE)&VLOOKUP($D98&\"@3\",'中間シート（個人）'!$F$6:$O$100,5,FALSE))","v":""},{"$f":"IF(ISERROR(VLOOKUP($D98&\"@3\",'中間シート（個人）'!$F$6:$O$100,6,FALSE)&VLOOKUP($D98&\"@3\",'中間シート（個人）'!$F$6:$O$100,7,FALSE)&\".\"&VLOOKUP($D98&\"@3\",'中間シート（個人）'!$F$6:$O$100,8,FALSE)),\"\",VLOOKUP($D98&\"@3\",'中間シート（個人）'!$F$6:$O$100,6,FALSE)&VLOOKUP($D98&\"@3\",'中間シート（個人）'!$F$6:$O$100,7,FALSE)&\".\"&VLOOKUP($D98&\"@3\",'中間シート（個人）'!$F$6:$O$100,8,FALSE))","v":""},{"$f":"IF(ISERROR(VLOOKUP($D98&\"@4\",'中間シート（個人）'!$F$6:$O$100,4,FALSE)&VLOOKUP($D98&\"@4\",'中間シート（個人）'!$F$6:$O$100,5,FALSE)),\"\",VLOOKUP($D98&\"@4\",'中間シート（個人）'!$F$6:$O$100,4,FALSE)&VLOOKUP($D98&\"@4\",'中間シート（個人）'!$F$6:$O$100,5,FALSE))","v":""},{"$f":"IF(ISERROR(VLOOKUP($D98&\"@4\",'中間シート（個人）'!$F$6:$O$100,6,FALSE)&VLOOKUP($D98&\"@4\",'中間シート（個人）'!$F$6:$O$100,7,FALSE)&\".\"&VLOOKUP($D98&\"@4\",'中間シート（個人）'!$F$6:$O$100,8,FALSE)),\"\",VLOOKUP($D98&\"@4\",'中間シート（個人）'!$F$6:$O$100,6,FALSE)&VLOOKUP($D98&\"@4\",'中間シート（個人）'!$F$6:$O$100,7,FALSE)&\".\"&VLOOKUP($D98&\"@4\",'中間シート（個人）'!$F$6:$O$100,8,FALSE))","v":""},{"$f":"IF(ISERROR(VLOOKUP($D98&\"@5\",'中間シート（個人）'!$F$6:$O$100,4,FALSE)&VLOOKUP($D98&\"@5\",'中間シート（個人）'!$F$6:$O$100,5,FALSE)),\"\",VLOOKUP($D98&\"@5\",'中間シート（個人）'!$F$6:$O$100,4,FALSE)&VLOOKUP($D98&\"@5\",'中間シート（個人）'!$F$6:$O$100,5,FALSE))","v":""},{"$f":"IF(ISERROR(VLOOKUP($D98&\"@5\",'中間シート（個人）'!$F$6:$O$100,6,FALSE)&VLOOKUP($D98&\"@5\",'中間シート（個人）'!$F$6:$O$100,7,FALSE)&\".\"&VLOOKUP($D98&\"@5\",'中間シート（個人）'!$F$6:$O$100,8,FALSE)),\"\",VLOOKUP($D98&\"@5\",'中間シート（個人）'!$F$6:$O$100,6,FALSE)&VLOOKUP($D98&\"@5\",'中間シート（個人）'!$F$6:$O$100,7,FALSE)&\".\"&VLOOKUP($D98&\"@5\",'中間シート（個人）'!$F$6:$O$100,8,FALSE))","v":""},{"$f":"IF(ISERROR(VLOOKUP($D98&\"@6\",'中間シート（個人）'!$F$6:$O$100,4,FALSE)&VLOOKUP($D98&\"@6\",'中間シート（個人）'!$F$6:$O$100,5,FALSE)),\"\",VLOOKUP($D98&\"@6\",'中間シート（個人）'!$F$6:$O$100,4,FALSE)&VLOOKUP($D98&\"@6\",'中間シート（個人）'!$F$6:$O$100,5,FALSE))","v":""},{"$f":"IF(ISERROR(VLOOKUP($D98&\"@6\",'中間シート（個人）'!$F$6:$O$100,6,FALSE)&VLOOKUP($D98&\"@6\",'中間シート（個人）'!$F$6:$O$100,7,FALSE)&\".\"&VLOOKUP($D98&\"@6\",'中間シート（個人）'!$F$6:$O$100,8,FALSE)),\"\",VLOOKUP($D98&\"@6\",'中間シート（個人）'!$F$6:$O$100,6,FALSE)&VLOOKUP($D98&\"@6\",'中間シート（個人）'!$F$6:$O$100,7,FALSE)&\".\"&VLOOKUP($D98&\"@6\",'中間シート（個人）'!$F$6:$O$100,8,FALSE))","v":""},{"$f":"IF(ISERROR(VLOOKUP($D98&\"@7\",'中間シート（個人）'!$F$6:$O$100,4,FALSE)&VLOOKUP($D98&\"@7\",'中間シート（個人）'!$F$6:$O$100,5,FALSE)),\"\",VLOOKUP($D98&\"@7\",'中間シート（個人）'!$F$6:$O$100,4,FALSE)&VLOOKUP($D98&\"@7\",'中間シート（個人）'!$F$6:$O$100,5,FALSE))","v":""},{"$f":"IF(ISERROR(VLOOKUP($D98&\"@7\",'中間シート（個人）'!$F$6:$O$100,6,FALSE)&VLOOKUP($D98&\"@7\",'中間シート（個人）'!$F$6:$O$100,7,FALSE)&\".\"&VLOOKUP($D98&\"@7\",'中間シート（個人）'!$F$6:$O$100,8,FALSE)),\"\",VLOOKUP($D98&\"@7\",'中間シート（個人）'!$F$6:$O$100,6,FALSE)&VLOOKUP($D98&\"@7\",'中間シート（個人）'!$F$6:$O$100,7,FALSE)&\".\"&VLOOKUP($D98&\"@7\",'中間シート（個人）'!$F$6:$O$100,8,FALSE))","v":""},{"$f":"IF(ISERROR(VLOOKUP($D98&\"@8\",'中間シート（個人）'!$F$6:$O$100,4,FALSE)&VLOOKUP($D98&\"@8\",'中間シート（個人）'!$F$6:$O$100,5,FALSE)),\"\",VLOOKUP($D98&\"@8\",'中間シート（個人）'!$F$6:$O$100,4,FALSE)&VLOOKUP($D98&\"@8\",'中間シート（個人）'!$F$6:$O$100,5,FALSE))","v":""},{"$f":"IF(ISERROR(VLOOKUP($D98&\"@8\",'中間シート（個人）'!$F$6:$O$100,6,FALSE)&VLOOKUP($D98&\"@8\",'中間シート（個人）'!$F$6:$O$100,7,FALSE)&\".\"&VLOOKUP($D98&\"@8\",'中間シート（個人）'!$F$6:$O$100,8,FALSE)),\"\",VLOOKUP($D98&\"@8\",'中間シート（個人）'!$F$6:$O$100,6,FALSE)&VLOOKUP($D98&\"@8\",'中間シート（個人）'!$F$6:$O$100,7,FALSE)&\".\"&VLOOKUP($D98&\"@8\",'中間シート（個人）'!$F$6:$O$100,8,FALSE))","v":""},{"$f":"IF(ISERROR(VLOOKUP($D98&\"@9\",'中間シート（個人）'!$F$6:$O$100,4,FALSE)&VLOOKUP($D98&\"@9\",'中間シート（個人）'!$F$6:$O$100,5,FALSE)),\"\",VLOOKUP($D98&\"@9\",'中間シート（個人）'!$F$6:$O$100,4,FALSE)&VLOOKUP($D98&\"@9\",'中間シート（個人）'!$F$6:$O$100,5,FALSE))","v":""},{"$f":"IF(ISERROR(VLOOKUP($D98&\"@9\",'中間シート（個人）'!$F$6:$O$100,6,FALSE)&VLOOKUP($D98&\"@9\",'中間シート（個人）'!$F$6:$O$100,7,FALSE)&\".\"&VLOOKUP($D98&\"@9\",'中間シート（個人）'!$F$6:$O$100,8,FALSE)),\"\",VLOOKUP($D98&\"@9\",'中間シート（個人）'!$F$6:$O$100,6,FALSE)&VLOOKUP($D98&\"@9\",'中間シート（個人）'!$F$6:$O$100,7,FALSE)&\".\"&VLOOKUP($D98&\"@9\",'中間シート（個人）'!$F$6:$O$100,8,FALSE))","v":""},{"$f":"IF(ISERROR(VLOOKUP($D98&\"@10\",'中間シート（個人）'!$F$6:$O$100,4,FALSE)&VLOOKUP($D98&\"@10\",'中間シート（個人）'!$F$6:$O$100,5,FALSE)),\"\",VLOOKUP($D98&\"@10\",'中間シート（個人）'!$F$6:$O$100,4,FALSE)&VLOOKUP($D98&\"@10\",'中間シート（個人）'!$F$6:$O$100,5,FALSE))","v":""},{"$f":"IF(ISERROR(VLOOKUP($D98&\"@10\",'中間シート（個人）'!$F$6:$O$100,6,FALSE)&VLOOKUP($D98&\"@10\",'中間シート（個人）'!$F$6:$O$100,7,FALSE)&\".\"&VLOOKUP($D98&\"@10\",'中間シート（個人）'!$F$6:$O$100,8,FALSE)),\"\",VLOOKUP($D98&\"@10\",'中間シート（個人）'!$F$6:$O$100,6,FALSE)&VLOOKUP($D98&\"@10\",'中間シート（個人）'!$F$6:$O$100,7,FALSE)&\".\"&VLOOKUP($D98&\"@10\",'中間シート（個人）'!$F$6:$O$100,8,FALSE))","v":""}]
[null,null,{"$f":"IF('中間シート（個人）'!D101=\"○\",\"\",VLOOKUP(個人種目!F101,コード一覧!$A$2:$B$3,2,FALSE))","v":{"$error":"#N/A"}},{"$f":"IF('中間シート（個人）'!D101=\"○\",\"\",'中間シート（個人）'!C101)","v":0},{"$f":"IF('中間シート（個人）'!D101=\"○\",\"\",ASC(個人種目!D101&\" \"&個人種目!E101))","v":" "},{"$f":"IF('中間シート（個人）'!D101=\"○\",\"\",個人種目!G101&IF(LEN(個人種目!H101)=1,\"0\"&個人種目!H101,個人種目!H101)&IF(LEN(個人種目!I101)=1,\"0\"&個人種目!I101,個人種目!I101))","v":""},{"$f":"IF('中間シート（個人）'!D101=\"○\",\"\",VLOOKUP(個人種目!$J101,コード一覧!$C$3:$D$6,2,FALSE))","v":{"$error":"#N/A"}},{"$f":"IF('中間シート（個人）'!D101=\"○\",\"\",IF(個人種目!$J101=\"一般\",0,個人種目!$K101))","v":0},{"$f":"IF('中間シート（個人）'!D101=\"○\",\"\",'中間シート（個人）'!H101)","v":0},null,{"$f":"IF('中間シート（個人）'!D101=\"○\",\"\",個人種目!$L$1)","v":false},{"$f":"IF('中間シート（個人）'!D101=\"○\",\"\",ASC(申込書_コナミ!$S$9))","v":""},{"$f":"IF('中間シート（個人）'!D101=\"○\",\"\",申込書_コナミ!$E$8)","v":0},null,null,null,{"$f":"IF('中間シート（個人）'!D101=\"○\",\"\",4)","v":4},{"$f":"IF(ISERROR(VLOOKUP($D99&\"@1\",'中間シート（個人）'!$F$6:$O$100,4,FALSE)&VLOOKUP($D99&\"@1\",'中間シート（個人）'!$F$6:$O$100,5,FALSE)),\"\",VLOOKUP($D99&\"@1\",'中間シート（個人）'!$F$6:$O$100,4,FALSE)&VLOOKUP($D99&\"@1\",'中間シート（個人）'!$F$6:$O$100,5,FALSE))","v":""},{"$f":"IF(ISERROR(VLOOKUP($D99&\"@1\",'中間シート（個人）'!$F$6:$O$100,6,FALSE)&VLOOKUP($D99&\"@1\",'中間シート（個人）'!$F$6:$O$100,7,FALSE)&\".\"&VLOOKUP($D99&\"@1\",'中間シート（個人）'!$F$6:$O$100,8,FALSE)),\"\",VLOOKUP($D99&\"@1\",'中間シート（個人）'!$F$6:$O$100,6,FALSE)&VLOOKUP($D99&\"@1\",'中間シート（個人）'!$F$6:$O$100,7,FALSE)&\".\"&VLOOKUP($D99&\"@1\",'中間シート（個人）'!$F$6:$O$100,8,FALSE))","v":""},{"$f":"IF(ISERROR(VLOOKUP($D99&\"@2\",'中間シート（個人）'!$F$6:$O$100,4,FALSE)&VLOOKUP($D99&\"@2\",'中間シート（個人）'!$F$6:$O$100,5,FALSE)),\"\",VLOOKUP($D99&\"@2\",'中間シート（個人）'!$F$6:$O$100,4,FALSE)&VLOOKUP($D99&\"@2\",'中間シート（個人）'!$F$6:$O$100,5,FALSE))","v":""},{"$f":"IF(ISERROR(VLOOKUP($D99&\"@2\",'中間シート（個人）'!$F$6:$O$100,6,FALSE)&VLOOKUP($D99&\"@2\",'中間シート（個人）'!$F$6:$O$100,7,FALSE)&\".\"&VLOOKUP($D99&\"@2\",'中間シート（個人）'!$F$6:$O$100,8,FALSE)),\"\",VLOOKUP($D99&\"@2\",'中間シート（個人）'!$F$6:$O$100,6,FALSE)&VLOOKUP($D99&\"@2\",'中間シート（個人）'!$F$6:$O$100,7,FALSE)&\".\"&VLOOKUP($D99&\"@2\",'中間シート（個人）'!$F$6:$O$100,8,FALSE))","v":""},{"$f":"IF(ISERROR(VLOOKUP($D99&\"@3\",'中間シート（個人）'!$F$6:$O$100,4,FALSE)&VLOOKUP($D99&\"@3\",'中間シート（個人）'!$F$6:$O$100,5,FALSE)),\"\",VLOOKUP($D99&\"@3\",'中間シート（個人）'!$F$6:$O$100,4,FALSE)&VLOOKUP($D99&\"@3\",'中間シート（個人）'!$F$6:$O$100,5,FALSE))","v":""},{"$f":"IF(ISERROR(VLOOKUP($D99&\"@3\",'中間シート（個人）'!$F$6:$O$100,6,FALSE)&VLOOKUP($D99&\"@3\",'中間シート（個人）'!$F$6:$O$100,7,FALSE)&\".\"&VLOOKUP($D99&\"@3\",'中間シート（個人）'!$F$6:$O$100,8,FALSE)),\"\",VLOOKUP($D99&\"@3\",'中間シート（個人）'!$F$6:$O$100,6,FALSE)&VLOOKUP($D99&\"@3\",'中間シート（個人）'!$F$6:$O$100,7,FALSE)&\".\"&VLOOKUP($D99&\"@3\",'中間シート（個人）'!$F$6:$O$100,8,FALSE))","v":""},{"$f":"IF(ISERROR(VLOOKUP($D99&\"@4\",'中間シート（個人）'!$F$6:$O$100,4,FALSE)&VLOOKUP($D99&\"@4\",'中間シート（個人）'!$F$6:$O$100,5,FALSE)),\"\",VLOOKUP($D99&\"@4\",'中間シート（個人）'!$F$6:$O$100,4,FALSE)&VLOOKUP($D99&\"@4\",'中間シート（個人）'!$F$6:$O$100,5,FALSE))","v":""},{"$f":"IF(ISERROR(VLOOKUP($D99&\"@4\",'中間シート（個人）'!$F$6:$O$100,6,FALSE)&VLOOKUP($D99&\"@4\",'中間シート（個人）'!$F$6:$O$100,7,FALSE)&\".\"&VLOOKUP($D99&\"@4\",'中間シート（個人）'!$F$6:$O$100,8,FALSE)),\"\",VLOOKUP($D99&\"@4\",'中間シート（個人）'!$F$6:$O$100,6,FALSE)&VLOOKUP($D99&\"@4\",'中間シート（個人）'!$F$6:$O$100,7,FALSE)&\".\"&VLOOKUP($D99&\"@4\",'中間シート（個人）'!$F$6:$O$100,8,FALSE))","v":""},{"$f":"IF(ISERROR(VLOOKUP($D99&\"@5\",'中間シート（個人）'!$F$6:$O$100,4,FALSE)&VLOOKUP($D99&\"@5\",'中間シート（個人）'!$F$6:$O$100,5,FALSE)),\"\",VLOOKUP($D99&\"@5\",'中間シート（個人）'!$F$6:$O$100,4,FALSE)&VLOOKUP($D99&\"@5\",'中間シート（個人）'!$F$6:$O$100,5,FALSE))","v":""},{"$f":"IF(ISERROR(VLOOKUP($D99&\"@5\",'中間シート（個人）'!$F$6:$O$100,6,FALSE)&VLOOKUP($D99&\"@5\",'中間シート（個人）'!$F$6:$O$100,7,FALSE)&\".\"&VLOOKUP($D99&\"@5\",'中間シート（個人）'!$F$6:$O$100,8,FALSE)),\"\",VLOOKUP($D99&\"@5\",'中間シート（個人）'!$F$6:$O$100,6,FALSE)&VLOOKUP($D99&\"@5\",'中間シート（個人）'!$F$6:$O$100,7,FALSE)&\".\"&VLOOKUP($D99&\"@5\",'中間シート（個人）'!$F$6:$O$100,8,FALSE))","v":""},{"$f":"IF(ISERROR(VLOOKUP($D99&\"@6\",'中間シート（個人）'!$F$6:$O$100,4,FALSE)&VLOOKUP($D99&\"@6\",'中間シート（個人）'!$F$6:$O$100,5,FALSE)),\"\",VLOOKUP($D99&\"@6\",'中間シート（個人）'!$F$6:$O$100,4,FALSE)&VLOOKUP($D99&\"@6\",'中間シート（個人）'!$F$6:$O$100,5,FALSE))","v":""},{"$f":"IF(ISERROR(VLOOKUP($D99&\"@6\",'中間シート（個人）'!$F$6:$O$100,6,FALSE)&VLOOKUP($D99&\"@6\",'中間シート（個人）'!$F$6:$O$100,7,FALSE)&\".\"&VLOOKUP($D99&\"@6\",'中間シート（個人）'!$F$6:$O$100,8,FALSE)),\"\",VLOOKUP($D99&\"@6\",'中間シート（個人）'!$F$6:$O$100,6,FALSE)&VLOOKUP($D99&\"@6\",'中間シート（個人）'!$F$6:$O$100,7,FALSE)&\".\"&VLOOKUP($D99&\"@6\",'中間シート（個人）'!$F$6:$O$100,8,FALSE))","v":""},{"$f":"IF(ISERROR(VLOOKUP($D99&\"@7\",'中間シート（個人）'!$F$6:$O$100,4,FALSE)&VLOOKUP($D99&\"@7\",'中間シート（個人）'!$F$6:$O$100,5,FALSE)),\"\",VLOOKUP($D99&\"@7\",'中間シート（個人）'!$F$6:$O$100,4,FALSE)&VLOOKUP($D99&\"@7\",'中間シート（個人）'!$F$6:$O$100,5,FALSE))","v":""},{"$f":"IF(ISERROR(VLOOKUP($D99&\"@7\",'中間シート（個人）'!$F$6:$O$100,6,FALSE)&VLOOKUP($D99&\"@7\",'中間シート（個人）'!$F$6:$O$100,7,FALSE)&\".\"&VLOOKUP($D99&\"@7\",'中間シート（個人）'!$F$6:$O$100,8,FALSE)),\"\",VLOOKUP($D99&\"@7\",'中間シート（個人）'!$F$6:$O$100,6,FALSE)&VLOOKUP($D99&\"@7\",'中間シート（個人）'!$F$6:$O$100,7,FALSE)&\".\"&VLOOKUP($D99&\"@7\",'中間シート（個人）'!$F$6:$O$100,8,FALSE))","v":""},{"$f":"IF(ISERROR(VLOOKUP($D99&\"@8\",'中間シート（個人）'!$F$6:$O$100,4,FALSE)&VLOOKUP($D99&\"@8\",'中間シート（個人）'!$F$6:$O$100,5,FALSE)),\"\",VLOOKUP($D99&\"@8\",'中間シート（個人）'!$F$6:$O$100,4,FALSE)&VLOOKUP($D99&\"@8\",'中間シート（個人）'!$F$6:$O$100,5,FALSE))","v":""},{"$f":"IF(ISERROR(VLOOKUP($D99&\"@8\",'中間シート（個人）'!$F$6:$O$100,6,FALSE)&VLOOKUP($D99&\"@8\",'中間シート（個人）'!$F$6:$O$100,7,FALSE)&\".\"&VLOOKUP($D99&\"@8\",'中間シート（個人）'!$F$6:$O$100,8,FALSE)),\"\",VLOOKUP($D99&\"@8\",'中間シート（個人）'!$F$6:$O$100,6,FALSE)&VLOOKUP($D99&\"@8\",'中間シート（個人）'!$F$6:$O$100,7,FALSE)&\".\"&VLOOKUP($D99&\"@8\",'中間シート（個人）'!$F$6:$O$100,8,FALSE))","v":""},{"$f":"IF(ISERROR(VLOOKUP($D99&\"@9\",'中間シート（個人）'!$F$6:$O$100,4,FALSE)&VLOOKUP($D99&\"@9\",'中間シート（個人）'!$F$6:$O$100,5,FALSE)),\"\",VLOOKUP($D99&\"@9\",'中間シート（個人）'!$F$6:$O$100,4,FALSE)&VLOOKUP($D99&\"@9\",'中間シート（個人）'!$F$6:$O$100,5,FALSE))","v":""},{"$f":"IF(ISERROR(VLOOKUP($D99&\"@9\",'中間シート（個人）'!$F$6:$O$100,6,FALSE)&VLOOKUP($D99&\"@9\",'中間シート（個人）'!$F$6:$O$100,7,FALSE)&\".\"&VLOOKUP($D99&\"@9\",'中間シート（個人）'!$F$6:$O$100,8,FALSE)),\"\",VLOOKUP($D99&\"@9\",'中間シート（個人）'!$F$6:$O$100,6,FALSE)&VLOOKUP($D99&\"@9\",'中間シート（個人）'!$F$6:$O$100,7,FALSE)&\".\"&VLOOKUP($D99&\"@9\",'中間シート（個人）'!$F$6:$O$100,8,FALSE))","v":""},{"$f":"IF(ISERROR(VLOOKUP($D99&\"@10\",'中間シート（個人）'!$F$6:$O$100,4,FALSE)&VLOOKUP($D99&\"@10\",'中間シート（個人）'!$F$6:$O$100,5,FALSE)),\"\",VLOOKUP($D99&\"@10\",'中間シート（個人）'!$F$6:$O$100,4,FALSE)&VLOOKUP($D99&\"@10\",'中間シート（個人）'!$F$6:$O$100,5,FALSE))","v":""},{"$f":"IF(ISERROR(VLOOKUP($D99&\"@10\",'中間シート（個人）'!$F$6:$O$100,6,FALSE)&VLOOKUP($D99&\"@10\",'中間シート（個人）'!$F$6:$O$100,7,FALSE)&\".\"&VLOOKUP($D99&\"@10\",'中間シート（個人）'!$F$6:$O$100,8,FALSE)),\"\",VLOOKUP($D99&\"@10\",'中間シート（個人）'!$F$6:$O$100,6,FALSE)&VLOOKUP($D99&\"@10\",'中間シート（個人）'!$F$6:$O$100,7,FALSE)&\".\"&VLOOKUP($D99&\"@10\",'中間シート（個人）'!$F$6:$O$100,8,FALSE))","v":""}]
[null,null,{"$f":"IF('中間シート（個人）'!D102=\"○\",\"\",VLOOKUP(個人種目!F102,コード一覧!$A$2:$B$3,2,FALSE))","v":{"$error":"#N/A"}},{"$f":"IF('中間シート（個人）'!D102=\"○\",\"\",'中間シート（個人）'!C102)","v":0},{"$f":"IF('中間シート（個人）'!D102=\"○\",\"\",ASC(個人種目!D102&\" \"&個人種目!E102))","v":" "},{"$f":"IF('中間シート（個人）'!D102=\"○\",\"\",個人種目!G102&IF(LEN(個人種目!H102)=1,\"0\"&個人種目!H102,個人種目!H102)&IF(LEN(個人種目!I102)=1,\"0\"&個人種目!I102,個人種目!I102))","v":""},{"$f":"IF('中間シート（個人）'!D102=\"○\",\"\",VLOOKUP(個人種目!$J102,コード一覧!$C$3:$D$6,2,FALSE))","v":{"$error":"#N/A"}},{"$f":"IF('中間シート（個人）'!D102=\"○\",\"\",IF(個人種目!$J102=\"一般\",0,個人種目!$K102))","v":0},{"$f":"IF('中間シート（個人）'!D102=\"○\",\"\",'中間シート（個人）'!H102)","v":0},null,{"$f":"IF('中間シート（個人）'!D102=\"○\",\"\",個人種目!$L$1)","v":false},{"$f":"IF('中間シート（個人）'!D102=\"○\",\"\",ASC(申込書_コナミ!$S$9))","v":""},{"$f":"IF('中間シート（個人）'!D102=\"○\",\"\",申込書_コナミ!$E$8)","v":0},null,null,null,{"$f":"IF('中間シート（個人）'!D102=\"○\",\"\",4)","v":4},{"$f":"IF(ISERROR(VLOOKUP($D100&\"@1\",'中間シート（個人）'!$F$6:$O$100,4,FALSE)&VLOOKUP($D100&\"@1\",'中間シート（個人）'!$F$6:$O$100,5,FALSE)),\"\",VLOOKUP($D100&\"@1\",'中間シート（個人）'!$F$6:$O$100,4,FALSE)&VLOOKUP($D100&\"@1\",'中間シート（個人）'!$F$6:$O$100,5,FALSE))","v":""},{"$f":"IF(ISERROR(VLOOKUP($D100&\"@1\",'中間シート（個人）'!$F$6:$O$100,6,FALSE)&VLOOKUP($D100&\"@1\",'中間シート（個人）'!$F$6:$O$100,7,FALSE)&\".\"&VLOOKUP($D100&\"@1\",'中間シート（個人）'!$F$6:$O$100,8,FALSE)),\"\",VLOOKUP($D100&\"@1\",'中間シート（個人）'!$F$6:$O$100,6,FALSE)&VLOOKUP($D100&\"@1\",'中間シート（個人）'!$F$6:$O$100,7,FALSE)&\".\"&VLOOKUP($D100&\"@1\",'中間シート（個人）'!$F$6:$O$100,8,FALSE))","v":""},{"$f":"IF(ISERROR(VLOOKUP($D100&\"@2\",'中間シート（個人）'!$F$6:$O$100,4,FALSE)&VLOOKUP($D100&\"@2\",'中間シート（個人）'!$F$6:$O$100,5,FALSE)),\"\",VLOOKUP($D100&\"@2\",'中間シート（個人）'!$F$6:$O$100,4,FALSE)&VLOOKUP($D100&\"@2\",'中間シート（個人）'!$F$6:$O$100,5,FALSE))","v":""},{"$f":"IF(ISERROR(VLOOKUP($D100&\"@2\",'中間シート（個人）'!$F$6:$O$100,6,FALSE)&VLOOKUP($D100&\"@2\",'中間シート（個人）'!$F$6:$O$100,7,FALSE)&\".\"&VLOOKUP($D100&\"@2\",'中間シート（個人）'!$F$6:$O$100,8,FALSE)),\"\",VLOOKUP($D100&\"@2\",'中間シート（個人）'!$F$6:$O$100,6,FALSE)&VLOOKUP($D100&\"@2\",'中間シート（個人）'!$F$6:$O$100,7,FALSE)&\".\"&VLOOKUP($D100&\"@2\",'中間シート（個人）'!$F$6:$O$100,8,FALSE))","v":""},{"$f":"IF(ISERROR(VLOOKUP($D100&\"@3\",'中間シート（個人）'!$F$6:$O$100,4,FALSE)&VLOOKUP($D100&\"@3\",'中間シート（個人）'!$F$6:$O$100,5,FALSE)),\"\",VLOOKUP($D100&\"@3\",'中間シート（個人）'!$F$6:$O$100,4,FALSE)&VLOOKUP($D100&\"@3\",'中間シート（個人）'!$F$6:$O$100,5,FALSE))","v":""},{"$f":"IF(ISERROR(VLOOKUP($D100&\"@3\",'中間シート（個人）'!$F$6:$O$100,6,FALSE)&VLOOKUP($D100&\"@3\",'中間シート（個人）'!$F$6:$O$100,7,FALSE)&\".\"&VLOOKUP($D100&\"@3\",'中間シート（個人）'!$F$6:$O$100,8,FALSE)),\"\",VLOOKUP($D100&\"@3\",'中間シート（個人）'!$F$6:$O$100,6,FALSE)&VLOOKUP($D100&\"@3\",'中間シート（個人）'!$F$6:$O$100,7,FALSE)&\".\"&VLOOKUP($D100&\"@3\",'中間シート（個人）'!$F$6:$O$100,8,FALSE))","v":""},{"$f":"IF(ISERROR(VLOOKUP($D100&\"@4\",'中間シート（個人）'!$F$6:$O$100,4,FALSE)&VLOOKUP($D100&\"@4\",'中間シート（個人）'!$F$6:$O$100,5,FALSE)),\"\",VLOOKUP($D100&\"@4\",'中間シート（個人）'!$F$6:$O$100,4,FALSE)&VLOOKUP($D100&\"@4\",'中間シート（個人）'!$F$6:$O$100,5,FALSE))","v":""},{"$f":"IF(ISERROR(VLOOKUP($D100&\"@4\",'中間シート（個人）'!$F$6:$O$100,6,FALSE)&VLOOKUP($D100&\"@4\",'中間シート（個人）'!$F$6:$O$100,7,FALSE)&\".\"&VLOOKUP($D100&\"@4\",'中間シート（個人）'!$F$6:$O$100,8,FALSE)),\"\",VLOOKUP($D100&\"@4\",'中間シート（個人）'!$F$6:$O$100,6,FALSE)&VLOOKUP($D100&\"@4\",'中間シート（個人）'!$F$6:$O$100,7,FALSE)&\".\"&VLOOKUP($D100&\"@4\",'中間シート（個人）'!$F$6:$O$100,8,FALSE))","v":""},{"$f":"IF(ISERROR(VLOOKUP($D100&\"@5\",'中間シート（個人）'!$F$6:$O$100,4,FALSE)&VLOOKUP($D100&\"@5\",'中間シート（個人）'!$F$6:$O$100,5,FALSE)),\"\",VLOOKUP($D100&\"@5\",'中間シート（個人）'!$F$6:$O$100,4,FALSE)&VLOOKUP($D100&\"@5\",'中間シート（個人）'!$F$6:$O$100,5,FALSE))","v":""},{"$f":"IF(ISERROR(VLOOKUP($D100&\"@5\",'中間シート（個人）'!$F$6:$O$100,6,FALSE)&VLOOKUP($D100&\"@5\",'中間シート（個人）'!$F$6:$O$100,7,FALSE)&\".\"&VLOOKUP($D100&\"@5\",'中間シート（個人）'!$F$6:$O$100,8,FALSE)),\"\",VLOOKUP($D100&\"@5\",'中間シート（個人）'!$F$6:$O$100,6,FALSE)&VLOOKUP($D100&\"@5\",'中間シート（個人）'!$F$6:$O$100,7,FALSE)&\".\"&VLOOKUP($D100&\"@5\",'中間シート（個人）'!$F$6:$O$100,8,FALSE))","v":""},{"$f":"IF(ISERROR(VLOOKUP($D100&\"@6\",'中間シート（個人）'!$F$6:$O$100,4,FALSE)&VLOOKUP($D100&\"@6\",'中間シート（個人）'!$F$6:$O$100,5,FALSE)),\"\",VLOOKUP($D100&\"@6\",'中間シート（個人）'!$F$6:$O$100,4,FALSE)&VLOOKUP($D100&\"@6\",'中間シート（個人）'!$F$6:$O$100,5,FALSE))","v":""},{"$f":"IF(ISERROR(VLOOKUP($D100&\"@6\",'中間シート（個人）'!$F$6:$O$100,6,FALSE)&VLOOKUP($D100&\"@6\",'中間シート（個人）'!$F$6:$O$100,7,FALSE)&\".\"&VLOOKUP($D100&\"@6\",'中間シート（個人）'!$F$6:$O$100,8,FALSE)),\"\",VLOOKUP($D100&\"@6\",'中間シート（個人）'!$F$6:$O$100,6,FALSE)&VLOOKUP($D100&\"@6\",'中間シート（個人）'!$F$6:$O$100,7,FALSE)&\".\"&VLOOKUP($D100&\"@6\",'中間シート（個人）'!$F$6:$O$100,8,FALSE))","v":""},{"$f":"IF(ISERROR(VLOOKUP($D100&\"@7\",'中間シート（個人）'!$F$6:$O$100,4,FALSE)&VLOOKUP($D100&\"@7\",'中間シート（個人）'!$F$6:$O$100,5,FALSE)),\"\",VLOOKUP($D100&\"@7\",'中間シート（個人）'!$F$6:$O$100,4,FALSE)&VLOOKUP($D100&\"@7\",'中間シート（個人）'!$F$6:$O$100,5,FALSE))","v":""},{"$f":"IF(ISERROR(VLOOKUP($D100&\"@7\",'中間シート（個人）'!$F$6:$O$100,6,FALSE)&VLOOKUP($D100&\"@7\",'中間シート（個人）'!$F$6:$O$100,7,FALSE)&\".\"&VLOOKUP($D100&\"@7\",'中間シート（個人）'!$F$6:$O$100,8,FALSE)),\"\",VLOOKUP($D100&\"@7\",'中間シート（個人）'!$F$6:$O$100,6,FALSE)&VLOOKUP($D100&\"@7\",'中間シート（個人）'!$F$6:$O$100,7,FALSE)&\".\"&VLOOKUP($D100&\"@7\",'中間シート（個人）'!$F$6:$O$100,8,FALSE))","v":""},{"$f":"IF(ISERROR(VLOOKUP($D100&\"@8\",'中間シート（個人）'!$F$6:$O$100,4,FALSE)&VLOOKUP($D100&\"@8\",'中間シート（個人）'!$F$6:$O$100,5,FALSE)),\"\",VLOOKUP($D100&\"@8\",'中間シート（個人）'!$F$6:$O$100,4,FALSE)&VLOOKUP($D100&\"@8\",'中間シート（個人）'!$F$6:$O$100,5,FALSE))","v":""},{"$f":"IF(ISERROR(VLOOKUP($D100&\"@8\",'中間シート（個人）'!$F$6:$O$100,6,FALSE)&VLOOKUP($D100&\"@8\",'中間シート（個人）'!$F$6:$O$100,7,FALSE)&\".\"&VLOOKUP($D100&\"@8\",'中間シート（個人）'!$F$6:$O$100,8,FALSE)),\"\",VLOOKUP($D100&\"@8\",'中間シート（個人）'!$F$6:$O$100,6,FALSE)&VLOOKUP($D100&\"@8\",'中間シート（個人）'!$F$6:$O$100,7,FALSE)&\".\"&VLOOKUP($D100&\"@8\",'中間シート（個人）'!$F$6:$O$100,8,FALSE))","v":""},{"$f":"IF(ISERROR(VLOOKUP($D100&\"@9\",'中間シート（個人）'!$F$6:$O$100,4,FALSE)&VLOOKUP($D100&\"@9\",'中間シート（個人）'!$F$6:$O$100,5,FALSE)),\"\",VLOOKUP($D100&\"@9\",'中間シート（個人）'!$F$6:$O$100,4,FALSE)&VLOOKUP($D100&\"@9\",'中間シート（個人）'!$F$6:$O$100,5,FALSE))","v":""},{"$f":"IF(ISERROR(VLOOKUP($D100&\"@9\",'中間シート（個人）'!$F$6:$O$100,6,FALSE)&VLOOKUP($D100&\"@9\",'中間シート（個人）'!$F$6:$O$100,7,FALSE)&\".\"&VLOOKUP($D100&\"@9\",'中間シート（個人）'!$F$6:$O$100,8,FALSE)),\"\",VLOOKUP($D100&\"@9\",'中間シート（個人）'!$F$6:$O$100,6,FALSE)&VLOOKUP($D100&\"@9\",'中間シート（個人）'!$F$6:$O$100,7,FALSE)&\".\"&VLOOKUP($D100&\"@9\",'中間シート（個人）'!$F$6:$O$100,8,FALSE))","v":""},{"$f":"IF(ISERROR(VLOOKUP($D100&\"@10\",'中間シート（個人）'!$F$6:$O$100,4,FALSE)&VLOOKUP($D100&\"@10\",'中間シート（個人）'!$F$6:$O$100,5,FALSE)),\"\",VLOOKUP($D100&\"@10\",'中間シート（個人）'!$F$6:$O$100,4,FALSE)&VLOOKUP($D100&\"@10\",'中間シート（個人）'!$F$6:$O$100,5,FALSE))","v":""},{"$f":"IF(ISERROR(VLOOKUP($D100&\"@10\",'中間シート（個人）'!$F$6:$O$100,6,FALSE)&VLOOKUP($D100&\"@10\",'中間シート（個人）'!$F$6:$O$100,7,FALSE)&\".\"&VLOOKUP($D100&\"@10\",'中間シート（個人）'!$F$6:$O$100,8,FALSE)),\"\",VLOOKUP($D100&\"@10\",'中間シート（個人）'!$F$6:$O$100,6,FALSE)&VLOOKUP($D100&\"@10\",'中間シート（個人）'!$F$6:$O$100,7,FALSE)&\".\"&VLOOKUP($D100&\"@10\",'中間シート（個人）'!$F$6:$O$100,8,FALSE))","v":""}]

{"sheet":"エントリーシート（リレー）","index":9,"n_rows":100,"n_cols":10,"rows_kept":100,"cut":false,"hidden":true,"merged":[]}
["チーム番号(4)","チーム名(20)","ﾖﾐｶﾞﾅ(15)","所属番号(4)","加盟番号(2)","学校(1)","ｸﾗｽ(2)","性別(1)","ｴﾝﾄﾘｰ(5)","ｴﾝﾄﾘｰﾀｲﾑ(7)"]
[1,"東京都-------------E","ﾄｳｷｮｳﾄ--------E",1,"13","3","01","1","60400","0423.45"]
["1024","文京区","ﾌﾞﾝｷｮｳｸ",null,"13",null,"02","2","70200","0245.10"]
["チーム番号(4)","チーム名(20)","ﾖﾐｶﾞﾅ(15)","所属番号(4)","加盟番号(2)","学校(1)","ｸﾗｽ(2)","性別(1)","ｴﾝﾄﾘｰ(5)","ｴﾝﾄﾘｰﾀｲﾑ(7)"]
[null,{"$f":"リレー種目!B7","v":false},null,null,28,5,{"$f":"VLOOKUP(リレー種目!G7,コード一覧!$S$2:$T$9,2,FALSE)+IF(H5=3,30,0)","v":{"$error":"#N/A"}},{"$f":"VLOOKUP(リレー種目!D7,コード一覧!$L$2:$M$4,2,FALSE)","v":{"$error":"#N/A"}},{"$f":"VLOOKUP(リレー種目!E7,コード一覧!$N$2:$O$3,2,FALSE)&VLOOKUP(リレー種目!F7,コード一覧!$P$2:$R$2,2,FALSE)","v":{"$error":"#N/A"}},{"$f":"'中間シート（リレー）'!A6&'中間シート（リレー）'!B6&\".\"&'中間シート（リレー）'!C6","v":"0000.00"}]
[null,{"$f":"リレー種目!B8","v":false},null,null,28,5,{"$f":"VLOOKUP(リレー種目!G8,コード一覧!$S$2:$T$9,2,FALSE)+IF(H6=3,30,0)","v":{"$error":"#N/A"}},{"$f":"VLOOKUP(リレー種目!D8,コード一覧!$L$2:$M$4,2,FALSE)","v":{"$error":"#N/A"}},{"$f":"VLOOKUP(リレー種目!E8,コード一覧!$N$2:$O$3,2,FALSE)&VLOOKUP(リレー種目!F8,コード一覧!$P$2:$R$2,2,FALSE)","v":{"$error":"#N/A"}},{"$f":"'中間シート（リレー）'!A7&'中間シート（リレー）'!B7&\".\"&'中間シート（リレー）'!C7","v":"0000.00"}]
[null,{"$f":"リレー種目!B9","v":false},null,null,28,5,{"$f":"VLOOKUP(リレー種目!G9,コード一覧!$S$2:$T$9,2,FALSE)+IF(H7=3,30,0)","v":{"$error":"#N/A"}},{"$f":"VLOOKUP(リレー種目!D9,コード一覧!$L$2:$M$4,2,FALSE)","v":{"$error":"#N/A"}},{"$f":"VLOOKUP(リレー種目!E9,コード一覧!$N$2:$O$3,2,FALSE)&VLOOKUP(リレー種目!F9,コード一覧!$P$2:$R$2,2,FALSE)","v":{"$error":"#N/A"}},{"$f":"'中間シート（リレー）'!A8&'中間シート（リレー）'!B8&\".\"&'中間シート（リレー）'!C8","v":"0000.00"}]
[null,{"$f":"リレー種目!B10","v":false},null,null,28,5,{"$f":"VLOOKUP(リレー種目!G10,コード一覧!$S$2:$T$9,2,FALSE)+IF(H8=3,30,0)","v":{"$error":"#N/A"}},{"$f":"VLOOKUP(リレー種目!D10,コード一覧!$L$2:$M$4,2,FALSE)","v":{"$error":"#N/A"}},{"$f":"VLOOKUP(リレー種目!E10,コード一覧!$N$2:$O$3,2,FALSE)&VLOOKUP(リレー種目!F10,コード一覧!$P$2:$R$2,2,FALSE)","v":{"$error":"#N/A"}},{"$f":"'中間シート（リレー）'!A9&'中間シート（リレー）'!B9&\".\"&'中間シート（リレー）'!C9","v":"0000.00"}]
[null,{"$f":"リレー種目!B11","v":false},null,null,28,5,{"$f":"VLOOKUP(リレー種目!G11,コード一覧!$S$2:$T$9,2,FALSE)+IF(H9=3,30,0)","v":{"$error":"#N/A"}},{"$f":"VLOOKUP(リレー種目!D11,コード一覧!$L$2:$M$4,2,FALSE)","v":{"$error":"#N/A"}},{"$f":"VLOOKUP(リレー種目!E11,コード一覧!$N$2:$O$3,2,FALSE)&VLOOKUP(リレー種目!F11,コード一覧!$P$2:$R$2,2,FALSE)","v":{"$error":"#N/A"}},{"$f":"'中間シート（リレー）'!A10&'中間シート（リレー）'!B10&\".\"&'中間シート（リレー）'!C10","v":"0000.00"}]
[null,{"$f":"リレー種目!B12","v":false},null,null,28,5,{"$f":"VLOOKUP(リレー種目!G12,コード一覧!$S$2:$T$9,2,FALSE)+IF(H10=3,30,0)","v":{"$error":"#N/A"}},{"$f":"VLOOKUP(リレー種目!D12,コード一覧!$L$2:$M$4,2,FALSE)","v":{"$error":"#N/A"}},{"$f":"VLOOKUP(リレー種目!E12,コード一覧!$N$2:$O$3,2,FALSE)&VLOOKUP(リレー種目!F12,コード一覧!$P$2:$R$2,2,FALSE)","v":{"$error":"#N/A"}},{"$f":"'中間シート（リレー）'!A11&'中間シート（リレー）'!B11&\".\"&'中間シート（リレー）'!C11","v":"0000.00"}]
[null,{"$f":"リレー種目!B13","v":false},null,null,28,5,{"$f":"VLOOKUP(リレー種目!G13,コード一覧!$S$2:$T$9,2,FALSE)+IF(H11=3,30,0)","v":{"$error":"#N/A"}},{"$f":"VLOOKUP(リレー種目!D13,コード一覧!$L$2:$M$4,2,FALSE)","v":{"$error":"#N/A"}},{"$f":"VLOOKUP(リレー種目!E13,コード一覧!$N$2:$O$3,2,FALSE)&VLOOKUP(リレー種目!F13,コード一覧!$P$2:$R$2,2,FALSE)","v":{"$error":"#N/A"}},{"$f":"'中間シート（リレー）'!A12&'中間シート（リレー）'!B12&\".\"&'中間シート（リレー）'!C12","v":"0000.00"}]
[null,{"$f":"リレー種目!B14","v":false},null,null,28,5,{"$f":"VLOOKUP(リレー種目!G14,コード一覧!$S$2:$T$9,2,FALSE)+IF(H12=3,30,0)","v":{"$error":"#N/A"}},{"$f":"VLOOKUP(リレー種目!D14,コード一覧!$L$2:$M$4,2,FALSE)","v":{"$error":"#N/A"}},{"$f":"VLOOKUP(リレー種目!E14,コード一覧!$N$2:$O$3,2,FALSE)&VLOOKUP(リレー種目!F14,コード一覧!$P$2:$R$2,2,FALSE)","v":{"$error":"#N/A"}},{"$f":"'中間シート（リレー）'!A13&'中間シート（リレー）'!B13&\".\"&'中間シート（リレー）'!C13","v":"0000.00"}]
[null,{"$f":"リレー種目!B15","v":false},null,null,28,5,{"$f":"VLOOKUP(リレー種目!G15,コード一覧!$S$2:$T$9,2,FALSE)+IF(H13=3,30,0)","v":{"$error":"#N/A"}},{"$f":"VLOOKUP(リレー種目!D15,コード一覧!$L$2:$M$4,2,FALSE)","v":{"$error":"#N/A"}},{"$f":"VLOOKUP(リレー種目!E15,コード一覧!$N$2:$O$3,2,FALSE)&VLOOKUP(リレー種目!F15,コード一覧!$P$2:$R$2,2,FALSE)","v":{"$error":"#N/A"}},{"$f":"'中間シート（リレー）'!A14&'中間シート（リレー）'!B14&\".\"&'中間シート（リレー）'!C14","v":"0000.00"}]
[null,{"$f":"リレー種目!B16","v":false},null,null,28,5,{"$f":"VLOOKUP(リレー種目!G16,コード一覧!$S$2:$T$9,2,FALSE)+IF(H14=3,30,0)","v":{"$error":"#N/A"}},{"$f":"VLOOKUP(リレー種目!D16,コード一覧!$L$2:$M$4,2,FALSE)","v":{"$error":"#N/A"}},{"$f":"VLOOKUP(リレー種目!E16,コード一覧!$N$2:$O$3,2,FALSE)&VLOOKUP(リレー種目!F16,コード一覧!$P$2:$R$2,2,FALSE)","v":{"$error":"#N/A"}},{"$f":"'中間シート（リレー）'!A15&'中間シート（リレー）'!B15&\".\"&'中間シート（リレー）'!C15","v":"0000.00"}]
[null,{"$f":"リレー種目!B17","v":false},null,null,28,5,{"$f":"VLOOKUP(リレー種目!G17,コード一覧!$S$2:$T$9,2,FALSE)+IF(H15=3,30,0)","v":{"$error":"#N/A"}},{"$f":"VLOOKUP(リレー種目!D17,コード一覧!$L$2:$M$4,2,FALSE)","v":{"$error":"#N/A"}},{"$f":"VLOOKUP(リレー種目!E17,コード一覧!$N$2:$O$3,2,FALSE)&VLOOKUP(リレー種目!F17,コード一覧!$P$2:$R$2,2,FALSE)","v":{"$error":"#N/A"}},{"$f":"'中間シート（リレー）'!A16&'中間シート（リレー）'!B16&\".\"&'中間シート（リレー）'!C16","v":"0000.00"}]
[null,{"$f":"リレー種目!B18","v":false},null,null,28,5,{"$f":"VLOOKUP(リレー種目!G18,コード一覧!$S$2:$T$9,2,FALSE)+IF(H16=3,30,0)","v":{"$error":"#N/A"}},{"$f":"VLOOKUP(リレー種目!D18,コード一覧!$L$2:$M$4,2,FALSE)","v":{"$error":"#N/A"}},{"$f":"VLOOKUP(リレー種目!E18,コード一覧!$N$2:$O$3,2,FALSE)&VLOOKUP(リレー種目!F18,コード一覧!$P$2:$R$2,2,FALSE)","v":{"$error":"#N/A"}},{"$f":"'中間シート（リレー）'!A17&'中間シート（リレー）'!B17&\".\"&'中間シート（リレー）'!C17","v":"0000.00"}]
[null,{"$f":"リレー種目!B19","v":false},null,null,28,5,{"$f":"VLOOKUP(リレー種目!G19,コード一覧!$S$2:$T$9,2,FALSE)+IF(H17=3,30,0)","v":{"$error":"#N/A"}},{"$f":"VLOOKUP(リレー種目!D19,コード一覧!$L$2:$M$4,2,FALSE)","v":{"$error":"#N/A"}},{"$f":"VLOOKUP(リレー種目!E19,コード一覧!$N$2:$O$3,2,FALSE)&VLOOKUP(リレー種目!F19,コード一覧!$P$2:$R$2,2,FALSE)","v":{"$error":"#N/A"}},{"$f":"'中間シート（リレー）'!A18&'中間シート（リレー）'!B18&\".\"&'中間シート（リレー）'!C18","v":"0000.00"}]
[null,{"$f":"リレー種目!B20","v":false},null,null,28,5,{"$f":"VLOOKUP(リレー種目!G20,コード一覧!$S$2:$T$9,2,FALSE)+IF(H18=3,30,0)","v":{"$error":"#N/A"}},{"$f":"VLOOKUP(リレー種目!D20,コード一覧!$L$2:$M$4,2,FALSE)","v":{"$error":"#N/A"}},{"$f":"VLOOKUP(リレー種目!E20,コード一覧!$N$2:$O$3,2,FALSE)&VLOOKUP(リレー種目!F20,コード一覧!$P$2:$R$2,2,FALSE)","v":{"$error":"#N/A"}},{"$f":"'中間シート（リレー）'!A19&'中間シート（リレー）'!B19&\".\"&'中間シート（リレー）'!C19","v":"0000.00"}]
[null,{"$f":"リレー種目!B21","v":false},null,null,28,5,{"$f":"VLOOKUP(リレー種目!G21,コード一覧!$S$2:$T$9,2,FALSE)+IF(H19=3,30,0)","v":{"$error":"#N/A"}},{"$f":"VLOOKUP(リレー種目!D21,コード一覧!$L$2:$M$4,2,FALSE)","v":{"$error":"#N/A"}},{"$f":"VLOOKUP(リレー種目!E21,コード一覧!$N$2:$O$3,2,FALSE)&VLOOKUP(リレー種目!F21,コード一覧!$P$2:$R$2,2,FALSE)","v":{"$error":"#N/A"}},{"$f":"'中間シート（リレー）'!A20&'中間シート（リレー）'!B20&\".\"&'中間シート（リレー）'!C20","v":"0000.00"}]
[null,{"$f":"リレー種目!B22","v":false},null,null,28,5,{"$f":"VLOOKUP(リレー種目!G22,コード一覧!$S$2:$T$9,2,FALSE)+IF(H20=3,30,0)","v":{"$error":"#N/A"}},{"$f":"VLOOKUP(リレー種目!D22,コード一覧!$L$2:$M$4,2,FALSE)","v":{"$error":"#N/A"}},{"$f":"VLOOKUP(リレー種目!E22,コード一覧!$N$2:$O$3,2,FALSE)&VLOOKUP(リレー種目!F22,コード一覧!$P$2:$R$2,2,FALSE)","v":{"$error":"#N/A"}},{"$f":"'中間シート（リレー）'!A21&'中間シート（リレー）'!B21&\".\"&'中間シート（リレー）'!C21","v":"0000.00"}]
[null,{"$f":"リレー種目!B23","v":false},null,null,28,5,{"$f":"VLOOKUP(リレー種目!G23,コード一覧!$S$2:$T$9,2,FALSE)+IF(H21=3,30,0)","v":{"$error":"#N/A"}},{"$f":"VLOOKUP(リレー種目!D23,コード一覧!$L$2:$M$4,2,FALSE)","v":{"$error":"#N/A"}},{"$f":"VLOOKUP(リレー種目!E23,コード一覧!$N$2:$O$3,2,FALSE)&VLOOKUP(リレー種目!F23,コード一覧!$P$2:$R$2,2,FALSE)","v":{"$error":"#N/A"}},{"$f":"'中間シート（リレー）'!A22&'中間シート（リレー）'!B22&\".\"&'中間シート（リレー）'!C22","v":"0000.00"}]
[null,{"$f":"リレー種目!B24","v":false},null,null,28,5,{"$f":"VLOOKUP(リレー種目!G24,コード一覧!$S$2:$T$9,2,FALSE)+IF(H22=3,30,0)","v":{"$error":"#N/A"}},{"$f":"VLOOKUP(リレー種目!D24,コード一覧!$L$2:$M$4,2,FALSE)","v":{"$error":"#N/A"}},{"$f":"VLOOKUP(リレー種目!E24,コード一覧!$N$2:$O$3,2,FALSE)&VLOOKUP(リレー種目!F24,コード一覧!$P$2:$R$2,2,FALSE)","v":{"$error":"#N/A"}},{"$f":"'中間シート（リレー）'!A23&'中間シート（リレー）'!B23&\".\"&'中間シート（リレー）'!C23","v":"0000.00"}]
[null,{"$f":"リレー種目!B25","v":false},null,null,28,5,{"$f":"VLOOKUP(リレー種目!G25,コード一覧!$S$2:$T$9,2,FALSE)+IF(H23=3,30,0)","v":{"$error":"#N/A"}},{"$f":"VLOOKUP(リレー種目!D25,コード一覧!$L$2:$M$4,2,FALSE)","v":{"$error":"#N/A"}},{"$f":"VLOOKUP(リレー種目!E25,コード一覧!$N$2:$O$3,2,FALSE)&VLOOKUP(リレー種目!F25,コード一覧!$P$2:$R$2,2,FALSE)","v":{"$error":"#N/A"}},{"$f":"'中間シート（リレー）'!A24&'中間シート（リレー）'!B24&\".\"&'中間シート（リレー）'!C24","v":"0000.00"}]
[null,{"$f":"リレー種目!B26","v":false},null,null,28,5,{"$f":"VLOOKUP(リレー種目!G26,コード一覧!$S$2:$T$9,2,FALSE)+IF(H24=3,30,0)","v":{"$error":"#N/A"}},{"$f":"VLOOKUP(リレー種目!D26,コード一覧!$L$2:$M$4,2,FALSE)","v":{"$error":"#N/A"}},{"$f":"VLOOKUP(リレー種目!E26,コード一覧!$N$2:$O$3,2,FALSE)&VLOOKUP(リレー種目!F26,コード一覧!$P$2:$R$2,2,FALSE)","v":{"$error":"#N/A"}},{"$f":"'中間シート（リレー）'!A25&'中間シート（リレー）'!B25&\".\"&'中間シート（リレー）'!C25","v":"0000.00"}]
[null,{"$f":"リレー種目!B27","v":false},null,null,28,5,{"$f":"VLOOKUP(リレー種目!G27,コード一覧!$S$2:$T$9,2,FALSE)+IF(H25=3,30,0)","v":{"$error":"#N/A"}},{"$f":"VLOOKUP(リレー種目!D27,コード一覧!$L$2:$M$4,2,FALSE)","v":{"$error":"#N/A"}},{"$f":"VLOOKUP(リレー種目!E27,コード一覧!$N$2:$O$3,2,FALSE)&VLOOKUP(リレー種目!F27,コード一覧!$P$2:$R$2,2,FALSE)","v":{"$error":"#N/A"}},{"$f":"'中間シート（リレー）'!A26&'中間シート（リレー）'!B26&\".\"&'中間シート（リレー）'!C26","v":"0000.00"}]
[null,{"$f":"リレー種目!B28","v":false},null,null,28,5,{"$f":"VLOOKUP(リレー種目!G28,コード一覧!$S$2:$T$9,2,FALSE)+IF(H26=3,30,0)","v":{"$error":"#N/A"}},{"$f":"VLOOKUP(リレー種目!D28,コード一覧!$L$2:$M$4,2,FALSE)","v":{"$error":"#N/A"}},{"$f":"VLOOKUP(リレー種目!E28,コード一覧!$N$2:$O$3,2,FALSE)&VLOOKUP(リレー種目!F28,コード一覧!$P$2:$R$2,2,FALSE)","v":{"$error":"#N/A"}},{"$f":"'中間シート（リレー）'!A27&'中間シート（リレー）'!B27&\".\"&'中間シート（リレー）'!C27","v":"0000.00"}]
[null,{"$f":"リレー種目!B29","v":false},null,null,28,5,{"$f":"VLOOKUP(リレー種目!G29,コード一覧!$S$2:$T$9,2,FALSE)+IF(H27=3,30,0)","v":{"$error":"#N/A"}},{"$f":"VLOOKUP(リレー種目!D29,コード一覧!$L$2:$M$4,2,FALSE)","v":{"$error":"#N/A"}},{"$f":"VLOOKUP(リレー種目!E29,コード一覧!$N$2:$O$3,2,FALSE)&VLOOKUP(リレー種目!F29,コード一覧!$P$2:$R$2,2,FALSE)","v":{"$error":"#N/A"}},{"$f":"'中間シート（リレー）'!A28&'中間シート（リレー）'!B28&\".\"&'中間シート（リレー）'!C28","v":"0000.00"}]
[null,{"$f":"リレー種目!B30","v":false},null,null,28,5,{"$f":"VLOOKUP(リレー種目!G30,コード一覧!$S$2:$T$9,2,FALSE)+IF(H28=3,30,0)","v":{"$error":"#N/A"}},{"$f":"VLOOKUP(リレー種目!D30,コード一覧!$L$2:$M$4,2,FALSE)","v":{"$error":"#N/A"}},{"$f":"VLOOKUP(リレー種目!E30,コード一覧!$N$2:$O$3,2,FALSE)&VLOOKUP(リレー種目!F30,コード一覧!$P$2:$R$2,2,FALSE)","v":{"$error":"#N/A"}},{"$f":"'中間シート（リレー）'!A29&'中間シート（リレー）'!B29&\".\"&'中間シート（リレー）'!C29","v":"0000.00"}]
[null,{"$f":"リレー種目!B31","v":false},null,null,28,5,{"$f":"VLOOKUP(リレー種目!G31,コード一覧!$S$2:$T$9,2,FALSE)+IF(H29=3,30,0)","v":{"$error":"#N/A"}},{"$f":"VLOOKUP(リレー種目!D31,コード一覧!$L$2:$M$4,2,FALSE)","v":{"$error":"#N/A"}},{"$f":"VLOOKUP(リレー種目!E31,コード一覧!$N$2:$O$3,2,FALSE)&VLOOKUP(リレー種目!F31,コード一覧!$P$2:$R$2,2,FALSE)","v":{"$error":"#N/A"}},{"$f":"'中間シート（リレー）'!A30&'中間シート（リレー）'!B30&\".\"&'中間シート（リレー）'!C30","v":"0000.00"}]
[null,{"$f":"リレー種目!B32","v":false},null,null,28,5,{"$f":"VLOOKUP(リレー種目!G32,コード一覧!$S$2:$T$9,2,FALSE)+IF(H30=3,30,0)","v":{"$error":"#N/A"}},{"$f":"VLOOKUP(リレー種目!D32,コード一覧!$L$2:$M$4,2,FALSE)","v":{"$error":"#N/A"}},{"$f":"VLOOKUP(リレー種目!E32,コード一覧!$N$2:$O$3,2,FALSE)&VLOOKUP(リレー種目!F32,コード一覧!$P$2:$R$2,2,FALSE)","v":{"$error":"#N/A"}},{"$f":"'中間シート（リレー）'!A31&'中間シート（リレー）'!B31&\".\"&'中間シート（リレー）'!C31","v":"0000.00"}]
[null,{"$f":"リレー種目!B33","v":false},null,null,28,5,{"$f":"VLOOKUP(リレー種目!G33,コード一覧!$S$2:$T$9,2,FALSE)+IF(H31=3,30,0)","v":{"$error":"#N/A"}},{"$f":"VLOOKUP(リレー種目!D33,コード一覧!$L$2:$M$4,2,FALSE)","v":{"$error":"#N/A"}},{"$f":"VLOOKUP(リレー種目!E33,コード一覧!$N$2:$O$3,2,FALSE)&VLOOKUP(リレー種目!F33,コード一覧!$P$2:$R$2,2,FALSE)","v":{"$error":"#N/A"}},{"$f":"'中間シート（リレー）'!A32&'中間シート（リレー）'!B32&\".\"&'中間シート（リレー）'!C32","v":"0000.00"}]
[null,{"$f":"リレー種目!B34","v":false},null,null,28,5,{"$f":"VLOOKUP(リレー種目!G34,コード一覧!$S$2:$T$9,2,FALSE)+IF(H32=3,30,0)","v":{"$error":"#N/A"}},{"$f":"VLOOKUP(リレー種目!D34,コード一覧!$L$2:$M$4,2,FALSE)","v":{"$error":"#N/A"}},{"$f":"VLOOKUP(リレー種目!E34,コード一覧!$N$2:$O$3,2,FALSE)&VLOOKUP(リレー種目!F34,コード一覧!$P$2:$R$2,2,FALSE)","v":{"$error":"#N/A"}},{"$f":"'中間シート（リレー）'!A33&'中間シート（リレー）'!B33&\".\"&'中間シート（リレー）'!C33","v":"0000.00"}]
[null,{"$f":"リレー種目!B35","v":false},null,null,28,5,{"$f":"VLOOKUP(リレー種目!G35,コード一覧!$S$2:$T$9,2,FALSE)+IF(H33=3,30,0)","v":{"$error":"#N/A"}},{"$f":"VLOOKUP(リレー種目!D35,コード一覧!$L$2:$M$4,2,FALSE)","v":{"$error":"#N/A"}},{"$f":"VLOOKUP(リレー種目!E35,コード一覧!$N$2:$O$3,2,FALSE)&VLOOKUP(リレー種目!F35,コード一覧!$P$2:$R$2,2,FALSE)","v":{"$error":"#N/A"}},{"$f":"'中間シート（リレー）'!A34&'中間シート（リレー）'!B34&\".\"&'中間シート（リレー）'!C34","v":"0000.00"}]
[null,{"$f":"リレー種目!B36","v":false},null,null,28,5,{"$f":"VLOOKUP(リレー種目!G36,コード一覧!$S$2:$T$9,2,FALSE)+IF(H34=3,30,0)","v":{"$error":"#N/A"}},{"$f":"VLOOKUP(リレー種目!D36,コード一覧!$L$2:$M$4,2,FALSE)","v":{"$error":"#N/A"}},{"$f":"VLOOKUP(リレー種目!E36,コード一覧!$N$2:$O$3,2,FALSE)&VLOOKUP(リレー種目!F36,コード一覧!$P$2:$R$2,2,FALSE)","v":{"$error":"#N/A"}},{"$f":"'中間シート（リレー）'!A35&'中間シート（リレー）'!B35&\".\"&'中間シート（リレー）'!C35","v":"0000.00"}]
[null,{"$f":"リレー種目!B37","v":false},null,null,28,5,{"$f":"VLOOKUP(リレー種目!G37,コード一覧!$S$2:$T$9,2,FALSE)+IF(H35=3,30,0)","v":{"$error":"#N/A"}},{"$f":"VLOOKUP(リレー種目!D37,コード一覧!$L$2:$M$4,2,FALSE)","v":{"$error":"#N/A"}},{"$f":"VLOOKUP(リレー種目!E37,コード一覧!$N$2:$O$3,2,FALSE)&VLOOKUP(リレー種目!F37,コード一覧!$P$2:$R$2,2,FALSE)","v":{"$error":"#N/A"}},{"$f":"'中間シート（リレー）'!A36&'中間シート（リレー）'!B36&\".\"&'中間シート（リレー）'!C36","v":"0000.00"}]
[null,{"$f":"リレー種目!B38","v":false},null,null,28,5,{"$f":"VLOOKUP(リレー種目!G38,コード一覧!$S$2:$T$9,2,FALSE)+IF(H36=3,30,0)","v":{"$error":"#N/A"}},{"$f":"VLOOKUP(リレー種目!D38,コード一覧!$L$2:$M$4,2,FALSE)","v":{"$error":"#N/A"}},{"$f":"VLOOKUP(リレー種目!E38,コード一覧!$N$2:$O$3,2,FALSE)&VLOOKUP(リレー種目!F38,コード一覧!$P$2:$R$2,2,FALSE)","v":{"$error":"#N/A"}},{"$f":"'中間シート（リレー）'!A37&'中間シート（リレー）'!B37&\".\"&'中間シート（リレー）'!C37","v":"0000.00"}]
[null,{"$f":"リレー種目!B39","v":false},null,null,28,5,{"$f":"VLOOKUP(リレー種目!G39,コード一覧!$S$2:$T$9,2,FALSE)+IF(H37=3,30,0)","v":{"$error":"#N/A"}},{"$f":"VLOOKUP(リレー種目!D39,コード一覧!$L$2:$M$4,2,FALSE)","v":{"$error":"#N/A"}},{"$f":"VLOOKUP(リレー種目!E39,コード一覧!$N$2:$O$3,2,FALSE)&VLOOKUP(リレー種目!F39,コード一覧!$P$2:$R$2,2,FALSE)","v":{"$error":"#N/A"}},{"$f":"'中間シート（リレー）'!A38&'中間シート（リレー）'!B38&\".\"&'中間シート（リレー）'!C38","v":"0000.00"}]
[null,{"$f":"リレー種目!B40","v":false},null,null,28,5,{"$f":"VLOOKUP(リレー種目!G40,コード一覧!$S$2:$T$9,2,FALSE)+IF(H38=3,30,0)","v":{"$error":"#N/A"}},{"$f":"VLOOKUP(リレー種目!D40,コード一覧!$L$2:$M$4,2,FALSE)","v":{"$error":"#N/A"}},{"$f":"VLOOKUP(リレー種目!E40,コード一覧!$N$2:$O$3,2,FALSE)&VLOOKUP(リレー種目!F40,コード一覧!$P$2:$R$2,2,FALSE)","v":{"$error":"#N/A"}},{"$f":"'中間シート（リレー）'!A39&'中間シート（リレー）'!B39&\".\"&'中間シート（リレー）'!C39","v":"0000.00"}]
[null,{"$f":"リレー種目!B41","v":false},null,null,28,5,{"$f":"VLOOKUP(リレー種目!G41,コード一覧!$S$2:$T$9,2,FALSE)+IF(H39=3,30,0)","v":{"$error":"#N/A"}},{"$f":"VLOOKUP(リレー種目!D41,コード一覧!$L$2:$M$4,2,FALSE)","v":{"$error":"#N/A"}},{"$f":"VLOOKUP(リレー種目!E41,コード一覧!$N$2:$O$3,2,FALSE)&VLOOKUP(リレー種目!F41,コード一覧!$P$2:$R$2,2,FALSE)","v":{"$error":"#N/A"}},{"$f":"'中間シート（リレー）'!A40&'中間シート（リレー）'!B40&\".\"&'中間シート（リレー）'!C40","v":"0000.00"}]
[null,{"$f":"リレー種目!B42","v":false},null,null,28,5,{"$f":"VLOOKUP(リレー種目!G42,コード一覧!$S$2:$T$9,2,FALSE)+IF(H40=3,30,0)","v":{"$error":"#N/A"}},{"$f":"VLOOKUP(リレー種目!D42,コード一覧!$L$2:$M$4,2,FALSE)","v":{"$error":"#N/A"}},{"$f":"VLOOKUP(リレー種目!E42,コード一覧!$N$2:$O$3,2,FALSE)&VLOOKUP(リレー種目!F42,コード一覧!$P$2:$R$2,2,FALSE)","v":{"$error":"#N/A"}},{"$f":"'中間シート（リレー）'!A41&'中間シート（リレー）'!B41&\".\"&'中間シート（リレー）'!C41","v":"0000.00"}]
[null,{"$f":"リレー種目!B43","v":false},null,null,28,5,{"$f":"VLOOKUP(リレー種目!G43,コード一覧!$S$2:$T$9,2,FALSE)+IF(H41=3,30,0)","v":{"$error":"#N/A"}},{"$f":"VLOOKUP(リレー種目!D43,コード一覧!$L$2:$M$4,2,FALSE)","v":{"$error":"#N/A"}},{"$f":"VLOOKUP(リレー種目!E43,コード一覧!$N$2:$O$3,2,FALSE)&VLOOKUP(リレー種目!F43,コード一覧!$P$2:$R$2,2,FALSE)","v":{"$error":"#N/A"}},{"$f":"'中間シート（リレー）'!A42&'中間シート（リレー）'!B42&\".\"&'中間シート（リレー）'!C42","v":"0000.00"}]
[null,{"$f":"リレー種目!B44","v":false},null,null,28,5,{"$f":"VLOOKUP(リレー種目!G44,コード一覧!$S$2:$T$9,2,FALSE)+IF(H42=3,30,0)","v":{"$error":"#N/A"}},{"$f":"VLOOKUP(リレー種目!D44,コード一覧!$L$2:$M$4,2,FALSE)","v":{"$error":"#N/A"}},{"$f":"VLOOKUP(リレー種目!E44,コード一覧!$N$2:$O$3,2,FALSE)&VLOOKUP(リレー種目!F44,コード一覧!$P$2:$R$2,2,FALSE)","v":{"$error":"#N/A"}},{"$f":"'中間シート（リレー）'!A43&'中間シート（リレー）'!B43&\".\"&'中間シート（リレー）'!C43","v":"0000.00"}]
[null,{"$f":"リレー種目!B45","v":false},null,null,28,5,{"$f":"VLOOKUP(リレー種目!G45,コード一覧!$S$2:$T$9,2,FALSE)+IF(H43=3,30,0)","v":{"$error":"#N/A"}},{"$f":"VLOOKUP(リレー種目!D45,コード一覧!$L$2:$M$4,2,FALSE)","v":{"$error":"#N/A"}},{"$f":"VLOOKUP(リレー種目!E45,コード一覧!$N$2:$O$3,2,FALSE)&VLOOKUP(リレー種目!F45,コード一覧!$P$2:$R$2,2,FALSE)","v":{"$error":"#N/A"}},{"$f":"'中間シート（リレー）'!A44&'中間シート（リレー）'!B44&\".\"&'中間シート（リレー）'!C44","v":"0000.00"}]
[null,{"$f":"リレー種目!B46","v":false},null,null,28,5,{"$f":"VLOOKUP(リレー種目!G46,コード一覧!$S$2:$T$9,2,FALSE)+IF(H44=3,30,0)","v":{"$error":"#N/A"}},{"$f":"VLOOKUP(リレー種目!D46,コード一覧!$L$2:$M$4,2,FALSE)","v":{"$error":"#N/A"}},{"$f":"VLOOKUP(リレー種目!E46,コード一覧!$N$2:$O$3,2,FALSE)&VLOOKUP(リレー種目!F46,コード一覧!$P$2:$R$2,2,FALSE)","v":{"$error":"#N/A"}},{"$f":"'中間シート（リレー）'!A45&'中間シート（リレー）'!B45&\".\"&'中間シート（リレー）'!C45","v":"0000.00"}]
[null,{"$f":"リレー種目!B47","v":false},null,null,28,5,{"$f":"VLOOKUP(リレー種目!G47,コード一覧!$S$2:$T$9,2,FALSE)+IF(H45=3,30,0)","v":{"$error":"#N/A"}},{"$f":"VLOOKUP(リレー種目!D47,コード一覧!$L$2:$M$4,2,FALSE)","v":{"$error":"#N/A"}},{"$f":"VLOOKUP(リレー種目!E47,コード一覧!$N$2:$O$3,2,FALSE)&VLOOKUP(リレー種目!F47,コード一覧!$P$2:$R$2,2,FALSE)","v":{"$error":"#N/A"}},{"$f":"'中間シート（リレー）'!A46&'中間シート（リレー）'!B46&\".\"&'中間シート（リレー）'!C46","v":"0000.00"}]
[null,{"$f":"リレー種目!B48","v":false},null,null,28,5,{"$f":"VLOOKUP(リレー種目!G48,コード一覧!$S$2:$T$9,2,FALSE)+IF(H46=3,30,0)","v":{"$error":"#N/A"}},{"$f":"VLOOKUP(リレー種目!D48,コード一覧!$L$2:$M$4,2,FALSE)","v":{"$error":"#N/A"}},{"$f":"VLOOKUP(リレー種目!E48,コード一覧!$N$2:$O$3,2,FALSE)&VLOOKUP(リレー種目!F48,コード一覧!$P$2:$R$2,2,FALSE)","v":{"$error":"#N/A"}},{"$f":"'中間シート（リレー）'!A47&'中間シート（リレー）'!B47&\".\"&'中間シート（リレー）'!C47","v":"0000.00"}]
[null,{"$f":"リレー種目!B49","v":false},null,null,28,5,{"$f":"VLOOKUP(リレー種目!G49,コード一覧!$S$2:$T$9,2,FALSE)+IF(H47=3,30,0)","v":{"$error":"#N/A"}},{"$f":"VLOOKUP(リレー種目!D49,コード一覧!$L$2:$M$4,2,FALSE)","v":{"$error":"#N/A"}},{"$f":"VLOOKUP(リレー種目!E49,コード一覧!$N$2:$O$3,2,FALSE)&VLOOKUP(リレー種目!F49,コード一覧!$P$2:$R$2,2,FALSE)","v":{"$error":"#N/A"}},{"$f":"'中間シート（リレー）'!A48&'中間シート（リレー）'!B48&\".\"&'中間シート（リレー）'!C48","v":"0000.00"}]
[null,{"$f":"リレー種目!B50","v":false},null,null,28,5,{"$f":"VLOOKUP(リレー種目!G50,コード一覧!$S$2:$T$9,2,FALSE)+IF(H48=3,30,0)","v":{"$error":"#N/A"}},{"$f":"VLOOKUP(リレー種目!D50,コード一覧!$L$2:$M$4,2,FALSE)","v":{"$error":"#N/A"}},{"$f":"VLOOKUP(リレー種目!E50,コード一覧!$N$2:$O$3,2,FALSE)&VLOOKUP(リレー種目!F50,コード一覧!$P$2:$R$2,2,FALSE)","v":{"$error":"#N/A"}},{"$f":"'中間シート（リレー）'!A49&'中間シート（リレー）'!B49&\".\"&'中間シート（リレー）'!C49","v":"0000.00"}]
[null,{"$f":"リレー種目!B51","v":false},null,null,28,5,{"$f":"VLOOKUP(リレー種目!G51,コード一覧!$S$2:$T$9,2,FALSE)+IF(H49=3,30,0)","v":{"$error":"#N/A"}},{"$f":"VLOOKUP(リレー種目!D51,コード一覧!$L$2:$M$4,2,FALSE)","v":{"$error":"#N/A"}},{"$f":"VLOOKUP(リレー種目!E51,コード一覧!$N$2:$O$3,2,FALSE)&VLOOKUP(リレー種目!F51,コード一覧!$P$2:$R$2,2,FALSE)","v":{"$error":"#N/A"}},{"$f":"'中間シート（リレー）'!A50&'中間シート（リレー）'!B50&\".\"&'中間シート（リレー）'!C50","v":"0000.00"}]
[null,{"$f":"リレー種目!B52","v":false},null,null,28,5,{"$f":"VLOOKUP(リレー種目!G52,コード一覧!$S$2:$T$9,2,FALSE)+IF(H50=3,30,0)","v":{"$error":"#N/A"}},{"$f":"VLOOKUP(リレー種目!D52,コード一覧!$L$2:$M$4,2,FALSE)","v":{"$error":"#N/A"}},{"$f":"VLOOKUP(リレー種目!E52,コード一覧!$N$2:$O$3,2,FALSE)&VLOOKUP(リレー種目!F52,コード一覧!$P$2:$R$2,2,FALSE)","v":{"$error":"#N/A"}},{"$f":"'中間シート（リレー）'!A51&'中間シート（リレー）'!B51&\".\"&'中間シート（リレー）'!C51","v":"0000.00"}]
[null,{"$f":"リレー種目!B53","v":false},null,null,28,5,{"$f":"VLOOKUP(リレー種目!G53,コード一覧!$S$2:$T$9,2,FALSE)+IF(H51=3,30,0)","v":{"$error":"#N/A"}},{"$f":"VLOOKUP(リレー種目!D53,コード一覧!$L$2:$M$4,2,FALSE)","v":{"$error":"#N/A"}},{"$f":"VLOOKUP(リレー種目!E53,コード一覧!$N$2:$O$3,2,FALSE)&VLOOKUP(リレー種目!F53,コード一覧!$P$2:$R$2,2,FALSE)","v":{"$error":"#N/A"}},{"$f":"'中間シート（リレー）'!A52&'中間シート（リレー）'!B52&\".\"&'中間シート（リレー）'!C52","v":"0000.00"}]
[null,{"$f":"リレー種目!B54","v":false},null,null,28,5,{"$f":"VLOOKUP(リレー種目!G54,コード一覧!$S$2:$T$9,2,FALSE)+IF(H52=3,30,0)","v":{"$error":"#N/A"}},{"$f":"VLOOKUP(リレー種目!D54,コード一覧!$L$2:$M$4,2,FALSE)","v":{"$error":"#N/A"}},{"$f":"VLOOKUP(リレー種目!E54,コード一覧!$N$2:$O$3,2,FALSE)&VLOOKUP(リレー種目!F54,コード一覧!$P$2:$R$2,2,FALSE)","v":{"$error":"#N/A"}},{"$f":"'中間シート（リレー）'!A53&'中間シート（リレー）'!B53&\".\"&'中間シート（リレー）'!C53","v":"0000.00"}]
[null,{"$f":"リレー種目!B55","v":false},null,null,28,5,{"$f":"VLOOKUP(リレー種目!G55,コード一覧!$S$2:$T$9,2,FALSE)+IF(H53=3,30,0)","v":{"$error":"#N/A"}},{"$f":"VLOOKUP(リレー種目!D55,コード一覧!$L$2:$M$4,2,FALSE)","v":{"$error":"#N/A"}},{"$f":"VLOOKUP(リレー種目!E55,コード一覧!$N$2:$O$3,2,FALSE)&VLOOKUP(リレー種目!F55,コード一覧!$P$2:$R$2,2,FALSE)","v":{"$error":"#N/A"}},{"$f":"'中間シート（リレー）'!A54&'中間シート（リレー）'!B54&\".\"&'中間シート（リレー）'!C54","v":"0000.00"}]
[null,{"$f":"リレー種目!B56","v":false},null,null,28,5,{"$f":"VLOOKUP(リレー種目!G56,コード一覧!$S$2:$T$9,2,FALSE)+IF(H54=3,30,0)","v":{"$error":"#N/A"}},{"$f":"VLOOKUP(リレー種目!D56,コード一覧!$L$2:$M$4,2,FALSE)","v":{"$error":"#N/A"}},{"$f":"VLOOKUP(リレー種目!E56,コード一覧!$N$2:$O$3,2,FALSE)&VLOOKUP(リレー種目!F56,コード一覧!$P$2:$R$2,2,FALSE)","v":{"$error":"#N/A"}},{"$f":"'中間シート（リレー）'!A55&'中間シート（リレー）'!B55&\".\"&'中間シート（リレー）'!C55","v":"0000.00"}]
[null,{"$f":"リレー種目!B57","v":false},null,null,28,5,{"$f":"VLOOKUP(リレー種目!G57,コード一覧!$S$2:$T$9,2,FALSE)+IF(H55=3,30,0)","v":{"$error":"#N/A"}},{"$f":"VLOOKUP(リレー種目!D57,コード一覧!$L$2:$M$4,2,FALSE)","v":{"$error":"#N/A"}},{"$f":"VLOOKUP(リレー種目!E57,コード一覧!$N$2:$O$3,2,FALSE)&VLOOKUP(リレー種目!F57,コード一覧!$P$2:$R$2,2,FALSE)","v":{"$error":"#N/A"}},{"$f":"'中間シート（リレー）'!A56&'中間シート（リレー）'!B56&\".\"&'中間シート（リレー）'!C56","v":"0000.00"}]
[null,{"$f":"リレー種目!B58","v":false},null,null,28,5,{"$f":"VLOOKUP(リレー種目!G58,コード一覧!$S$2:$T$9,2,FALSE)+IF(H56=3,30,0)","v":{"$error":"#N/A"}},{"$f":"VLOOKUP(リレー種目!D58,コード一覧!$L$2:$M$4,2,FALSE)","v":{"$error":"#N/A"}},{"$f":"VLOOKUP(リレー種目!E58,コード一覧!$N$2:$O$3,2,FALSE)&VLOOKUP(リレー種目!F58,コード一覧!$P$2:$R$2,2,FALSE)","v":{"$error":"#N/A"}},{"$f":"'中間シート（リレー）'!A57&'中間シート（リレー）'!B57&\".\"&'中間シート（リレー）'!C57","v":"0000.00"}]
[null,{"$f":"リレー種目!B59","v":false},null,null,28,5,{"$f":"VLOOKUP(リレー種目!G59,コード一覧!$S$2:$T$9,2,FALSE)+IF(H57=3,30,0)","v":{"$error":"#N/A"}},{"$f":"VLOOKUP(リレー種目!D59,コード一覧!$L$2:$M$4,2,FALSE)","v":{"$error":"#N/A"}},{"$f":"VLOOKUP(リレー種目!E59,コード一覧!$N$2:$O$3,2,FALSE)&VLOOKUP(リレー種目!F59,コード一覧!$P$2:$R$2,2,FALSE)","v":{"$error":"#N/A"}},{"$f":"'中間シート（リレー）'!A58&'中間シート（リレー）'!B58&\".\"&'中間シート（リレー）'!C58","v":"0000.00"}]
[null,{"$f":"リレー種目!B60","v":false},null,null,28,5,{"$f":"VLOOKUP(リレー種目!G60,コード一覧!$S$2:$T$9,2,FALSE)+IF(H58=3,30,0)","v":{"$error":"#N/A"}},{"$f":"VLOOKUP(リレー種目!D60,コード一覧!$L$2:$M$4,2,FALSE)","v":{"$error":"#N/A"}},{"$f":"VLOOKUP(リレー種目!E60,コード一覧!$N$2:$O$3,2,FALSE)&VLOOKUP(リレー種目!F60,コード一覧!$P$2:$R$2,2,FALSE)","v":{"$error":"#N/A"}},{"$f":"'中間シート（リレー）'!A59&'中間シート（リレー）'!B59&\".\"&'中間シート（リレー）'!C59","v":"0000.00"}]
[null,{"$f":"リレー種目!B61","v":false},null,null,28,5,{"$f":"VLOOKUP(リレー種目!G61,コード一覧!$S$2:$T$9,2,FALSE)+IF(H59=3,30,0)","v":{"$error":"#N/A"}},{"$f":"VLOOKUP(リレー種目!D61,コード一覧!$L$2:$M$4,2,FALSE)","v":{"$error":"#N/A"}},{"$f":"VLOOKUP(リレー種目!E61,コード一覧!$N$2:$O$3,2,FALSE)&VLOOKUP(リレー種目!F61,コード一覧!$P$2:$R$2,2,FALSE)","v":{"$error":"#N/A"}},{"$f":"'中間シート（リレー）'!A60&'中間シート（リレー）'!B60&\".\"&'中間シート（リレー）'!C60","v":"0000.00"}]
[null,{"$f":"リレー種目!B62","v":false},null,null,28,5,{"$f":"VLOOKUP(リレー種目!G62,コード一覧!$S$2:$T$9,2,FALSE)+IF(H60=3,30,0)","v":{"$error":"#N/A"}},{"$f":"VLOOKUP(リレー種目!D62,コード一覧!$L$2:$M$4,2,FALSE)","v":{"$error":"#N/A"}},{"$f":"VLOOKUP(リレー種目!E62,コード一覧!$N$2:$O$3,2,FALSE)&VLOOKUP(リレー種目!F62,コード一覧!$P$2:$R$2,2,FALSE)","v":{"$error":"#N/A"}},{"$f":"'中間シート（リレー）'!A61&'中間シート（リレー）'!B61&\".\"&'中間シート（リレー）'!C61","v":"0000.00"}]
[null,{"$f":"リレー種目!B63","v":false},null,null,28,5,{"$f":"VLOOKUP(リレー種目!G63,コード一覧!$S$2:$T$9,2,FALSE)+IF(H61=3,30,0)","v":{"$error":"#N/A"}},{"$f":"VLOOKUP(リレー種目!D63,コード一覧!$L$2:$M$4,2,FALSE)","v":{"$error":"#N/A"}},{"$f":"VLOOKUP(リレー種目!E63,コード一覧!$N$2:$O$3,2,FALSE)&VLOOKUP(リレー種目!F63,コード一覧!$P$2:$R$2,2,FALSE)","v":{"$error":"#N/A"}},{"$f":"'中間シート（リレー）'!A62&'中間シート（リレー）'!B62&\".\"&'中間シート（リレー）'!C62","v":"0000.00"}]
[null,{"$f":"リレー種目!B64","v":false},null,null,28,5,{"$f":"VLOOKUP(リレー種目!G64,コード一覧!$S$2:$T$9,2,FALSE)+IF(H62=3,30,0)","v":{"$error":"#N/A"}},{"$f":"VLOOKUP(リレー種目!D64,コード一覧!$L$2:$M$4,2,FALSE)","v":{"$error":"#N/A"}},{"$f":"VLOOKUP(リレー種目!E64,コード一覧!$N$2:$O$3,2,FALSE)&VLOOKUP(リレー種目!F64,コード一覧!$P$2:$R$2,2,FALSE)","v":{"$error":"#N/A"}},{"$f":"'中間シート（リレー）'!A63&'中間シート（リレー）'!B63&\".\"&'中間シート（リレー）'!C63","v":"0000.00"}]
[null,{"$f":"リレー種目!B65","v":false},null,null,28,5,{"$f":"VLOOKUP(リレー種目!G65,コード一覧!$S$2:$T$9,2,FALSE)+IF(H63=3,30,0)","v":{"$error":"#N/A"}},{"$f":"VLOOKUP(リレー種目!D65,コード一覧!$L$2:$M$4,2,FALSE)","v":{"$error":"#N/A"}},{"$f":"VLOOKUP(リレー種目!E65,コード一覧!$N$2:$O$3,2,FALSE)&VLOOKUP(リレー種目!F65,コード一覧!$P$2:$R$2,2,FALSE)","v":{"$error":"#N/A"}},{"$f":"'中間シート（リレー）'!A64&'中間シート（リレー）'!B64&\".\"&'中間シート（リレー）'!C64","v":"0000.00"}]
[null,{"$f":"リレー種目!B66","v":false},null,null,28,5,{"$f":"VLOOKUP(リレー種目!G66,コード一覧!$S$2:$T$9,2,FALSE)+IF(H64=3,30,0)","v":{"$error":"#N/A"}},{"$f":"VLOOKUP(リレー種目!D66,コード一覧!$L$2:$M$4,2,FALSE)","v":{"$error":"#N/A"}},{"$f":"VLOOKUP(リレー種目!E66,コード一覧!$N$2:$O$3,2,FALSE)&VLOOKUP(リレー種目!F66,コード一覧!$P$2:$R$2,2,FALSE)","v":{"$error":"#N/A"}},{"$f":"'中間シート（リレー）'!A65&'中間シート（リレー）'!B65&\".\"&'中間シート（リレー）'!C65","v":"0000.00"}]
[null,{"$f":"リレー種目!B67","v":false},null,null,28,5,{"$f":"VLOOKUP(リレー種目!G67,コード一覧!$S$2:$T$9,2,FALSE)+IF(H65=3,30,0)","v":{"$error":"#N/A"}},{"$f":"VLOOKUP(リレー種目!D67,コード一覧!$L$2:$M$4,2,FALSE)","v":{"$error":"#N/A"}},{"$f":"VLOOKUP(リレー種目!E67,コード一覧!$N$2:$O$3,2,FALSE)&VLOOKUP(リレー種目!F67,コード一覧!$P$2:$R$2,2,FALSE)","v":{"$error":"#N/A"}},{"$f":"'中間シート（リレー）'!A66&'中間シート（リレー）'!B66&\".\"&'中間シート（リレー）'!C66","v":"0000.00"}]
[null,{"$f":"リレー種目!B68","v":false},null,null,28,5,{"$f":"VLOOKUP(リレー種目!G68,コード一覧!$S$2:$T$9,2,FALSE)+IF(H66=3,30,0)","v":{"$error":"#N/A"}},{"$f":"VLOOKUP(リレー種目!D68,コード一覧!$L$2:$M$4,2,FALSE)","v":{"$error":"#N/A"}},{"$f":"VLOOKUP(リレー種目!E68,コード一覧!$N$2:$O$3,2,FALSE)&VLOOKUP(リレー種目!F68,コード一覧!$P$2:$R$2,2,FALSE)","v":{"$error":"#N/A"}},{"$f":"'中間シート（リレー）'!A67&'中間シート（リレー）'!B67&\".\"&'中間シート（リレー）'!C67","v":"0000.00"}]
[null,{"$f":"リレー種目!B69","v":false},null,null,28,5,{"$f":"VLOOKUP(リレー種目!G69,コード一覧!$S$2:$T$9,2,FALSE)+IF(H67=3,30,0)","v":{"$error":"#N/A"}},{"$f":"VLOOKUP(リレー種目!D69,コード一覧!$L$2:$M$4,2,FALSE)","v":{"$error":"#N/A"}},{"$f":"VLOOKUP(リレー種目!E69,コード一覧!$N$2:$O$3,2,FALSE)&VLOOKUP(リレー種目!F69,コード一覧!$P$2:$R$2,2,FALSE)","v":{"$error":"#N/A"}},{"$f":"'中間シート（リレー）'!A68&'中間シート（リレー）'!B68&\".\"&'中間シート（リレー）'!C68","v":"0000.00"}]
[null,{"$f":"リレー種目!B70","v":false},null,null,28,5,{"$f":"VLOOKUP(リレー種目!G70,コード一覧!$S$2:$T$9,2,FALSE)+IF(H68=3,30,0)","v":{"$error":"#N/A"}},{"$f":"VLOOKUP(リレー種目!D70,コード一覧!$L$2:$M$4,2,FALSE)","v":{"$error":"#N/A"}},{"$f":"VLOOKUP(リレー種目!E70,コード一覧!$N$2:$O$3,2,FALSE)&VLOOKUP(リレー種目!F70,コード一覧!$P$2:$R$2,2,FALSE)","v":{"$error":"#N/A"}},{"$f":"'中間シート（リレー）'!A69&'中間シート（リレー）'!B69&\".\"&'中間シート（リレー）'!C69","v":"0000.00"}]
[null,{"$f":"リレー種目!B71","v":false},null,null,28,5,{"$f":"VLOOKUP(リレー種目!G71,コード一覧!$S$2:$T$9,2,FALSE)+IF(H69=3,30,0)","v":{"$error":"#N/A"}},{"$f":"VLOOKUP(リレー種目!D71,コード一覧!$L$2:$M$4,2,FALSE)","v":{"$error":"#N/A"}},{"$f":"VLOOKUP(リレー種目!E71,コード一覧!$N$2:$O$3,2,FALSE)&VLOOKUP(リレー種目!F71,コード一覧!$P$2:$R$2,2,FALSE)","v":{"$error":"#N/A"}},{"$f":"'中間シート（リレー）'!A70&'中間シート（リレー）'!B70&\".\"&'中間シート（リレー）'!C70","v":"0000.00"}]
[null,{"$f":"リレー種目!B72","v":false},null,null,28,5,{"$f":"VLOOKUP(リレー種目!G72,コード一覧!$S$2:$T$9,2,FALSE)+IF(H70=3,30,0)","v":{"$error":"#N/A"}},{"$f":"VLOOKUP(リレー種目!D72,コード一覧!$L$2:$M$4,2,FALSE)","v":{"$error":"#N/A"}},{"$f":"VLOOKUP(リレー種目!E72,コード一覧!$N$2:$O$3,2,FALSE)&VLOOKUP(リレー種目!F72,コード一覧!$P$2:$R$2,2,FALSE)","v":{"$error":"#N/A"}},{"$f":"'中間シート（リレー）'!A71&'中間シート（リレー）'!B71&\".\"&'中間シート（リレー）'!C71","v":"0000.00"}]
[null,{"$f":"リレー種目!B73","v":false},null,null,28,5,{"$f":"VLOOKUP(リレー種目!G73,コード一覧!$S$2:$T$9,2,FALSE)+IF(H71=3,30,0)","v":{"$error":"#N/A"}},{"$f":"VLOOKUP(リレー種目!D73,コード一覧!$L$2:$M$4,2,FALSE)","v":{"$error":"#N/A"}},{"$f":"VLOOKUP(リレー種目!E73,コード一覧!$N$2:$O$3,2,FALSE)&VLOOKUP(リレー種目!F73,コード一覧!$P$2:$R$2,2,FALSE)","v":{"$error":"#N/A"}},{"$f":"'中間シート（リレー）'!A72&'中間シート（リレー）'!B72&\".\"&'中間シート（リレー）'!C72","v":"0000.00"}]
[null,{"$f":"リレー種目!B74","v":false},null,null,28,5,{"$f":"VLOOKUP(リレー種目!G74,コード一覧!$S$2:$T$9,2,FALSE)+IF(H72=3,30,0)","v":{"$error":"#N/A"}},{"$f":"VLOOKUP(リレー種目!D74,コード一覧!$L$2:$M$4,2,FALSE)","v":{"$error":"#N/A"}},{"$f":"VLOOKUP(リレー種目!E74,コード一覧!$N$2:$O$3,2,FALSE)&VLOOKUP(リレー種目!F74,コード一覧!$P$2:$R$2,2,FALSE)","v":{"$error":"#N/A"}},{"$f":"'中間シート（リレー）'!A73&'中間シート（リレー）'!B73&\".\"&'中間シート（リレー）'!C73","v":"0000.00"}]
[null,{"$f":"リレー種目!B75","v":false},null,null,28,5,{"$f":"VLOOKUP(リレー種目!G75,コード一覧!$S$2:$T$9,2,FALSE)+IF(H73=3,30,0)","v":{"$error":"#N/A"}},{"$f":"VLOOKUP(リレー種目!D75,コード一覧!$L$2:$M$4,2,FALSE)","v":{"$error":"#N/A"}},{"$f":"VLOOKUP(リレー種目!E75,コード一覧!$N$2:$O$3,2,FALSE)&VLOOKUP(リレー種目!F75,コード一覧!$P$2:$R$2,2,FALSE)","v":{"$error":"#N/A"}},{"$f":"'中間シート（リレー）'!A74&'中間シート（リレー）'!B74&\".\"&'中間シート（リレー）'!C74","v":"0000.00"}]
[null,{"$f":"リレー種目!B76","v":false},null,null,28,5,{"$f":"VLOOKUP(リレー種目!G76,コード一覧!$S$2:$T$9,2,FALSE)+IF(H74=3,30,0)","v":{"$error":"#N/A"}},{"$f":"VLOOKUP(リレー種目!D76,コード一覧!$L$2:$M$4,2,FALSE)","v":{"$error":"#N/A"}},{"$f":"VLOOKUP(リレー種目!E76,コード一覧!$N$2:$O$3,2,FALSE)&VLOOKUP(リレー種目!F76,コード一覧!$P$2:$R$2,2,FALSE)","v":{"$error":"#N/A"}},{"$f":"'中間シート（リレー）'!A75&'中間シート（リレー）'!B75&\".\"&'中間シート（リレー）'!C75","v":"0000.00"}]
[null,{"$f":"リレー種目!B77","v":false},null,null,28,5,{"$f":"VLOOKUP(リレー種目!G77,コード一覧!$S$2:$T$9,2,FALSE)+IF(H75=3,30,0)","v":{"$error":"#N/A"}},{"$f":"VLOOKUP(リレー種目!D77,コード一覧!$L$2:$M$4,2,FALSE)","v":{"$error":"#N/A"}},{"$f":"VLOOKUP(リレー種目!E77,コード一覧!$N$2:$O$3,2,FALSE)&VLOOKUP(リレー種目!F77,コード一覧!$P$2:$R$2,2,FALSE)","v":{"$error":"#N/A"}},{"$f":"'中間シート（リレー）'!A76&'中間シート（リレー）'!B76&\".\"&'中間シート（リレー）'!C76","v":"0000.00"}]
[null,{"$f":"リレー種目!B78","v":false},null,null,28,5,{"$f":"VLOOKUP(リレー種目!G78,コード一覧!$S$2:$T$9,2,FALSE)+IF(H76=3,30,0)","v":{"$error":"#N/A"}},{"$f":"VLOOKUP(リレー種目!D78,コード一覧!$L$2:$M$4,2,FALSE)","v":{"$error":"#N/A"}},{"$f":"VLOOKUP(リレー種目!E78,コード一覧!$N$2:$O$3,2,FALSE)&VLOOKUP(リレー種目!F78,コード一覧!$P$2:$R$2,2,FALSE)","v":{"$error":"#N/A"}},{"$f":"'中間シート（リレー）'!A77&'中間シート（リレー）'!B77&\".\"&'中間シート（リレー）'!C77","v":"0000.00"}]
[null,{"$f":"リレー種目!B79","v":false},null,null,28,5,{"$f":"VLOOKUP(リレー種目!G79,コード一覧!$S$2:$T$9,2,FALSE)+IF(H77=3,30,0)","v":{"$error":"#N/A"}},{"$f":"VLOOKUP(リレー種目!D79,コード一覧!$L$2:$M$4,2,FALSE)","v":{"$error":"#N/A"}},{"$f":"VLOOKUP(リレー種目!E79,コード一覧!$N$2:$O$3,2,FALSE)&VLOOKUP(リレー種目!F79,コード一覧!$P$2:$R$2,2,FALSE)","v":{"$error":"#N/A"}},{"$f":"'中間シート（リレー）'!A78&'中間シート（リレー）'!B78&\".\"&'中間シート（リレー）'!C78","v":"0000.00"}]
[null,{"$f":"リレー種目!B80","v":false},null,null,28,5,{"$f":"VLOOKUP(リレー種目!G80,コード一覧!$S$2:$T$9,2,FALSE)+IF(H78=3,30,0)","v":{"$error":"#N/A"}},{"$f":"VLOOKUP(リレー種目!D80,コード一覧!$L$2:$M$4,2,FALSE)","v":{"$error":"#N/A"}},{"$f":"VLOOKUP(リレー種目!E80,コード一覧!$N$2:$O$3,2,FALSE)&VLOOKUP(リレー種目!F80,コード一覧!$P$2:$R$2,2,FALSE)","v":{"$error":"#N/A"}},{"$f":"'中間シート（リレー）'!A79&'中間シート（リレー）'!B79&\".\"&'中間シート（リレー）'!C79","v":"0000.00"}]
[null,{"$f":"リレー種目!B81","v":false},null,null,28,5,{"$f":"VLOOKUP(リレー種目!G81,コード一覧!$S$2:$T$9,2,FALSE)+IF(H79=3,30,0)","v":{"$error":"#N/A"}},{"$f":"VLOOKUP(リレー種目!D81,コード一覧!$L$2:$M$4,2,FALSE)","v":{"$error":"#N/A"}},{"$f":"VLOOKUP(リレー種目!E81,コード一覧!$N$2:$O$3,2,FALSE)&VLOOKUP(リレー種目!F81,コード一覧!$P$2:$R$2,2,FALSE)","v":{"$error":"#N/A"}},{"$f":"'中間シート（リレー）'!A80&'中間シート（リレー）'!B80&\".\"&'中間シート（リレー）'!C80","v":"0000.00"}]
[null,{"$f":"リレー種目!B82","v":false},null,null,28,5,{"$f":"VLOOKUP(リレー種目!G82,コード一覧!$S$2:$T$9,2,FALSE)+IF(H80=3,30,0)","v":{"$error":"#N/A"}},{"$f":"VLOOKUP(リレー種目!D82,コード一覧!$L$2:$M$4,2,FALSE)","v":{"$error":"#N/A"}},{"$f":"VLOOKUP(リレー種目!E82,コード一覧!$N$2:$O$3,2,FALSE)&VLOOKUP(リレー種目!F82,コード一覧!$P$2:$R$2,2,FALSE)","v":{"$error":"#N/A"}},{"$f":"'中間シート（リレー）'!A81&'中間シート（リレー）'!B81&\".\"&'中間シート（リレー）'!C81","v":"0000.00"}]
[null,{"$f":"リレー種目!B83","v":false},null,null,28,5,{"$f":"VLOOKUP(リレー種目!G83,コード一覧!$S$2:$T$9,2,FALSE)+IF(H81=3,30,0)","v":{"$error":"#N/A"}},{"$f":"VLOOKUP(リレー種目!D83,コード一覧!$L$2:$M$4,2,FALSE)","v":{"$error":"#N/A"}},{"$f":"VLOOKUP(リレー種目!E83,コード一覧!$N$2:$O$3,2,FALSE)&VLOOKUP(リレー種目!F83,コード一覧!$P$2:$R$2,2,FALSE)","v":{"$error":"#N/A"}},{"$f":"'中間シート（リレー）'!A82&'中間シート（リレー）'!B82&\".\"&'中間シート（リレー）'!C82","v":"0000.00"}]
[null,{"$f":"リレー種目!B84","v":false},null,null,28,5,{"$f":"VLOOKUP(リレー種目!G84,コード一覧!$S$2:$T$9,2,FALSE)+IF(H82=3,30,0)","v":{"$error":"#N/A"}},{"$f":"VLOOKUP(リレー種目!D84,コード一覧!$L$2:$M$4,2,FALSE)","v":{"$error":"#N/A"}},{"$f":"VLOOKUP(リレー種目!E84,コード一覧!$N$2:$O$3,2,FALSE)&VLOOKUP(リレー種目!F84,コード一覧!$P$2:$R$2,2,FALSE)","v":{"$error":"#N/A"}},{"$f":"'中間シート（リレー）'!A83&'中間シート（リレー）'!B83&\".\"&'中間シート（リレー）'!C83","v":"0000.00"}]
[null,{"$f":"リレー種目!B85","v":false},null,null,28,5,{"$f":"VLOOKUP(リレー種目!G85,コード一覧!$S$2:$T$9,2,FALSE)+IF(H83=3,30,0)","v":{"$error":"#N/A"}},{"$f":"VLOOKUP(リレー種目!D85,コード一覧!$L$2:$M$4,2,FALSE)","v":{"$error":"#N/A"}},{"$f":"VLOOKUP(リレー種目!E85,コード一覧!$N$2:$O$3,2,FALSE)&VLOOKUP(リレー種目!F85,コード一覧!$P$2:$R$2,2,FALSE)","v":{"$error":"#N/A"}},{"$f":"'中間シート（リレー）'!A84&'中間シート（リレー）'!B84&\".\"&'中間シート（リレー）'!C84","v":"0000.00"}]
[null,{"$f":"リレー種目!B86","v":false},null,null,28,5,{"$f":"VLOOKUP(リレー種目!G86,コード一覧!$S$2:$T$9,2,FALSE)+IF(H84=3,30,0)","v":{"$error":"#N/A"}},{"$f":"VLOOKUP(リレー種目!D86,コード一覧!$L$2:$M$4,2,FALSE)","v":{"$error":"#N/A"}},{"$f":"VLOOKUP(リレー種目!E86,コード一覧!$N$2:$O$3,2,FALSE)&VLOOKUP(リレー種目!F86,コード一覧!$P$2:$R$2,2,FALSE)","v":{"$error":"#N/A"}},{"$f":"'中間シート（リレー）'!A85&'中間シート（リレー）'!B85&\".\"&'中間シート（リレー）'!C85","v":"0000.00"}]
[null,{"$f":"リレー種目!B87","v":false},null,null,28,5,{"$f":"VLOOKUP(リレー種目!G87,コード一覧!$S$2:$T$9,2,FALSE)+IF(H85=3,30,0)","v":{"$error":"#N/A"}},{"$f":"VLOOKUP(リレー種目!D87,コード一覧!$L$2:$M$4,2,FALSE)","v":{"$error":"#N/A"}},{"$f":"VLOOKUP(リレー種目!E87,コード一覧!$N$2:$O$3,2,FALSE)&VLOOKUP(リレー種目!F87,コード一覧!$P$2:$R$2,2,FALSE)","v":{"$error":"#N/A"}},{"$f":"'中間シート（リレー）'!A86&'中間シート（リレー）'!B86&\".\"&'中間シート（リレー）'!C86","v":"0000.00"}]
[null,{"$f":"リレー種目!B88","v":false},null,null,28,5,{"$f":"VLOOKUP(リレー種目!G88,コード一覧!$S$2:$T$9,2,FALSE)+IF(H86=3,30,0)","v":{"$error":"#N/A"}},{"$f":"VLOOKUP(リレー種目!D88,コード一覧!$L$2:$M$4,2,FALSE)","v":{"$error":"#N/A"}},{"$f":"VLOOKUP(リレー種目!E88,コード一覧!$N$2:$O$3,2,FALSE)&VLOOKUP(リレー種目!F88,コード一覧!$P$2:$R$2,2,FALSE)","v":{"$error":"#N/A"}},{"$f":"'中間シート（リレー）'!A87&'中間シート（リレー）'!B87&\".\"&'中間シート（リレー）'!C87","v":"0000.00"}]
[null,{"$f":"リレー種目!B89","v":false},null,null,28,5,{"$f":"VLOOKUP(リレー種目!G89,コード一覧!$S$2:$T$9,2,FALSE)+IF(H87=3,30,0)","v":{"$error":"#N/A"}},{"$f":"VLOOKUP(リレー種目!D89,コード一覧!$L$2:$M$4,2,FALSE)","v":{"$error":"#N/A"}},{"$f":"VLOOKUP(リレー種目!E89,コード一覧!$N$2:$O$3,2,FALSE)&VLOOKUP(リレー種目!F89,コード一覧!$P$2:$R$2,2,FALSE)","v":{"$error":"#N/A"}},{"$f":"'中間シート（リレー）'!A88&'中間シート（リレー）'!B88&\".\"&'中間シート（リレー）'!C88","v":"0000.00"}]
[null,{"$f":"リレー種目!B90","v":false},null,null,28,5,{"$f":"VLOOKUP(リレー種目!G90,コード一覧!$S$2:$T$9,2,FALSE)+IF(H88=3,30,0)","v":{"$error":"#N/A"}},{"$f":"VLOOKUP(リレー種目!D90,コード一覧!$L$2:$M$4,2,FALSE)","v":{"$error":"#N/A"}},{"$f":"VLOOKUP(リレー種目!E90,コード一覧!$N$2:$O$3,2,FALSE)&VLOOKUP(リレー種目!F90,コード一覧!$P$2:$R$2,2,FALSE)","v":{"$error":"#N/A"}},{"$f":"'中間シート（リレー）'!A89&'中間シート（リレー）'!B89&\".\"&'中間シート（リレー）'!C89","v":"0000.00"}]
[null,{"$f":"リレー種目!B91","v":false},null,null,28,5,{"$f":"VLOOKUP(リレー種目!G91,コード一覧!$S$2:$T$9,2,FALSE)+IF(H89=3,30,0)","v":{"$error":"#N/A"}},{"$f":"VLOOKUP(リレー種目!D91,コード一覧!$L$2:$M$4,2,FALSE)","v":{"$error":"#N/A"}},{"$f":"VLOOKUP(リレー種目!E91,コード一覧!$N$2:$O$3,2,FALSE)&VLOOKUP(リレー種目!F91,コード一覧!$P$2:$R$2,2,FALSE)","v":{"$error":"#N/A"}},{"$f":"'中間シート（リレー）'!A90&'中間シート（リレー）'!B90&\".\"&'中間シート（リレー）'!C90","v":"0000.00"}]
[null,{"$f":"リレー種目!B92","v":false},null,null,28,5,{"$f":"VLOOKUP(リレー種目!G92,コード一覧!$S$2:$T$9,2,FALSE)+IF(H90=3,30,0)","v":{"$error":"#N/A"}},{"$f":"VLOOKUP(リレー種目!D92,コード一覧!$L$2:$M$4,2,FALSE)","v":{"$error":"#N/A"}},{"$f":"VLOOKUP(リレー種目!E92,コード一覧!$N$2:$O$3,2,FALSE)&VLOOKUP(リレー種目!F92,コード一覧!$P$2:$R$2,2,FALSE)","v":{"$error":"#N/A"}},{"$f":"'中間シート（リレー）'!A91&'中間シート（リレー）'!B91&\".\"&'中間シート（リレー）'!C91","v":"0000.00"}]
[null,{"$f":"リレー種目!B93","v":false},null,null,28,5,{"$f":"VLOOKUP(リレー種目!G93,コード一覧!$S$2:$T$9,2,FALSE)+IF(H91=3,30,0)","v":{"$error":"#N/A"}},{"$f":"VLOOKUP(リレー種目!D93,コード一覧!$L$2:$M$4,2,FALSE)","v":{"$error":"#N/A"}},{"$f":"VLOOKUP(リレー種目!E93,コード一覧!$N$2:$O$3,2,FALSE)&VLOOKUP(リレー種目!F93,コード一覧!$P$2:$R$2,2,FALSE)","v":{"$error":"#N/A"}},{"$f":"'中間シート（リレー）'!A92&'中間シート（リレー）'!B92&\".\"&'中間シート（リレー）'!C92","v":"0000.00"}]
[null,{"$f":"リレー種目!B94","v":false},null,null,28,5,{"$f":"VLOOKUP(リレー種目!G94,コード一覧!$S$2:$T$9,2,FALSE)+IF(H92=3,30,0)","v":{"$error":"#N/A"}},{"$f":"VLOOKUP(リレー種目!D94,コード一覧!$L$2:$M$4,2,FALSE)","v":{"$error":"#N/A"}},{"$f":"VLOOKUP(リレー種目!E94,コード一覧!$N$2:$O$3,2,FALSE)&VLOOKUP(リレー種目!F94,コード一覧!$P$2:$R$2,2,FALSE)","v":{"$error":"#N/A"}},{"$f":"'中間シート（リレー）'!A93&'中間シート（リレー）'!B93&\".\"&'中間シート（リレー）'!C93","v":"0000.00"}]
[null,{"$f":"リレー種目!B95","v":false},null,null,28,5,{"$f":"VLOOKUP(リレー種目!G95,コード一覧!$S$2:$T$9,2,FALSE)+IF(H93=3,30,0)","v":{"$error":"#N/A"}},{"$f":"VLOOKUP(リレー種目!D95,コード一覧!$L$2:$M$4,2,FALSE)","v":{"$error":"#N/A"}},{"$f":"VLOOKUP(リレー種目!E95,コード一覧!$N$2:$O$3,2,FALSE)&VLOOKUP(リレー種目!F95,コード一覧!$P$2:$R$2,2,FALSE)","v":{"$error":"#N/A"}},{"$f":"'中間シート（リレー）'!A94&'中間シート（リレー）'!B94&\".\"&'中間シート（リレー）'!C94","v":"0000.00"}]
[null,{"$f":"リレー種目!B96","v":false},null,null,28,5,{"$f":"VLOOKUP(リレー種目!G96,コード一覧!$S$2:$T$9,2,FALSE)+IF(H94=3,30,0)","v":{"$error":"#N/A"}},{"$f":"VLOOKUP(リレー種目!D96,コード一覧!$L$2:$M$4,2,FALSE)","v":{"$error":"#N/A"}},{"$f":"VLOOKUP(リレー種目!E96,コード一覧!$N$2:$O$3,2,FALSE)&VLOOKUP(リレー種目!F96,コード一覧!$P$2:$R$2,2,FALSE)","v":{"$error":"#N/A"}},{"$f":"'中間シート（リレー）'!A95&'中間シート（リレー）'!B95&\".\"&'中間シート（リレー）'!C95","v":"0000.00"}]
[null,{"$f":"リレー種目!B97","v":false},null,null,28,5,{"$f":"VLOOKUP(リレー種目!G97,コード一覧!$S$2:$T$9,2,FALSE)+IF(H95=3,30,0)","v":{"$error":"#N/A"}},{"$f":"VLOOKUP(リレー種目!D97,コード一覧!$L$2:$M$4,2,FALSE)","v":{"$error":"#N/A"}},{"$f":"VLOOKUP(リレー種目!E97,コード一覧!$N$2:$O$3,2,FALSE)&VLOOKUP(リレー種目!F97,コード一覧!$P$2:$R$2,2,FALSE)","v":{"$error":"#N/A"}},{"$f":"'中間シート（リレー）'!A96&'中間シート（リレー）'!B96&\".\"&'中間シート（リレー）'!C96","v":"0000.00"}]
[null,{"$f":"リレー種目!B98","v":false},null,null,28,5,{"$f":"VLOOKUP(リレー種目!G98,コード一覧!$S$2:$T$9,2,FALSE)+IF(H96=3,30,0)","v":{"$error":"#N/A"}},{"$f":"VLOOKUP(リレー種目!D98,コード一覧!$L$2:$M$4,2,FALSE)","v":{"$error":"#N/A"}},{"$f":"VLOOKUP(リレー種目!E98,コード一覧!$N$2:$O$3,2,FALSE)&VLOOKUP(リレー種目!F98,コード一覧!$P$2:$R$2,2,FALSE)","v":{"$error":"#N/A"}},{"$f":"'中間シート（リレー）'!A97&'中間シート（リレー）'!B97&\".\"&'中間シート（リレー）'!C97","v":"0000.00"}]
[null,{"$f":"リレー種目!B99","v":false},null,null,28,5,{"$f":"VLOOKUP(リレー種目!G99,コード一覧!$S$2:$T$9,2,FALSE)+IF(H97=3,30,0)","v":{"$error":"#N/A"}},{"$f":"VLOOKUP(リレー種目!D99,コード一覧!$L$2:$M$4,2,FALSE)","v":{"$error":"#N/A"}},{"$f":"VLOOKUP(リレー種目!E99,コード一覧!$N$2:$O$3,2,FALSE)&VLOOKUP(リレー種目!F99,コード一覧!$P$2:$R$2,2,FALSE)","v":{"$error":"#N/A"}},{"$f":"'中間シート（リレー）'!A98&'中間シート（リレー）'!B98&\".\"&'中間シート（リレー）'!C98","v":"0000.00"}]
[null,{"$f":"リレー種目!B100","v":false},null,null,28,5,{"$f":"VLOOKUP(リレー種目!G100,コード一覧!$S$2:$T$9,2,FALSE)+IF(H98=3,30,0)","v":{"$error":"#N/A"}},{"$f":"VLOOKUP(リレー種目!D100,コード一覧!$L$2:$M$4,2,FALSE)","v":{"$error":"#N/A"}},{"$f":"VLOOKUP(リレー種目!E100,コード一覧!$N$2:$O$3,2,FALSE)&VLOOKUP(リレー種目!F100,コード一覧!$P$2:$R$2,2,FALSE)","v":{"$error":"#N/A"}},{"$f":"'中間シート（リレー）'!A99&'中間シート（リレー）'!B99&\".\"&'中間シート（リレー）'!C99","v":"0000.00"}]
[null,{"$f":"リレー種目!B101","v":false},null,null,28,5,{"$f":"VLOOKUP(リレー種目!G101,コード一覧!$S$2:$T$9,2,FALSE)+IF(H99=3,30,0)","v":{"$error":"#N/A"}},{"$f":"VLOOKUP(リレー種目!D101,コード一覧!$L$2:$M$4,2,FALSE)","v":{"$error":"#N/A"}},{"$f":"VLOOKUP(リレー種目!E101,コード一覧!$N$2:$O$3,2,FALSE)&VLOOKUP(リレー種目!F101,コード一覧!$P$2:$R$2,2,FALSE)","v":{"$error":"#N/A"}},{"$f":"'中間シート（リレー）'!A100&'中間シート（リレー）'!B100&\".\"&'中間シート（リレー）'!C100","v":"0000.00"}]
[null,{"$f":"リレー種目!B102","v":false},null,null,28,5,{"$f":"VLOOKUP(リレー種目!G102,コード一覧!$S$2:$T$9,2,FALSE)+IF(H100=3,30,0)","v":{"$error":"#N/A"}},{"$f":"VLOOKUP(リレー種目!D102,コード一覧!$L$2:$M$4,2,FALSE)","v":{"$error":"#N/A"}},{"$f":"VLOOKUP(リレー種目!E102,コード一覧!$N$2:$O$3,2,FALSE)&VLOOKUP(リレー種目!F102,コード一覧!$P$2:$R$2,2,FALSE)","v":{"$error":"#N/A"}},{"$f":"'中間シート（リレー）'!A101&'中間シート（リレー）'!B101&\".\"&'中間シート（リレー）'!C101","v":"."}]

{"sheet":"Sheet3","index":10,"n_rows":0,"n_cols":0,"rows_kept":0,"cut":false,"hidden":true,"merged":[]}